{"text_format":"1","workbook":"xlsx","n_sheets":31,"sheets":["Introduction","Assessment","Metadata","Causes","Sources","Seg1","Seg2","Seg3","Seg4","Seg5","Seg6","Seg7","Seg8","Seg9","Seg10","Seg11","Seg12","Seg13","Seg14","Seg15","Seg16","Seg17","Seg18","Seg19","Seg20","Seg21","Seg22","Seg23","Seg24","Seg25","Admin"],"not_rendered":{"charts":0,"images":15,"macros":1,"external_links":0,"defined_names":228,"comments":0,"pivot_tables":0},"unopened":[],"bounds":{"document_bytes":16777216,"sheet_cells":100000,"rows_first":2000,"rows_last":500,"rows_between":2000,"halvings":0,"cell_chars":16384,"cell_head_chars":4096},"cells_cut":0,"cells_raw":0,"read":"whole","date_system":"1900"}

{"sheet":"Introduction","index":0,"n_rows":9,"n_cols":28,"rows_kept":9,"cut":false,"hidden":false,"merged":[]}
[]
[]
[]
[]
[]
[]
[null,null,null,null,null,null,null,null,null,null,null,null,null,null,null,null,null,null,null,null,null,null,null,null,null,null,null,"The text box to the right is used for"]
[null,null,null,null,null,null,null,null,null,null,null,null,null,null,null,null,null,null,null,null,null,null,null,null,null,null,null,"the Print Tour Instructions feature."]
[null,null,null,null,null,null,null,null,null,null,null,null,null,null,null,null,null,null,null,null,null,null,null,null,null,null,null,"Please do not modify."]

{"sheet":"Assessment","index":1,"n_rows":37,"n_cols":13,"rows_kept":37,"cut":false,"hidden":false,"merged":[[11,3,11,12],[6,5,6,7],[7,12,8,12],[7,2,9,2],[7,3,8,9],[7,10,8,11],[9,4,9,6],[9,8,9,9],[9,10,9,11]]}
[]
[]
[]
[]
[]
[]
[null,null,{"$f":"\"  \"&RiverBasinName","v":"  Test River Basin"},null,null,"Water Quality Report Card",null,null,null,null,null,null,{"$f":"AssessmentYear&\" Assessment  \"","v":"2011 Assessment  "}]
[null,null,null,"AQUATIC LIFE ",null,null,null,null,null,null,"RECREATION",null,"FISH EDIBILITY"]
[]
[]
[null,null,"SEGMENT","BIOLOGY","CHEMISTRY","NUTRIENTS","TOXICS","SEDIMENTS","FLOW","HABITAT","BACTERIA","AESTHETICS","FISH TISSUE"]
[null,null,{"$f":"RiverBasinName","v":"Test River Basin"}]
["Seg 1",null,{"$f":"'Seg1'!$C$61","v":"aaa"},{"$f":"'Seg1'!$E$16","v":"NA"},{"$f":"'Seg1'!$E$22","v":"NA"},{"$f":"'Seg1'!$E$28","v":"NA"},{"$f":"'Seg1'!$E$31","v":"NA"},{"$f":"'Seg1'!$E$50","v":"NA"},{"$f":"'Seg1'!$E$34","v":"NA"},{"$f":"'Seg1'!$E$36","v":"NA"},{"$f":"'Seg1'!$E$40","v":"NA"},{"$f":"'Seg1'!$E$42","v":"NA"},{"$f":"'Seg1'!$E$48","v":"NA"}]
["Seg 2",null,{"$f":"'Seg2'!$C$61","v":"bbb"},{"$f":"'Seg2'!$E$16","v":"NA"},{"$f":"'Seg2'!$E$22","v":"NA"},{"$f":"'Seg2'!$E$28","v":"NA"},{"$f":"'Seg2'!$E$31","v":"NA"},{"$f":"'Seg2'!$E$50","v":"NA"},{"$f":"'Seg2'!$E$34","v":"NA"},{"$f":"'Seg2'!$E$36","v":"NA"},{"$f":"'Seg2'!$E$40","v":"NA"},{"$f":"'Seg2'!$E$42","v":"NA"},{"$f":"'Seg2'!$E$48","v":"NA"}]
["Seg 3",null,{"$f":"'Seg3'!$C$61","v":"ccc"},{"$f":"'Seg3'!$E$16","v":"NA"},{"$f":"'Seg3'!$E$22","v":"NA"},{"$f":"'Seg3'!$E$28","v":"NA"},{"$f":"'Seg3'!$E$31","v":"NA"},{"$f":"'Seg3'!$E$50","v":"NA"},{"$f":"'Seg3'!$E$34","v":"NA"},{"$f":"'Seg3'!$E$36","v":"NA"},{"$f":"'Seg3'!$E$40","v":"NA"},{"$f":"'Seg3'!$E$42","v":"NA"},{"$f":"'Seg3'!$E$48","v":"NA"}]
["Seg 4",null,{"$f":"'Seg4'!$C$61","v":"ddd"},{"$f":"'Seg4'!$E$16","v":"NA"},{"$f":"'Seg4'!$E$22","v":"NA"},{"$f":"'Seg4'!$E$28","v":"NA"},{"$f":"'Seg4'!$E$31","v":"NA"},{"$f":"'Seg4'!$E$50","v":"NA"},{"$f":"'Seg4'!$E$34","v":"NA"},{"$f":"'Seg4'!$E$36","v":"NA"},{"$f":"'Seg4'!$E$40","v":"NA"},{"$f":"'Seg4'!$E$42","v":"NA"},{"$f":"'Seg4'!$E$48","v":"NA"}]
["Seg 5",null,{"$f":"'Seg5'!$C$61","v":"eee"},{"$f":"'Seg5'!$E$16","v":"NA"},{"$f":"'Seg5'!$E$22","v":"NA"},{"$f":"'Seg5'!$E$28","v":"NA"},{"$f":"'Seg5'!$E$31","v":"NA"},{"$f":"'Seg5'!$E$50","v":"NA"},{"$f":"'Seg5'!$E$34","v":"NA"},{"$f":"'Seg5'!$E$36","v":"NA"},{"$f":"'Seg5'!$E$40","v":"NA"},{"$f":"'Seg5'!$E$42","v":"NA"},{"$f":"'Seg5'!$E$48","v":"NA"}]
["Seg 6",null,{"$f":"'Seg6'!$C$61","v":"fff"},{"$f":"'Seg6'!$E$16","v":"NA"},{"$f":"'Seg6'!$E$22","v":"NA"},{"$f":"'Seg6'!$E$28","v":"NA"},{"$f":"'Seg6'!$E$31","v":"NA"},{"$f":"'Seg6'!$E$50","v":"NA"},{"$f":"'Seg6'!$E$34","v":"NA"},{"$f":"'Seg6'!$E$36","v":"NA"},{"$f":"'Seg6'!$E$40","v":"NA"},{"$f":"'Seg6'!$E$42","v":"NA"},{"$f":"'Seg6'!$E$48","v":"NA"}]
["Seg 7",null,{"$f":"'Seg7'!$C$61","v":"ggg"},{"$f":"'Seg7'!$E$16","v":"NA"},{"$f":"'Seg7'!$E$22","v":"NA"},{"$f":"'Seg7'!$E$28","v":"NA"},{"$f":"'Seg7'!$E$31","v":"NA"},{"$f":"'Seg7'!$E$50","v":"NA"},{"$f":"'Seg7'!$E$34","v":"NA"},{"$f":"'Seg7'!$E$36","v":"NA"},{"$f":"'Seg7'!$E$40","v":"NA"},{"$f":"'Seg7'!$E$42","v":"NA"},{"$f":"'Seg7'!$E$48","v":"NA"}]
["Seg 8",null,{"$f":"'Seg8'!$C$61","v":"hhh"},{"$f":"'Seg8'!$E$16","v":"NA"},{"$f":"'Seg8'!$E$22","v":"NA"},{"$f":"'Seg8'!$E$28","v":"NA"},{"$f":"'Seg8'!$E$31","v":"NA"},{"$f":"'Seg8'!$E$50","v":"NA"},{"$f":"'Seg8'!$E$34","v":"NA"},{"$f":"'Seg8'!$E$36","v":"NA"},{"$f":"'Seg8'!$E$40","v":"NA"},{"$f":"'Seg8'!$E$42","v":"NA"},{"$f":"'Seg8'!$E$48","v":"NA"}]
["Seg 9",null,{"$f":"'Seg9'!$C$61","v":"iii"},{"$f":"'Seg9'!$E$16","v":"NA"},{"$f":"'Seg9'!$E$22","v":"NA"},{"$f":"'Seg9'!$E$28","v":"NA"},{"$f":"'Seg9'!$E$31","v":"NA"},{"$f":"'Seg9'!$E$50","v":"NA"},{"$f":"'Seg9'!$E$34","v":"NA"},{"$f":"'Seg9'!$E$36","v":"NA"},{"$f":"'Seg9'!$E$40","v":"NA"},{"$f":"'Seg9'!$E$42","v":"NA"},{"$f":"'Seg9'!$E$48","v":"NA"}]
["Seg 10",null,{"$f":"'Seg10'!$C$61","v":"jjj"},{"$f":"'Seg10'!$E$16","v":"NA"},{"$f":"'Seg10'!$E$22","v":"NA"},{"$f":"'Seg10'!$E$28","v":"NA"},{"$f":"'Seg10'!$E$31","v":"NA"},{"$f":"'Seg10'!$E$50","v":"NA"},{"$f":"'Seg10'!$E$34","v":"NA"},{"$f":"'Seg10'!$E$36","v":"NA"},{"$f":"'Seg10'!$E$40","v":"NA"},{"$f":"'Seg10'!$E$42","v":"NA"},{"$f":"'Seg10'!$E$48","v":"NA"}]
["Seg 11",null,{"$f":"'Seg11'!$C$61","v":"kkk"},{"$f":"'Seg11'!$E$16","v":"NA"},{"$f":"'Seg11'!$E$22","v":"NA"},{"$f":"'Seg11'!$E$28","v":"NA"},{"$f":"'Seg11'!$E$31","v":"NA"},{"$f":"'Seg11'!$E$50","v":"NA"},{"$f":"'Seg11'!$E$34","v":"NA"},{"$f":"'Seg11'!$E$36","v":"NA"},{"$f":"'Seg11'!$E$40","v":"NA"},{"$f":"'Seg11'!$E$42","v":"NA"},{"$f":"'Seg11'!$E$48","v":"NA"}]
["Seg 12",null,{"$f":"'Seg12'!$C$61","v":"lll"},{"$f":"'Seg12'!$E$16","v":"NA"},{"$f":"'Seg12'!$E$22","v":"NA"},{"$f":"'Seg12'!$E$28","v":"NA"},{"$f":"'Seg12'!$E$31","v":"NA"},{"$f":"'Seg12'!$E$50","v":"NA"},{"$f":"'Seg12'!$E$34","v":"NA"},{"$f":"'Seg12'!$E$36","v":"NA"},{"$f":"'Seg12'!$E$40","v":"NA"},{"$f":"'Seg12'!$E$42","v":"NA"},{"$f":"'Seg12'!$E$48","v":"NA"}]
["Seg 13",null,{"$f":"'Seg13'!$C$61","v":"mmm"},{"$f":"'Seg13'!$E$16","v":"NA"},{"$f":"'Seg13'!$E$22","v":"NA"},{"$f":"'Seg13'!$E$28","v":"NA"},{"$f":"'Seg13'!$E$31","v":"NA"},{"$f":"'Seg13'!$E$50","v":"NA"},{"$f":"'Seg13'!$E$34","v":"NA"},{"$f":"'Seg13'!$E$36","v":"NA"},{"$f":"'Seg13'!$E$40","v":"NA"},{"$f":"'Seg13'!$E$42","v":"NA"},{"$f":"'Seg13'!$E$48","v":"NA"}]
["Seg 14",null,{"$f":"'Seg14'!$C$61","v":"nnn"},{"$f":"'Seg14'!$E$16","v":"NA"},{"$f":"'Seg14'!$E$22","v":"NA"},{"$f":"'Seg14'!$E$28","v":"NA"},{"$f":"'Seg14'!$E$31","v":"NA"},{"$f":"'Seg14'!$E$50","v":"NA"},{"$f":"'Seg14'!$E$34","v":"NA"},{"$f":"'Seg14'!$E$36","v":"NA"},{"$f":"'Seg14'!$E$40","v":"NA"},{"$f":"'Seg14'!$E$42","v":"NA"},{"$f":"'Seg14'!$E$48","v":"NA"}]
["Seg 15",null,{"$f":"'Seg15'!$C$61","v":"ooo"},{"$f":"'Seg15'!$E$16","v":"NA"},{"$f":"'Seg15'!$E$22","v":"NA"},{"$f":"'Seg15'!$E$28","v":"NA"},{"$f":"'Seg15'!$E$31","v":"NA"},{"$f":"'Seg15'!$E$50","v":"NA"},{"$f":"'Seg15'!$E$34","v":"NA"},{"$f":"'Seg15'!$E$36","v":"NA"},{"$f":"'Seg15'!$E$40","v":"NA"},{"$f":"'Seg15'!$E$42","v":"NA"},{"$f":"'Seg15'!$E$48","v":"NA"}]
["Seg 16",null,{"$f":"'Seg16'!$C$61","v":"ppp"},{"$f":"'Seg16'!$E$16","v":"NA"},{"$f":"'Seg16'!$E$22","v":"NA"},{"$f":"'Seg16'!$E$28","v":"NA"},{"$f":"'Seg16'!$E$31","v":"NA"},{"$f":"'Seg16'!$E$50","v":"NA"},{"$f":"'Seg16'!$E$34","v":"NA"},{"$f":"'Seg16'!$E$36","v":"NA"},{"$f":"'Seg16'!$E$40","v":"NA"},{"$f":"'Seg16'!$E$42","v":"NA"},{"$f":"'Seg16'!$E$48","v":"NA"}]
["Seg 17",null,{"$f":"'Seg17'!$C$61","v":"qqq"},{"$f":"'Seg17'!$E$16","v":"NA"},{"$f":"'Seg17'!$E$22","v":"NA"},{"$f":"'Seg17'!$E$28","v":"NA"},{"$f":"'Seg17'!$E$31","v":"NA"},{"$f":"'Seg17'!$E$50","v":"NA"},{"$f":"'Seg17'!$E$34","v":"NA"},{"$f":"'Seg17'!$E$36","v":"NA"},{"$f":"'Seg17'!$E$40","v":"NA"},{"$f":"'Seg17'!$E$42","v":"NA"},{"$f":"'Seg17'!$E$48","v":"NA"}]
["Seg 18",null,{"$f":"'Seg18'!$C$61","v":"rrr"},{"$f":"'Seg18'!$E$16","v":"NA"},{"$f":"'Seg18'!$E$22","v":"NA"},{"$f":"'Seg18'!$E$28","v":"NA"},{"$f":"'Seg18'!$E$31","v":"NA"},{"$f":"'Seg18'!$E$50","v":"NA"},{"$f":"'Seg18'!$E$34","v":"NA"},{"$f":"'Seg18'!$E$36","v":"NA"},{"$f":"'Seg18'!$E$40","v":"NA"},{"$f":"'Seg18'!$E$42","v":"NA"},{"$f":"'Seg18'!$E$48","v":"NA"}]
["Seg 19",null,{"$f":"'Seg19'!$C$61","v":"sss"},{"$f":"'Seg19'!$E$16","v":"NA"},{"$f":"'Seg19'!$E$22","v":"NA"},{"$f":"'Seg19'!$E$28","v":"NA"},{"$f":"'Seg19'!$E$31","v":"NA"},{"$f":"'Seg19'!$E$50","v":"NA"},{"$f":"'Seg19'!$E$34","v":"NA"},{"$f":"'Seg19'!$E$36","v":"NA"},{"$f":"'Seg19'!$E$40","v":"NA"},{"$f":"'Seg19'!$E$42","v":"NA"},{"$f":"'Seg19'!$E$48","v":"NA"}]
["Seg 20",null,{"$f":"'Seg20'!$C$61","v":"ttt"},{"$f":"'Seg20'!$E$16","v":"NA"},{"$f":"'Seg20'!$E$22","v":"NA"},{"$f":"'Seg20'!$E$28","v":"NA"},{"$f":"'Seg20'!$E$31","v":"NA"},{"$f":"'Seg20'!$E$50","v":"NA"},{"$f":"'Seg20'!$E$34","v":"NA"},{"$f":"'Seg20'!$E$36","v":"NA"},{"$f":"'Seg20'!$E$40","v":"NA"},{"$f":"'Seg20'!$E$42","v":"NA"},{"$f":"'Seg20'!$E$48","v":"NA"}]
["Seg 21",null,{"$f":"'Seg21'!$C$61","v":"uuu"},{"$f":"'Seg21'!$E$16","v":"NA"},{"$f":"'Seg21'!$E$22","v":"NA"},{"$f":"'Seg21'!$E$28","v":"NA"},{"$f":"'Seg21'!$E$31","v":"NA"},{"$f":"'Seg21'!$E$50","v":"NA"},{"$f":"'Seg21'!$E$34","v":"NA"},{"$f":"'Seg21'!$E$36","v":"NA"},{"$f":"'Seg21'!$E$40","v":"NA"},{"$f":"'Seg21'!$E$42","v":"NA"},{"$f":"'Seg21'!$E$48","v":"NA"}]
["Seg 22",null,{"$f":"'Seg22'!$C$61","v":"vvv"},{"$f":"'Seg22'!$E$16","v":"NA"},{"$f":"'Seg22'!$E$22","v":"NA"},{"$f":"'Seg22'!$E$28","v":"NA"},{"$f":"'Seg22'!$E$31","v":"NA"},{"$f":"'Seg22'!$E$50","v":"NA"},{"$f":"'Seg22'!$E$34","v":"NA"},{"$f":"'Seg22'!$E$36","v":"NA"},{"$f":"'Seg22'!$E$40","v":"NA"},{"$f":"'Seg22'!$E$42","v":"NA"},{"$f":"'Seg22'!$E$48","v":"NA"}]
["Seg 23",null,{"$f":"'Seg23'!$C$61","v":"www"},{"$f":"'Seg23'!$E$16","v":"NA"},{"$f":"'Seg23'!$E$22","v":"NA"},{"$f":"'Seg23'!$E$28","v":"NA"},{"$f":"'Seg23'!$E$31","v":"NA"},{"$f":"'Seg23'!$E$50","v":"NA"},{"$f":"'Seg23'!$E$34","v":"NA"},{"$f":"'Seg23'!$E$36","v":"NA"},{"$f":"'Seg23'!$E$40","v":"NA"},{"$f":"'Seg23'!$E$42","v":"NA"},{"$f":"'Seg23'!$E$48","v":"NA"}]
["Seg 24",null,{"$f":"'Seg24'!$C$61","v":"xxx"},{"$f":"'Seg24'!$E$16","v":"NA"},{"$f":"'Seg24'!$E$22","v":"NA"},{"$f":"'Seg24'!$E$28","v":"NA"},{"$f":"'Seg24'!$E$31","v":"NA"},{"$f":"'Seg24'!$E$50","v":"NA"},{"$f":"'Seg24'!$E$34","v":"NA"},{"$f":"'Seg24'!$E$36","v":"NA"},{"$f":"'Seg24'!$E$40","v":"NA"},{"$f":"'Seg24'!$E$42","v":"NA"},{"$f":"'Seg24'!$E$48","v":"NA"}]
["Seg 25",null,{"$f":"'Seg25'!$C$61","v":"yyy"},{"$f":"'Seg25'!$E$16","v":"NA"},{"$f":"'Seg25'!$E$22","v":"NA"},{"$f":"'Seg25'!$E$28","v":"NA"},{"$f":"'Seg25'!$E$31","v":"NA"},{"$f":"'Seg25'!$E$50","v":"NA"},{"$f":"'Seg25'!$E$34","v":"NA"},{"$f":"'Seg25'!$E$36","v":"NA"},{"$f":"'Seg25'!$E$40","v":"NA"},{"$f":"'Seg25'!$E$42","v":"NA"},{"$f":"'Seg25'!$E$48","v":"NA"}]

{"sheet":"Metadata","index":2,"n_rows":37,"n_cols":13,"rows_kept":37,"cut":false,"hidden":false,"merged":[[11,3,11,12],[6,5,6,7],[7,2,9,2],[7,3,8,9],[7,10,8,11],[7,12,8,12],[9,4,9,6],[9,8,9,9],[9,10,9,11]]}
[]
[]
[]
[]
[]
[]
[null,null,{"$f":"\"  \"&RiverBasinName","v":"  Test River Basin"},null,null,"Water Quality Report Card",null,null,null,null,null,null,{"$f":"AssessmentYear&\" Metadata  \"","v":"2011 Metadata  "}]
[null,null,null,"AQUATIC LIFE ",null,null,null,null,null,null,"RECREATION",null,"FISH EDIBILITY"]
[]
[]
[null,null,"SEGMENT","BIOLOGY","CHEMISTRY","NUTRIENTS","TOXICS","SEDIMENTS","FLOW","HABITAT","BACTERIA","AESTHETICS","FISH TISSUE"]
[null,null,{"$f":"RiverBasinName","v":"Test River Basin"}]
["Seg 1",null,{"$f":"'Seg1'!$C$61","v":"aaa"},{"$f":"'Seg1'!$F$16","v":"NA"},{"$f":"'Seg1'!$F$22","v":"NA"},{"$f":"'Seg1'!$F$28","v":"NA"},{"$f":"'Seg1'!$F$31","v":"NA"},{"$f":"'Seg1'!$F$50","v":"NA"},{"$f":"'Seg1'!$F$34","v":"NA"},{"$f":"'Seg1'!$F$36","v":"NA"},{"$f":"'Seg1'!$F$40","v":"NA"},{"$f":"'Seg1'!$F$42","v":"NA"},{"$f":"'Seg1'!$F$48","v":"NA"}]
["Seg 2",null,{"$f":"'Seg2'!$C$61","v":"bbb"},{"$f":"'Seg2'!$F$16","v":"NA"},{"$f":"'Seg2'!$F$22","v":"NA"},{"$f":"'Seg2'!$F$28","v":"NA"},{"$f":"'Seg2'!$F$31","v":"NA"},{"$f":"'Seg2'!$F$50","v":"NA"},{"$f":"'Seg2'!$F$34","v":"NA"},{"$f":"'Seg2'!$F$36","v":"NA"},{"$f":"'Seg2'!$F$40","v":"NA"},{"$f":"'Seg2'!$F$42","v":"NA"},{"$f":"'Seg2'!$F$48","v":"NA"}]
["Seg 3",null,{"$f":"'Seg3'!$C$61","v":"ccc"},{"$f":"'Seg3'!$F$16","v":"NA"},{"$f":"'Seg3'!$F$22","v":"NA"},{"$f":"'Seg3'!$F$28","v":"NA"},{"$f":"'Seg3'!$F$31","v":"NA"},{"$f":"'Seg3'!$F$50","v":"NA"},{"$f":"'Seg3'!$F$34","v":"NA"},{"$f":"'Seg3'!$F$36","v":"NA"},{"$f":"'Seg3'!$F$40","v":"NA"},{"$f":"'Seg3'!$F$42","v":"NA"},{"$f":"'Seg3'!$F$48","v":"NA"}]
["Seg 4",null,{"$f":"'Seg4'!$C$61","v":"ddd"},{"$f":"'Seg4'!$F$16","v":"NA"},{"$f":"'Seg4'!$F$22","v":"NA"},{"$f":"'Seg4'!$F$28","v":"NA"},{"$f":"'Seg4'!$F$31","v":"NA"},{"$f":"'Seg4'!$F$50","v":"NA"},{"$f":"'Seg4'!$F$34","v":"NA"},{"$f":"'Seg4'!$F$36","v":"NA"},{"$f":"'Seg4'!$F$40","v":"NA"},{"$f":"'Seg4'!$F$42","v":"NA"},{"$f":"'Seg4'!$F$48","v":"NA"}]
["Seg 5",null,{"$f":"'Seg5'!$C$61","v":"eee"},{"$f":"'Seg5'!$F$16","v":"NA"},{"$f":"'Seg5'!$F$22","v":"NA"},{"$f":"'Seg5'!$F$28","v":"NA"},{"$f":"'Seg5'!$F$31","v":"NA"},{"$f":"'Seg5'!$F$50","v":"NA"},{"$f":"'Seg5'!$F$34","v":"NA"},{"$f":"'Seg5'!$F$36","v":"NA"},{"$f":"'Seg5'!$F$40","v":"NA"},{"$f":"'Seg5'!$F$42","v":"NA"},{"$f":"'Seg5'!$F$48","v":"NA"}]
["Seg 6",null,{"$f":"'Seg6'!$C$61","v":"fff"},{"$f":"'Seg6'!$F$16","v":"NA"},{"$f":"'Seg6'!$F$22","v":"NA"},{"$f":"'Seg6'!$F$28","v":"NA"},{"$f":"'Seg6'!$F$31","v":"NA"},{"$f":"'Seg6'!$F$50","v":"NA"},{"$f":"'Seg6'!$F$34","v":"NA"},{"$f":"'Seg6'!$F$36","v":"NA"},{"$f":"'Seg6'!$F$40","v":"NA"},{"$f":"'Seg6'!$F$42","v":"NA"},{"$f":"'Seg6'!$F$48","v":"NA"}]
["Seg 7",null,{"$f":"'Seg7'!$C$61","v":"ggg"},{"$f":"'Seg7'!$F$16","v":"NA"},{"$f":"'Seg7'!$F$22","v":"NA"},{"$f":"'Seg7'!$F$28","v":"NA"},{"$f":"'Seg7'!$F$31","v":"NA"},{"$f":"'Seg7'!$F$50","v":"NA"},{"$f":"'Seg7'!$F$34","v":"NA"},{"$f":"'Seg7'!$F$36","v":"NA"},{"$f":"'Seg7'!$F$40","v":"NA"},{"$f":"'Seg7'!$F$42","v":"NA"},{"$f":"'Seg7'!$F$48","v":"NA"}]
["Seg 8",null,{"$f":"'Seg8'!$C$61","v":"hhh"},{"$f":"'Seg8'!$F$16","v":"NA"},{"$f":"'Seg8'!$F$22","v":"NA"},{"$f":"'Seg8'!$F$28","v":"NA"},{"$f":"'Seg8'!$F$31","v":"NA"},{"$f":"'Seg8'!$F$50","v":"NA"},{"$f":"'Seg8'!$F$34","v":"NA"},{"$f":"'Seg8'!$F$36","v":"NA"},{"$f":"'Seg8'!$F$40","v":"NA"},{"$f":"'Seg8'!$F$42","v":"NA"},{"$f":"'Seg8'!$F$48","v":"NA"}]
["Seg 9",null,{"$f":"'Seg9'!$C$61","v":"iii"},{"$f":"'Seg9'!$F$16","v":"NA"},{"$f":"'Seg9'!$F$22","v":"NA"},{"$f":"'Seg9'!$F$28","v":"NA"},{"$f":"'Seg9'!$F$31","v":"NA"},{"$f":"'Seg9'!$F$50","v":"NA"},{"$f":"'Seg9'!$F$34","v":"NA"},{"$f":"'Seg9'!$F$36","v":"NA"},{"$f":"'Seg9'!$F$40","v":"NA"},{"$f":"'Seg9'!$F$42","v":"NA"},{"$f":"'Seg9'!$F$48","v":"NA"}]
["Seg 10",null,{"$f":"'Seg10'!$C$61","v":"jjj"},{"$f":"'Seg10'!$F$16","v":"NA"},{"$f":"'Seg10'!$F$22","v":"NA"},{"$f":"'Seg10'!$F$28","v":"NA"},{"$f":"'Seg10'!$F$31","v":"NA"},{"$f":"'Seg10'!$F$50","v":"NA"},{"$f":"'Seg10'!$F$34","v":"NA"},{"$f":"'Seg10'!$F$36","v":"NA"},{"$f":"'Seg10'!$F$40","v":"NA"},{"$f":"'Seg10'!$F$42","v":"NA"},{"$f":"'Seg10'!$F$48","v":"NA"}]
["Seg 11",null,{"$f":"'Seg11'!$C$61","v":"kkk"},{"$f":"'Seg11'!$F$16","v":"NA"},{"$f":"'Seg11'!$F$22","v":"NA"},{"$f":"'Seg11'!$F$28","v":"NA"},{"$f":"'Seg11'!$F$31","v":"NA"},{"$f":"'Seg11'!$F$50","v":"NA"},{"$f":"'Seg11'!$F$34","v":"NA"},{"$f":"'Seg11'!$F$36","v":"NA"},{"$f":"'Seg11'!$F$40","v":"NA"},{"$f":"'Seg11'!$F$42","v":"NA"},{"$f":"'Seg11'!$F$48","v":"NA"}]
["Seg 12",null,{"$f":"'Seg12'!$C$61","v":"lll"},{"$f":"'Seg12'!$F$16","v":"NA"},{"$f":"'Seg12'!$F$22","v":"NA"},{"$f":"'Seg12'!$F$28","v":"NA"},{"$f":"'Seg12'!$F$31","v":"NA"},{"$f":"'Seg12'!$F$50","v":"NA"},{"$f":"'Seg12'!$F$34","v":"NA"},{"$f":"'Seg12'!$F$36","v":"NA"},{"$f":"'Seg12'!$F$40","v":"NA"},{"$f":"'Seg12'!$F$42","v":"NA"},{"$f":"'Seg12'!$F$48","v":"NA"}]
["Seg 13",null,{"$f":"'Seg13'!$C$61","v":"mmm"},{"$f":"'Seg13'!$F$16","v":"NA"},{"$f":"'Seg13'!$F$22","v":"NA"},{"$f":"'Seg13'!$F$28","v":"NA"},{"$f":"'Seg13'!$F$31","v":"NA"},{"$f":"'Seg13'!$F$50","v":"NA"},{"$f":"'Seg13'!$F$34","v":"NA"},{"$f":"'Seg13'!$F$36","v":"NA"},{"$f":"'Seg13'!$F$40","v":"NA"},{"$f":"'Seg13'!$F$42","v":"NA"},{"$f":"'Seg13'!$F$48","v":"NA"}]
["Seg 14",null,{"$f":"'Seg14'!$C$61","v":"nnn"},{"$f":"'Seg14'!$F$16","v":"NA"},{"$f":"'Seg14'!$F$22","v":"NA"},{"$f":"'Seg14'!$F$28","v":"NA"},{"$f":"'Seg14'!$F$31","v":"NA"},{"$f":"'Seg14'!$F$50","v":"NA"},{"$f":"'Seg14'!$F$34","v":"NA"},{"$f":"'Seg14'!$F$36","v":"NA"},{"$f":"'Seg14'!$F$40","v":"NA"},{"$f":"'Seg14'!$F$42","v":"NA"},{"$f":"'Seg14'!$F$48","v":"NA"}]
["Seg 15",null,{"$f":"'Seg15'!$C$61","v":"ooo"},{"$f":"'Seg15'!$F$16","v":"NA"},{"$f":"'Seg15'!$F$22","v":"NA"},{"$f":"'Seg15'!$F$28","v":"NA"},{"$f":"'Seg15'!$F$31","v":"NA"},{"$f":"'Seg15'!$F$50","v":"NA"},{"$f":"'Seg15'!$F$34","v":"NA"},{"$f":"'Seg15'!$F$36","v":"NA"},{"$f":"'Seg15'!$F$40","v":"NA"},{"$f":"'Seg15'!$F$42","v":"NA"},{"$f":"'Seg15'!$F$48","v":"NA"}]
["Seg 16",null,{"$f":"'Seg16'!$C$61","v":"ppp"},{"$f":"'Seg16'!$F$16","v":"NA"},{"$f":"'Seg16'!$F$22","v":"NA"},{"$f":"'Seg16'!$F$28","v":"NA"},{"$f":"'Seg16'!$F$31","v":"NA"},{"$f":"'Seg16'!$F$50","v":"NA"},{"$f":"'Seg16'!$F$34","v":"NA"},{"$f":"'Seg16'!$F$36","v":"NA"},{"$f":"'Seg16'!$F$40","v":"NA"},{"$f":"'Seg16'!$F$42","v":"NA"},{"$f":"'Seg16'!$F$48","v":"NA"}]
["Seg 17",null,{"$f":"'Seg17'!$C$61","v":"qqq"},{"$f":"'Seg17'!$F$16","v":"NA"},{"$f":"'Seg17'!$F$22","v":"NA"},{"$f":"'Seg17'!$F$28","v":"NA"},{"$f":"'Seg17'!$F$31","v":"NA"},{"$f":"'Seg17'!$F$50","v":"NA"},{"$f":"'Seg17'!$F$34","v":"NA"},{"$f":"'Seg17'!$F$36","v":"NA"},{"$f":"'Seg17'!$F$40","v":"NA"},{"$f":"'Seg17'!$F$42","v":"NA"},{"$f":"'Seg17'!$F$48","v":"NA"}]
["Seg 18",null,{"$f":"'Seg18'!$C$61","v":"rrr"},{"$f":"'Seg18'!$F$16","v":"NA"},{"$f":"'Seg18'!$F$22","v":"NA"},{"$f":"'Seg18'!$F$28","v":"NA"},{"$f":"'Seg18'!$F$31","v":"NA"},{"$f":"'Seg18'!$F$50","v":"NA"},{"$f":"'Seg18'!$F$34","v":"NA"},{"$f":"'Seg18'!$F$36","v":"NA"},{"$f":"'Seg18'!$F$40","v":"NA"},{"$f":"'Seg18'!$F$42","v":"NA"},{"$f":"'Seg18'!$F$48","v":"NA"}]
["Seg 19",null,{"$f":"'Seg19'!$C$61","v":"sss"},{"$f":"'Seg19'!$F$16","v":"NA"},{"$f":"'Seg19'!$F$22","v":"NA"},{"$f":"'Seg19'!$F$28","v":"NA"},{"$f":"'Seg19'!$F$31","v":"NA"},{"$f":"'Seg19'!$F$50","v":"NA"},{"$f":"'Seg19'!$F$34","v":"NA"},{"$f":"'Seg19'!$F$36","v":"NA"},{"$f":"'Seg19'!$F$40","v":"NA"},{"$f":"'Seg19'!$F$42","v":"NA"},{"$f":"'Seg19'!$F$48","v":"NA"}]
["Seg 20",null,{"$f":"'Seg20'!$C$61","v":"ttt"},{"$f":"'Seg20'!$F$16","v":"NA"},{"$f":"'Seg20'!$F$22","v":"NA"},{"$f":"'Seg20'!$F$28","v":"NA"},{"$f":"'Seg20'!$F$31","v":"NA"},{"$f":"'Seg20'!$F$50","v":"NA"},{"$f":"'Seg20'!$F$34","v":"NA"},{"$f":"'Seg20'!$F$36","v":"NA"},{"$f":"'Seg20'!$F$40","v":"NA"},{"$f":"'Seg20'!$F$42","v":"NA"},{"$f":"'Seg20'!$F$48","v":"NA"}]
["Seg 21",null,{"$f":"'Seg21'!$C$61","v":"uuu"},{"$f":"'Seg21'!$F$16","v":"NA"},{"$f":"'Seg21'!$F$22","v":"NA"},{"$f":"'Seg21'!$F$28","v":"NA"},{"$f":"'Seg21'!$F$31","v":"NA"},{"$f":"'Seg21'!$F$50","v":"NA"},{"$f":"'Seg21'!$F$34","v":"NA"},{"$f":"'Seg21'!$F$36","v":"NA"},{"$f":"'Seg21'!$F$40","v":"NA"},{"$f":"'Seg21'!$F$42","v":"NA"},{"$f":"'Seg21'!$F$48","v":"NA"}]
["Seg 22",null,{"$f":"'Seg22'!$C$61","v":"vvv"},{"$f":"'Seg22'!$F$16","v":"NA"},{"$f":"'Seg22'!$F$22","v":"NA"},{"$f":"'Seg22'!$F$28","v":"NA"},{"$f":"'Seg22'!$F$31","v":"NA"},{"$f":"'Seg22'!$F$50","v":"NA"},{"$f":"'Seg22'!$F$34","v":"NA"},{"$f":"'Seg22'!$F$36","v":"NA"},{"$f":"'Seg22'!$F$40","v":"NA"},{"$f":"'Seg22'!$F$42","v":"NA"},{"$f":"'Seg22'!$F$48","v":"NA"}]
["Seg 23",null,{"$f":"'Seg23'!$C$61","v":"www"},{"$f":"'Seg23'!$F$16","v":"NA"},{"$f":"'Seg23'!$F$22","v":"NA"},{"$f":"'Seg23'!$F$28","v":"NA"},{"$f":"'Seg23'!$F$31","v":"NA"},{"$f":"'Seg23'!$F$50","v":"NA"},{"$f":"'Seg23'!$F$34","v":"NA"},{"$f":"'Seg23'!$F$36","v":"NA"},{"$f":"'Seg23'!$F$40","v":"NA"},{"$f":"'Seg23'!$F$42","v":"NA"},{"$f":"'Seg23'!$F$48","v":"NA"}]
["Seg 24",null,{"$f":"'Seg24'!$C$61","v":"xxx"},{"$f":"'Seg24'!$F$16","v":"NA"},{"$f":"'Seg24'!$F$22","v":"NA"},{"$f":"'Seg24'!$F$28","v":"NA"},{"$f":"'Seg24'!$F$31","v":"NA"},{"$f":"'Seg24'!$F$50","v":"NA"},{"$f":"'Seg24'!$F$34","v":"NA"},{"$f":"'Seg24'!$F$36","v":"NA"},{"$f":"'Seg24'!$F$40","v":"NA"},{"$f":"'Seg24'!$F$42","v":"NA"},{"$f":"'Seg24'!$F$48","v":"NA"}]
["Seg 25",null,{"$f":"'Seg25'!$C$61","v":"yyy"},{"$f":"'Seg25'!$F$16","v":"NA"},{"$f":"'Seg25'!$F$22","v":"NA"},{"$f":"'Seg25'!$F$28","v":"NA"},{"$f":"'Seg25'!$F$31","v":"NA"},{"$f":"'Seg25'!$F$50","v":"NA"},{"$f":"'Seg25'!$F$34","v":"NA"},{"$f":"'Seg25'!$F$36","v":"NA"},{"$f":"'Seg25'!$F$40","v":"NA"},{"$f":"'Seg25'!$F$42","v":"NA"},{"$f":"'Seg25'!$F$48","v":"NA"}]

{"sheet":"Causes","index":3,"n_rows":37,"n_cols":13,"rows_kept":37,"cut":false,"hidden":false,"merged":[[11,3,11,12],[6,5,6,7],[7,2,9,2],[7,3,8,9],[7,10,8,11],[7,12,8,12],[9,4,9,6],[9,8,9,9],[9,10,9,11]]}
[]
[]
[]
[]
[]
[]
[null,null,{"$f":"\"  \"&RiverBasinName","v":"  Test River Basin"},null,null,"Water Quality Report Card",null,null,null,null,null,null,{"$f":"AssessmentYear&\" Pollution Indicators\"&\"  \"","v":"2011 Pollution Indicators  "}]
[null,null,null,"AQUATIC LIFE ",null,null,null,null,null,null,"RECREATION",null,"FISH EDIBILITY"]
[]
[]
[null,null,"SEGMENT","BIOLOGY","CHEMISTRY","NUTRIENTS","TOXICS","SEDIMENTS","FLOW","HABITAT","BACTERIA","AESTHETICS","FISH TISSUE"]
[null,null,{"$f":"RiverBasinName","v":"Test River Basin"}]
["Seg 1",null,{"$f":"'Seg1'!$C$61","v":"aaa"},{"$f":"'Seg1'!$Q$43","v":"     "},{"$f":"'Seg1'!$AQ$43","v":"     "},{"$f":"'Seg1'!$BQ$43","v":"  "},{"$f":"'Seg1'!$CQ$49","v":"  "},{"$f":"'Seg1'!$IQ$49","v":"  "},{"$f":"'Seg1'!$DQ$43","v":" "},{"$f":"'Seg1'!$EQ$43","v":"   "},{"$f":"'Seg1'!$FQ$43","v":" "},{"$f":"'Seg1'!$GQ$43","v":"     "},{"$f":"'Seg1'!$HQ$50","v":" "}]
["Seg 2",null,{"$f":"'Seg2'!$C$61","v":"bbb"},{"$f":"'Seg2'!$Q$43","v":"     "},{"$f":"'Seg2'!$AQ$43","v":"     "},{"$f":"'Seg2'!$BQ$43","v":"  "},{"$f":"'Seg2'!$CQ$49","v":"  "},{"$f":"'Seg2'!$IQ$49","v":"  "},{"$f":"'Seg2'!$DQ$43","v":" "},{"$f":"'Seg2'!$EQ$43","v":"   "},{"$f":"'Seg2'!$FQ$43","v":" "},{"$f":"'Seg2'!$GQ$43","v":"     "},{"$f":"'Seg2'!$HQ$50","v":" "}]
["Seg 3",null,{"$f":"'Seg3'!$C$61","v":"ccc"},{"$f":"'Seg3'!$Q$43","v":"     "},{"$f":"'Seg3'!$AQ$43","v":"     "},{"$f":"'Seg3'!$BQ$43","v":"  "},{"$f":"'Seg3'!$CQ$49","v":"  "},{"$f":"'Seg3'!$IQ$49","v":"  "},{"$f":"'Seg3'!$DQ$43","v":" "},{"$f":"'Seg3'!$EQ$43","v":"   "},{"$f":"'Seg3'!$FQ$43","v":" "},{"$f":"'Seg3'!$GQ$43","v":"     "},{"$f":"'Seg3'!$HQ$50","v":" "}]
["Seg 4",null,{"$f":"'Seg4'!$C$61","v":"ddd"},{"$f":"'Seg4'!$Q$43","v":"     "},{"$f":"'Seg4'!$AQ$43","v":"     "},{"$f":"'Seg4'!$BQ$43","v":"  "},{"$f":"'Seg4'!$CQ$49","v":"  "},{"$f":"'Seg4'!$IQ$49","v":"  "},{"$f":"'Seg4'!$DQ$43","v":" "},{"$f":"'Seg4'!$EQ$43","v":"   "},{"$f":"'Seg4'!$FQ$43","v":" "},{"$f":"'Seg4'!$GQ$43","v":"     "},{"$f":"'Seg4'!$HQ$50","v":" "}]
["Seg 5",null,{"$f":"'Seg5'!$C$61","v":"eee"},{"$f":"'Seg5'!$Q$43","v":"     "},{"$f":"'Seg5'!$AQ$43","v":"     "},{"$f":"'Seg5'!$BQ$43","v":"  "},{"$f":"'Seg5'!$CQ$49","v":"  "},{"$f":"'Seg5'!$IQ$49","v":"  "},{"$f":"'Seg5'!$DQ$43","v":" "},{"$f":"'Seg5'!$EQ$43","v":"   "},{"$f":"'Seg5'!$FQ$43","v":" "},{"$f":"'Seg5'!$GQ$43","v":"     "},{"$f":"'Seg5'!$HQ$50","v":" "}]
["Seg 6",null,{"$f":"'Seg6'!$C$61","v":"fff"},{"$f":"'Seg6'!$Q$43","v":"     "},{"$f":"'Seg6'!$AQ$43","v":"     "},{"$f":"'Seg6'!$BQ$43","v":"  "},{"$f":"'Seg6'!$CQ$49","v":"  "},{"$f":"'Seg6'!$IQ$49","v":"  "},{"$f":"'Seg6'!$DQ$43","v":" "},{"$f":"'Seg6'!$EQ$43","v":"   "},{"$f":"'Seg6'!$FQ$43","v":" "},{"$f":"'Seg6'!$GQ$43","v":"     "},{"$f":"'Seg6'!$HQ$50","v":" "}]
["Seg 7",null,{"$f":"'Seg7'!$C$61","v":"ggg"},{"$f":"'Seg7'!$Q$43","v":"     "},{"$f":"'Seg7'!$AQ$43","v":"     "},{"$f":"'Seg7'!$BQ$43","v":"  "},{"$f":"'Seg7'!$CQ$49","v":"  "},{"$f":"'Seg7'!$IQ$49","v":"  "},{"$f":"'Seg7'!$DQ$43","v":" "},{"$f":"'Seg7'!$EQ$43","v":"   "},{"$f":"'Seg7'!$FQ$43","v":" "},{"$f":"'Seg7'!$GQ$43","v":"     "},{"$f":"'Seg7'!$HQ$50","v":" "}]
["Seg 8",null,{"$f":"'Seg8'!$C$61","v":"hhh"},{"$f":"'Seg8'!$Q$43","v":"     "},{"$f":"'Seg8'!$AQ$43","v":"     "},{"$f":"'Seg8'!$BQ$43","v":"  "},{"$f":"'Seg8'!$CQ$49","v":"  "},{"$f":"'Seg8'!$IQ$49","v":"  "},{"$f":"'Seg8'!$DQ$43","v":" "},{"$f":"'Seg8'!$EQ$43","v":"   "},{"$f":"'Seg8'!$FQ$43","v":" "},{"$f":"'Seg8'!$GQ$43","v":"     "},{"$f":"'Seg8'!$HQ$50","v":" "}]
["Seg 9",null,{"$f":"'Seg9'!$C$61","v":"iii"},{"$f":"'Seg9'!$Q$43","v":"     "},{"$f":"'Seg9'!$AQ$43","v":"     "},{"$f":"'Seg9'!$BQ$43","v":"  "},{"$f":"'Seg9'!$CQ$49","v":"  "},{"$f":"'Seg9'!$IQ$49","v":"  "},{"$f":"'Seg9'!$DQ$43","v":" "},{"$f":"'Seg9'!$EQ$43","v":"   "},{"$f":"'Seg9'!$FQ$43","v":" "},{"$f":"'Seg9'!$GQ$43","v":"     "},{"$f":"'Seg9'!$HQ$50","v":" "}]
["Seg 10",null,{"$f":"'Seg10'!$C$61","v":"jjj"},{"$f":"'Seg10'!$Q$43","v":"     "},{"$f":"'Seg10'!$AQ$43","v":"     "},{"$f":"'Seg10'!$BQ$43","v":"  "},{"$f":"'Seg10'!$CQ$49","v":"  "},{"$f":"'Seg10'!$IQ$49","v":"  "},{"$f":"'Seg10'!$DQ$43","v":" "},{"$f":"'Seg10'!$EQ$43","v":"   "},{"$f":"'Seg10'!$FQ$43","v":" "},{"$f":"'Seg10'!$GQ$43","v":"     "},{"$f":"'Seg10'!$HQ$50","v":" "}]
["Seg 11",null,{"$f":"'Seg11'!$C$61","v":"kkk"},{"$f":"'Seg11'!$Q$43","v":"     "},{"$f":"'Seg11'!$AQ$43","v":"     "},{"$f":"'Seg11'!$BQ$43","v":"  "},{"$f":"'Seg11'!$CQ$49","v":"  "},{"$f":"'Seg11'!$IQ$49","v":"  "},{"$f":"'Seg11'!$DQ$43","v":" "},{"$f":"'Seg11'!$EQ$43","v":"   "},{"$f":"'Seg11'!$FQ$43","v":" "},{"$f":"'Seg11'!$GQ$43","v":"     "},{"$f":"'Seg11'!$HQ$50","v":" "}]
["Seg 12",null,{"$f":"'Seg12'!$C$61","v":"lll"},{"$f":"'Seg12'!$Q$43","v":"     "},{"$f":"'Seg12'!$AQ$43","v":"     "},{"$f":"'Seg12'!$BQ$43","v":"  "},{"$f":"'Seg12'!$CQ$49","v":"  "},{"$f":"'Seg12'!$IQ$49","v":"  "},{"$f":"'Seg12'!$DQ$43","v":" "},{"$f":"'Seg12'!$EQ$43","v":"   "},{"$f":"'Seg12'!$FQ$43","v":" "},{"$f":"'Seg12'!$GQ$43","v":"     "},{"$f":"'Seg12'!$HQ$50","v":" "}]
["Seg 13",null,{"$f":"'Seg13'!$C$61","v":"mmm"},{"$f":"'Seg13'!$Q$43","v":"     "},{"$f":"'Seg13'!$AQ$43","v":"     "},{"$f":"'Seg13'!$BQ$43","v":"  "},{"$f":"'Seg13'!$CQ$49","v":"  "},{"$f":"'Seg13'!$IQ$49","v":"  "},{"$f":"'Seg13'!$DQ$43","v":" "},{"$f":"'Seg13'!$EQ$43","v":"   "},{"$f":"'Seg13'!$FQ$43","v":" "},{"$f":"'Seg13'!$GQ$43","v":"     "},{"$f":"'Seg13'!$HQ$50","v":" "}]
["Seg 14",null,{"$f":"'Seg14'!$C$61","v":"nnn"},{"$f":"'Seg14'!$Q$43","v":"     "},{"$f":"'Seg14'!$AQ$43","v":"     "},{"$f":"'Seg14'!$BQ$43","v":"  "},{"$f":"'Seg14'!$CQ$49","v":"  "},{"$f":"'Seg14'!$IQ$49","v":"  "},{"$f":"'Seg14'!$DQ$43","v":" "},{"$f":"'Seg14'!$EQ$43","v":"   "},{"$f":"'Seg14'!$FQ$43","v":" "},{"$f":"'Seg14'!$GQ$43","v":"     "},{"$f":"'Seg14'!$HQ$50","v":" "}]
["Seg 15",null,{"$f":"'Seg15'!$C$61","v":"ooo"},{"$f":"'Seg15'!$Q$43","v":"     "},{"$f":"'Seg15'!$AQ$43","v":"     "},{"$f":"'Seg15'!$BQ$43","v":"  "},{"$f":"'Seg15'!$CQ$49","v":"  "},{"$f":"'Seg15'!$IQ$49","v":"  "},{"$f":"'Seg15'!$DQ$43","v":" "},{"$f":"'Seg15'!$EQ$43","v":"   "},{"$f":"'Seg15'!$FQ$43","v":" "},{"$f":"'Seg15'!$GQ$43","v":"     "},{"$f":"'Seg15'!$HQ$50","v":" "}]
["Seg 16",null,{"$f":"'Seg16'!$C$61","v":"ppp"},{"$f":"'Seg16'!$Q$43","v":"     "},{"$f":"'Seg16'!$AQ$43","v":"     "},{"$f":"'Seg16'!$BQ$43","v":"  "},{"$f":"'Seg16'!$CQ$49","v":"  "},{"$f":"'Seg16'!$IQ$49","v":"  "},{"$f":"'Seg16'!$DQ$43","v":" "},{"$f":"'Seg16'!$EQ$43","v":"   "},{"$f":"'Seg16'!$FQ$43","v":" "},{"$f":"'Seg16'!$GQ$43","v":"     "},{"$f":"'Seg16'!$HQ$50","v":" "}]
["Seg 17",null,{"$f":"'Seg17'!$C$61","v":"qqq"},{"$f":"'Seg17'!$Q$43","v":"     "},{"$f":"'Seg17'!$AQ$43","v":"     "},{"$f":"'Seg17'!$BQ$43","v":"  "},{"$f":"'Seg17'!$CQ$49","v":"  "},{"$f":"'Seg17'!$IQ$49","v":"  "},{"$f":"'Seg17'!$DQ$43","v":" "},{"$f":"'Seg17'!$EQ$43","v":"   "},{"$f":"'Seg17'!$FQ$43","v":" "},{"$f":"'Seg17'!$GQ$43","v":"     "},{"$f":"'Seg17'!$HQ$50","v":" "}]
["Seg 18",null,{"$f":"'Seg18'!$C$61","v":"rrr"},{"$f":"'Seg18'!$Q$43","v":"     "},{"$f":"'Seg18'!$AQ$43","v":"     "},{"$f":"'Seg18'!$BQ$43","v":"  "},{"$f":"'Seg18'!$CQ$49","v":"  "},{"$f":"'Seg18'!$IQ$49","v":"  "},{"$f":"'Seg18'!$DQ$43","v":" "},{"$f":"'Seg18'!$EQ$43","v":"   "},{"$f":"'Seg18'!$FQ$43","v":" "},{"$f":"'Seg18'!$GQ$43","v":"     "},{"$f":"'Seg18'!$HQ$50","v":" "}]
["Seg 19",null,{"$f":"'Seg19'!$C$61","v":"sss"},{"$f":"'Seg19'!$Q$43","v":"     "},{"$f":"'Seg19'!$AQ$43","v":"     "},{"$f":"'Seg19'!$BQ$43","v":"  "},{"$f":"'Seg19'!$CQ$49","v":"  "},{"$f":"'Seg19'!$IQ$49","v":"  "},{"$f":"'Seg19'!$DQ$43","v":" "},{"$f":"'Seg19'!$EQ$43","v":"   "},{"$f":"'Seg19'!$FQ$43","v":" "},{"$f":"'Seg19'!$GQ$43","v":"     "},{"$f":"'Seg19'!$HQ$50","v":" "}]
["Seg 20",null,{"$f":"'Seg20'!$C$61","v":"ttt"},{"$f":"'Seg20'!$Q$43","v":"     "},{"$f":"'Seg20'!$AQ$43","v":"     "},{"$f":"'Seg20'!$BQ$43","v":"  "},{"$f":"'Seg20'!$CQ$49","v":"  "},{"$f":"'Seg20'!$IQ$49","v":"  "},{"$f":"'Seg20'!$DQ$43","v":" "},{"$f":"'Seg20'!$EQ$43","v":"   "},{"$f":"'Seg20'!$FQ$43","v":" "},{"$f":"'Seg20'!$GQ$43","v":"     "},{"$f":"'Seg20'!$HQ$50","v":" "}]
["Seg 21",null,{"$f":"'Seg21'!$C$61","v":"uuu"},{"$f":"'Seg21'!$Q$43","v":"     "},{"$f":"'Seg21'!$AQ$43","v":"     "},{"$f":"'Seg21'!$BQ$43","v":"  "},{"$f":"'Seg21'!$CQ$49","v":"  "},{"$f":"'Seg21'!$IQ$49","v":"  "},{"$f":"'Seg21'!$DQ$43","v":" "},{"$f":"'Seg21'!$EQ$43","v":"   "},{"$f":"'Seg21'!$FQ$43","v":" "},{"$f":"'Seg21'!$GQ$43","v":"     "},{"$f":"'Seg21'!$HQ$50","v":" "}]
["Seg 22",null,{"$f":"'Seg22'!$C$61","v":"vvv"},{"$f":"'Seg22'!$Q$43","v":"     "},{"$f":"'Seg22'!$AQ$43","v":"     "},{"$f":"'Seg22'!$BQ$43","v":"  "},{"$f":"'Seg22'!$CQ$49","v":"  "},{"$f":"'Seg22'!$IQ$49","v":"  "},{"$f":"'Seg22'!$DQ$43","v":" "},{"$f":"'Seg22'!$EQ$43","v":"   "},{"$f":"'Seg22'!$FQ$43","v":" "},{"$f":"'Seg22'!$GQ$43","v":"     "},{"$f":"'Seg22'!$HQ$50","v":" "}]
["Seg 23",null,{"$f":"'Seg23'!$C$61","v":"www"},{"$f":"'Seg23'!$Q$43","v":"     "},{"$f":"'Seg23'!$AQ$43","v":"     "},{"$f":"'Seg23'!$BQ$43","v":"  "},{"$f":"'Seg23'!$CQ$49","v":"  "},{"$f":"'Seg23'!$IQ$49","v":"  "},{"$f":"'Seg23'!$DQ$43","v":" "},{"$f":"'Seg23'!$EQ$43","v":"   "},{"$f":"'Seg23'!$FQ$43","v":" "},{"$f":"'Seg23'!$GQ$43","v":"     "},{"$f":"'Seg23'!$HQ$50","v":" "}]
["Seg 24",null,{"$f":"'Seg24'!$C$61","v":"xxx"},{"$f":"'Seg24'!$Q$43","v":"     "},{"$f":"'Seg24'!$AQ$43","v":"     "},{"$f":"'Seg24'!$BQ$43","v":"  "},{"$f":"'Seg24'!$CQ$49","v":"  "},{"$f":"'Seg24'!$IQ$49","v":"  "},{"$f":"'Seg24'!$DQ$43","v":" "},{"$f":"'Seg24'!$EQ$43","v":"   "},{"$f":"'Seg24'!$FQ$43","v":" "},{"$f":"'Seg24'!$GQ$43","v":"     "},{"$f":"'Seg24'!$HQ$50","v":" "}]
["Seg 25",null,{"$f":"'Seg25'!$C$61","v":"yyy"},{"$f":"'Seg25'!$Q$43","v":"     "},{"$f":"'Seg25'!$AQ$43","v":"     "},{"$f":"'Seg25'!$BQ$43","v":"  "},{"$f":"'Seg25'!$CQ$49","v":"  "},{"$f":"'Seg25'!$IQ$49","v":"  "},{"$f":"'Seg25'!$DQ$43","v":" "},{"$f":"'Seg25'!$EQ$43","v":"   "},{"$f":"'Seg25'!$FQ$43","v":" "},{"$f":"'Seg25'!$GQ$43","v":"     "},{"$f":"'Seg25'!$HQ$50","v":" "}]

{"sheet":"Sources","index":4,"n_rows":37,"n_cols":12,"rows_kept":37,"cut":false,"hidden":false,"merged":[[8,2,9,2],[8,3,8,4],[8,5,8,11],[7,3,7,8],[11,3,11,4],[11,5,11,11],[9,3,9,4],[9,5,9,11]]}
[]
[]
[]
[]
[]
[]
[]
[null,null,{"$f":"\"  \"&RiverBasinName","v":"  Test River Basin"},"        WATER QUALITY REPORT CARD",null,null,null,null,null,null,null,{"$f":"AssessmentYear&\" Sources of Pollution  \"","v":"2011 Sources of Pollution  "}]
[null,null,null,"POINT SOURCES",null,"NON-POINT SOURCES"]
[]
[null,null,"SEGMENT","MUNICIPAL","INDUSTRIAL","STORM  WATER","RESOURCE EXTRACT.","LAND DISPOSAL","SEDIMENT","HYDRO MODIFICA.","OTHER","UNKNOWN"]
[null,null,{"$f":"RiverBasinName","v":"Test River Basin"}]
["Seg 1",null,{"$f":"'Seg1'!$C$61","v":"aaa"},"","","","","","","","",""]
["Seg 2",null,{"$f":"'Seg2'!$C$61","v":"bbb"},"","","","","","","","",""]
["Seg 3",null,{"$f":"'Seg3'!$C$61","v":"ccc"},"","","","","","","","",""]
["Seg 4",null,{"$f":"'Seg4'!$C$61","v":"ddd"},"","","","","","","","",""]
["Seg 5",null,{"$f":"'Seg5'!$C$61","v":"eee"},"","","","","","","","",""]
["Seg 6",null,{"$f":"'Seg6'!$C$61","v":"fff"},"","","","","","","","",""]
["Seg 7",null,{"$f":"'Seg7'!$C$61","v":"ggg"},"","","","","","","","",""]
["Seg 8",null,{"$f":"'Seg8'!$C$61","v":"hhh"},"","","","","","","","",""]
["Seg 9",null,{"$f":"'Seg9'!$C$61","v":"iii"},"","","","","","","","",""]
["Seg 10",null,{"$f":"'Seg10'!$C$61","v":"jjj"},"","","","","","","","",""]
["Seg 11",null,{"$f":"'Seg11'!$C$61","v":"kkk"},"","","","","","","","",""]
["Seg 12",null,{"$f":"'Seg12'!$C$61","v":"lll"},"","","","","","","","",""]
["Seg 13",null,{"$f":"'Seg13'!$C$61","v":"mmm"},"","","","","","","","",""]
["Seg 14",null,{"$f":"'Seg14'!$C$61","v":"nnn"},"","","","","","","","",""]
["Seg 15",null,{"$f":"'Seg15'!$C$61","v":"ooo"},"","","","","","","","",""]
["Seg 16",null,{"$f":"'Seg16'!$C$61","v":"ppp"},"","","","","","","","",""]
["Seg 17",null,{"$f":"'Seg17'!$C$61","v":"qqq"},"","","","","","","","",""]
["Seg 18",null,{"$f":"'Seg18'!$C$61","v":"rrr"},"","","","","","","","",""]
["Seg 19",null,{"$f":"'Seg19'!$C$61","v":"sss"},"","","","","","","","",""]
["Seg 20",null,{"$f":"'Seg20'!$C$61","v":"ttt"},"","","","","","","","",""]
["Seg 21",null,{"$f":"'Seg21'!$C$61","v":"uuu"},"","","","","","","","",""]
["Seg 22",null,{"$f":"'Seg22'!$C$61","v":"vvv"},"","","","","","","","",""]
["Seg 23",null,{"$f":"'Seg23'!$C$61","v":"www"},"","","","","","","","",""]
["Seg 24",null,{"$f":"'Seg24'!$C$61","v":"xxx"},"","","","","","","","",""]
["Seg 25",null,{"$f":"'Seg25'!$C$61","v":"yyy"},"","","","","","","","",""]

{"sheet":"Seg1","index":5,"n_rows":99,"n_cols":311,"rows_kept":99,"cut":false,"hidden":false,"merged":[[52,1,55,1],[49,1,51,1],[49,6,51,6],[49,7,51,7],[49,4,51,4],[49,5,51,5],[21,1,26,1],[21,4,26,4],[21,5,26,5],[30,1,32,1],[21,6,26,6],[30,4,32,4],[14,6,14,7],[33,1,34,1],[35,1,38,1],[33,7,34,7],[35,6,38,6],[35,7,38,7],[33,6,34,6],[15,6,20,6],[13,1,14,1],[13,4,14,4],[13,5,14,5],[15,1,20,1],[13,2,14,3],[30,6,32,6],[21,7,26,7],[27,1,29,1],[41,4,46,4],[41,5,46,5],[33,4,34,4],[15,7,20,7],[15,4,20,4],[27,4,29,4],[27,5,29,5],[27,6,29,6],[27,7,29,7],[30,7,32,7],[15,5,20,5],[30,5,32,5],[35,4,38,4],[35,5,38,5],[33,5,34,5],[43,91,45,94],[44,221,46,224],[43,247,45,250],[39,1,40,1],[47,1,48,1],[39,4,40,4],[47,4,48,4],[39,6,40,6],[39,7,40,7],[39,5,40,5],[47,6,48,6],[47,7,48,7],[41,7,46,7],[47,5,48,5],[41,6,46,6],[41,1,46,1]]}
[]
[]
[]
[]
[null,null,null,null,null,null,null,null,null,null,null,null,null,null,null,null,null,null,null,null,null,null,null,null,null,null,null,null,null,null,null,null,null,null,null,null,null,null,null,null,null,null,null,null,null,null,null,null,null,null,null,null,null,null,null,null,null,null,null,null,null,null,null,null,null,null,null,null,null,null,null,null,null,null,null,null,null,null,null,null,null,null,null,null,null,null,null,null,null,null,null,null,null,null,null,null,null,null,null,null,null,null,null,null,null,null,null,null,null,null,null,null,null,null,null,null,null,null,null,null,null,null,null,null,null,null,null,null,null,null,null,null,null,null,null,null,null,null,null,null,null,null,null,null,null,null,null,null,null,null,null,null,null,null,null,null,null,null,null,null,null,null,null,null,null,null,null,null,null,null,null,null,null,null,null,null,null,null,null,null,null,null,null,null,null,null,null,null,null,null,null,null,null,null,null,null,null,null,null,null,null,null,null,null,null,null,null,null,null,null,null,null,null,null,null,null,null,null,null,null,null,null,null,null,null,null,null,null,null,null,null,null,null,null,null,null,null,null,null,null,null,null,null,null,null,null,null,null,null,null,null,null,null,null,null,null,null,null,null,null,null,null,null,null,null,null,null,null,null,null,null,null,null,null,null,null,null,null,null,null,null,null,null,null,null,"List of all codes from all groups for this segment, organized by Source Type. "]
[null,null,null,null,null,null,null,null,null,null,null,null,null,null,null,null,null,null,null,null,null,null,null,null,null,null,null,null,null,null,null,null,null,null,null,null,null,null,null,null,null,null,null,null,null,null,null,null,null,null,null,null,null,null,null,null,null,null,null,null,null,null,null,null,null,null,null,null,null,null,null,null,null,null,null,null,null,null,null,null,null,null,null,null,null,null,null,null,null,null,null,null,null,null,null,null,null,null,null,null,null,null,null,null,null,null,null,null,null,null,null,null,null,null,null,null,null,null,null,null,null,null,null,null,null,null,null,null,null,null,null,null,null,null,null,null,null,null,null,null,null,null,null,null,null,null,null,null,null,null,null,null,null,null,null,null,null,null,null,null,null,null,null,null,null,null,null,null,null,null,null,null,null,null,null,null,null,null,null,null,null,null,null,null,null,null,null,null,null,null,null,null,null,null,null,null,null,null,null,null,null,null,null,null,null,null,null,null,null,null,null,null,null,null,null,null,null,null,null,null,null,null,null,null,null,null,null,null,null,null,null,null,null,null,null,null,null,null,null,null,null,null,null,null,null,null,null,null,null,null,null,null,null,null,null,null,null,null,null,null,null,null,null,null,null,null,null,null,null,null,null,null,null,null,null,null,null,null,null,null,null,null,null,null,null,"List is updated only when \"SourceRC_List\" macro is run. Macro is run manually by touching button at right or when Source report card is activated."]
[null,null,null,null,null,null,null,null,null,null,null,null,null,null,null,null,null,null,null,null,null,null,null,null,null,null,null,null,null,null,null,null,null,null,null,null,null,null,null,null,null,null,null,null,null,null,null,null,null,null,null,null,null,null,null,null,null,null,null,null,null,null,null,null,null,null,null,null,null,null,null,null,null,null,null,null,null,null,null,null,null,null,null,null,null,null,null,null,null,null,null,null,null,null,null,null,null,null,null,null,null,null,null,null,null,null,null,null,null,null,null,null,null,null,null,null,null,null,null,null,null,null,null,null,null,null,null,null,null,null,null,null,null,null,null,null,null,null,null,null,null,null,null,null,null,null,null,null,null,null,null,null,null,null,null,null,null,null,null,null,null,null,null,null,null,null,null,null,null,null,null,null,null,null,null,null,null,null,null,null,null,null,null,null,null,null,null,null,null,null,null,null,null,null,null,null,null,null,null,null,null,null,null,null,null,null,null,null,null,null,null,null,null,null,null,null,null,null,null,null,null,null,null,null,null,null,null,null,null,null,null,null,null,null,null,null,null,null,null,null,null,null,null,null,null,null,null,null,null,null,null,null,null,null,null,null,null,null,null,null,null,null,null,null,null,null,null,null,null,null,null,null,null,null,null,null,null,null,null,null,null,null,null,null,null,"Numbers indicate knowledge about the certainty of assessment: 0 = N/A, 1 = Potential Source, 2 = Suspected Source, 3 = Known Source."]
[null,null,null,null,null,null,null,null,null,null,null,null,null,null,null,null,null,null,null,null,null,null,null,null,null,null,null,null,null,null,null,null,null,null,null,null,null,null,null,null,null,null,null,null,null,null,null,null,null,null,null,null,null,null,null,null,null,null,null,null,null,null,null,null,null,null,null,null,null,null,null,null,null,null,null,null,null,null,null,null,null,null,null,null,null,null,null,null,null,null,null,null,null,null,null,null,null,null,null,null,null,null,null,null,null,null,null,null,null,null,null,null,null,null,null,null,null,null,null,null,null,null,null,null,null,null,null,null,null,null,null,null,null,null,null,null,null,null,null,null,null,null,null,null,null,null,null,null,null,null,null,null,null,null,null,null,null,null,null,null,null,null,null,null,null,null,null,null,null,null,null,null,null,null,null,null,null,null,null,null,null,null,null,null,null,null,null,null,null,null,null,null,null,null,null,null,null,null,null,null,null,null,null,null,null,null,null,null,null,null,null,null,null,null,null,null,null,null,null,null,null,null,null,null,null,null,null,null,null,null,null,null,null,null,null,null,null,null,null,null,null,null,null,null,null,null,null,null,null,null,null,null,null,null,null,null,null,null,null,null,null,null,null,null,null,null,null,null,null,null,null,null,null,null,null,null,null,null,null,null,null,null,null,null,null,"This list is then processed below to remove duplicates."]
[null,null,null,null,null,null,null,null,null,null,null,null,null,"Designate Point & Non-Point Sources",null,null,null,null,null,null,null,null,null,null,null,null,null,null,null,null,null,null,null,null,null,null,null,null,null,"Designate Point & Non-Point Sources",null,null,null,null,null,null,null,null,null,null,null,null,null,null,null,null,null,null,null,null,null,null,null,null,null,"Designate Point & Non-Point Sources",null,null,null,null,null,null,null,null,null,null,null,null,null,null,null,null,null,null,null,null,null,null,null,null,null,"Designate Point & Non-Point Sources",null,null,null,null,null,null,null,null,null,null,null,null,null,null,null,null,null,null,null,null,null,null,null,null,null,"Designate Point & Non-Point Sources",null,null,null,null,null,null,null,null,null,null,null,null,null,null,null,null,null,null,null,null,null,null,null,null,null,"Designate Point & Non-Point Sources",null,null,null,null,null,null,null,null,null,null,null,null,null,null,null,null,null,null,null,null,null,null,null,null,null,"Designate Point & Non-Point Sources",null,null,null,null,null,null,null,null,null,null,null,null,null,null,null,null,null,null,null,null,null,null,null,null,null,"Designate Point & Non-Point Sources",null,null,null,null,null,null,null,null,null,null,null,null,null,null,null,null,null,null,null,null,null,null,null,null,null,"Designate Point & Non-Point Sources",null,null,null,null,null,null,null,null,null,null,null,null,null,null,null,null,null,null,null,null,null,null,null,null,null,"Designate Point & Non-Point Sources"]
[null,null,null,null,null,null,null,null,null,null,null,null,null,null,null,null,null,null,null,null,null,null,null,"Codes selected at left are distributed according to Source Type. "]
[null,{"$f":"\"River Basin: \"&RiverBasinName","v":"River Basin: Test River Basin"},null,null,null,null,{"$f":"\"Data Year:  \"&AssessmentYear","v":"Data Year:  2011"},null,null,null,null,null,null,null,null,null,null,null,null,null,null,null,null,"Numbers indicate confidence of assessment: 0 = N/A, 1 = Potential Source, 2 = Suspected Source, 3 = Known Source.",null,null,null,null,null,null,null,null,null,null,null,null,null,null,null,null,null,null,null,null,null,null,null,null,null,null,null,null,null,null,null,null,null,null,null,null,null,null,null,null,null,null,null,null,null,null,null,null,null,null,null,null,null,null,null,null,null,null,null,null,null,null,null,null,null,null,null,null,null,null,null,null,null,null,null,null,null,null,null,null,null,null,null,null,null,null,null,null,null,null,null,null,null,null,null,null,null,null,null,null,null,null,null,null,null,null,null,null,null,null,null,null,null,null,null,null,null,null,null,null,null,null,null,null,null,null,null,null,null,null,null,null,null,null,null,null,null,null,null,null,null,null,null,null,null,null,null,null,null,null,null,null,null,null,null,null,null,null,null,null,null,null,null,null,null,null,null,null,null,null,null,null,null,null,null,null,null,null,null,null,null,null,null,null,null,null,null,null,null,null,null,null,null,null,null,null,null,null,null,null,null,null,null,null,null,null,null,null,null,null,null,null,null,null,null,null,null,null,null,null,null,null,null,null,null,null,null,null,null,null,null,null,null,null,null,null,null,null,null,null,null,null,null,null,null,null,null,null,null,null,null,null,null,null,null,null,null,null,null,null,null,null,"Municp",null,null,"Industr",null,null,"St Water",null,null,"Res Ext",null,null,"Land Dis",null,null,"Seds",null,null,"Hydro",null,null,"Other",null,null,"Unknown"]
[null,{"$f":"\"Segment Name: \"&C60","v":"Segment Name: aaaaaa"},null,null,null,null,null,null,null,null,null,null,null,null,null,null,null,null,null,null,null,null,null,"These codes are processed by \"SourceRC_List macro and transferred to Source report card."]
[null,{"$f":"\"Class: \"&C64","v":"Class: "},null,{"$f":"\"Size: \"&C63","v":"Size: "},null,null,{"$f":"\"Seg ID #: \"&C62","v":"Seg ID #: "}]
[null,"CATEGORY","INDICATOR ASSESSMENT",null,"OVERALL STATUS","DATA LEVEL","POINT","NONPOINT",null,null,null,null,null,"Point Sources",null,null,null,null,null,null,null,null,null,"Municipal",null,null,"Industrial",null,null,"Storm Water",null,null,"Resource Ext",null,null,"Land Disposal",null,null,null,"Point Sources",null,null,null,null,null,null,null,null,null,"Municipal",null,null,"Industrial",null,null,"Storm Water",null,null,"Resource Ext",null,null,"Land Disposal",null,null,null,"Point Sources",null,null,null,null,null,null,null,null,null,"Municipal",null,null,"Industrial",null,null,"Storm Water",null,null,"Resource Ext",null,null,"Land Disposal",null,null,null,"Point Sources",null,null,null,null,null,null,null,null,null,"Municipal",null,null,"Industrial",null,null,"Storm Water",null,null,"Resource Ext",null,null,"Land Disposal",null,null,null,"Point Sources",null,null,null,null,null,null,null,null,null,"Municipal",null,null,"Industrial",null,null,"Storm Water",null,null,"Resource Ext",null,null,"Land Disposal",null,null,null,"Point Sources",null,null,null,null,null,null,null,null,null,"Municipal",null,null,"Industrial",null,null,"Storm Water",null,null,"Resource Ext",null,null,"Land Disposal",null,null,null,"Point Sources",null,null,null,null,null,null,null,null,null,"Municipal",null,null,"Industrial",null,null,"Storm Water",null,null,"Resource Ext",null,null,"Land Disposal",null,null,null,"Point Sources",null,null,null,null,null,null,null,null,null,"Municipal",null,null,"Industrial",null,null,"Storm Water",null,null,"Resource Ext",null,null,"Land Disposal",null,null,null,"Point Sources",null,null,null,null,null,null,null,null,null,"Municipal",null,null,"Industrial",null,null,"Storm Water",null,null,"Resource Ext",null,null,"Land Disposal",null,null,null,"Point Sources",null,null,null,null,null,null,null,null,null,"Municipal",null,null,"Industrial",null,null,"Storm Water",null,null,"Resource Ext",null,null,"Land Disposal"]
[null,null,null,null,null,null,"Click below to select Sources"]
[null,"Biology","Plank/Peri.   A","NA","NA","NA",{"$f":"$O$15&\"  \"&$O$16&\"  \"&$O$17&\"  \"&$O$18&\"  \"&$O$19&\"  \"&$O$20","v":"          "},{"$f":"$O$28&\"  \"&$O$29&\"  \"&$O$30&\"  \"&$O$31&\"  \"&$O$32&\"  \"&$O$33","v":"          "}]
[null,null,"Macrophyton   M","NA"]
[null,null,"Invertebrates   I","NA"]
[null,null,"Fish   F","NA"]
[null,null,"Wildlife   W","NA"]
[]
[null,"Chemistry","Dis. Oxygen    DO","NA","NA","NA",{"$f":"$AO$15&\"  \"&$AO$16&\"  \"&$AO$17&\"  \"&$AO$18&\"  \"&$AO$19&\"  \"&$AO$20","v":"          "},{"$f":"$AO$28&\"  \"&$AO$29&\"  \"&$AO$30&\"  \"&$AO$31&\"  \"&$AO$32&\"  \"&$AO$33","v":"          "}]
[null,null,"pH     pH","NA"]
[null,null,"Temperature    T","NA"]
[null,null,"Ionic Strength    Z","NA"]
[null,null,"Sus. Solids    SS","NA"]
[null,null,null,null,null,null,null,null,null,null,null,null,null,"Non Point Sources",null,null,null,null,null,null,null,null,null,"Seds",null,null,"Hydromodification",null,null,"Other",null,null,"Unknown",null,null,null,null,null,null,"Non Point Sources",null,null,null,null,null,null,null,null,null,"Seds",null,null,"Hydromodification",null,null,"Other",null,null,"Unknown",null,null,null,null,null,null,"Non Point Sources",null,null,null,null,null,null,null,null,null,"Seds",null,null,"Hydromodification",null,null,"Other",null,null,"Unknown",null,null,null,null,null,null,"Non Point Sources",null,null,null,null,null,null,null,null,null,"Seds",null,null,"Hydromodification",null,null,"Other",null,null,"Unknown",null,null,null,null,null,null,"Non Point Sources",null,null,null,null,null,null,null,null,null,"Seds",null,null,"Hydromodification",null,null,"Other",null,null,"Unknown",null,null,null,null,null,null,"Non Point Sources",null,null,null,null,null,null,null,null,null,"Seds",null,null,"Hydromodification",null,null,"Other",null,null,"Unknown",null,null,null,null,null,null,"Non Point Sources",null,null,null,null,null,null,null,null,null,"Seds",null,null,"Hydromodification",null,null,"Other",null,null,"Unknown",null,null,null,null,null,null,"Non Point Sources",null,null,null,null,null,null,null,null,null,"Seds",null,null,"Hydromodification",null,null,"Other",null,null,"Unknown",null,null,null,null,null,null,"Non Point Sources",null,null,null,null,null,null,null,null,null,"Seds",null,null,"Hydromodification",null,null,"Other",null,null,"Unknown",null,null,null,null,null,null,"Non Point Sources",null,null,null,null,null,null,null,null,null,"Seds",null,null,"Hydromodification",null,null,"Other",null,null,"Unknown"]
[null,"Nutrients","Phosphorus  P","NA","NA","NA",{"$f":"$BO$15&\"  \"&$BO$16&\"  \"&$BO$17&\"  \"&$BO$18&\"  \"&$BO$19&\"  \"&$BO$20","v":"          "},{"$f":"$BO$28&\"  \"&$BO$29&\"  \"&$BO$30&\"  \"&$BO$31&\"  \"&$BO$32&\"  \"&$BO$33","v":"          "}]
[null,null,"Nitrogen   N","NA"]
[]
[null,"Toxicity","Unknown   U","NA","NA","NA",{"$f":"$CO$15&\"  \"&$CO$16&\"  \"&$CO$17&\"  \"&$CO$18&\"  \"&$CO$19&\"  \"&$CO$20","v":"          "},{"$f":"$CO$28&\"  \"&$CO$29&\"  \"&$CO$30&\"  \"&$CO$31&\"  \"&$CO$32&\"  \"&$CO$33","v":"          "}]
[null,null,{"$f":"\"Spec. Chem.  \"&CN44","v":"Spec. Chem.  Hg"},"NA"]
[null,null,null,null,null,null,null,null,null,null,null,null,null,null,null,null,null,null,null,null,null,null,null,null,null,null,null,null,null,null,null,null,null,null,null,null,null,null,null,null,null,null,null,null,null,null,null,null,null,null,null,null,null,null,null,null,null,null,null,null,null,null,null,null,null,null,null,null,null,null,null,null,null,null,null,null,null,null,null,null,null,null,null,null,null,null,null,null,null,null,null,null,null,null,null,null,null,null,null,null,null,null,null,null,null,null,null,null,null,null,null,null,null,null,null,null,null,null,null,null,null,null,null,null,null,null,null,null,null,null,null,null,null,null,null,null,null,null,null,null,null,null,null,null,null,null,null,null,null,null,null,null,null,null,null,null,null,null,null,null,null,null,null,null,null,null,null,null,null,null,null,null,null,null,null,null,null,null,null,null,null,null,null,null,null,null,null,null,null,null,null,null,null,null,null,null,null,null,null,null,null,null,null,null,null,null,null,null,null,null,null,null,null,null,null,null,null,null,null,null,null,null,null,null,null,null,null,null,null,null,null,null,null,null,null,null,null,null,null,null,null,null,null,null,null,null,null,null,null,null,null,null,null,null,null,null,null,null,null,null,null,null,null,null,null,null,null,null,null,null,null,null,null,null,null,null,null,null,null,null,null,null,null,null,null,"The colored cells below reflect this segments pollution status and are replicated on the Sources report card automatically"]
[null,"Flow","Flow  Q","NA","NA","NA",{"$f":"$DO$15&\"  \"&$DO$16&\"  \"&$DO$17&\"  \"&$DO$18&\"  \"&$DO$19&\"  \"&$DO$20","v":"          "},{"$f":"$DO$28&\"  \"&$DO$29&\"  \"&$DO$30&\"  \"&$DO$31&\"  \"&$DO$32&\"  \"&$DO$33","v":"          "},null,null,null,null,null,null,null,null,null,null,null,null,null,null,null,null,null,null,null,null,null,null,null,null,null,null,null,null,null,null,null,null,null,null,null,null,null,null,null,null,null,null,null,null,null,null,null,null,null,null,null,null,null,null,null,null,null,null,null,null,null,null,null,null,null,null,null,null,null,null,null,null,null,null,null,null,null,null,null,null,null,null,null,null,null,null,null,null,null,null,null,null,null,null,null,null,null,null,null,null,null,null,null,null,null,null,null,null,null,null,null,null,null,null,null,null,null,null,null,null,null,null,null,null,null,null,null,null,null,null,null,null,null,null,null,null,null,null,null,null,null,null,null,null,null,null,null,null,null,null,null,null,null,null,null,null,null,null,null,null,null,null,null,null,null,null,null,null,null,null,null,null,null,null,null,null,null,null,null,null,null,null,null,null,null,null,null,null,null,null,null,null,null,null,null,null,null,null,null,null,null,null,null,null,null,null,null,null,null,null,null,null,null,null,null,null,null,null,null,null,null,null,null,null,null,null,null,null,null,null,null,null,null,null,null,null,null,null,null,null,null,null,null,null,null,null,null,null,null,null,null,null,null,null,null,null,null,null,null,null,null,null,null,null,null,null,null,null,null,null,null,null,null,null,null,null,null,null,{"$f":"KA11","v":"Municp"},null,null,{"$f":"KD11","v":"Industr"},null,null,{"$f":"KG11","v":"St Water"},null,null,{"$f":"KJ11","v":"Res Ext"},null,null,{"$f":"KM11","v":"Land Dis"},null,null,{"$f":"KP11","v":"Seds"},null,null,{"$f":"KS11","v":"Hydro"},null,null,{"$f":"KV11","v":"Other"},null,null,{"$f":"KY11","v":"Unknown"}]
[null,null,null,null,null,null,null,null,null,null,null,null,null,"* designates a Suspected Source",null,null,null,null,null,null,null,null,null,null,null,null,null,null,null,null,null,null,null,null,null,null,null,null,null,"* designates a Suspected Source",null,null,null,null,null,null,null,null,null,null,null,null,null,null,null,null,null,null,null,null,null,null,null,null,null,"* designates a Suspected Source",null,null,null,null,null,null,null,null,null,null,null,null,null,null,null,null,null,null,null,null,null,null,null,null,null,"* designates a Suspected Source",null,null,null,null,null,null,null,null,null,null,null,null,null,null,null,null,null,null,null,null,null,null,null,null,null,"* designates a Suspected Source",null,null,null,null,null,null,null,null,null,null,null,null,null,null,null,null,null,null,null,null,null,null,null,null,null,"* designates a Suspected Source",null,null,null,null,null,null,null,null,null,null,null,null,null,null,null,null,null,null,null,null,null,null,null,null,null,"* designates a Suspected Source",null,null,null,null,null,null,null,null,null,null,null,null,null,null,null,null,null,null,null,null,null,null,null,null,null,"* designates a Suspected Source",null,null,null,null,null,null,null,null,null,null,null,null,null,null,null,null,null,null,null,null,null,null,null,null,null,"* designates a Suspected Source",null,null,null,null,null,null,null,null,null,null,null,null,null,null,null,null,null,null,null,null,null,null,null,null,null,"* designates a Suspected Source",null,null,null,null,null,null,null,null,null,null,null,null,null,null,null,null,null,null,null,null,null,null,null,null,null,null,null,null,null,null,null,null,null,null,null,null,null,null,{"$f":"TRIM(KA41&\" \"&KA42&\" \"&KA43&\" \"&KA44&\" \"&KA45&\" \"&KA46)","v":""},null,null,{"$f":"TRIM(KD41&\" \"&KD42&\" \"&KD43&\" \"&KD44&\" \"&KD45&\" \"&KD46)","v":""},null,null,{"$f":"TRIM(KG41&\" \"&KG42&\" \"&KG43&\" \"&KG44&\" \"&KG45&\" \"&KG46)","v":""},null,null,{"$f":"TRIM(KJ41&\" \"&KJ42&\" \"&KJ43&\" \"&KJ44&\" \"&KJ45&\" \"&KJ46)","v":""},null,null,{"$f":"TRIM(KM41&\" \"&KM42&\" \"&KM43&\" \"&KM44&\" \"&KM45&\" \"&KM46)","v":""},null,null,{"$f":"TRIM(KP41&\" \"&KP42&\" \"&KP43&\" \"&KP44&\" \"&KP45&\" \"&KP46)","v":""},null,null,{"$f":"TRIM(KS41&\" \"&KS42&\" \"&KS43&\" \"&KS44&\" \"&KS45&\" \"&KS46)","v":""},null,null,{"$f":"TRIM(KV41&\" \"&KV42&\" \"&KV43&\" \"&KV44&\" \"&KV45&\" \"&KV46)","v":""},null,null,{"$f":"TRIM(KY41&\" \"&KY42&\" \"&KY43&\" \"&KY44&\" \"&KY45&\" \"&KY46)","v":""}]
[null,"Habitat","Substrate   S","NA","NA","NA",{"$f":"$EO$15&\"  \"&$EO$16&\"  \"&$EO$17&\"  \"&$EO$18&\"  \"&$EO$19&\"  \"&$EO$20","v":"          "},{"$f":"$EO$28&\"  \"&$EO$29&\"  \"&$EO$30&\"  \"&$EO$31&\"  \"&$EO$32&\"  \"&$EO$33","v":"          "},null,null,null,null,null,"** designates a Potential Source",null,null,null,null,null,null,null,null,null,null,null,null,null,null,null,null,null,null,null,null,null,null,null,null,null,"** designates a Potential Source",null,null,null,null,null,null,null,null,null,null,null,null,null,null,null,null,null,null,null,null,null,null,null,null,null,"** designates a Potential Source",null,null,null,null,null,null,null,null,null,null,null,null,null,null,null,null,null,null,null,null,null,null,null,null,null,"** designates a Potential Source",null,null,null,null,null,null,null,null,null,null,null,null,null,null,null,null,null,null,null,null,null,null,null,null,null,"** designates a Potential Source",null,null,null,null,null,null,null,null,null,null,null,null,null,null,null,null,null,null,null,null,null,null,null,null,null,"** designates a Potential Source",null,null,null,null,null,null,null,null,null,null,null,null,null,null,null,null,null,null,null,null,null,null,null,null,null,"** designates a Potential Source",null,null,null,null,null,null,null,null,null,null,null,null,null,null,null,null,null,null,null,null,null,null,null,null,null,"** designates a Potential Source",null,null,null,null,null,null,null,null,null,null,null,null,null,null,null,null,null,null,null,null,null,null,null,null,null,"** designates a Potential Source",null,null,null,null,null,null,null,null,null,null,null,null,null,null,null,null,null,null,null,null,null,null,null,null,null,"** designates a Potential Source"]
[null,null,"Morphology   H","NA",null,null,null,null,null,null,null,null,null,"No asterisk designates a Known Source",null,null,null,null,null,null,null,null,null,null,null,null,null,null,null,null,null,null,null,null,null,null,null,null,null,"No asterisk designates a Known Source",null,null,null,null,null,null,null,null,null,null,null,null,null,null,null,null,null,null,null,null,null,null,null,null,null,"No asterisk designates a Known Source",null,null,null,null,null,null,null,null,null,null,null,null,null,null,null,null,null,null,null,null,null,null,null,null,null,"No asterisk designates a Known Source",null,null,null,null,null,null,null,null,null,null,null,null,null,null,null,null,null,null,null,null,null,null,null,null,null,"No asterisk designates a Known Source",null,null,null,null,null,null,null,null,null,null,null,null,null,null,null,null,null,null,null,null,null,null,null,null,null,"No asterisk designates a Known Source",null,null,null,null,null,null,null,null,null,null,null,null,null,null,null,null,null,null,null,null,null,null,null,null,null,"No asterisk designates a Known Source",null,null,null,null,null,null,null,null,null,null,null,null,null,null,null,null,null,null,null,null,null,null,null,null,null,"No asterisk designates a Known Source",null,null,null,null,null,null,null,null,null,null,null,null,null,null,null,null,null,null,null,null,null,null,null,null,null,"No asterisk designates a Known Source",null,null,null,null,null,null,null,null,null,null,null,null,null,null,null,null,null,null,null,null,null,null,null,null,null,"No asterisk designates a Known Source",null,null,null,null,null,null,null,null,null,null,null,null,null,null,null,null,null,null,null,null,null,null,null,null,null,null,null,null,null,null,null,null,null,null,null,null,null,"max confid #",{"$f":"MAX(KB11:KB31)","v":0},null,null,{"$f":"MAX(KE11:KE31)","v":0},null,null,{"$f":"MAX(KH11:KH31)","v":0},null,null,{"$f":"MAX(KK11:KK31)","v":0},null,null,{"$f":"MAX(KN11:KN31)","v":0},null,null,{"$f":"MAX(KQ11:KQ31)","v":0},null,null,{"$f":"MAX(KT11:KT31)","v":0},null,null,{"$f":"MAX(KW11:KW31)","v":0},null,null,{"$f":"MAX(KZ11:KZ31)","v":0}]
[null,null,"Riparian Zone   R","NA",null,null,null,null,null,null,null,null,null,"Square brackets designates an Out of Segment Source (i.e., pollutant is a source for downstream segments)",null,null,null,null,null,null,null,null,null,null,null,null,null,null,null,null,null,null,null,null,null,null,null,null,null,"Square brackets designates an Out of Segment Source (i.e., pollutant is a source for downstream segments)",null,null,null,null,null,null,null,null,null,null,null,null,null,null,null,null,null,null,null,null,null,null,null,null,null,"Square brackets designates an Out of Segment Source (i.e., pollutant is a source for downstream segments)",null,null,null,null,null,null,null,null,null,null,null,null,null,null,null,null,null,null,null,null,null,null,null,null,null,"Square brackets designates an Out of Segment Source (i.e., pollutant is a source for downstream segments)",null,null,null,null,null,null,null,null,null,null,null,null,null,null,null,null,null,null,null,null,null,null,null,null,null,"Square brackets designates an Out of Segment Source (i.e., pollutant is a source for downstream segments)",null,null,null,null,null,null,null,null,null,null,null,null,null,null,null,null,null,null,null,null,null,null,null,null,null,"Square brackets designates an Out of Segment Source (i.e., pollutant is a source for downstream segments)",null,null,null,null,null,null,null,null,null,null,null,null,null,null,null,null,null,null,null,null,null,null,null,null,null,"Square brackets designates an Out of Segment Source (i.e., pollutant is a source for downstream segments)",null,null,null,null,null,null,null,null,null,null,null,null,null,null,null,null,null,null,null,null,null,null,null,null,null,"Square brackets designates an Out of Segment Source (i.e., pollutant is a source for downstream segments)",null,null,null,null,null,null,null,null,null,null,null,null,null,null,null,null,null,null,null,null,null,null,null,null,null,"Square brackets designates an Out of Segment Source (i.e., pollutant is a source for downstream segments)",null,null,null,null,null,null,null,null,null,null,null,null,null,null,null,null,null,null,null,null,null,null,null,null,null,"Square brackets designates an Out of Segment Source (i.e., pollutant is a source for downstream segments)",null,null,null,null,null,null,null,null,null,null,null,null,null,null,null,null,null,null,null,null,null,null,null,null,null,null,null,null,null,null,null,null,null,null,null,null,null,"The lists below show unique codes in lists assembled above. Numbers are max confidence #, used to color cells for worst case. The codes are catenated in the colored boxes above for transfer to Sources RC when that sheet is activated."]
[]
[null,"Bacteria","Bacteria   B","NA","NA","NA",{"$f":"$FO$15&\"  \"&$FO$16&\"  \"&$FO$17&\"  \"&$FO$18&\"  \"&$FO$19&\"  \"&$FO$20","v":"          "},{"$f":"$FO$28&\"  \"&$FO$29&\"  \"&$FO$30&\"  \"&$FO$31&\"  \"&$FO$32&\"  \"&$FO$33","v":"          "},null,null,null,null,null,null,null,null,null,null,null,null,null,null,null,null,null,null,null,null,null,null,null,null,null,null,null,null,null,null,null,null,null,null,null,null,null,null,null,null,null,null,null,null,null,null,null,null,null,null,null,null,null,null,null,null,null,null,null,null,null,null,null,null,null,null,null,null,null,null,null,null,null,null,null,null,null,null,null,null,null,null,null,null,null,null,null,null,null,null,null,null,null,null,null,null,null,null,null,null,null,null,null,null,null,null,null,null,null,null,null,null,null,null,null,null,null,null,null,null,null,null,null,null,null,null,null,null,null,null,null,null,null,null,null,null,null,null,null,null,null,null,null,null,null,null,null,null,null,null,null,null,null,null,null,null,null,null,null,null,null,null,null,null,null,null,null,null,null,null,null,null,null,null,null,null,null,null,null,null,null,null,null,null,null,null,null,null,null,null,null,null,null,null,null,null,null,null,null,null,null,null,null,null,null,null,null,null,null,null,null,null,null,null,null,null,null,null,null,null,null,null,null,null,null,null,null,null,null,null,null,null,null,null,null,null,null,null,null,null,null,null,null,null,null,null,null,null,null,null,null,null,null,null,null,null,null,null,null,null,null,null,null,null,null,null,null,null,null,null,null,null,null,null,null,null,null,null,"Municp",null,null,"Industr",null,null,"St Water",null,null,"Res Ext",null,null,"Land Dis",null,null,"Seds",null,null,"Hydro",null,null,"Other",null,null,"Unknown"]
[]
[null,"Aesthetics","Oil & Grease   G","NA","NA","NA",{"$f":"$GO$15&\"  \"&$GO$16&\"  \"&$GO$17&\"  \"&$GO$18&\"  \"&$GO$19&\"  \"&$GO$20","v":"          "},{"$f":"$GO$28&\"  \"&$GO$29&\"  \"&$GO$30&\"  \"&$GO$31&\"  \"&$GO$32&\"  \"&$GO$33","v":"          "},null,null,null,null,null,null,null,null,null,null,null,null,null,null,null,null,null,null,null,null,null,null,null,null,null,null,null,null,null,null,null,null,null,null,null,null,null,null,null,null,null,null,null,null,null,null,null,null,null,null,null,null,null,null,null,null,null,null,null,null,null,null,null,null,null,null,null,null,null,null,null,null,null,null,null,null,null,null,null,null,null,null,null,"Identify the suspected toxic chemical substance below (e.g., Hg, PCB, etc). ",null,null,null,null,null,null,null,null,null,null,null,null,null,null,null,null,null,null,null,null,null,null,null,null,null,null,null,null,null,null,null,null,null,null,null,null,null,null,null,null,null,null,null,null,null,null,null,null,null,null,null,null,null,null,null,null,null,null,null,null,null,null,null,null,null,null,null,null,null,null,null,null,null,null,null,null,null,null,null,null,null,null,null,null,null,null,null,null,null,null,null,null,null,null,null,null,null,null,null,null,null,null,null,null,null,null,null,null,null,null,null,null,null,null,null,null,null,null,null,null,null,null,null,null,null,null,null,null,null,null,null,null,null,null,null,null,null,null,null,null,null,null,null,null,null,null,null,null,null,null,null,null,null,null,null,"Identify the suspected toxic chemical substance below (e.g., Hg, PCB, etc). "]
[null,null,"Taste & Odor   O","NA",null,null,null,null,null,null,null,null,null,null,"Pollution  Indicators (Causes):  ",null,{"$f":"P46&\" \"&P47&\" \"&P48&\" \"&P49&\" \"&P50&\" \"&P51","v":"     "},null,null,null,null,null,null,null,null,null,null,null,null,null,null,null,null,null,null,null,null,null,null,null,"Pollution  Indicators (Causes):  ",null,{"$f":"AP46&\" \"&AP47&\" \"&AP48&\" \"&AP49&\" \"&AP50&\" \"&AP51","v":"     "},null,null,null,null,null,null,null,null,null,null,null,null,null,null,null,null,null,null,null,null,null,null,null,"Pollution  Indicators (Causes):  ",null,{"$f":"BP46&\" \"&BP47&\" \"&BP48","v":"  "},null,null,null,null,null,null,null,null,null,null,null,null,null,null,null,null,null,null,null,null,null,null,null,null,null,null,null,null,null,null,null,null,null,null,null,null,null,null,null,null,null,null,null,null,null,null,null,null,null,"Pollution  Indicators (Causes):  ",null,{"$f":"DP46&\" \"&DP47","v":" "},null,null,null,null,null,null,null,null,null,null,null,null,null,null,null,null,null,null,null,null,null,null,null,"Pollution  Indicators (Causes):  ",null,{"$f":"EP46&\" \"&EP47&\" \"&EP48&\" \"&EP49","v":"   "},null,null,null,null,null,null,null,null,null,null,null,null,null,null,null,null,null,null,null,null,null,null,null,"Pollution  Indicators (Causes):  ",null,{"$f":"FP46&\" \"&FP47","v":" "},null,null,null,null,null,null,null,null,null,null,null,null,null,null,null,null,null,null,null,null,null,null,null,"Pollution  Indicators (Causes):  ",null,{"$f":"GP46&\" \"&GP47&\" \"&GP48&\" \"&GP49&\" \"&GP50&\" \"&GP51","v":"     "},null,null,null,null,null,null,null,null,null,null,null,null,null,null,null,null,null,null,null,null,null,null,"Identify the suspected toxic chemical substance below (e.g., Hg, PCB, etc). "]
[null,null,"Turb/Color   C","NA",null,null,null,null,null,null,null,null,null,null,null,null,null,null,null,null,null,null,null,null,null,null,null,null,null,null,null,null,null,null,null,null,null,null,null,null,null,null,null,null,null,null,null,null,null,null,null,null,null,null,null,null,null,null,null,null,null,null,null,null,null,null,null,null,null,null,null,null,null,null,null,null,null,null,null,null,null,null,null,null,null,null,null,null,null,null,null,"Hg",null,null,null,null,null,null,null,null,null,null,null,null,null,null,null,null,null,null,null,null,null,null,null,null,null,null,null,null,null,null,null,null,null,null,null,null,null,null,null,null,null,null,null,null,null,null,null,null,null,null,null,null,null,null,null,null,null,null,null,null,null,null,null,null,null,null,null,null,null,null,null,null,null,null,null,null,null,null,null,null,null,null,null,null,null,null,null,null,null,null,null,null,null,null,null,null,null,null,null,null,null,null,null,null,null,null,null,null,null,null,null,null,null,null,null,null,null,null,null,null,null,null,null,null,null,null,null,null,null,null,null,null,null,null,null,null,null,null,null,null,null,null,null,null,null,null,null,null,null,null,null,null,null,null,null,"PCB"]
[null,null,"Nuisance Plants   V","NA",null,null,null,null,null,null,null,null,null,null,{"$f":"$B$16","v":"Biology"},null,null,null,null,null,null,null,null,null,null,null,null,null,null,null,null,null,null,null,null,null,null,null,null,null,{"$f":"$B$22","v":"Chemistry"},null,null,null,null,null,null,null,null,null,null,null,null,null,null,null,null,null,null,null,null,null,null,null,null,null,{"$f":"$B$28","v":"Nutrients"},null,null,null,null,null,null,null,null,null,null,null,null,null,null,null,null,null,null,null,null,null,null,null,null,null,null,null,null,null,null,null,null,null,null,null,null,null,null,null,null,null,null,null,null,null,null,null,null,null,null,null,{"$f":"$B$34","v":"Flow"},null,null,null,null,null,null,null,null,null,null,null,null,null,null,null,null,null,null,null,null,null,null,null,null,null,{"$f":"$B$36","v":"Habitat"},null,null,null,null,null,null,null,null,null,null,null,null,null,null,null,null,null,null,null,null,null,null,null,null,null,{"$f":"$B$40","v":"Bacteria"},null,null,null,null,null,null,null,null,null,null,null,null,null,null,null,null,null,null,null,null,null,null,null,null,null,{"$f":"$B$42","v":"Aesthetics"},null,null,null,null,null,null,null,null,null,null,null,null,null,null,null,null,null,null,null,null,null,null,null,null,"DDT"]
[null,null,"Trash /Debris   D","NA",null,null,null,null,null,null,null,null,null,null,{"$f":"$C$16","v":"Plank/Peri.   A"},{"$f":"IF($D$16=\"Concern\",\"(A)\",IF(OR($D$16=\"Fair\",$D$16=\"Poor\"),\"A\",\"\"))","v":""},null,null,null,null,null,null,null,null,null,null,null,null,null,null,null,null,null,null,null,null,null,null,null,null,{"$f":"$C$22","v":"Dis. Oxygen    DO"},{"$f":"IF($D$22=\"Concern\",\"(DO)\",IF(OR($D$22=\"Fair\",$D$22=\"Poor\"),\"DO\",\"\"))","v":""},null,null,null,null,null,null,null,null,null,null,null,null,null,null,null,null,null,null,null,null,null,null,null,null,{"$f":"$C$28","v":"Phosphorus  P"},{"$f":"IF($D$28=\"Concern\",\"(P)\",IF(OR($D$28=\"Fair\",$D$28=\"Poor\"),\"P\",\"\"))","v":""},null,null,null,null,null,null,null,null,null,null,null,null,null,null,null,null,null,null,null,null,null,null,null,null,null,null,null,null,null,null,null,null,null,null,null,null,null,null,null,null,null,null,null,null,null,null,null,null,null,null,{"$f":"$C$34","v":"Flow  Q"},{"$f":"IF($D$34=\"Concern\",\"(O)\",IF(OR($D$34=\"Fair\",$D$34=\"Poor\"),\"O\",\"\"))","v":""},null,null,null,null,null,null,null,null,null,null,null,null,null,null,null,null,null,null,null,null,null,null,null,null,{"$f":"$C$36","v":"Substrate   S"},{"$f":"IF($D$36=\"Concern\",\"(S)\",IF(OR($D$36=\"Fair\",$D$36=\"Poor\"),\"S\",\"\"))","v":""},null,null,null,null,null,null,null,null,null,null,null,null,null,null,null,null,null,null,null,null,null,null,null,null,{"$f":"$C$40","v":"Bacteria   B"},{"$f":"IF($D$40=\"Concern\",\"(B)\",IF(OR($D$40=\"Fair\",$D$40=\"Poor\"),\"B\",\"\"))","v":""},null,null,null,null,null,null,null,null,null,null,null,null,null,null,null,null,null,null,null,null,null,null,null,null,{"$f":"$C$42","v":"Oil & Grease   G"},{"$f":"IF($D$42=\"Concern\",\"(G)\",IF(OR($D$42=\"Fair\",$D$42=\"Poor\"),\"G\",\"\"))","v":""}]
[null,null,null,null,null,null,null,null,null,null,null,null,null,null,{"$f":"$C$17","v":"Macrophyton   M"},{"$f":"IF($D$17=\"Concern\",\"(M)\",IF(OR($D$17=\"Fair\",$D$17=\"Poor\"),\"M\",\"\"))","v":""},null,null,null,null,null,null,null,null,null,null,null,null,null,null,null,null,null,null,null,null,null,null,null,null,{"$f":"$C$23","v":"pH     pH"},{"$f":"IF($D$23=\"Concern\",\"(pH)\",IF(OR($D$23=\"Fair\",$D$23=\"Poor\"),\"pH\",\"\"))","v":""},null,null,null,null,null,null,null,null,null,null,null,null,null,null,null,null,null,null,null,null,null,null,null,null,{"$f":"$C$29","v":"Nitrogen   N"},{"$f":"IF($D$29=\"Concern\",\"(N)\",IF(OR($D$29=\"Fair\",$D$29=\"Poor\"),\"N\",\"\"))","v":""},null,null,null,null,null,null,null,null,null,null,null,null,null,null,null,null,null,null,null,null,null,null,null,null,null,null,null,null,null,null,null,null,null,null,null,null,null,null,null,null,null,null,null,null,null,null,null,null,null,null,{"$f":"IF($C$41=\"\",\"\",$C$41)","v":""},{"$f":"IF($D$35=\"Concern\",\"(**)\",IF(OR($D$35=\"Fair\",$D$35=\"Poor\"),\"**\",\"\"))","v":""},null,null,null,null,null,null,null,null,null,null,null,null,null,null,null,null,null,null,null,null,null,null,null,null,{"$f":"$C$37","v":"Morphology   H"},{"$f":"IF($D$37=\"Concern\",\"(H)\",IF(OR($D$37=\"Fair\",$D$37=\"Poor\"),\"H\",\"\"))","v":""},null,null,null,null,null,null,null,null,null,null,null,null,null,null,null,null,null,null,null,null,null,null,null,null,{"$f":"IF($C$41=\"\",\"\",$C$41)","v":""},{"$f":"IF($D$41=\"Concern\",\"(**)\",IF(OR($D$41=\"Fair\",$D$41=\"Poor\"),\"**\",\"\"))","v":""},null,null,null,null,null,null,null,null,null,null,null,null,null,null,null,null,null,null,null,null,null,null,null,null,{"$f":"$C$43","v":"Taste & Odor   O"},{"$f":"IF($D$43=\"Concern\",\"(O)\",IF(OR($D$43=\"Fair\",$D$43=\"Poor\"),\"O\",\"\"))","v":""}]
[null,"Tissue",{"$f":"\"Spec. Chem.   \"&HN45","v":"Spec. Chem.   DDT"},"NA","NA","NA",{"$f":"$HO$15&\"  \"&$HO$16&\"  \"&$HO$17&\"  \"&$HO$18&\"  \"&$HO$19&\"  \"&$HO$20","v":"          "},{"$f":"$HO$28&\"  \"&$HO$29&\"  \"&$HO$30&\"  \"&$HO$31&\"  \"&$HO$32&\"  \"&$HO$33","v":"          "},null,null,null,null,null,null,{"$f":"$C$18","v":"Invertebrates   I"},{"$f":"IF($D$18=\"Concern\",\"(I)\",IF(OR($D$18=\"Fair\",$D$18=\"Poor\"),\"I\",\"\"))","v":""},null,null,null,null,null,null,null,null,null,null,null,null,null,null,null,null,null,null,null,null,null,null,null,null,{"$f":"$C$24","v":"Temperature    T"},{"$f":"IF($D$24=\"Concern\",\"(T)\",IF(OR($D$24=\"Fair\",$D$24=\"Poor\"),\"T\",\"\"))","v":""},null,null,null,null,null,null,null,null,null,null,null,null,null,null,null,null,null,null,null,null,null,null,null,null,{"$f":"IF($C$30=\"\",\"\",$C$30)","v":""},{"$f":"IF($D$30=\"Concern\",\"(**)\",IF(OR($D$30=\"Fair\",$D$30=\"Poor\"),\"**\",\"\"))","v":""},null,null,null,null,null,null,null,null,null,null,null,null,null,null,null,null,null,null,null,null,null,null,null,null,null,null,null,null,null,null,null,null,null,null,null,null,null,null,null,null,null,null,null,null,null,null,null,null,null,null,null,null,null,null,null,null,null,null,null,null,null,null,null,null,null,null,null,null,null,null,null,null,null,null,null,null,{"$f":"$C$38","v":"Riparian Zone   R"},{"$f":"IF($D$38=\"Concern\",\"(R)\",IF(OR($D$38=\"Fair\",$D$38=\"Poor\"),\"R\",\"\"))","v":""},null,null,null,null,null,null,null,null,null,null,null,null,null,null,null,null,null,null,null,null,null,null,null,null,null,null,null,null,null,null,null,null,null,null,null,null,null,null,null,null,null,null,null,null,null,null,null,null,null,null,{"$f":"$C$44","v":"Turb/Color   C"},{"$f":"IF($D$44=\"Concern\",\"(C)\",IF(OR($D$44=\"Fair\",$D$44=\"Poor\"),\"C\",\"\"))","v":""}]
[null,null,null,null,null,null,null,null,null,null,null,null,null,null,{"$f":"$C$19","v":"Fish   F"},{"$f":"IF($D$19=\"Concern\",\"(F)\",IF(OR($D$19=\"Fair\",$D$19=\"Poor\"),\"F\",\"\"))","v":""},null,null,null,null,null,null,null,null,null,null,null,null,null,null,null,null,null,null,null,null,null,null,null,null,{"$f":"$C$25","v":"Ionic Strength    Z"},{"$f":"IF($D$25=\"Concern\",\"(Z)\",IF(OR($D$25=\"Fair\",$D$25=\"Poor\"),\"Z\",\"\"))","v":""},null,null,null,null,null,null,null,null,null,null,null,null,null,null,null,null,null,null,null,null,null,null,null,null,null,null,null,null,null,null,null,null,null,null,null,null,null,null,null,null,null,null,null,null,null,null,null,null,null,null,"Pollution  Indicators (Causes):  ",null,{"$f":"CP52&\" \"&CP53&\" \"&CP54","v":"  "},null,null,null,null,null,null,null,null,null,null,null,null,null,null,null,null,null,null,null,null,null,null,null,null,null,null,null,null,null,null,null,null,null,null,null,null,null,null,null,null,null,null,null,null,null,null,null,null,null,{"$f":"IF($C$39=\"\",\"\",$C$39)","v":""},{"$f":"IF($D$39=\"Concern\",\"(**)\",IF(OR($D$39=\"Fair\",$D$39=\"Poor\"),\"**\",\"\"))","v":""},null,null,null,null,null,null,null,null,null,null,null,null,null,null,null,null,null,null,null,null,null,null,null,null,null,null,null,null,null,null,null,null,null,null,null,null,null,null,null,null,null,null,null,null,null,null,null,null,null,null,{"$f":"$C$45","v":"Nuisance Plants   V"},{"$f":"IF($D$45=\"Concern\",\"(V)\",IF(OR($D$45=\"Fair\",$D$45=\"Poor\"),\"V\",\"\"))","v":""},null,null,null,null,null,null,null,null,null,null,null,null,null,null,null,null,null,null,null,null,null,null,null,null,null,null,null,null,null,null,null,null,null,null,null,null,null,null,null,null,null,null,null,null,null,null,null,null,null,null,"Pollution  Indicators (Causes):  ",null,{"$f":"IP52&\" \"&IP53&\" \"&IP54","v":"  "}]
[null,"Sediment","Unknown   U","NA","NA","NA",{"$f":"$IO$15&\"  \"&$IO$16&\"  \"&$IO$17&\"  \"&$IO$18&\"  \"&$IO$19&\"  \"&$IO$20","v":"          "},{"$f":"$IO$28&\"  \"&$IO$29&\"  \"&$IO$30&\"  \"&$IO$31&\"  \"&$IO$32&\"  \"&$IO$33","v":"          "},null,null,null,null,null,null,{"$f":"$C$20","v":"Wildlife   W"},{"$f":"IF($D$20=\"Concern\",\"(W)\",IF(OR($D$20=\"Fair\",$D$20=\"Poor\"),\"W\",\"\"))","v":""},null,null,null,null,null,null,null,null,null,null,null,null,null,null,null,null,null,null,null,null,null,null,null,null,{"$f":"$C$26","v":"Sus. Solids    SS"},{"$f":"IF($D$26=\"Concern\",\"(SS)\",IF(OR($D$26=\"Fair\",$D$26=\"Poor\"),\"SS\",\"\"))","v":""},null,null,null,null,null,null,null,null,null,null,null,null,null,null,null,null,null,null,null,null,null,null,null,null,null,null,null,null,null,null,null,null,null,null,null,null,null,null,null,null,null,null,null,null,null,null,null,null,null,null,null,null,null,null,null,null,null,null,null,null,null,null,null,null,null,null,null,null,null,null,null,null,null,null,null,null,null,null,null,null,null,null,null,null,null,null,null,null,null,null,null,null,null,null,null,null,null,null,null,null,null,null,null,null,null,null,null,null,null,null,null,null,null,null,null,null,null,null,null,null,null,null,null,null,null,null,null,null,null,null,null,null,null,null,null,null,null,null,null,null,null,null,null,null,null,null,null,null,null,null,null,null,null,null,{"$f":"$C$46","v":"Trash /Debris   D"},{"$f":"IF($D$46=\"Concern\",\"(D)\",IF(OR($D$46=\"Fair\",$D$46=\"Poor\"),\"D\",\"\"))","v":""},null,null,null,null,null,null,null,null,null,null,null,null,null,null,null,null,null,null,null,null,null,null,null,null,"Pollution  Indicators (Causes):  ",null,{"$f":"HP53&\" \"&HP54","v":" "}]
[null,null,{"$f":"\"Spec. Chem.   \"&IN44","v":"Spec. Chem.   PCB"},"NA",null,null,null,null,null,null,null,null,null,null,{"$f":"IF($C$21=\"\",\"\",$C$21)","v":""},{"$f":"IF($D$21=\"Concern\",\"(**)\",IF(OR($D$21=\"Fair\",$D$21=\"Poor\"),\"**\",\"\"))","v":""},null,null,null,null,null,null,null,null,null,null,null,null,null,null,null,null,null,null,null,null,null,null,null,null,{"$f":"IF($C$27=\"\",\"\",$C$27)","v":""},{"$f":"IF($D$27=\"Concern\",\"(**)\",IF(OR($D$27=\"Fair\",$D$27=\"Poor\"),\"**\",\"\"))","v":""},{"$f":"IF($D$27=\"Concern\",\"(**)\",IF(OR($D$27=\"Fair\",$D$27=\"Poor\"),\"**\",\"\"))","v":""},null,null,null,null,null,null,null,null,null,null,null,null,null,null,null,null,null,null,null,null,null,null,null,null,null,null,null,null,null,null,null,null,null,null,null,null,null,null,null,null,null,null,null,null,null,null,null,null,null,{"$f":"$B$31","v":"Toxicity"},null,null,null,null,null,null,null,null,null,null,null,null,null,null,null,null,null,null,null,null,null,null,null,null,null,null,null,null,null,null,null,null,null,null,null,null,null,null,null,null,null,null,null,null,null,null,null,null,null,null,null,null,null,null,null,null,null,null,null,null,null,null,null,null,null,null,null,null,null,null,null,null,null,null,null,null,null,null,null,null,null,null,null,null,null,null,null,null,null,null,null,null,null,null,null,null,null,null,null,null,null,null,null,{"$f":"IF($C$47=\"\",\"\",$C$47)","v":""},{"$f":"IF($D$47=\"Concern\",\"(**)\",IF(OR($D$47=\"Fair\",$D$47=\"Poor\"),\"**\",\"\"))","v":""},null,null,null,null,null,null,null,null,null,null,null,null,null,null,null,null,null,null,null,null,null,null,null,null,null,null,null,null,null,null,null,null,null,null,null,null,null,null,null,null,null,null,null,null,null,null,null,null,null,null,{"$f":"$B$50","v":"Sediment"}]
[null,null,null,null,null,null,null,null,null,null,null,null,null,null,null,null,null,null,null,null,null,null,null,null,null,null,null,null,null,null,null,null,null,null,null,null,null,null,null,null,null,null,null,null,null,null,null,null,null,null,null,null,null,null,null,null,null,null,null,null,null,null,null,null,null,null,null,null,null,null,null,null,null,null,null,null,null,null,null,null,null,null,null,null,null,null,null,null,null,null,null,null,{"$f":"$C$31","v":"Unknown   U"},{"$f":"IF($D$31=\"Concern\",\"(U)\",IF(OR($D$31=\"Fair\",$D$31=\"Poor\"),\"U\",\"\"))","v":""},null,null,null,null,null,null,null,null,null,null,null,null,null,null,null,null,null,null,null,null,null,null,null,null,null,null,null,null,null,null,null,null,null,null,null,null,null,null,null,null,null,null,null,null,null,null,null,null,null,null,null,null,null,null,null,null,null,null,null,null,null,null,null,null,null,null,null,null,null,null,null,null,null,null,null,null,null,null,null,null,null,null,null,null,null,null,null,null,null,null,null,null,null,null,null,null,null,null,null,null,null,null,null,null,null,null,null,null,null,null,null,null,null,null,null,null,null,null,null,null,null,null,null,null,null,null,null,null,{"$f":"$B$48","v":"Tissue"},null,null,null,null,null,null,null,null,null,null,null,null,null,null,null,null,null,null,null,null,null,null,null,null,null,{"$f":"$C$50","v":"Unknown   U"},{"$f":"IF($D$50=\"Concern\",\"(U)\",IF(OR($D$50=\"Fair\",$D$50=\"Poor\"),\"U\",\"\"))","v":""}]
[null,"Comments:",null,null,null,null,null,"*  Suspected Source  ",null,null,null,null,null,null,null,null,null,null,null,null,null,null,null,null,null,null,null,null,null,null,null,null,null,null,null,null,null,null,null,null,null,null,null,null,null,null,null,null,null,null,null,null,null,null,null,null,null,null,null,null,null,null,null,null,null,null,null,null,null,null,null,null,null,null,null,null,null,null,null,null,null,null,null,null,null,null,null,null,null,null,null,null,{"$f":"$C$32","v":"Spec. Chem.  Hg"},{"$f":"IF($D$32=\"Concern\",\"(\"&CN44&\")\",IF(OR($D$32=\"Fair\",$D$32=\"Poor\"),CN44,\"\"))","v":""},null,null,null,null,null,null,null,null,null,null,null,null,null,null,null,null,null,null,null,null,null,null,null,null,null,null,null,null,null,null,null,null,null,null,null,null,null,null,null,null,null,null,null,null,null,null,null,null,null,null,null,null,null,null,null,null,null,null,null,null,null,null,null,null,null,null,null,null,null,null,null,null,null,null,null,null,null,null,null,null,null,null,null,null,null,null,null,null,null,null,null,null,null,null,null,null,null,null,null,null,null,null,null,null,null,null,null,null,null,null,null,null,null,null,null,null,null,null,null,null,null,null,null,null,null,null,null,null,{"$f":"$C$48","v":"Spec. Chem.   DDT"},{"$f":"IF($D$48=\"Concern\",\"(\"&HN45&\")\",IF(OR($D$48=\"Fair\",$D$32=\"Poor\"),HN45,\"\"))","v":""},null,null,null,null,null,null,null,null,null,null,null,null,null,null,null,null,null,null,null,null,null,null,null,null,{"$f":"$C$51","v":"Spec. Chem.   PCB"},{"$f":"IF($D$51=\"Concern\",\"(\"&IN44&\")\",IF(OR($D$51=\"Fair\",$D$51=\"Poor\"),IN44,\"\"))","v":""}]
[null,null,null,null,null,null,null,"** Potential Source  ",null,null,null,null,null,null,null,null,null,null,null,null,null,null,null,null,null,null,null,null,null,null,null,null,null,null,null,null,null,null,null,null,null,null,null,null,null,null,null,null,null,null,null,null,null,null,null,null,null,null,null,null,null,null,null,null,null,null,null,null,null,null,null,null,null,null,null,null,null,null,null,null,null,null,null,null,null,null,null,null,null,null,null,null,{"$f":"IF($C$33=\"\",\"\",$C$33)","v":""},{"$f":"IF($D$33=\"Concern\",\"(**)\",IF(OR($D$33=\"Fair\",$D$33=\"Poor\"),\"**\",\"\"))","v":""},null,null,null,null,null,null,null,null,null,null,null,null,null,null,null,null,null,null,null,null,null,null,null,null,null,null,null,null,null,null,null,null,null,null,null,null,null,null,null,null,null,null,null,null,null,null,null,null,null,null,null,null,null,null,null,null,null,null,null,null,null,null,null,null,null,null,null,null,null,null,null,null,null,null,null,null,null,null,null,null,null,null,null,null,null,null,null,null,null,null,null,null,null,null,null,null,null,null,null,null,null,null,null,null,null,null,null,null,null,null,null,null,null,null,null,null,null,null,null,null,null,null,null,null,null,null,null,null,{"$f":"IF($C$49=\"\",\"\",$C$49)","v":""},{"$f":"IF($D$49=\"Concern\",\"(**)\",IF(OR($D$49=\"Fair\",$D$49=\"Poor\"),\"**\",\"\"))","v":""},null,null,null,null,null,null,null,null,null,null,null,null,null,null,null,null,null,null,null,null,null,null,null,null,{"$f":"IF($C$52=\"\",\"\",$C$52)","v":""},{"$f":"IF($D$52=\"Concern\",\"(**)\",IF(OR($D$52=\"Fair\",$D$52=\"Poor\"),\"**\",\"\"))","v":""}]
[null,null,null,null,null,null,null,"No asterisk: Known Source  "]
[null,null,null,null,null,null,null,"[Out of Segment Source ]  "]
[]
[]
[]
[null,"SegNameLong:  ","aaaaaa"]
[null,"Seg Name:  ","aaa"]
[null,"Seg Num:  "]
[null,"Seg Size:  "]
[null,"Seg Class:  "]
[]
[]
[]
[]
[]
[]
[]
[]
[]
[]
[]
[]
[null,null,null,{"$f":"A99","v":""}]
[null,null,null,{"$f":"B99","v":""}]
[null,null,null,{"$f":"C99","v":""}]
[null,null,null,{"$f":"D99","v":""}]
[null,null,null,{"$f":"E99","v":""}]
[null,null,null,{"$f":"F99","v":""}]
[null,null,null,{"$f":"G99","v":""}]
[null,null,null,{"$f":"H99","v":""}]
[null,null,null,{"$f":"I99","v":""}]
[]
[]
[]
[]
[]
[]
[]
[]
[]
[]
[]
[]
[]
[{"$f":"TRIM(A101&\" \"&A102&\" \"&A103&\" \"&A104&\" \"&A105&\" \"&A106)","v":""},{"$f":"TRIM(B101&\" \"&B102&\" \"&B103&\" \"&B104&\" \"&B105&\" \"&B106)","v":""},"","","","","","",""]

{"sheet":"Seg2","index":6,"n_rows":99,"n_cols":311,"rows_kept":99,"cut":false,"hidden":false,"merged":[[15,1,20,1],[15,4,20,4],[15,5,20,5],[15,6,20,6],[15,7,20,7],[13,1,14,1],[13,2,14,3],[13,4,14,4],[13,5,14,5],[14,6,14,7],[27,1,29,1],[27,4,29,4],[27,5,29,5],[27,6,29,6],[27,7,29,7],[21,1,26,1],[21,4,26,4],[21,5,26,5],[21,6,26,6],[21,7,26,7],[49,6,51,6],[49,7,51,7],[30,1,32,1],[30,4,32,4],[30,5,32,5],[30,6,32,6],[30,7,32,7],[33,1,34,1],[33,4,34,4],[33,5,34,5],[33,6,34,6],[33,7,34,7],[43,91,45,94],[35,1,38,1],[35,4,38,4],[35,5,38,5],[35,6,38,6],[35,7,38,7],[39,1,40,1],[39,4,40,4],[39,5,40,5],[39,6,40,6],[39,7,40,7],[52,1,55,1],[43,247,45,250],[44,221,46,224],[47,1,48,1],[47,4,48,4],[47,5,48,5],[47,6,48,6],[47,7,48,7],[41,1,46,1],[41,4,46,4],[41,5,46,5],[41,6,46,6],[41,7,46,7],[49,1,51,1],[49,4,51,4],[49,5,51,5]]}
[]
[]
[]
[]
[null,null,null,null,null,null,null,null,null,null,null,null,null,null,null,null,null,null,null,null,null,null,null,null,null,null,null,null,null,null,null,null,null,null,null,null,null,null,null,null,null,null,null,null,null,null,null,null,null,null,null,null,null,null,null,null,null,null,null,null,null,null,null,null,null,null,null,null,null,null,null,null,null,null,null,null,null,null,null,null,null,null,null,null,null,null,null,null,null,null,null,null,null,null,null,null,null,null,null,null,null,null,null,null,null,null,null,null,null,null,null,null,null,null,null,null,null,null,null,null,null,null,null,null,null,null,null,null,null,null,null,null,null,null,null,null,null,null,null,null,null,null,null,null,null,null,null,null,null,null,null,null,null,null,null,null,null,null,null,null,null,null,null,null,null,null,null,null,null,null,null,null,null,null,null,null,null,null,null,null,null,null,null,null,null,null,null,null,null,null,null,null,null,null,null,null,null,null,null,null,null,null,null,null,null,null,null,null,null,null,null,null,null,null,null,null,null,null,null,null,null,null,null,null,null,null,null,null,null,null,null,null,null,null,null,null,null,null,null,null,null,null,null,null,null,null,null,null,null,null,null,null,null,null,null,null,null,null,null,null,null,null,null,null,null,null,null,null,null,null,null,null,null,null,null,null,null,null,null,null,null,null,null,null,null,"List of all codes from all groups for this segment, organized by Source Type. "]
[null,null,null,null,null,null,null,null,null,null,null,null,null,null,null,null,null,null,null,null,null,null,null,null,null,null,null,null,null,null,null,null,null,null,null,null,null,null,null,null,null,null,null,null,null,null,null,null,null,null,null,null,null,null,null,null,null,null,null,null,null,null,null,null,null,null,null,null,null,null,null,null,null,null,null,null,null,null,null,null,null,null,null,null,null,null,null,null,null,null,null,null,null,null,null,null,null,null,null,null,null,null,null,null,null,null,null,null,null,null,null,null,null,null,null,null,null,null,null,null,null,null,null,null,null,null,null,null,null,null,null,null,null,null,null,null,null,null,null,null,null,null,null,null,null,null,null,null,null,null,null,null,null,null,null,null,null,null,null,null,null,null,null,null,null,null,null,null,null,null,null,null,null,null,null,null,null,null,null,null,null,null,null,null,null,null,null,null,null,null,null,null,null,null,null,null,null,null,null,null,null,null,null,null,null,null,null,null,null,null,null,null,null,null,null,null,null,null,null,null,null,null,null,null,null,null,null,null,null,null,null,null,null,null,null,null,null,null,null,null,null,null,null,null,null,null,null,null,null,null,null,null,null,null,null,null,null,null,null,null,null,null,null,null,null,null,null,null,null,null,null,null,null,null,null,null,null,null,null,null,null,null,null,null,null,"List is updated only when \"SourceRC_List\" macro is run. Macro is run manually by touching button at right or when Source report card is activated."]
[null,null,null,null,null,null,null,null,null,null,null,null,null,null,null,null,null,null,null,null,null,null,null,null,null,null,null,null,null,null,null,null,null,null,null,null,null,null,null,null,null,null,null,null,null,null,null,null,null,null,null,null,null,null,null,null,null,null,null,null,null,null,null,null,null,null,null,null,null,null,null,null,null,null,null,null,null,null,null,null,null,null,null,null,null,null,null,null,null,null,null,null,null,null,null,null,null,null,null,null,null,null,null,null,null,null,null,null,null,null,null,null,null,null,null,null,null,null,null,null,null,null,null,null,null,null,null,null,null,null,null,null,null,null,null,null,null,null,null,null,null,null,null,null,null,null,null,null,null,null,null,null,null,null,null,null,null,null,null,null,null,null,null,null,null,null,null,null,null,null,null,null,null,null,null,null,null,null,null,null,null,null,null,null,null,null,null,null,null,null,null,null,null,null,null,null,null,null,null,null,null,null,null,null,null,null,null,null,null,null,null,null,null,null,null,null,null,null,null,null,null,null,null,null,null,null,null,null,null,null,null,null,null,null,null,null,null,null,null,null,null,null,null,null,null,null,null,null,null,null,null,null,null,null,null,null,null,null,null,null,null,null,null,null,null,null,null,null,null,null,null,null,null,null,null,null,null,null,null,null,null,null,null,null,null,"Numbers indicate knowledge about the certainty of assessment: 0 = N/A, 1 = Potential Source, 2 = Suspected Source, 3 = Known Source."]
[null,null,null,null,null,null,null,null,null,null,null,null,null,null,null,null,null,null,null,null,null,null,null,null,null,null,null,null,null,null,null,null,null,null,null,null,null,null,null,null,null,null,null,null,null,null,null,null,null,null,null,null,null,null,null,null,null,null,null,null,null,null,null,null,null,null,null,null,null,null,null,null,null,null,null,null,null,null,null,null,null,null,null,null,null,null,null,null,null,null,null,null,null,null,null,null,null,null,null,null,null,null,null,null,null,null,null,null,null,null,null,null,null,null,null,null,null,null,null,null,null,null,null,null,null,null,null,null,null,null,null,null,null,null,null,null,null,null,null,null,null,null,null,null,null,null,null,null,null,null,null,null,null,null,null,null,null,null,null,null,null,null,null,null,null,null,null,null,null,null,null,null,null,null,null,null,null,null,null,null,null,null,null,null,null,null,null,null,null,null,null,null,null,null,null,null,null,null,null,null,null,null,null,null,null,null,null,null,null,null,null,null,null,null,null,null,null,null,null,null,null,null,null,null,null,null,null,null,null,null,null,null,null,null,null,null,null,null,null,null,null,null,null,null,null,null,null,null,null,null,null,null,null,null,null,null,null,null,null,null,null,null,null,null,null,null,null,null,null,null,null,null,null,null,null,null,null,null,null,null,null,null,null,null,null,"This list is then processed below to remove duplicates."]
[null,null,null,null,null,null,null,null,null,null,null,null,null,"Designate Point & Non-Point Sources",null,null,null,null,null,null,null,null,null,null,null,null,null,null,null,null,null,null,null,null,null,null,null,null,null,"Designate Point & Non-Point Sources",null,null,null,null,null,null,null,null,null,null,null,null,null,null,null,null,null,null,null,null,null,null,null,null,null,"Designate Point & Non-Point Sources",null,null,null,null,null,null,null,null,null,null,null,null,null,null,null,null,null,null,null,null,null,null,null,null,null,"Designate Point & Non-Point Sources",null,null,null,null,null,null,null,null,null,null,null,null,null,null,null,null,null,null,null,null,null,null,null,null,null,"Designate Point & Non-Point Sources",null,null,null,null,null,null,null,null,null,null,null,null,null,null,null,null,null,null,null,null,null,null,null,null,null,"Designate Point & Non-Point Sources",null,null,null,null,null,null,null,null,null,null,null,null,null,null,null,null,null,null,null,null,null,null,null,null,null,"Designate Point & Non-Point Sources",null,null,null,null,null,null,null,null,null,null,null,null,null,null,null,null,null,null,null,null,null,null,null,null,null,"Designate Point & Non-Point Sources",null,null,null,null,null,null,null,null,null,null,null,null,null,null,null,null,null,null,null,null,null,null,null,null,null,"Designate Point & Non-Point Sources",null,null,null,null,null,null,null,null,null,null,null,null,null,null,null,null,null,null,null,null,null,null,null,null,null,"Designate Point & Non-Point Sources"]
[null,null,null,null,null,null,null,null,null,null,null,null,null,null,null,null,null,null,null,null,null,null,null,"Codes selected at left are distributed according to Source Type. "]
[null,{"$f":"\"River Basin: \"&RiverBasinName","v":"River Basin: Test River Basin"},null,null,null,null,{"$f":"\"Data Year:  \"&AssessmentYear","v":"Data Year:  2011"},null,null,null,null,null,null,null,null,null,null,null,null,null,null,null,null,"Numbers indicate confidence of assessment: 0 = N/A, 1 = Potential Source, 2 = Suspected Source, 3 = Known Source.",null,null,null,null,null,null,null,null,null,null,null,null,null,null,null,null,null,null,null,null,null,null,null,null,null,null,null,null,null,null,null,null,null,null,null,null,null,null,null,null,null,null,null,null,null,null,null,null,null,null,null,null,null,null,null,null,null,null,null,null,null,null,null,null,null,null,null,null,null,null,null,null,null,null,null,null,null,null,null,null,null,null,null,null,null,null,null,null,null,null,null,null,null,null,null,null,null,null,null,null,null,null,null,null,null,null,null,null,null,null,null,null,null,null,null,null,null,null,null,null,null,null,null,null,null,null,null,null,null,null,null,null,null,null,null,null,null,null,null,null,null,null,null,null,null,null,null,null,null,null,null,null,null,null,null,null,null,null,null,null,null,null,null,null,null,null,null,null,null,null,null,null,null,null,null,null,null,null,null,null,null,null,null,null,null,null,null,null,null,null,null,null,null,null,null,null,null,null,null,null,null,null,null,null,null,null,null,null,null,null,null,null,null,null,null,null,null,null,null,null,null,null,null,null,null,null,null,null,null,null,null,null,null,null,null,null,null,null,null,null,null,null,null,null,null,null,null,null,null,null,null,null,null,null,null,null,null,null,null,null,null,null,"Municp",null,null,"Industr",null,null,"St Water",null,null,"Res Ext",null,null,"Land Dis",null,null,"Seds",null,null,"Hydro",null,null,"Other",null,null,"Unknown"]
[null,{"$f":"\"Segment Name: \"&C60","v":"Segment Name: bbbbbb"},null,null,null,null,null,null,null,null,null,null,null,null,null,null,null,null,null,null,null,null,null,"These codes are processed by \"SourceRC_List macro and transferred to Source report card."]
[null,{"$f":"\"Class: \"&C64","v":"Class: "},null,{"$f":"\"Size: \"&C63","v":"Size: "},null,null,{"$f":"\"Seg ID #: \"&C62","v":"Seg ID #: "}]
[null,"CATEGORY","INDICATOR ASSESSMENT",null,"OVERALL STATUS","DATA LEVEL","POINT","NONPOINT",null,null,null,null,null,"Point Sources",null,null,null,null,null,null,null,null,null,"Municipal",null,null,"Industrial",null,null,"Storm Water",null,null,"Resource Ext",null,null,"Land Disposal",null,null,null,"Point Sources",null,null,null,null,null,null,null,null,null,"Municipal",null,null,"Industrial",null,null,"Storm Water",null,null,"Resource Ext",null,null,"Land Disposal",null,null,null,"Point Sources",null,null,null,null,null,null,null,null,null,"Municipal",null,null,"Industrial",null,null,"Storm Water",null,null,"Resource Ext",null,null,"Land Disposal",null,null,null,"Point Sources",null,null,null,null,null,null,null,null,null,"Municipal",null,null,"Industrial",null,null,"Storm Water",null,null,"Resource Ext",null,null,"Land Disposal",null,null,null,"Point Sources",null,null,null,null,null,null,null,null,null,"Municipal",null,null,"Industrial",null,null,"Storm Water",null,null,"Resource Ext",null,null,"Land Disposal",null,null,null,"Point Sources",null,null,null,null,null,null,null,null,null,"Municipal",null,null,"Industrial",null,null,"Storm Water",null,null,"Resource Ext",null,null,"Land Disposal",null,null,null,"Point Sources",null,null,null,null,null,null,null,null,null,"Municipal",null,null,"Industrial",null,null,"Storm Water",null,null,"Resource Ext",null,null,"Land Disposal",null,null,null,"Point Sources",null,null,null,null,null,null,null,null,null,"Municipal",null,null,"Industrial",null,null,"Storm Water",null,null,"Resource Ext",null,null,"Land Disposal",null,null,null,"Point Sources",null,null,null,null,null,null,null,null,null,"Municipal",null,null,"Industrial",null,null,"Storm Water",null,null,"Resource Ext",null,null,"Land Disposal",null,null,null,"Point Sources",null,null,null,null,null,null,null,null,null,"Municipal",null,null,"Industrial",null,null,"Storm Water",null,null,"Resource Ext",null,null,"Land Disposal"]
[null,null,null,null,null,null,"Click below to select Sources"]
[null,"Biology","Plank/Peri.   A","NA","NA","NA",{"$f":"$O$15&\"  \"&$O$16&\"  \"&$O$17&\"  \"&$O$18&\"  \"&$O$19&\"  \"&$O$20","v":"          "},{"$f":"$O$28&\"  \"&$O$29&\"  \"&$O$30&\"  \"&$O$31&\"  \"&$O$32&\"  \"&$O$33","v":"          "}]
[null,null,"Macrophyton   M","NA"]
[null,null,"Invertebrates   I","NA"]
[null,null,"Fish   F","NA"]
[null,null,"Wildlife   W","NA"]
[]
[null,"Chemistry","Dis. Oxygen    DO","NA","NA","NA",{"$f":"$AO$15&\"  \"&$AO$16&\"  \"&$AO$17&\"  \"&$AO$18&\"  \"&$AO$19&\"  \"&$AO$20","v":"          "},{"$f":"$AO$28&\"  \"&$AO$29&\"  \"&$AO$30&\"  \"&$AO$31&\"  \"&$AO$32&\"  \"&$AO$33","v":"          "}]
[null,null,"pH     pH","NA"]
[null,null,"Temperature    T","NA"]
[null,null,"Ionic Strength    Z","NA"]
[null,null,"Sus. Solids    SS","NA"]
[null,null,null,null,null,null,null,null,null,null,null,null,null,"Non Point Sources",null,null,null,null,null,null,null,null,null,"Seds",null,null,"Hydromodification",null,null,"Other",null,null,"Unknown",null,null,null,null,null,null,"Non Point Sources",null,null,null,null,null,null,null,null,null,"Seds",null,null,"Hydromodification",null,null,"Other",null,null,"Unknown",null,null,null,null,null,null,"Non Point Sources",null,null,null,null,null,null,null,null,null,"Seds",null,null,"Hydromodification",null,null,"Other",null,null,"Unknown",null,null,null,null,null,null,"Non Point Sources",null,null,null,null,null,null,null,null,null,"Seds",null,null,"Hydromodification",null,null,"Other",null,null,"Unknown",null,null,null,null,null,null,"Non Point Sources",null,null,null,null,null,null,null,null,null,"Seds",null,null,"Hydromodification",null,null,"Other",null,null,"Unknown",null,null,null,null,null,null,"Non Point Sources",null,null,null,null,null,null,null,null,null,"Seds",null,null,"Hydromodification",null,null,"Other",null,null,"Unknown",null,null,null,null,null,null,"Non Point Sources",null,null,null,null,null,null,null,null,null,"Seds",null,null,"Hydromodification",null,null,"Other",null,null,"Unknown",null,null,null,null,null,null,"Non Point Sources",null,null,null,null,null,null,null,null,null,"Seds",null,null,"Hydromodification",null,null,"Other",null,null,"Unknown",null,null,null,null,null,null,"Non Point Sources",null,null,null,null,null,null,null,null,null,"Seds",null,null,"Hydromodification",null,null,"Other",null,null,"Unknown",null,null,null,null,null,null,"Non Point Sources",null,null,null,null,null,null,null,null,null,"Seds",null,null,"Hydromodification",null,null,"Other",null,null,"Unknown"]
[null,"Nutrients","Phosphorus  P","NA","NA","NA",{"$f":"$BO$15&\"  \"&$BO$16&\"  \"&$BO$17&\"  \"&$BO$18&\"  \"&$BO$19&\"  \"&$BO$20","v":"          "},{"$f":"$BO$28&\"  \"&$BO$29&\"  \"&$BO$30&\"  \"&$BO$31&\"  \"&$BO$32&\"  \"&$BO$33","v":"          "}]
[null,null,"Nitrogen   N","NA"]
[]
[null,"Toxicity","Unknown   U","NA","NA","NA",{"$f":"$CO$15&\"  \"&$CO$16&\"  \"&$CO$17&\"  \"&$CO$18&\"  \"&$CO$19&\"  \"&$CO$20","v":"          "},{"$f":"$CO$28&\"  \"&$CO$29&\"  \"&$CO$30&\"  \"&$CO$31&\"  \"&$CO$32&\"  \"&$CO$33","v":"          "}]
[null,null,{"$f":"\"Spec. Chem.  \"&CN44","v":"Spec. Chem.  Ag"},"NA"]
[null,null,null,null,null,null,null,null,null,null,null,null,null,null,null,null,null,null,null,null,null,null,null,null,null,null,null,null,null,null,null,null,null,null,null,null,null,null,null,null,null,null,null,null,null,null,null,null,null,null,null,null,null,null,null,null,null,null,null,null,null,null,null,null,null,null,null,null,null,null,null,null,null,null,null,null,null,null,null,null,null,null,null,null,null,null,null,null,null,null,null,null,null,null,null,null,null,null,null,null,null,null,null,null,null,null,null,null,null,null,null,null,null,null,null,null,null,null,null,null,null,null,null,null,null,null,null,null,null,null,null,null,null,null,null,null,null,null,null,null,null,null,null,null,null,null,null,null,null,null,null,null,null,null,null,null,null,null,null,null,null,null,null,null,null,null,null,null,null,null,null,null,null,null,null,null,null,null,null,null,null,null,null,null,null,null,null,null,null,null,null,null,null,null,null,null,null,null,null,null,null,null,null,null,null,null,null,null,null,null,null,null,null,null,null,null,null,null,null,null,null,null,null,null,null,null,null,null,null,null,null,null,null,null,null,null,null,null,null,null,null,null,null,null,null,null,null,null,null,null,null,null,null,null,null,null,null,null,null,null,null,null,null,null,null,null,null,null,null,null,null,null,null,null,null,null,null,null,null,null,null,null,null,null,null,"The colored cells below reflect this segments pollution status and are replicated on the Sources report card automatically"]
[null,"Flow","Flow  Q","NA","NA","NA",{"$f":"$DO$15&\"  \"&$DO$16&\"  \"&$DO$17&\"  \"&$DO$18&\"  \"&$DO$19&\"  \"&$DO$20","v":"          "},{"$f":"$DO$28&\"  \"&$DO$29&\"  \"&$DO$30&\"  \"&$DO$31&\"  \"&$DO$32&\"  \"&$DO$33","v":"          "},null,null,null,null,null,null,null,null,null,null,null,null,null,null,null,null,null,null,null,null,null,null,null,null,null,null,null,null,null,null,null,null,null,null,null,null,null,null,null,null,null,null,null,null,null,null,null,null,null,null,null,null,null,null,null,null,null,null,null,null,null,null,null,null,null,null,null,null,null,null,null,null,null,null,null,null,null,null,null,null,null,null,null,null,null,null,null,null,null,null,null,null,null,null,null,null,null,null,null,null,null,null,null,null,null,null,null,null,null,null,null,null,null,null,null,null,null,null,null,null,null,null,null,null,null,null,null,null,null,null,null,null,null,null,null,null,null,null,null,null,null,null,null,null,null,null,null,null,null,null,null,null,null,null,null,null,null,null,null,null,null,null,null,null,null,null,null,null,null,null,null,null,null,null,null,null,null,null,null,null,null,null,null,null,null,null,null,null,null,null,null,null,null,null,null,null,null,null,null,null,null,null,null,null,null,null,null,null,null,null,null,null,null,null,null,null,null,null,null,null,null,null,null,null,null,null,null,null,null,null,null,null,null,null,null,null,null,null,null,null,null,null,null,null,null,null,null,null,null,null,null,null,null,null,null,null,null,null,null,null,null,null,null,null,null,null,null,null,null,null,null,null,null,null,null,null,null,null,{"$f":"KA11","v":"Municp"},null,null,{"$f":"KD11","v":"Industr"},null,null,{"$f":"KG11","v":"St Water"},null,null,{"$f":"KJ11","v":"Res Ext"},null,null,{"$f":"KM11","v":"Land Dis"},null,null,{"$f":"KP11","v":"Seds"},null,null,{"$f":"KS11","v":"Hydro"},null,null,{"$f":"KV11","v":"Other"},null,null,{"$f":"KY11","v":"Unknown"}]
[null,null,null,null,null,null,null,null,null,null,null,null,null,"* designates a Suspected Source",null,null,null,null,null,null,null,null,null,null,null,null,null,null,null,null,null,null,null,null,null,null,null,null,null,"* designates a Suspected Source",null,null,null,null,null,null,null,null,null,null,null,null,null,null,null,null,null,null,null,null,null,null,null,null,null,"* designates a Suspected Source",null,null,null,null,null,null,null,null,null,null,null,null,null,null,null,null,null,null,null,null,null,null,null,null,null,"* designates a Suspected Source",null,null,null,null,null,null,null,null,null,null,null,null,null,null,null,null,null,null,null,null,null,null,null,null,null,"* designates a Suspected Source",null,null,null,null,null,null,null,null,null,null,null,null,null,null,null,null,null,null,null,null,null,null,null,null,null,"* designates a Suspected Source",null,null,null,null,null,null,null,null,null,null,null,null,null,null,null,null,null,null,null,null,null,null,null,null,null,"* designates a Suspected Source",null,null,null,null,null,null,null,null,null,null,null,null,null,null,null,null,null,null,null,null,null,null,null,null,null,"* designates a Suspected Source",null,null,null,null,null,null,null,null,null,null,null,null,null,null,null,null,null,null,null,null,null,null,null,null,null,"* designates a Suspected Source",null,null,null,null,null,null,null,null,null,null,null,null,null,null,null,null,null,null,null,null,null,null,null,null,null,null,null,null,null,null,null,null,null,null,null,null,null,null,null,null,null,null,null,null,null,null,null,null,null,null,null,null,null,null,null,null,null,null,null,null,null,null,null,null,{"$f":"TRIM(KA41&\" \"&KA42&\" \"&KA43&\" \"&KA44&\" \"&KA45&\" \"&KA46)","v":""},null,null,{"$f":"TRIM(KD41&\" \"&KD42&\" \"&KD43&\" \"&KD44&\" \"&KD45&\" \"&KD46)","v":""},null,null,{"$f":"TRIM(KG41&\" \"&KG42&\" \"&KG43&\" \"&KG44&\" \"&KG45&\" \"&KG46)","v":""},null,null,{"$f":"TRIM(KJ41&\" \"&KJ42&\" \"&KJ43&\" \"&KJ44&\" \"&KJ45&\" \"&KJ46)","v":""},null,null,{"$f":"TRIM(KM41&\" \"&KM42&\" \"&KM43&\" \"&KM44&\" \"&KM45&\" \"&KM46)","v":""},null,null,{"$f":"TRIM(KP41&\" \"&KP42&\" \"&KP43&\" \"&KP44&\" \"&KP45&\" \"&KP46)","v":""},null,null,{"$f":"TRIM(KS41&\" \"&KS42&\" \"&KS43&\" \"&KS44&\" \"&KS45&\" \"&KS46)","v":""},null,null,{"$f":"TRIM(KV41&\" \"&KV42&\" \"&KV43&\" \"&KV44&\" \"&KV45&\" \"&KV46)","v":""},null,null,{"$f":"TRIM(KY41&\" \"&KY42&\" \"&KY43&\" \"&KY44&\" \"&KY45&\" \"&KY46)","v":""}]
[null,"Habitat","Substrate   S","NA","NA","NA",{"$f":"$EO$15&\"  \"&$EO$16&\"  \"&$EO$17&\"  \"&$EO$18&\"  \"&$EO$19&\"  \"&$EO$20","v":"          "},{"$f":"$EO$28&\"  \"&$EO$29&\"  \"&$EO$30&\"  \"&$EO$31&\"  \"&$EO$32&\"  \"&$EO$33","v":"          "},null,null,null,null,null,"** designates a Potential Source",null,null,null,null,null,null,null,null,null,null,null,null,null,null,null,null,null,null,null,null,null,null,null,null,null,"** designates a Potential Source",null,null,null,null,null,null,null,null,null,null,null,null,null,null,null,null,null,null,null,null,null,null,null,null,null,"** designates a Potential Source",null,null,null,null,null,null,null,null,null,null,null,null,null,null,null,null,null,null,null,null,null,null,null,null,null,"** designates a Potential Source",null,null,null,null,null,null,null,null,null,null,null,null,null,null,null,null,null,null,null,null,null,null,null,null,null,"** designates a Potential Source",null,null,null,null,null,null,null,null,null,null,null,null,null,null,null,null,null,null,null,null,null,null,null,null,null,"** designates a Potential Source",null,null,null,null,null,null,null,null,null,null,null,null,null,null,null,null,null,null,null,null,null,null,null,null,null,"** designates a Potential Source",null,null,null,null,null,null,null,null,null,null,null,null,null,null,null,null,null,null,null,null,null,null,null,null,null,"** designates a Potential Source",null,null,null,null,null,null,null,null,null,null,null,null,null,null,null,null,null,null,null,null,null,null,null,null,null,"** designates a Potential Source"]
[null,null,"Morphology   H","NA",null,null,null,null,null,null,null,null,null,"No asterisk designates a Known Source",null,null,null,null,null,null,null,null,null,null,null,null,null,null,null,null,null,null,null,null,null,null,null,null,null,"No asterisk designates a Known Source",null,null,null,null,null,null,null,null,null,null,null,null,null,null,null,null,null,null,null,null,null,null,null,null,null,"No asterisk designates a Known Source",null,null,null,null,null,null,null,null,null,null,null,null,null,null,null,null,null,null,null,null,null,null,null,null,null,"No asterisk designates a Known Source",null,null,null,null,null,null,null,null,null,null,null,null,null,null,null,null,null,null,null,null,null,null,null,null,null,"No asterisk designates a Known Source",null,null,null,null,null,null,null,null,null,null,null,null,null,null,null,null,null,null,null,null,null,null,null,null,null,"No asterisk designates a Known Source",null,null,null,null,null,null,null,null,null,null,null,null,null,null,null,null,null,null,null,null,null,null,null,null,null,"No asterisk designates a Known Source",null,null,null,null,null,null,null,null,null,null,null,null,null,null,null,null,null,null,null,null,null,null,null,null,null,"No asterisk designates a Known Source",null,null,null,null,null,null,null,null,null,null,null,null,null,null,null,null,null,null,null,null,null,null,null,null,null,"No asterisk designates a Known Source",null,null,null,null,null,null,null,null,null,null,null,null,null,null,null,null,null,null,null,null,null,null,null,null,null,null,null,null,null,null,null,null,null,null,null,null,null,null,null,null,null,null,null,null,null,null,null,null,null,null,null,null,null,null,null,null,null,null,null,null,null,null,null,"max confid #",{"$f":"MAX(KB11:KB31)","v":0},null,null,{"$f":"MAX(KE11:KE31)","v":0},null,null,{"$f":"MAX(KH11:KH31)","v":0},null,null,{"$f":"MAX(KK11:KK31)","v":0},null,null,{"$f":"MAX(KN11:KN31)","v":0},null,null,{"$f":"MAX(KQ11:KQ31)","v":0},null,null,{"$f":"MAX(KT11:KT31)","v":0},null,null,{"$f":"MAX(KW11:KW31)","v":0},null,null,{"$f":"MAX(KZ11:KZ31)","v":0}]
[null,null,"Riparian Zone   R","NA",null,null,null,null,null,null,null,null,null,"Square brackets designates an Out of Segment Source (i.e., pollutant is a source for downstream segments)",null,null,null,null,null,null,null,null,null,null,null,null,null,null,null,null,null,null,null,null,null,null,null,null,null,"Square brackets designates an Out of Segment Source (i.e., pollutant is a source for downstream segments)",null,null,null,null,null,null,null,null,null,null,null,null,null,null,null,null,null,null,null,null,null,null,null,null,null,"Square brackets designates an Out of Segment Source (i.e., pollutant is a source for downstream segments)",null,null,null,null,null,null,null,null,null,null,null,null,null,null,null,null,null,null,null,null,null,null,null,null,null,"Square brackets designates an Out of Segment Source (i.e., pollutant is a source for downstream segments)",null,null,null,null,null,null,null,null,null,null,null,null,null,null,null,null,null,null,null,null,null,null,null,null,null,"Square brackets designates an Out of Segment Source (i.e., pollutant is a source for downstream segments)",null,null,null,null,null,null,null,null,null,null,null,null,null,null,null,null,null,null,null,null,null,null,null,null,null,"Square brackets designates an Out of Segment Source (i.e., pollutant is a source for downstream segments)",null,null,null,null,null,null,null,null,null,null,null,null,null,null,null,null,null,null,null,null,null,null,null,null,null,"Square brackets designates an Out of Segment Source (i.e., pollutant is a source for downstream segments)",null,null,null,null,null,null,null,null,null,null,null,null,null,null,null,null,null,null,null,null,null,null,null,null,null,"Square brackets designates an Out of Segment Source (i.e., pollutant is a source for downstream segments)",null,null,null,null,null,null,null,null,null,null,null,null,null,null,null,null,null,null,null,null,null,null,null,null,null,"Square brackets designates an Out of Segment Source (i.e., pollutant is a source for downstream segments)",null,null,null,null,null,null,null,null,null,null,null,null,null,null,null,null,null,null,null,null,null,null,null,null,null,null,null,null,null,null,null,null,null,null,null,null,null,null,null,null,null,null,null,null,null,null,null,null,null,null,null,null,null,null,null,null,null,null,null,null,null,null,null,"The lists below show unique codes in lists assembled above. Numbers are max confidence #, used to color cells for worst case. The codes are catenated in the colored boxes above for transfer to Sources RC when that sheet is activated."]
[]
[null,"Bacteria","Bacteria   B","NA","NA","NA",{"$f":"$FO$15&\"  \"&$FO$16&\"  \"&$FO$17&\"  \"&$FO$18&\"  \"&$FO$19&\"  \"&$FO$20","v":"          "},{"$f":"$FO$28&\"  \"&$FO$29&\"  \"&$FO$30&\"  \"&$FO$31&\"  \"&$FO$32&\"  \"&$FO$33","v":"          "},null,null,null,null,null,null,null,null,null,null,null,null,null,null,null,null,null,null,null,null,null,null,null,null,null,null,null,null,null,null,null,null,null,null,null,null,null,null,null,null,null,null,null,null,null,null,null,null,null,null,null,null,null,null,null,null,null,null,null,null,null,null,null,null,null,null,null,null,null,null,null,null,null,null,null,null,null,null,null,null,null,null,null,null,null,null,null,null,null,null,null,null,null,null,null,null,null,null,null,null,null,null,null,null,null,null,null,null,null,null,null,null,null,null,null,null,null,null,null,null,null,null,null,null,null,null,null,null,null,null,null,null,null,null,null,null,null,null,null,null,null,null,null,null,null,null,null,null,null,null,null,null,null,null,null,null,null,null,null,null,null,null,null,null,null,null,null,null,null,null,null,null,null,null,null,null,null,null,null,null,null,null,null,null,null,null,null,null,null,null,null,null,null,null,null,null,null,null,null,null,null,null,null,null,null,null,null,null,null,null,null,null,null,null,null,null,null,null,null,null,null,null,null,null,null,null,null,null,null,null,null,null,null,null,null,null,null,null,null,null,null,null,null,null,null,null,null,null,null,null,null,null,null,null,null,null,null,null,null,null,null,null,null,null,null,null,null,null,null,null,null,null,null,null,null,null,null,null,"Municp",null,null,"Industr",null,null,"St Water",null,null,"Res Ext",null,null,"Land Dis",null,null,"Seds",null,null,"Hydro",null,null,"Other",null,null,"Unknown"]
[]
[null,"Aesthetics","Oil & Grease   G","NA","NA","NA",{"$f":"$GO$15&\"  \"&$GO$16&\"  \"&$GO$17&\"  \"&$GO$18&\"  \"&$GO$19&\"  \"&$GO$20","v":"          "},{"$f":"$GO$28&\"  \"&$GO$29&\"  \"&$GO$30&\"  \"&$GO$31&\"  \"&$GO$32&\"  \"&$GO$33","v":"          "},null,null,null,null,null,null,null,null,null,null,null,null,null,null,null,null,null,null,null,null,null,null,null,null,null,null,null,null,null,null,null,null,null,null,null,null,null,null,null,null,null,null,null,null,null,null,null,null,null,null,null,null,null,null,null,null,null,null,null,null,null,null,null,null,null,null,null,null,null,null,null,null,null,null,null,null,null,null,null,null,null,null,null,"Identify the suspected toxic chemical substance below (e.g., Hg, PCB, etc). ",null,null,null,null,null,null,null,null,null,null,null,null,null,null,null,null,null,null,null,null,null,null,null,null,null,null,null,null,null,null,null,null,null,null,null,null,null,null,null,null,null,null,null,null,null,null,null,null,null,null,null,null,null,null,null,null,null,null,null,null,null,null,null,null,null,null,null,null,null,null,null,null,null,null,null,null,null,null,null,null,null,null,null,null,null,null,null,null,null,null,null,null,null,null,null,null,null,null,null,null,null,null,null,null,null,null,null,null,null,null,null,null,null,null,null,null,null,null,null,null,null,null,null,null,null,null,null,null,null,null,null,null,null,null,null,null,null,null,null,null,null,null,null,null,null,null,null,null,null,null,null,null,null,null,null,"Identify the suspected toxic chemical substance below (e.g., Hg, PCB, etc). "]
[null,null,"Taste & Odor   O","NA",null,null,null,null,null,null,null,null,null,null,"Pollution  Indicators (Causes):  ",null,{"$f":"P46&\" \"&P47&\" \"&P48&\" \"&P49&\" \"&P50&\" \"&P51","v":"     "},null,null,null,null,null,null,null,null,null,null,null,null,null,null,null,null,null,null,null,null,null,null,null,"Pollution  Indicators (Causes):  ",null,{"$f":"AP46&\" \"&AP47&\" \"&AP48&\" \"&AP49&\" \"&AP50&\" \"&AP51","v":"     "},null,null,null,null,null,null,null,null,null,null,null,null,null,null,null,null,null,null,null,null,null,null,null,"Pollution  Indicators (Causes):  ",null,{"$f":"BP46&\" \"&BP47&\" \"&BP48","v":"  "},null,null,null,null,null,null,null,null,null,null,null,null,null,null,null,null,null,null,null,null,null,null,null,null,null,null,null,null,null,null,null,null,null,null,null,null,null,null,null,null,null,null,null,null,null,null,null,null,null,"Pollution  Indicators (Causes):  ",null,{"$f":"DP46&\" \"&DP47","v":" "},null,null,null,null,null,null,null,null,null,null,null,null,null,null,null,null,null,null,null,null,null,null,null,"Pollution  Indicators (Causes):  ",null,{"$f":"EP46&\" \"&EP47&\" \"&EP48&\" \"&EP49","v":"   "},null,null,null,null,null,null,null,null,null,null,null,null,null,null,null,null,null,null,null,null,null,null,null,"Pollution  Indicators (Causes):  ",null,{"$f":"FP46&\" \"&FP47","v":" "},null,null,null,null,null,null,null,null,null,null,null,null,null,null,null,null,null,null,null,null,null,null,null,"Pollution  Indicators (Causes):  ",null,{"$f":"GP46&\" \"&GP47&\" \"&GP48&\" \"&GP49&\" \"&GP50&\" \"&GP51","v":"     "},null,null,null,null,null,null,null,null,null,null,null,null,null,null,null,null,null,null,null,null,null,null,"Identify the suspected toxic chemical substance below (e.g., Hg, PCB, etc). "]
[null,null,"Turb/Color   C","NA",null,null,null,null,null,null,null,null,null,null,null,null,null,null,null,null,null,null,null,null,null,null,null,null,null,null,null,null,null,null,null,null,null,null,null,null,null,null,null,null,null,null,null,null,null,null,null,null,null,null,null,null,null,null,null,null,null,null,null,null,null,null,null,null,null,null,null,null,null,null,null,null,null,null,null,null,null,null,null,null,null,null,null,null,null,null,null,"Ag",null,null,null,null,null,null,null,null,null,null,null,null,null,null,null,null,null,null,null,null,null,null,null,null,null,null,null,null,null,null,null,null,null,null,null,null,null,null,null,null,null,null,null,null,null,null,null,null,null,null,null,null,null,null,null,null,null,null,null,null,null,null,null,null,null,null,null,null,null,null,null,null,null,null,null,null,null,null,null,null,null,null,null,null,null,null,null,null,null,null,null,null,null,null,null,null,null,null,null,null,null,null,null,null,null,null,null,null,null,null,null,null,null,null,null,null,null,null,null,null,null,null,null,null,null,null,null,null,null,null,null,null,null,null,null,null,null,null,null,null,null,null,null,null,null,null,null,null,null,null,null,null,null,null,null,"DDT"]
[null,null,"Nuisance Plants   V","NA",null,null,null,null,null,null,null,null,null,null,{"$f":"$B$16","v":"Biology"},null,null,null,null,null,null,null,null,null,null,null,null,null,null,null,null,null,null,null,null,null,null,null,null,null,{"$f":"$B$22","v":"Chemistry"},null,null,null,null,null,null,null,null,null,null,null,null,null,null,null,null,null,null,null,null,null,null,null,null,null,{"$f":"$B$28","v":"Nutrients"},null,null,null,null,null,null,null,null,null,null,null,null,null,null,null,null,null,null,null,null,null,null,null,null,null,null,null,null,null,null,null,null,null,null,null,null,null,null,null,null,null,null,null,null,null,null,null,null,null,null,null,{"$f":"$B$34","v":"Flow"},null,null,null,null,null,null,null,null,null,null,null,null,null,null,null,null,null,null,null,null,null,null,null,null,null,{"$f":"$B$36","v":"Habitat"},null,null,null,null,null,null,null,null,null,null,null,null,null,null,null,null,null,null,null,null,null,null,null,null,null,{"$f":"$B$40","v":"Bacteria"},null,null,null,null,null,null,null,null,null,null,null,null,null,null,null,null,null,null,null,null,null,null,null,null,null,{"$f":"$B$42","v":"Aesthetics"},null,null,null,null,null,null,null,null,null,null,null,null,null,null,null,null,null,null,null,null,null,null,null,null,"PCB"]
[null,null,"Trash /Debris   D","NA",null,null,null,null,null,null,null,null,null,null,{"$f":"$C$16","v":"Plank/Peri.   A"},{"$f":"IF($D$16=\"Concern\",\"(A)\",IF(OR($D$16=\"Fair\",$D$16=\"Poor\"),\"A\",\"\"))","v":""},null,null,null,null,null,null,null,null,null,null,null,null,null,null,null,null,null,null,null,null,null,null,null,null,{"$f":"$C$22","v":"Dis. Oxygen    DO"},{"$f":"IF($D$22=\"Concern\",\"(DO)\",IF(OR($D$22=\"Fair\",$D$22=\"Poor\"),\"DO\",\"\"))","v":""},null,null,null,null,null,null,null,null,null,null,null,null,null,null,null,null,null,null,null,null,null,null,null,null,{"$f":"$C$28","v":"Phosphorus  P"},{"$f":"IF($D$28=\"Concern\",\"(P)\",IF(OR($D$28=\"Fair\",$D$28=\"Poor\"),\"P\",\"\"))","v":""},null,null,null,null,null,null,null,null,null,null,null,null,null,null,null,null,null,null,null,null,null,null,null,null,null,null,null,null,null,null,null,null,null,null,null,null,null,null,null,null,null,null,null,null,null,null,null,null,null,null,{"$f":"$C$34","v":"Flow  Q"},{"$f":"IF($D$34=\"Concern\",\"(O)\",IF(OR($D$34=\"Fair\",$D$34=\"Poor\"),\"O\",\"\"))","v":""},null,null,null,null,null,null,null,null,null,null,null,null,null,null,null,null,null,null,null,null,null,null,null,null,{"$f":"$C$36","v":"Substrate   S"},{"$f":"IF($D$36=\"Concern\",\"(S)\",IF(OR($D$36=\"Fair\",$D$36=\"Poor\"),\"S\",\"\"))","v":""},null,null,null,null,null,null,null,null,null,null,null,null,null,null,null,null,null,null,null,null,null,null,null,null,{"$f":"$C$40","v":"Bacteria   B"},{"$f":"IF($D$40=\"Concern\",\"(B)\",IF(OR($D$40=\"Fair\",$D$40=\"Poor\"),\"B\",\"\"))","v":""},null,null,null,null,null,null,null,null,null,null,null,null,null,null,null,null,null,null,null,null,null,null,null,null,{"$f":"$C$42","v":"Oil & Grease   G"},{"$f":"IF($D$42=\"Concern\",\"(G)\",IF(OR($D$42=\"Fair\",$D$42=\"Poor\"),\"G\",\"\"))","v":""}]
[null,null,null,null,null,null,null,null,null,null,null,null,null,null,{"$f":"$C$17","v":"Macrophyton   M"},{"$f":"IF($D$17=\"Concern\",\"(M)\",IF(OR($D$17=\"Fair\",$D$17=\"Poor\"),\"M\",\"\"))","v":""},null,null,null,null,null,null,null,null,null,null,null,null,null,null,null,null,null,null,null,null,null,null,null,null,{"$f":"$C$23","v":"pH     pH"},{"$f":"IF($D$23=\"Concern\",\"(pH)\",IF(OR($D$23=\"Fair\",$D$23=\"Poor\"),\"pH\",\"\"))","v":""},null,null,null,null,null,null,null,null,null,null,null,null,null,null,null,null,null,null,null,null,null,null,null,null,{"$f":"$C$29","v":"Nitrogen   N"},{"$f":"IF($D$29=\"Concern\",\"(N)\",IF(OR($D$29=\"Fair\",$D$29=\"Poor\"),\"N\",\"\"))","v":""},null,null,null,null,null,null,null,null,null,null,null,null,null,null,null,null,null,null,null,null,null,null,null,null,null,null,null,null,null,null,null,null,null,null,null,null,null,null,null,null,null,null,null,null,null,null,null,null,null,null,{"$f":"IF($C$41=\"\",\"\",$C$41)","v":""},{"$f":"IF($D$35=\"Concern\",\"(**)\",IF(OR($D$35=\"Fair\",$D$35=\"Poor\"),\"**\",\"\"))","v":""},null,null,null,null,null,null,null,null,null,null,null,null,null,null,null,null,null,null,null,null,null,null,null,null,{"$f":"$C$37","v":"Morphology   H"},{"$f":"IF($D$37=\"Concern\",\"(H)\",IF(OR($D$37=\"Fair\",$D$37=\"Poor\"),\"H\",\"\"))","v":""},null,null,null,null,null,null,null,null,null,null,null,null,null,null,null,null,null,null,null,null,null,null,null,null,{"$f":"IF($C$41=\"\",\"\",$C$41)","v":""},{"$f":"IF($D$41=\"Concern\",\"(**)\",IF(OR($D$41=\"Fair\",$D$41=\"Poor\"),\"**\",\"\"))","v":""},null,null,null,null,null,null,null,null,null,null,null,null,null,null,null,null,null,null,null,null,null,null,null,null,{"$f":"$C$43","v":"Taste & Odor   O"},{"$f":"IF($D$43=\"Concern\",\"(O)\",IF(OR($D$43=\"Fair\",$D$43=\"Poor\"),\"O\",\"\"))","v":""}]
[null,"Tissue",{"$f":"\"Spec. Chem.   \"&HN45","v":"Spec. Chem.   PCB"},"NA","NA","NA",{"$f":"$HO$15&\"  \"&$HO$16&\"  \"&$HO$17&\"  \"&$HO$18&\"  \"&$HO$19&\"  \"&$HO$20","v":"          "},{"$f":"$HO$28&\"  \"&$HO$29&\"  \"&$HO$30&\"  \"&$HO$31&\"  \"&$HO$32&\"  \"&$HO$33","v":"          "},null,null,null,null,null,null,{"$f":"$C$18","v":"Invertebrates   I"},{"$f":"IF($D$18=\"Concern\",\"(I)\",IF(OR($D$18=\"Fair\",$D$18=\"Poor\"),\"I\",\"\"))","v":""},null,null,null,null,null,null,null,null,null,null,null,null,null,null,null,null,null,null,null,null,null,null,null,null,{"$f":"$C$24","v":"Temperature    T"},{"$f":"IF($D$24=\"Concern\",\"(T)\",IF(OR($D$24=\"Fair\",$D$24=\"Poor\"),\"T\",\"\"))","v":""},null,null,null,null,null,null,null,null,null,null,null,null,null,null,null,null,null,null,null,null,null,null,null,null,{"$f":"IF($C$30=\"\",\"\",$C$30)","v":""},{"$f":"IF($D$30=\"Concern\",\"(**)\",IF(OR($D$30=\"Fair\",$D$30=\"Poor\"),\"**\",\"\"))","v":""},null,null,null,null,null,null,null,null,null,null,null,null,null,null,null,null,null,null,null,null,null,null,null,null,null,null,null,null,null,null,null,null,null,null,null,null,null,null,null,null,null,null,null,null,null,null,null,null,null,null,null,null,null,null,null,null,null,null,null,null,null,null,null,null,null,null,null,null,null,null,null,null,null,null,null,null,{"$f":"$C$38","v":"Riparian Zone   R"},{"$f":"IF($D$38=\"Concern\",\"(R)\",IF(OR($D$38=\"Fair\",$D$38=\"Poor\"),\"R\",\"\"))","v":""},null,null,null,null,null,null,null,null,null,null,null,null,null,null,null,null,null,null,null,null,null,null,null,null,null,null,null,null,null,null,null,null,null,null,null,null,null,null,null,null,null,null,null,null,null,null,null,null,null,null,{"$f":"$C$44","v":"Turb/Color   C"},{"$f":"IF($D$44=\"Concern\",\"(C)\",IF(OR($D$44=\"Fair\",$D$44=\"Poor\"),\"C\",\"\"))","v":""}]
[null,null,null,null,null,null,null,null,null,null,null,null,null,null,{"$f":"$C$19","v":"Fish   F"},{"$f":"IF($D$19=\"Concern\",\"(F)\",IF(OR($D$19=\"Fair\",$D$19=\"Poor\"),\"F\",\"\"))","v":""},null,null,null,null,null,null,null,null,null,null,null,null,null,null,null,null,null,null,null,null,null,null,null,null,{"$f":"$C$25","v":"Ionic Strength    Z"},{"$f":"IF($D$25=\"Concern\",\"(Z)\",IF(OR($D$25=\"Fair\",$D$25=\"Poor\"),\"Z\",\"\"))","v":""},null,null,null,null,null,null,null,null,null,null,null,null,null,null,null,null,null,null,null,null,null,null,null,null,null,null,null,null,null,null,null,null,null,null,null,null,null,null,null,null,null,null,null,null,null,null,null,null,null,null,"Pollution  Indicators (Causes):  ",null,{"$f":"CP52&\" \"&CP53&\" \"&CP54","v":"  "},null,null,null,null,null,null,null,null,null,null,null,null,null,null,null,null,null,null,null,null,null,null,null,null,null,null,null,null,null,null,null,null,null,null,null,null,null,null,null,null,null,null,null,null,null,null,null,null,null,{"$f":"IF($C$39=\"\",\"\",$C$39)","v":""},{"$f":"IF($D$39=\"Concern\",\"(**)\",IF(OR($D$39=\"Fair\",$D$39=\"Poor\"),\"**\",\"\"))","v":""},null,null,null,null,null,null,null,null,null,null,null,null,null,null,null,null,null,null,null,null,null,null,null,null,null,null,null,null,null,null,null,null,null,null,null,null,null,null,null,null,null,null,null,null,null,null,null,null,null,null,{"$f":"$C$45","v":"Nuisance Plants   V"},{"$f":"IF($D$45=\"Concern\",\"(V)\",IF(OR($D$45=\"Fair\",$D$45=\"Poor\"),\"V\",\"\"))","v":""},null,null,null,null,null,null,null,null,null,null,null,null,null,null,null,null,null,null,null,null,null,null,null,null,null,null,null,null,null,null,null,null,null,null,null,null,null,null,null,null,null,null,null,null,null,null,null,null,null,null,"Pollution  Indicators (Causes):  ",null,{"$f":"IP52&\" \"&IP53&\" \"&IP54","v":"  "}]
[null,"Sediment","Unknown   U","NA","NA","NA",{"$f":"$IO$15&\"  \"&$IO$16&\"  \"&$IO$17&\"  \"&$IO$18&\"  \"&$IO$19&\"  \"&$IO$20","v":"          "},{"$f":"$IO$28&\"  \"&$IO$29&\"  \"&$IO$30&\"  \"&$IO$31&\"  \"&$IO$32&\"  \"&$IO$33","v":"          "},null,null,null,null,null,null,{"$f":"$C$20","v":"Wildlife   W"},{"$f":"IF($D$20=\"Concern\",\"(W)\",IF(OR($D$20=\"Fair\",$D$20=\"Poor\"),\"W\",\"\"))","v":""},null,null,null,null,null,null,null,null,null,null,null,null,null,null,null,null,null,null,null,null,null,null,null,null,{"$f":"$C$26","v":"Sus. Solids    SS"},{"$f":"IF($D$26=\"Concern\",\"(SS)\",IF(OR($D$26=\"Fair\",$D$26=\"Poor\"),\"SS\",\"\"))","v":""},null,null,null,null,null,null,null,null,null,null,null,null,null,null,null,null,null,null,null,null,null,null,null,null,null,null,null,null,null,null,null,null,null,null,null,null,null,null,null,null,null,null,null,null,null,null,null,null,null,null,null,null,null,null,null,null,null,null,null,null,null,null,null,null,null,null,null,null,null,null,null,null,null,null,null,null,null,null,null,null,null,null,null,null,null,null,null,null,null,null,null,null,null,null,null,null,null,null,null,null,null,null,null,null,null,null,null,null,null,null,null,null,null,null,null,null,null,null,null,null,null,null,null,null,null,null,null,null,null,null,null,null,null,null,null,null,null,null,null,null,null,null,null,null,null,null,null,null,null,null,null,null,null,null,{"$f":"$C$46","v":"Trash /Debris   D"},{"$f":"IF($D$46=\"Concern\",\"(D)\",IF(OR($D$46=\"Fair\",$D$46=\"Poor\"),\"D\",\"\"))","v":""},null,null,null,null,null,null,null,null,null,null,null,null,null,null,null,null,null,null,null,null,null,null,null,null,"Pollution  Indicators (Causes):  ",null,{"$f":"HP53&\" \"&HP54","v":" "}]
[null,null,{"$f":"\"Spec. Chem.   \"&IN44","v":"Spec. Chem.   DDT"},"NA",null,null,null,null,null,null,null,null,null,null,{"$f":"IF($C$21=\"\",\"\",$C$21)","v":""},{"$f":"IF($D$21=\"Concern\",\"(**)\",IF(OR($D$21=\"Fair\",$D$21=\"Poor\"),\"**\",\"\"))","v":""},null,null,null,null,null,null,null,null,null,null,null,null,null,null,null,null,null,null,null,null,null,null,null,null,{"$f":"IF($C$27=\"\",\"\",$C$27)","v":""},{"$f":"IF($D$27=\"Concern\",\"(**)\",IF(OR($D$27=\"Fair\",$D$27=\"Poor\"),\"**\",\"\"))","v":""},null,null,null,null,null,null,null,null,null,null,null,null,null,null,null,null,null,null,null,null,null,null,null,null,null,null,null,null,null,null,null,null,null,null,null,null,null,null,null,null,null,null,null,null,null,null,null,null,null,null,{"$f":"$B$31","v":"Toxicity"},null,null,null,null,null,null,null,null,null,null,null,null,null,null,null,null,null,null,null,null,null,null,null,null,null,null,null,null,null,null,null,null,null,null,null,null,null,null,null,null,null,null,null,null,null,null,null,null,null,null,null,null,null,null,null,null,null,null,null,null,null,null,null,null,null,null,null,null,null,null,null,null,null,null,null,null,null,null,null,null,null,null,null,null,null,null,null,null,null,null,null,null,null,null,null,null,null,null,null,null,null,null,null,{"$f":"IF($C$47=\"\",\"\",$C$47)","v":""},{"$f":"IF($D$47=\"Concern\",\"(**)\",IF(OR($D$47=\"Fair\",$D$47=\"Poor\"),\"**\",\"\"))","v":""},null,null,null,null,null,null,null,null,null,null,null,null,null,null,null,null,null,null,null,null,null,null,null,null,null,null,null,null,null,null,null,null,null,null,null,null,null,null,null,null,null,null,null,null,null,null,null,null,null,null,{"$f":"$B$50","v":"Sediment"}]
[null,null,null,null,null,null,null,null,null,null,null,null,null,null,null,null,null,null,null,null,null,null,null,null,null,null,null,null,null,null,null,null,null,null,null,null,null,null,null,null,null,null,null,null,null,null,null,null,null,null,null,null,null,null,null,null,null,null,null,null,null,null,null,null,null,null,null,null,null,null,null,null,null,null,null,null,null,null,null,null,null,null,null,null,null,null,null,null,null,null,null,null,{"$f":"$C$31","v":"Unknown   U"},{"$f":"IF($D$31=\"Concern\",\"(U)\",IF(OR($D$31=\"Fair\",$D$31=\"Poor\"),\"U\",\"\"))","v":""},null,null,null,null,null,null,null,null,null,null,null,null,null,null,null,null,null,null,null,null,null,null,null,null,null,null,null,null,null,null,null,null,null,null,null,null,null,null,null,null,null,null,null,null,null,null,null,null,null,null,null,null,null,null,null,null,null,null,null,null,null,null,null,null,null,null,null,null,null,null,null,null,null,null,null,null,null,null,null,null,null,null,null,null,null,null,null,null,null,null,null,null,null,null,null,null,null,null,null,null,null,null,null,null,null,null,null,null,null,null,null,null,null,null,null,null,null,null,null,null,null,null,null,null,null,null,null,null,{"$f":"$B$48","v":"Tissue"},null,null,null,null,null,null,null,null,null,null,null,null,null,null,null,null,null,null,null,null,null,null,null,null,null,{"$f":"$C$50","v":"Unknown   U"},{"$f":"IF($D$50=\"Concern\",\"(U)\",IF(OR($D$50=\"Fair\",$D$50=\"Poor\"),\"U\",\"\"))","v":""}]
[null,"Comments:",null,null,null,null,null,"*  Suspected Source  ",null,null,null,null,null,null,null,null,null,null,null,null,null,null,null,null,null,null,null,null,null,null,null,null,null,null,null,null,null,null,null,null,null,null,null,null,null,null,null,null,null,null,null,null,null,null,null,null,null,null,null,null,null,null,null,null,null,null,null,null,null,null,null,null,null,null,null,null,null,null,null,null,null,null,null,null,null,null,null,null,null,null,null,null,{"$f":"$C$32","v":"Spec. Chem.  Ag"},{"$f":"IF($D$32=\"Concern\",\"(\"&CN44&\")\",IF(OR($D$32=\"Fair\",$D$32=\"Poor\"),CN44,\"\"))","v":""},null,null,null,null,null,null,null,null,null,null,null,null,null,null,null,null,null,null,null,null,null,null,null,null,null,null,null,null,null,null,null,null,null,null,null,null,null,null,null,null,null,null,null,null,null,null,null,null,null,null,null,null,null,null,null,null,null,null,null,null,null,null,null,null,null,null,null,null,null,null,null,null,null,null,null,null,null,null,null,null,null,null,null,null,null,null,null,null,null,null,null,null,null,null,null,null,null,null,null,null,null,null,null,null,null,null,null,null,null,null,null,null,null,null,null,null,null,null,null,null,null,null,null,null,null,null,null,null,{"$f":"$C$48","v":"Spec. Chem.   PCB"},{"$f":"IF($D$48=\"Concern\",\"(\"&HN45&\")\",IF(OR($D$48=\"Fair\",$D$32=\"Poor\"),HN45,\"\"))","v":""},null,null,null,null,null,null,null,null,null,null,null,null,null,null,null,null,null,null,null,null,null,null,null,null,{"$f":"$C$51","v":"Spec. Chem.   DDT"},{"$f":"IF($D$51=\"Concern\",\"(\"&IN44&\")\",IF(OR($D$51=\"Fair\",$D$51=\"Poor\"),IN44,\"\"))","v":""}]
[null,null,null,null,null,null,null,"** Potential Source  ",null,null,null,null,null,null,null,null,null,null,null,null,null,null,null,null,null,null,null,null,null,null,null,null,null,null,null,null,null,null,null,null,null,null,null,null,null,null,null,null,null,null,null,null,null,null,null,null,null,null,null,null,null,null,null,null,null,null,null,null,null,null,null,null,null,null,null,null,null,null,null,null,null,null,null,null,null,null,null,null,null,null,null,null,{"$f":"IF($C$33=\"\",\"\",$C$33)","v":""},{"$f":"IF($D$33=\"Concern\",\"(**)\",IF(OR($D$33=\"Fair\",$D$33=\"Poor\"),\"**\",\"\"))","v":""},null,null,null,null,null,null,null,null,null,null,null,null,null,null,null,null,null,null,null,null,null,null,null,null,null,null,null,null,null,null,null,null,null,null,null,null,null,null,null,null,null,null,null,null,null,null,null,null,null,null,null,null,null,null,null,null,null,null,null,null,null,null,null,null,null,null,null,null,null,null,null,null,null,null,null,null,null,null,null,null,null,null,null,null,null,null,null,null,null,null,null,null,null,null,null,null,null,null,null,null,null,null,null,null,null,null,null,null,null,null,null,null,null,null,null,null,null,null,null,null,null,null,null,null,null,null,null,null,{"$f":"IF($C$49=\"\",\"\",$C$49)","v":""},{"$f":"IF($D$49=\"Concern\",\"(**)\",IF(OR($D$49=\"Fair\",$D$49=\"Poor\"),\"**\",\"\"))","v":""},null,null,null,null,null,null,null,null,null,null,null,null,null,null,null,null,null,null,null,null,null,null,null,null,{"$f":"IF($C$52=\"\",\"\",$C$52)","v":""},{"$f":"IF($D$52=\"Concern\",\"(**)\",IF(OR($D$52=\"Fair\",$D$52=\"Poor\"),\"**\",\"\"))","v":""}]
[null,null,null,null,null,null,null,"No asterisk: Known Source  "]
[null,null,null,null,null,null,null,"[Out of Segment Source ]  "]
[]
[]
[]
[null,"SegNameLong:  ","bbbbbb"]
[null,"Seg Name:  ","bbb"]
[null,"Seg Num:  "]
[null,"Seg Size:  "]
[null,"Seg Class:  "]
[]
[]
[]
[]
[]
[]
[]
[]
[]
[]
[]
[]
[null,null,null,{"$f":"A99","v":""}]
[null,null,null,{"$f":"B99","v":""}]
[null,null,null,{"$f":"C99","v":""}]
[null,null,null,{"$f":"D99","v":""}]
[null,null,null,{"$f":"E99","v":""}]
[null,null,null,{"$f":"F99","v":""}]
[null,null,null,{"$f":"G99","v":""}]
[null,null,null,{"$f":"H99","v":""}]
[null,null,null,{"$f":"I99","v":""}]
[]
[]
[]
[]
[]
[]
[]
[]
[]
[]
[]
[]
[]
[{"$f":"TRIM(A101&\" \"&A102&\" \"&A103&\" \"&A104&\" \"&A105&\" \"&A106)","v":""},{"$f":"TRIM(B101&\" \"&B102&\" \"&B103&\" \"&B104&\" \"&B105&\" \"&B106)","v":""},"","","","","","",""]

{"sheet":"Seg3","index":7,"n_rows":99,"n_cols":311,"rows_kept":99,"cut":false,"hidden":false,"merged":[[15,1,20,1],[15,4,20,4],[15,5,20,5],[15,6,20,6],[15,7,20,7],[13,1,14,1],[13,2,14,3],[13,4,14,4],[13,5,14,5],[14,6,14,7],[27,1,29,1],[27,4,29,4],[27,5,29,5],[27,6,29,6],[27,7,29,7],[21,1,26,1],[21,4,26,4],[21,5,26,5],[21,6,26,6],[21,7,26,7],[49,6,51,6],[49,7,51,7],[30,1,32,1],[30,4,32,4],[30,5,32,5],[30,6,32,6],[30,7,32,7],[33,1,34,1],[33,4,34,4],[33,5,34,5],[33,6,34,6],[33,7,34,7],[43,91,45,94],[35,1,38,1],[35,4,38,4],[35,5,38,5],[35,6,38,6],[35,7,38,7],[39,1,40,1],[39,4,40,4],[39,5,40,5],[39,6,40,6],[39,7,40,7],[52,1,55,1],[43,247,45,250],[44,221,46,224],[47,1,48,1],[47,4,48,4],[47,5,48,5],[47,6,48,6],[47,7,48,7],[41,1,46,1],[41,4,46,4],[41,5,46,5],[41,6,46,6],[41,7,46,7],[49,1,51,1],[49,4,51,4],[49,5,51,5]]}
[]
[]
[]
[]
[null,null,null,null,null,null,null,null,null,null,null,null,null,null,null,null,null,null,null,null,null,null,null,null,null,null,null,null,null,null,null,null,null,null,null,null,null,null,null,null,null,null,null,null,null,null,null,null,null,null,null,null,null,null,null,null,null,null,null,null,null,null,null,null,null,null,null,null,null,null,null,null,null,null,null,null,null,null,null,null,null,null,null,null,null,null,null,null,null,null,null,null,null,null,null,null,null,null,null,null,null,null,null,null,null,null,null,null,null,null,null,null,null,null,null,null,null,null,null,null,null,null,null,null,null,null,null,null,null,null,null,null,null,null,null,null,null,null,null,null,null,null,null,null,null,null,null,null,null,null,null,null,null,null,null,null,null,null,null,null,null,null,null,null,null,null,null,null,null,null,null,null,null,null,null,null,null,null,null,null,null,null,null,null,null,null,null,null,null,null,null,null,null,null,null,null,null,null,null,null,null,null,null,null,null,null,null,null,null,null,null,null,null,null,null,null,null,null,null,null,null,null,null,null,null,null,null,null,null,null,null,null,null,null,null,null,null,null,null,null,null,null,null,null,null,null,null,null,null,null,null,null,null,null,null,null,null,null,null,null,null,null,null,null,null,null,null,null,null,null,null,null,null,null,null,null,null,null,null,null,null,null,null,null,null,"List of all codes from all groups for this segment, organized by Source Type. "]
[null,null,null,null,null,null,null,null,null,null,null,null,null,null,null,null,null,null,null,null,null,null,null,null,null,null,null,null,null,null,null,null,null,null,null,null,null,null,null,null,null,null,null,null,null,null,null,null,null,null,null,null,null,null,null,null,null,null,null,null,null,null,null,null,null,null,null,null,null,null,null,null,null,null,null,null,null,null,null,null,null,null,null,null,null,null,null,null,null,null,null,null,null,null,null,null,null,null,null,null,null,null,null,null,null,null,null,null,null,null,null,null,null,null,null,null,null,null,null,null,null,null,null,null,null,null,null,null,null,null,null,null,null,null,null,null,null,null,null,null,null,null,null,null,null,null,null,null,null,null,null,null,null,null,null,null,null,null,null,null,null,null,null,null,null,null,null,null,null,null,null,null,null,null,null,null,null,null,null,null,null,null,null,null,null,null,null,null,null,null,null,null,null,null,null,null,null,null,null,null,null,null,null,null,null,null,null,null,null,null,null,null,null,null,null,null,null,null,null,null,null,null,null,null,null,null,null,null,null,null,null,null,null,null,null,null,null,null,null,null,null,null,null,null,null,null,null,null,null,null,null,null,null,null,null,null,null,null,null,null,null,null,null,null,null,null,null,null,null,null,null,null,null,null,null,null,null,null,null,null,null,null,null,null,null,"List is updated only when \"SourceRC_List\" macro is run. Macro is run manually by touching button at right or when Source report card is activated."]
[null,null,null,null,null,null,null,null,null,null,null,null,null,null,null,null,null,null,null,null,null,null,null,null,null,null,null,null,null,null,null,null,null,null,null,null,null,null,null,null,null,null,null,null,null,null,null,null,null,null,null,null,null,null,null,null,null,null,null,null,null,null,null,null,null,null,null,null,null,null,null,null,null,null,null,null,null,null,null,null,null,null,null,null,null,null,null,null,null,null,null,null,null,null,null,null,null,null,null,null,null,null,null,null,null,null,null,null,null,null,null,null,null,null,null,null,null,null,null,null,null,null,null,null,null,null,null,null,null,null,null,null,null,null,null,null,null,null,null,null,null,null,null,null,null,null,null,null,null,null,null,null,null,null,null,null,null,null,null,null,null,null,null,null,null,null,null,null,null,null,null,null,null,null,null,null,null,null,null,null,null,null,null,null,null,null,null,null,null,null,null,null,null,null,null,null,null,null,null,null,null,null,null,null,null,null,null,null,null,null,null,null,null,null,null,null,null,null,null,null,null,null,null,null,null,null,null,null,null,null,null,null,null,null,null,null,null,null,null,null,null,null,null,null,null,null,null,null,null,null,null,null,null,null,null,null,null,null,null,null,null,null,null,null,null,null,null,null,null,null,null,null,null,null,null,null,null,null,null,null,null,null,null,null,null,"Numbers indicate knowledge about the certainty of assessment: 0 = N/A, 1 = Potential Source, 2 = Suspected Source, 3 = Known Source."]
[null,null,null,null,null,null,null,null,null,null,null,null,null,null,null,null,null,null,null,null,null,null,null,null,null,null,null,null,null,null,null,null,null,null,null,null,null,null,null,null,null,null,null,null,null,null,null,null,null,null,null,null,null,null,null,null,null,null,null,null,null,null,null,null,null,null,null,null,null,null,null,null,null,null,null,null,null,null,null,null,null,null,null,null,null,null,null,null,null,null,null,null,null,null,null,null,null,null,null,null,null,null,null,null,null,null,null,null,null,null,null,null,null,null,null,null,null,null,null,null,null,null,null,null,null,null,null,null,null,null,null,null,null,null,null,null,null,null,null,null,null,null,null,null,null,null,null,null,null,null,null,null,null,null,null,null,null,null,null,null,null,null,null,null,null,null,null,null,null,null,null,null,null,null,null,null,null,null,null,null,null,null,null,null,null,null,null,null,null,null,null,null,null,null,null,null,null,null,null,null,null,null,null,null,null,null,null,null,null,null,null,null,null,null,null,null,null,null,null,null,null,null,null,null,null,null,null,null,null,null,null,null,null,null,null,null,null,null,null,null,null,null,null,null,null,null,null,null,null,null,null,null,null,null,null,null,null,null,null,null,null,null,null,null,null,null,null,null,null,null,null,null,null,null,null,null,null,null,null,null,null,null,null,null,null,"This list is then processed below to remove duplicates."]
[null,null,null,null,null,null,null,null,null,null,null,null,null,"Designate Point & Non-Point Sources",null,null,null,null,null,null,null,null,null,null,null,null,null,null,null,null,null,null,null,null,null,null,null,null,null,"Designate Point & Non-Point Sources",null,null,null,null,null,null,null,null,null,null,null,null,null,null,null,null,null,null,null,null,null,null,null,null,null,"Designate Point & Non-Point Sources",null,null,null,null,null,null,null,null,null,null,null,null,null,null,null,null,null,null,null,null,null,null,null,null,null,"Designate Point & Non-Point Sources",null,null,null,null,null,null,null,null,null,null,null,null,null,null,null,null,null,null,null,null,null,null,null,null,null,"Designate Point & Non-Point Sources",null,null,null,null,null,null,null,null,null,null,null,null,null,null,null,null,null,null,null,null,null,null,null,null,null,"Designate Point & Non-Point Sources",null,null,null,null,null,null,null,null,null,null,null,null,null,null,null,null,null,null,null,null,null,null,null,null,null,"Designate Point & Non-Point Sources",null,null,null,null,null,null,null,null,null,null,null,null,null,null,null,null,null,null,null,null,null,null,null,null,null,"Designate Point & Non-Point Sources",null,null,null,null,null,null,null,null,null,null,null,null,null,null,null,null,null,null,null,null,null,null,null,null,null,"Designate Point & Non-Point Sources",null,null,null,null,null,null,null,null,null,null,null,null,null,null,null,null,null,null,null,null,null,null,null,null,null,"Designate Point & Non-Point Sources"]
[null,null,null,null,null,null,null,null,null,null,null,null,null,null,null,null,null,null,null,null,null,null,null,"Codes selected at left are distributed according to Source Type. "]
[null,{"$f":"\"River Basin: \"&RiverBasinName","v":"River Basin: Test River Basin"},null,null,null,null,{"$f":"\"Data Year:  \"&AssessmentYear","v":"Data Year:  2011"},null,null,null,null,null,null,null,null,null,null,null,null,null,null,null,null,"Numbers indicate confidence of assessment: 0 = N/A, 1 = Potential Source, 2 = Suspected Source, 3 = Known Source.",null,null,null,null,null,null,null,null,null,null,null,null,null,null,null,null,null,null,null,null,null,null,null,null,null,null,null,null,null,null,null,null,null,null,null,null,null,null,null,null,null,null,null,null,null,null,null,null,null,null,null,null,null,null,null,null,null,null,null,null,null,null,null,null,null,null,null,null,null,null,null,null,null,null,null,null,null,null,null,null,null,null,null,null,null,null,null,null,null,null,null,null,null,null,null,null,null,null,null,null,null,null,null,null,null,null,null,null,null,null,null,null,null,null,null,null,null,null,null,null,null,null,null,null,null,null,null,null,null,null,null,null,null,null,null,null,null,null,null,null,null,null,null,null,null,null,null,null,null,null,null,null,null,null,null,null,null,null,null,null,null,null,null,null,null,null,null,null,null,null,null,null,null,null,null,null,null,null,null,null,null,null,null,null,null,null,null,null,null,null,null,null,null,null,null,null,null,null,null,null,null,null,null,null,null,null,null,null,null,null,null,null,null,null,null,null,null,null,null,null,null,null,null,null,null,null,null,null,null,null,null,null,null,null,null,null,null,null,null,null,null,null,null,null,null,null,null,null,null,null,null,null,null,null,null,null,null,null,null,null,null,null,"Municp",null,null,"Industr",null,null,"St Water",null,null,"Res Ext",null,null,"Land Dis",null,null,"Seds",null,null,"Hydro",null,null,"Other",null,null,"Unknown"]
[null,{"$f":"\"Segment Name: \"&C60","v":"Segment Name: cccccc"},null,null,null,null,null,null,null,null,null,null,null,null,null,null,null,null,null,null,null,null,null,"These codes are processed by \"SourceRC_List macro and transferred to Source report card."]
[null,{"$f":"\"Class: \"&C64","v":"Class: "},null,{"$f":"\"Size: \"&C63","v":"Size: "},null,null,{"$f":"\"Seg ID #: \"&C62","v":"Seg ID #: "}]
[null,"CATEGORY","INDICATOR ASSESSMENT",null,"OVERALL STATUS","DATA LEVEL","POINT","NONPOINT",null,null,null,null,null,"Point Sources",null,null,null,null,null,null,null,null,null,"Municipal",null,null,"Industrial",null,null,"Storm Water",null,null,"Resource Ext",null,null,"Land Disposal",null,null,null,"Point Sources",null,null,null,null,null,null,null,null,null,"Municipal",null,null,"Industrial",null,null,"Storm Water",null,null,"Resource Ext",null,null,"Land Disposal",null,null,null,"Point Sources",null,null,null,null,null,null,null,null,null,"Municipal",null,null,"Industrial",null,null,"Storm Water",null,null,"Resource Ext",null,null,"Land Disposal",null,null,null,"Point Sources",null,null,null,null,null,null,null,null,null,"Municipal",null,null,"Industrial",null,null,"Storm Water",null,null,"Resource Ext",null,null,"Land Disposal",null,null,null,"Point Sources",null,null,null,null,null,null,null,null,null,"Municipal",null,null,"Industrial",null,null,"Storm Water",null,null,"Resource Ext",null,null,"Land Disposal",null,null,null,"Point Sources",null,null,null,null,null,null,null,null,null,"Municipal",null,null,"Industrial",null,null,"Storm Water",null,null,"Resource Ext",null,null,"Land Disposal",null,null,null,"Point Sources",null,null,null,null,null,null,null,null,null,"Municipal",null,null,"Industrial",null,null,"Storm Water",null,null,"Resource Ext",null,null,"Land Disposal",null,null,null,"Point Sources",null,null,null,null,null,null,null,null,null,"Municipal",null,null,"Industrial",null,null,"Storm Water",null,null,"Resource Ext",null,null,"Land Disposal",null,null,null,"Point Sources",null,null,null,null,null,null,null,null,null,"Municipal",null,null,"Industrial",null,null,"Storm Water",null,null,"Resource Ext",null,null,"Land Disposal",null,null,null,"Point Sources",null,null,null,null,null,null,null,null,null,"Municipal",null,null,"Industrial",null,null,"Storm Water",null,null,"Resource Ext",null,null,"Land Disposal"]
[null,null,null,null,null,null,"Click below to select Sources"]
[null,"Biology","Plank/Peri.   A","NA","NA","NA",{"$f":"$O$15&\"  \"&$O$16&\"  \"&$O$17&\"  \"&$O$18&\"  \"&$O$19&\"  \"&$O$20","v":"          "},{"$f":"$O$28&\"  \"&$O$29&\"  \"&$O$30&\"  \"&$O$31&\"  \"&$O$32&\"  \"&$O$33","v":"          "}]
[null,null,"Macrophyton   M","NA"]
[null,null,"Invertebrates   I","NA"]
[null,null,"Fish   F","NA"]
[null,null,"Wildlife   W","NA"]
[]
[null,"Chemistry","Dis. Oxygen    DO","NA","NA","NA",{"$f":"$AO$15&\"  \"&$AO$16&\"  \"&$AO$17&\"  \"&$AO$18&\"  \"&$AO$19&\"  \"&$AO$20","v":"          "},{"$f":"$AO$28&\"  \"&$AO$29&\"  \"&$AO$30&\"  \"&$AO$31&\"  \"&$AO$32&\"  \"&$AO$33","v":"          "}]
[null,null,"pH     pH","NA"]
[null,null,"Temperature    T","NA"]
[null,null,"Ionic Strength    Z","NA"]
[null,null,"Sus. Solids    SS","NA"]
[null,null,null,null,null,null,null,null,null,null,null,null,null,"Non Point Sources",null,null,null,null,null,null,null,null,null,"Seds",null,null,"Hydromodification",null,null,"Other",null,null,"Unknown",null,null,null,null,null,null,"Non Point Sources",null,null,null,null,null,null,null,null,null,"Seds",null,null,"Hydromodification",null,null,"Other",null,null,"Unknown",null,null,null,null,null,null,"Non Point Sources",null,null,null,null,null,null,null,null,null,"Seds",null,null,"Hydromodification",null,null,"Other",null,null,"Unknown",null,null,null,null,null,null,"Non Point Sources",null,null,null,null,null,null,null,null,null,"Seds",null,null,"Hydromodification",null,null,"Other",null,null,"Unknown",null,null,null,null,null,null,"Non Point Sources",null,null,null,null,null,null,null,null,null,"Seds",null,null,"Hydromodification",null,null,"Other",null,null,"Unknown",null,null,null,null,null,null,"Non Point Sources",null,null,null,null,null,null,null,null,null,"Seds",null,null,"Hydromodification",null,null,"Other",null,null,"Unknown",null,null,null,null,null,null,"Non Point Sources",null,null,null,null,null,null,null,null,null,"Seds",null,null,"Hydromodification",null,null,"Other",null,null,"Unknown",null,null,null,null,null,null,"Non Point Sources",null,null,null,null,null,null,null,null,null,"Seds",null,null,"Hydromodification",null,null,"Other",null,null,"Unknown",null,null,null,null,null,null,"Non Point Sources",null,null,null,null,null,null,null,null,null,"Seds",null,null,"Hydromodification",null,null,"Other",null,null,"Unknown",null,null,null,null,null,null,"Non Point Sources",null,null,null,null,null,null,null,null,null,"Seds",null,null,"Hydromodification",null,null,"Other",null,null,"Unknown"]
[null,"Nutrients","Phosphorus  P","NA","NA","NA",{"$f":"$BO$15&\"  \"&$BO$16&\"  \"&$BO$17&\"  \"&$BO$18&\"  \"&$BO$19&\"  \"&$BO$20","v":"          "},{"$f":"$BO$28&\"  \"&$BO$29&\"  \"&$BO$30&\"  \"&$BO$31&\"  \"&$BO$32&\"  \"&$BO$33","v":"          "}]
[null,null,"Nitrogen   N","NA"]
[]
[null,"Toxicity","Unknown   U","NA","NA","NA",{"$f":"$CO$15&\"  \"&$CO$16&\"  \"&$CO$17&\"  \"&$CO$18&\"  \"&$CO$19&\"  \"&$CO$20","v":"          "},{"$f":"$CO$28&\"  \"&$CO$29&\"  \"&$CO$30&\"  \"&$CO$31&\"  \"&$CO$32&\"  \"&$CO$33","v":"          "}]
[null,null,{"$f":"\"Spec. Chem.  \"&CN44","v":"Spec. Chem.  Ag"},"NA"]
[null,null,null,null,null,null,null,null,null,null,null,null,null,null,null,null,null,null,null,null,null,null,null,null,null,null,null,null,null,null,null,null,null,null,null,null,null,null,null,null,null,null,null,null,null,null,null,null,null,null,null,null,null,null,null,null,null,null,null,null,null,null,null,null,null,null,null,null,null,null,null,null,null,null,null,null,null,null,null,null,null,null,null,null,null,null,null,null,null,null,null,null,null,null,null,null,null,null,null,null,null,null,null,null,null,null,null,null,null,null,null,null,null,null,null,null,null,null,null,null,null,null,null,null,null,null,null,null,null,null,null,null,null,null,null,null,null,null,null,null,null,null,null,null,null,null,null,null,null,null,null,null,null,null,null,null,null,null,null,null,null,null,null,null,null,null,null,null,null,null,null,null,null,null,null,null,null,null,null,null,null,null,null,null,null,null,null,null,null,null,null,null,null,null,null,null,null,null,null,null,null,null,null,null,null,null,null,null,null,null,null,null,null,null,null,null,null,null,null,null,null,null,null,null,null,null,null,null,null,null,null,null,null,null,null,null,null,null,null,null,null,null,null,null,null,null,null,null,null,null,null,null,null,null,null,null,null,null,null,null,null,null,null,null,null,null,null,null,null,null,null,null,null,null,null,null,null,null,null,null,null,null,null,null,null,"The colored cells below reflect this segments pollution status and are replicated on the Sources report card automatically"]
[null,"Flow","Flow  Q","NA","NA","NA",{"$f":"$DO$15&\"  \"&$DO$16&\"  \"&$DO$17&\"  \"&$DO$18&\"  \"&$DO$19&\"  \"&$DO$20","v":"          "},{"$f":"$DO$28&\"  \"&$DO$29&\"  \"&$DO$30&\"  \"&$DO$31&\"  \"&$DO$32&\"  \"&$DO$33","v":"          "},null,null,null,null,null,null,null,null,null,null,null,null,null,null,null,null,null,null,null,null,null,null,null,null,null,null,null,null,null,null,null,null,null,null,null,null,null,null,null,null,null,null,null,null,null,null,null,null,null,null,null,null,null,null,null,null,null,null,null,null,null,null,null,null,null,null,null,null,null,null,null,null,null,null,null,null,null,null,null,null,null,null,null,null,null,null,null,null,null,null,null,null,null,null,null,null,null,null,null,null,null,null,null,null,null,null,null,null,null,null,null,null,null,null,null,null,null,null,null,null,null,null,null,null,null,null,null,null,null,null,null,null,null,null,null,null,null,null,null,null,null,null,null,null,null,null,null,null,null,null,null,null,null,null,null,null,null,null,null,null,null,null,null,null,null,null,null,null,null,null,null,null,null,null,null,null,null,null,null,null,null,null,null,null,null,null,null,null,null,null,null,null,null,null,null,null,null,null,null,null,null,null,null,null,null,null,null,null,null,null,null,null,null,null,null,null,null,null,null,null,null,null,null,null,null,null,null,null,null,null,null,null,null,null,null,null,null,null,null,null,null,null,null,null,null,null,null,null,null,null,null,null,null,null,null,null,null,null,null,null,null,null,null,null,null,null,null,null,null,null,null,null,null,null,null,null,null,null,{"$f":"KA11","v":"Municp"},null,null,{"$f":"KD11","v":"Industr"},null,null,{"$f":"KG11","v":"St Water"},null,null,{"$f":"KJ11","v":"Res Ext"},null,null,{"$f":"KM11","v":"Land Dis"},null,null,{"$f":"KP11","v":"Seds"},null,null,{"$f":"KS11","v":"Hydro"},null,null,{"$f":"KV11","v":"Other"},null,null,{"$f":"KY11","v":"Unknown"}]
[null,null,null,null,null,null,null,null,null,null,null,null,null,"* designates a Suspected Source",null,null,null,null,null,null,null,null,null,null,null,null,null,null,null,null,null,null,null,null,null,null,null,null,null,"* designates a Suspected Source",null,null,null,null,null,null,null,null,null,null,null,null,null,null,null,null,null,null,null,null,null,null,null,null,null,"* designates a Suspected Source",null,null,null,null,null,null,null,null,null,null,null,null,null,null,null,null,null,null,null,null,null,null,null,null,null,"* designates a Suspected Source",null,null,null,null,null,null,null,null,null,null,null,null,null,null,null,null,null,null,null,null,null,null,null,null,null,"* designates a Suspected Source",null,null,null,null,null,null,null,null,null,null,null,null,null,null,null,null,null,null,null,null,null,null,null,null,null,"* designates a Suspected Source",null,null,null,null,null,null,null,null,null,null,null,null,null,null,null,null,null,null,null,null,null,null,null,null,null,"* designates a Suspected Source",null,null,null,null,null,null,null,null,null,null,null,null,null,null,null,null,null,null,null,null,null,null,null,null,null,"* designates a Suspected Source",null,null,null,null,null,null,null,null,null,null,null,null,null,null,null,null,null,null,null,null,null,null,null,null,null,"* designates a Suspected Source",null,null,null,null,null,null,null,null,null,null,null,null,null,null,null,null,null,null,null,null,null,null,null,null,null,null,null,null,null,null,null,null,null,null,null,null,null,null,null,null,null,null,null,null,null,null,null,null,null,null,null,null,null,null,null,null,null,null,null,null,null,null,null,null,{"$f":"TRIM(KA41&\" \"&KA42&\" \"&KA43&\" \"&KA44&\" \"&KA45&\" \"&KA46)","v":""},null,null,{"$f":"TRIM(KD41&\" \"&KD42&\" \"&KD43&\" \"&KD44&\" \"&KD45&\" \"&KD46)","v":""},null,null,{"$f":"TRIM(KG41&\" \"&KG42&\" \"&KG43&\" \"&KG44&\" \"&KG45&\" \"&KG46)","v":""},null,null,{"$f":"TRIM(KJ41&\" \"&KJ42&\" \"&KJ43&\" \"&KJ44&\" \"&KJ45&\" \"&KJ46)","v":""},null,null,{"$f":"TRIM(KM41&\" \"&KM42&\" \"&KM43&\" \"&KM44&\" \"&KM45&\" \"&KM46)","v":""},null,null,{"$f":"TRIM(KP41&\" \"&KP42&\" \"&KP43&\" \"&KP44&\" \"&KP45&\" \"&KP46)","v":""},null,null,{"$f":"TRIM(KS41&\" \"&KS42&\" \"&KS43&\" \"&KS44&\" \"&KS45&\" \"&KS46)","v":""},null,null,{"$f":"TRIM(KV41&\" \"&KV42&\" \"&KV43&\" \"&KV44&\" \"&KV45&\" \"&KV46)","v":""},null,null,{"$f":"TRIM(KY41&\" \"&KY42&\" \"&KY43&\" \"&KY44&\" \"&KY45&\" \"&KY46)","v":""}]
[null,"Habitat","Substrate   S","NA","NA","NA",{"$f":"$EO$15&\"  \"&$EO$16&\"  \"&$EO$17&\"  \"&$EO$18&\"  \"&$EO$19&\"  \"&$EO$20","v":"          "},{"$f":"$EO$28&\"  \"&$EO$29&\"  \"&$EO$30&\"  \"&$EO$31&\"  \"&$EO$32&\"  \"&$EO$33","v":"          "},null,null,null,null,null,"** designates a Potential Source",null,null,null,null,null,null,null,null,null,null,null,null,null,null,null,null,null,null,null,null,null,null,null,null,null,"** designates a Potential Source",null,null,null,null,null,null,null,null,null,null,null,null,null,null,null,null,null,null,null,null,null,null,null,null,null,"** designates a Potential Source",null,null,null,null,null,null,null,null,null,null,null,null,null,null,null,null,null,null,null,null,null,null,null,null,null,"** designates a Potential Source",null,null,null,null,null,null,null,null,null,null,null,null,null,null,null,null,null,null,null,null,null,null,null,null,null,"** designates a Potential Source",null,null,null,null,null,null,null,null,null,null,null,null,null,null,null,null,null,null,null,null,null,null,null,null,null,"** designates a Potential Source",null,null,null,null,null,null,null,null,null,null,null,null,null,null,null,null,null,null,null,null,null,null,null,null,null,"** designates a Potential Source",null,null,null,null,null,null,null,null,null,null,null,null,null,null,null,null,null,null,null,null,null,null,null,null,null,"** designates a Potential Source",null,null,null,null,null,null,null,null,null,null,null,null,null,null,null,null,null,null,null,null,null,null,null,null,null,"** designates a Potential Source"]
[null,null,"Morphology   H","NA",null,null,null,null,null,null,null,null,null,"No asterisk designates a Known Source",null,null,null,null,null,null,null,null,null,null,null,null,null,null,null,null,null,null,null,null,null,null,null,null,null,"No asterisk designates a Known Source",null,null,null,null,null,null,null,null,null,null,null,null,null,null,null,null,null,null,null,null,null,null,null,null,null,"No asterisk designates a Known Source",null,null,null,null,null,null,null,null,null,null,null,null,null,null,null,null,null,null,null,null,null,null,null,null,null,"No asterisk designates a Known Source",null,null,null,null,null,null,null,null,null,null,null,null,null,null,null,null,null,null,null,null,null,null,null,null,null,"No asterisk designates a Known Source",null,null,null,null,null,null,null,null,null,null,null,null,null,null,null,null,null,null,null,null,null,null,null,null,null,"No asterisk designates a Known Source",null,null,null,null,null,null,null,null,null,null,null,null,null,null,null,null,null,null,null,null,null,null,null,null,null,"No asterisk designates a Known Source",null,null,null,null,null,null,null,null,null,null,null,null,null,null,null,null,null,null,null,null,null,null,null,null,null,"No asterisk designates a Known Source",null,null,null,null,null,null,null,null,null,null,null,null,null,null,null,null,null,null,null,null,null,null,null,null,null,"No asterisk designates a Known Source",null,null,null,null,null,null,null,null,null,null,null,null,null,null,null,null,null,null,null,null,null,null,null,null,null,null,null,null,null,null,null,null,null,null,null,null,null,null,null,null,null,null,null,null,null,null,null,null,null,null,null,null,null,null,null,null,null,null,null,null,null,null,null,"max confid #",{"$f":"MAX(KB11:KB31)","v":0},null,null,{"$f":"MAX(KE11:KE31)","v":0},null,null,{"$f":"MAX(KH11:KH31)","v":0},null,null,{"$f":"MAX(KK11:KK31)","v":0},null,null,{"$f":"MAX(KN11:KN31)","v":0},null,null,{"$f":"MAX(KQ11:KQ31)","v":0},null,null,{"$f":"MAX(KT11:KT31)","v":0},null,null,{"$f":"MAX(KW11:KW31)","v":0},null,null,{"$f":"MAX(KZ11:KZ31)","v":0}]
[null,null,"Riparian Zone   R","NA",null,null,null,null,null,null,null,null,null,"Square brackets designates an Out of Segment Source (i.e., pollutant is a source for downstream segments)",null,null,null,null,null,null,null,null,null,null,null,null,null,null,null,null,null,null,null,null,null,null,null,null,null,"Square brackets designates an Out of Segment Source (i.e., pollutant is a source for downstream segments)",null,null,null,null,null,null,null,null,null,null,null,null,null,null,null,null,null,null,null,null,null,null,null,null,null,"Square brackets designates an Out of Segment Source (i.e., pollutant is a source for downstream segments)",null,null,null,null,null,null,null,null,null,null,null,null,null,null,null,null,null,null,null,null,null,null,null,null,null,"Square brackets designates an Out of Segment Source (i.e., pollutant is a source for downstream segments)",null,null,null,null,null,null,null,null,null,null,null,null,null,null,null,null,null,null,null,null,null,null,null,null,null,"Square brackets designates an Out of Segment Source (i.e., pollutant is a source for downstream segments)",null,null,null,null,null,null,null,null,null,null,null,null,null,null,null,null,null,null,null,null,null,null,null,null,null,"Square brackets designates an Out of Segment Source (i.e., pollutant is a source for downstream segments)",null,null,null,null,null,null,null,null,null,null,null,null,null,null,null,null,null,null,null,null,null,null,null,null,null,"Square brackets designates an Out of Segment Source (i.e., pollutant is a source for downstream segments)",null,null,null,null,null,null,null,null,null,null,null,null,null,null,null,null,null,null,null,null,null,null,null,null,null,"Square brackets designates an Out of Segment Source (i.e., pollutant is a source for downstream segments)",null,null,null,null,null,null,null,null,null,null,null,null,null,null,null,null,null,null,null,null,null,null,null,null,null,"Square brackets designates an Out of Segment Source (i.e., pollutant is a source for downstream segments)",null,null,null,null,null,null,null,null,null,null,null,null,null,null,null,null,null,null,null,null,null,null,null,null,null,null,null,null,null,null,null,null,null,null,null,null,null,null,null,null,null,null,null,null,null,null,null,null,null,null,null,null,null,null,null,null,null,null,null,null,null,null,null,"The lists below show unique codes in lists assembled above. Numbers are max confidence #, used to color cells for worst case. The codes are catenated in the colored boxes above for transfer to Sources RC when that sheet is activated."]
[]
[null,"Bacteria","Bacteria   B","NA","NA","NA",{"$f":"$FO$15&\"  \"&$FO$16&\"  \"&$FO$17&\"  \"&$FO$18&\"  \"&$FO$19&\"  \"&$FO$20","v":"          "},{"$f":"$FO$28&\"  \"&$FO$29&\"  \"&$FO$30&\"  \"&$FO$31&\"  \"&$FO$32&\"  \"&$FO$33","v":"          "},null,null,null,null,null,null,null,null,null,null,null,null,null,null,null,null,null,null,null,null,null,null,null,null,null,null,null,null,null,null,null,null,null,null,null,null,null,null,null,null,null,null,null,null,null,null,null,null,null,null,null,null,null,null,null,null,null,null,null,null,null,null,null,null,null,null,null,null,null,null,null,null,null,null,null,null,null,null,null,null,null,null,null,null,null,null,null,null,null,null,null,null,null,null,null,null,null,null,null,null,null,null,null,null,null,null,null,null,null,null,null,null,null,null,null,null,null,null,null,null,null,null,null,null,null,null,null,null,null,null,null,null,null,null,null,null,null,null,null,null,null,null,null,null,null,null,null,null,null,null,null,null,null,null,null,null,null,null,null,null,null,null,null,null,null,null,null,null,null,null,null,null,null,null,null,null,null,null,null,null,null,null,null,null,null,null,null,null,null,null,null,null,null,null,null,null,null,null,null,null,null,null,null,null,null,null,null,null,null,null,null,null,null,null,null,null,null,null,null,null,null,null,null,null,null,null,null,null,null,null,null,null,null,null,null,null,null,null,null,null,null,null,null,null,null,null,null,null,null,null,null,null,null,null,null,null,null,null,null,null,null,null,null,null,null,null,null,null,null,null,null,null,null,null,null,null,null,null,"Municp",null,null,"Industr",null,null,"St Water",null,null,"Res Ext",null,null,"Land Dis",null,null,"Seds",null,null,"Hydro",null,null,"Other",null,null,"Unknown"]
[]
[null,"Aesthetics","Oil & Grease   G","NA","NA","NA",{"$f":"$GO$15&\"  \"&$GO$16&\"  \"&$GO$17&\"  \"&$GO$18&\"  \"&$GO$19&\"  \"&$GO$20","v":"          "},{"$f":"$GO$28&\"  \"&$GO$29&\"  \"&$GO$30&\"  \"&$GO$31&\"  \"&$GO$32&\"  \"&$GO$33","v":"          "},null,null,null,null,null,null,null,null,null,null,null,null,null,null,null,null,null,null,null,null,null,null,null,null,null,null,null,null,null,null,null,null,null,null,null,null,null,null,null,null,null,null,null,null,null,null,null,null,null,null,null,null,null,null,null,null,null,null,null,null,null,null,null,null,null,null,null,null,null,null,null,null,null,null,null,null,null,null,null,null,null,null,null,"Identify the suspected toxic chemical substance below (e.g., Hg, PCB, etc). ",null,null,null,null,null,null,null,null,null,null,null,null,null,null,null,null,null,null,null,null,null,null,null,null,null,null,null,null,null,null,null,null,null,null,null,null,null,null,null,null,null,null,null,null,null,null,null,null,null,null,null,null,null,null,null,null,null,null,null,null,null,null,null,null,null,null,null,null,null,null,null,null,null,null,null,null,null,null,null,null,null,null,null,null,null,null,null,null,null,null,null,null,null,null,null,null,null,null,null,null,null,null,null,null,null,null,null,null,null,null,null,null,null,null,null,null,null,null,null,null,null,null,null,null,null,null,null,null,null,null,null,null,null,null,null,null,null,null,null,null,null,null,null,null,null,null,null,null,null,null,null,null,null,null,null,"Identify the suspected toxic chemical substance below (e.g., Hg, PCB, etc). "]
[null,null,"Taste & Odor   O","NA",null,null,null,null,null,null,null,null,null,null,"Pollution  Indicators (Causes):  ",null,{"$f":"P46&\" \"&P47&\" \"&P48&\" \"&P49&\" \"&P50&\" \"&P51","v":"     "},null,null,null,null,null,null,null,null,null,null,null,null,null,null,null,null,null,null,null,null,null,null,null,"Pollution  Indicators (Causes):  ",null,{"$f":"AP46&\" \"&AP47&\" \"&AP48&\" \"&AP49&\" \"&AP50&\" \"&AP51","v":"     "},null,null,null,null,null,null,null,null,null,null,null,null,null,null,null,null,null,null,null,null,null,null,null,"Pollution  Indicators (Causes):  ",null,{"$f":"BP46&\" \"&BP47&\" \"&BP48","v":"  "},null,null,null,null,null,null,null,null,null,null,null,null,null,null,null,null,null,null,null,null,null,null,null,null,null,null,null,null,null,null,null,null,null,null,null,null,null,null,null,null,null,null,null,null,null,null,null,null,null,"Pollution  Indicators (Causes):  ",null,{"$f":"DP46&\" \"&DP47","v":" "},null,null,null,null,null,null,null,null,null,null,null,null,null,null,null,null,null,null,null,null,null,null,null,"Pollution  Indicators (Causes):  ",null,{"$f":"EP46&\" \"&EP47&\" \"&EP48&\" \"&EP49","v":"   "},null,null,null,null,null,null,null,null,null,null,null,null,null,null,null,null,null,null,null,null,null,null,null,"Pollution  Indicators (Causes):  ",null,{"$f":"FP46&\" \"&FP47","v":" "},null,null,null,null,null,null,null,null,null,null,null,null,null,null,null,null,null,null,null,null,null,null,null,"Pollution  Indicators (Causes):  ",null,{"$f":"GP46&\" \"&GP47&\" \"&GP48&\" \"&GP49&\" \"&GP50&\" \"&GP51","v":"     "},null,null,null,null,null,null,null,null,null,null,null,null,null,null,null,null,null,null,null,null,null,null,"Identify the suspected toxic chemical substance below (e.g., Hg, PCB, etc). "]
[null,null,"Turb/Color   C","NA",null,null,null,null,null,null,null,null,null,null,null,null,null,null,null,null,null,null,null,null,null,null,null,null,null,null,null,null,null,null,null,null,null,null,null,null,null,null,null,null,null,null,null,null,null,null,null,null,null,null,null,null,null,null,null,null,null,null,null,null,null,null,null,null,null,null,null,null,null,null,null,null,null,null,null,null,null,null,null,null,null,null,null,null,null,null,null,"Ag",null,null,null,null,null,null,null,null,null,null,null,null,null,null,null,null,null,null,null,null,null,null,null,null,null,null,null,null,null,null,null,null,null,null,null,null,null,null,null,null,null,null,null,null,null,null,null,null,null,null,null,null,null,null,null,null,null,null,null,null,null,null,null,null,null,null,null,null,null,null,null,null,null,null,null,null,null,null,null,null,null,null,null,null,null,null,null,null,null,null,null,null,null,null,null,null,null,null,null,null,null,null,null,null,null,null,null,null,null,null,null,null,null,null,null,null,null,null,null,null,null,null,null,null,null,null,null,null,null,null,null,null,null,null,null,null,null,null,null,null,null,null,null,null,null,null,null,null,null,null,null,null,null,null,null,"DDT"]
[null,null,"Nuisance Plants   V","NA",null,null,null,null,null,null,null,null,null,null,{"$f":"$B$16","v":"Biology"},null,null,null,null,null,null,null,null,null,null,null,null,null,null,null,null,null,null,null,null,null,null,null,null,null,{"$f":"$B$22","v":"Chemistry"},null,null,null,null,null,null,null,null,null,null,null,null,null,null,null,null,null,null,null,null,null,null,null,null,null,{"$f":"$B$28","v":"Nutrients"},null,null,null,null,null,null,null,null,null,null,null,null,null,null,null,null,null,null,null,null,null,null,null,null,null,null,null,null,null,null,null,null,null,null,null,null,null,null,null,null,null,null,null,null,null,null,null,null,null,null,null,{"$f":"$B$34","v":"Flow"},null,null,null,null,null,null,null,null,null,null,null,null,null,null,null,null,null,null,null,null,null,null,null,null,null,{"$f":"$B$36","v":"Habitat"},null,null,null,null,null,null,null,null,null,null,null,null,null,null,null,null,null,null,null,null,null,null,null,null,null,{"$f":"$B$40","v":"Bacteria"},null,null,null,null,null,null,null,null,null,null,null,null,null,null,null,null,null,null,null,null,null,null,null,null,null,{"$f":"$B$42","v":"Aesthetics"},null,null,null,null,null,null,null,null,null,null,null,null,null,null,null,null,null,null,null,null,null,null,null,null,"PCB"]
[null,null,"Trash /Debris   D","NA",null,null,null,null,null,null,null,null,null,null,{"$f":"$C$16","v":"Plank/Peri.   A"},{"$f":"IF($D$16=\"Concern\",\"(A)\",IF(OR($D$16=\"Fair\",$D$16=\"Poor\"),\"A\",\"\"))","v":""},null,null,null,null,null,null,null,null,null,null,null,null,null,null,null,null,null,null,null,null,null,null,null,null,{"$f":"$C$22","v":"Dis. Oxygen    DO"},{"$f":"IF($D$22=\"Concern\",\"(DO)\",IF(OR($D$22=\"Fair\",$D$22=\"Poor\"),\"DO\",\"\"))","v":""},null,null,null,null,null,null,null,null,null,null,null,null,null,null,null,null,null,null,null,null,null,null,null,null,{"$f":"$C$28","v":"Phosphorus  P"},{"$f":"IF($D$28=\"Concern\",\"(P)\",IF(OR($D$28=\"Fair\",$D$28=\"Poor\"),\"P\",\"\"))","v":""},null,null,null,null,null,null,null,null,null,null,null,null,null,null,null,null,null,null,null,null,null,null,null,null,null,null,null,null,null,null,null,null,null,null,null,null,null,null,null,null,null,null,null,null,null,null,null,null,null,null,{"$f":"$C$34","v":"Flow  Q"},{"$f":"IF($D$34=\"Concern\",\"(O)\",IF(OR($D$34=\"Fair\",$D$34=\"Poor\"),\"O\",\"\"))","v":""},null,null,null,null,null,null,null,null,null,null,null,null,null,null,null,null,null,null,null,null,null,null,null,null,{"$f":"$C$36","v":"Substrate   S"},{"$f":"IF($D$36=\"Concern\",\"(S)\",IF(OR($D$36=\"Fair\",$D$36=\"Poor\"),\"S\",\"\"))","v":""},null,null,null,null,null,null,null,null,null,null,null,null,null,null,null,null,null,null,null,null,null,null,null,null,{"$f":"$C$40","v":"Bacteria   B"},{"$f":"IF($D$40=\"Concern\",\"(B)\",IF(OR($D$40=\"Fair\",$D$40=\"Poor\"),\"B\",\"\"))","v":""},null,null,null,null,null,null,null,null,null,null,null,null,null,null,null,null,null,null,null,null,null,null,null,null,{"$f":"$C$42","v":"Oil & Grease   G"},{"$f":"IF($D$42=\"Concern\",\"(G)\",IF(OR($D$42=\"Fair\",$D$42=\"Poor\"),\"G\",\"\"))","v":""}]
[null,null,null,null,null,null,null,null,null,null,null,null,null,null,{"$f":"$C$17","v":"Macrophyton   M"},{"$f":"IF($D$17=\"Concern\",\"(M)\",IF(OR($D$17=\"Fair\",$D$17=\"Poor\"),\"M\",\"\"))","v":""},null,null,null,null,null,null,null,null,null,null,null,null,null,null,null,null,null,null,null,null,null,null,null,null,{"$f":"$C$23","v":"pH     pH"},{"$f":"IF($D$23=\"Concern\",\"(pH)\",IF(OR($D$23=\"Fair\",$D$23=\"Poor\"),\"pH\",\"\"))","v":""},null,null,null,null,null,null,null,null,null,null,null,null,null,null,null,null,null,null,null,null,null,null,null,null,{"$f":"$C$29","v":"Nitrogen   N"},{"$f":"IF($D$29=\"Concern\",\"(N)\",IF(OR($D$29=\"Fair\",$D$29=\"Poor\"),\"N\",\"\"))","v":""},null,null,null,null,null,null,null,null,null,null,null,null,null,null,null,null,null,null,null,null,null,null,null,null,null,null,null,null,null,null,null,null,null,null,null,null,null,null,null,null,null,null,null,null,null,null,null,null,null,null,{"$f":"IF($C$41=\"\",\"\",$C$41)","v":""},{"$f":"IF($D$35=\"Concern\",\"(**)\",IF(OR($D$35=\"Fair\",$D$35=\"Poor\"),\"**\",\"\"))","v":""},null,null,null,null,null,null,null,null,null,null,null,null,null,null,null,null,null,null,null,null,null,null,null,null,{"$f":"$C$37","v":"Morphology   H"},{"$f":"IF($D$37=\"Concern\",\"(H)\",IF(OR($D$37=\"Fair\",$D$37=\"Poor\"),\"H\",\"\"))","v":""},null,null,null,null,null,null,null,null,null,null,null,null,null,null,null,null,null,null,null,null,null,null,null,null,{"$f":"IF($C$41=\"\",\"\",$C$41)","v":""},{"$f":"IF($D$41=\"Concern\",\"(**)\",IF(OR($D$41=\"Fair\",$D$41=\"Poor\"),\"**\",\"\"))","v":""},null,null,null,null,null,null,null,null,null,null,null,null,null,null,null,null,null,null,null,null,null,null,null,null,{"$f":"$C$43","v":"Taste & Odor   O"},{"$f":"IF($D$43=\"Concern\",\"(O)\",IF(OR($D$43=\"Fair\",$D$43=\"Poor\"),\"O\",\"\"))","v":""}]
[null,"Tissue",{"$f":"\"Spec. Chem.   \"&HN45","v":"Spec. Chem.   PCB"},"NA","NA","NA",{"$f":"$HO$15&\"  \"&$HO$16&\"  \"&$HO$17&\"  \"&$HO$18&\"  \"&$HO$19&\"  \"&$HO$20","v":"          "},{"$f":"$HO$28&\"  \"&$HO$29&\"  \"&$HO$30&\"  \"&$HO$31&\"  \"&$HO$32&\"  \"&$HO$33","v":"          "},null,null,null,null,null,null,{"$f":"$C$18","v":"Invertebrates   I"},{"$f":"IF($D$18=\"Concern\",\"(I)\",IF(OR($D$18=\"Fair\",$D$18=\"Poor\"),\"I\",\"\"))","v":""},null,null,null,null,null,null,null,null,null,null,null,null,null,null,null,null,null,null,null,null,null,null,null,null,{"$f":"$C$24","v":"Temperature    T"},{"$f":"IF($D$24=\"Concern\",\"(T)\",IF(OR($D$24=\"Fair\",$D$24=\"Poor\"),\"T\",\"\"))","v":""},null,null,null,null,null,null,null,null,null,null,null,null,null,null,null,null,null,null,null,null,null,null,null,null,{"$f":"IF($C$30=\"\",\"\",$C$30)","v":""},{"$f":"IF($D$30=\"Concern\",\"(**)\",IF(OR($D$30=\"Fair\",$D$30=\"Poor\"),\"**\",\"\"))","v":""},null,null,null,null,null,null,null,null,null,null,null,null,null,null,null,null,null,null,null,null,null,null,null,null,null,null,null,null,null,null,null,null,null,null,null,null,null,null,null,null,null,null,null,null,null,null,null,null,null,null,null,null,null,null,null,null,null,null,null,null,null,null,null,null,null,null,null,null,null,null,null,null,null,null,null,null,{"$f":"$C$38","v":"Riparian Zone   R"},{"$f":"IF($D$38=\"Concern\",\"(R)\",IF(OR($D$38=\"Fair\",$D$38=\"Poor\"),\"R\",\"\"))","v":""},null,null,null,null,null,null,null,null,null,null,null,null,null,null,null,null,null,null,null,null,null,null,null,null,null,null,null,null,null,null,null,null,null,null,null,null,null,null,null,null,null,null,null,null,null,null,null,null,null,null,{"$f":"$C$44","v":"Turb/Color   C"},{"$f":"IF($D$44=\"Concern\",\"(C)\",IF(OR($D$44=\"Fair\",$D$44=\"Poor\"),\"C\",\"\"))","v":""}]
[null,null,null,null,null,null,null,null,null,null,null,null,null,null,{"$f":"$C$19","v":"Fish   F"},{"$f":"IF($D$19=\"Concern\",\"(F)\",IF(OR($D$19=\"Fair\",$D$19=\"Poor\"),\"F\",\"\"))","v":""},null,null,null,null,null,null,null,null,null,null,null,null,null,null,null,null,null,null,null,null,null,null,null,null,{"$f":"$C$25","v":"Ionic Strength    Z"},{"$f":"IF($D$25=\"Concern\",\"(Z)\",IF(OR($D$25=\"Fair\",$D$25=\"Poor\"),\"Z\",\"\"))","v":""},null,null,null,null,null,null,null,null,null,null,null,null,null,null,null,null,null,null,null,null,null,null,null,null,null,null,null,null,null,null,null,null,null,null,null,null,null,null,null,null,null,null,null,null,null,null,null,null,null,null,"Pollution  Indicators (Causes):  ",null,{"$f":"CP52&\" \"&CP53&\" \"&CP54","v":"  "},null,null,null,null,null,null,null,null,null,null,null,null,null,null,null,null,null,null,null,null,null,null,null,null,null,null,null,null,null,null,null,null,null,null,null,null,null,null,null,null,null,null,null,null,null,null,null,null,null,{"$f":"IF($C$39=\"\",\"\",$C$39)","v":""},{"$f":"IF($D$39=\"Concern\",\"(**)\",IF(OR($D$39=\"Fair\",$D$39=\"Poor\"),\"**\",\"\"))","v":""},null,null,null,null,null,null,null,null,null,null,null,null,null,null,null,null,null,null,null,null,null,null,null,null,null,null,null,null,null,null,null,null,null,null,null,null,null,null,null,null,null,null,null,null,null,null,null,null,null,null,{"$f":"$C$45","v":"Nuisance Plants   V"},{"$f":"IF($D$45=\"Concern\",\"(V)\",IF(OR($D$45=\"Fair\",$D$45=\"Poor\"),\"V\",\"\"))","v":""},null,null,null,null,null,null,null,null,null,null,null,null,null,null,null,null,null,null,null,null,null,null,null,null,null,null,null,null,null,null,null,null,null,null,null,null,null,null,null,null,null,null,null,null,null,null,null,null,null,null,"Pollution  Indicators (Causes):  ",null,{"$f":"IP52&\" \"&IP53&\" \"&IP54","v":"  "}]
[null,"Sediment","Unknown   U","NA","NA","NA",{"$f":"$IO$15&\"  \"&$IO$16&\"  \"&$IO$17&\"  \"&$IO$18&\"  \"&$IO$19&\"  \"&$IO$20","v":"          "},{"$f":"$IO$28&\"  \"&$IO$29&\"  \"&$IO$30&\"  \"&$IO$31&\"  \"&$IO$32&\"  \"&$IO$33","v":"          "},null,null,null,null,null,null,{"$f":"$C$20","v":"Wildlife   W"},{"$f":"IF($D$20=\"Concern\",\"(W)\",IF(OR($D$20=\"Fair\",$D$20=\"Poor\"),\"W\",\"\"))","v":""},null,null,null,null,null,null,null,null,null,null,null,null,null,null,null,null,null,null,null,null,null,null,null,null,{"$f":"$C$26","v":"Sus. Solids    SS"},{"$f":"IF($D$26=\"Concern\",\"(SS)\",IF(OR($D$26=\"Fair\",$D$26=\"Poor\"),\"SS\",\"\"))","v":""},null,null,null,null,null,null,null,null,null,null,null,null,null,null,null,null,null,null,null,null,null,null,null,null,null,null,null,null,null,null,null,null,null,null,null,null,null,null,null,null,null,null,null,null,null,null,null,null,null,null,null,null,null,null,null,null,null,null,null,null,null,null,null,null,null,null,null,null,null,null,null,null,null,null,null,null,null,null,null,null,null,null,null,null,null,null,null,null,null,null,null,null,null,null,null,null,null,null,null,null,null,null,null,null,null,null,null,null,null,null,null,null,null,null,null,null,null,null,null,null,null,null,null,null,null,null,null,null,null,null,null,null,null,null,null,null,null,null,null,null,null,null,null,null,null,null,null,null,null,null,null,null,null,null,{"$f":"$C$46","v":"Trash /Debris   D"},{"$f":"IF($D$46=\"Concern\",\"(D)\",IF(OR($D$46=\"Fair\",$D$46=\"Poor\"),\"D\",\"\"))","v":""},null,null,null,null,null,null,null,null,null,null,null,null,null,null,null,null,null,null,null,null,null,null,null,null,"Pollution  Indicators (Causes):  ",null,{"$f":"HP53&\" \"&HP54","v":" "}]
[null,null,{"$f":"\"Spec. Chem.   \"&IN44","v":"Spec. Chem.   DDT"},"NA",null,null,null,null,null,null,null,null,null,null,{"$f":"IF($C$21=\"\",\"\",$C$21)","v":""},{"$f":"IF($D$21=\"Concern\",\"(**)\",IF(OR($D$21=\"Fair\",$D$21=\"Poor\"),\"**\",\"\"))","v":""},null,null,null,null,null,null,null,null,null,null,null,null,null,null,null,null,null,null,null,null,null,null,null,null,{"$f":"IF($C$27=\"\",\"\",$C$27)","v":""},{"$f":"IF($D$27=\"Concern\",\"(**)\",IF(OR($D$27=\"Fair\",$D$27=\"Poor\"),\"**\",\"\"))","v":""},null,null,null,null,null,null,null,null,null,null,null,null,null,null,null,null,null,null,null,null,null,null,null,null,null,null,null,null,null,null,null,null,null,null,null,null,null,null,null,null,null,null,null,null,null,null,null,null,null,null,{"$f":"$B$31","v":"Toxicity"},null,null,null,null,null,null,null,null,null,null,null,null,null,null,null,null,null,null,null,null,null,null,null,null,null,null,null,null,null,null,null,null,null,null,null,null,null,null,null,null,null,null,null,null,null,null,null,null,null,null,null,null,null,null,null,null,null,null,null,null,null,null,null,null,null,null,null,null,null,null,null,null,null,null,null,null,null,null,null,null,null,null,null,null,null,null,null,null,null,null,null,null,null,null,null,null,null,null,null,null,null,null,null,{"$f":"IF($C$47=\"\",\"\",$C$47)","v":""},{"$f":"IF($D$47=\"Concern\",\"(**)\",IF(OR($D$47=\"Fair\",$D$47=\"Poor\"),\"**\",\"\"))","v":""},null,null,null,null,null,null,null,null,null,null,null,null,null,null,null,null,null,null,null,null,null,null,null,null,null,null,null,null,null,null,null,null,null,null,null,null,null,null,null,null,null,null,null,null,null,null,null,null,null,null,{"$f":"$B$50","v":"Sediment"}]
[null,null,null,null,null,null,null,null,null,null,null,null,null,null,null,null,null,null,null,null,null,null,null,null,null,null,null,null,null,null,null,null,null,null,null,null,null,null,null,null,null,null,null,null,null,null,null,null,null,null,null,null,null,null,null,null,null,null,null,null,null,null,null,null,null,null,null,null,null,null,null,null,null,null,null,null,null,null,null,null,null,null,null,null,null,null,null,null,null,null,null,null,{"$f":"$C$31","v":"Unknown   U"},{"$f":"IF($D$31=\"Concern\",\"(U)\",IF(OR($D$31=\"Fair\",$D$31=\"Poor\"),\"U\",\"\"))","v":""},null,null,null,null,null,null,null,null,null,null,null,null,null,null,null,null,null,null,null,null,null,null,null,null,null,null,null,null,null,null,null,null,null,null,null,null,null,null,null,null,null,null,null,null,null,null,null,null,null,null,null,null,null,null,null,null,null,null,null,null,null,null,null,null,null,null,null,null,null,null,null,null,null,null,null,null,null,null,null,null,null,null,null,null,null,null,null,null,null,null,null,null,null,null,null,null,null,null,null,null,null,null,null,null,null,null,null,null,null,null,null,null,null,null,null,null,null,null,null,null,null,null,null,null,null,null,null,null,{"$f":"$B$48","v":"Tissue"},null,null,null,null,null,null,null,null,null,null,null,null,null,null,null,null,null,null,null,null,null,null,null,null,null,{"$f":"$C$50","v":"Unknown   U"},{"$f":"IF($D$50=\"Concern\",\"(U)\",IF(OR($D$50=\"Fair\",$D$50=\"Poor\"),\"U\",\"\"))","v":""}]
[null,"Comments:",null,null,null,null,null,"*  Suspected Source  ",null,null,null,null,null,null,null,null,null,null,null,null,null,null,null,null,null,null,null,null,null,null,null,null,null,null,null,null,null,null,null,null,null,null,null,null,null,null,null,null,null,null,null,null,null,null,null,null,null,null,null,null,null,null,null,null,null,null,null,null,null,null,null,null,null,null,null,null,null,null,null,null,null,null,null,null,null,null,null,null,null,null,null,null,{"$f":"$C$32","v":"Spec. Chem.  Ag"},{"$f":"IF($D$32=\"Concern\",\"(\"&CN44&\")\",IF(OR($D$32=\"Fair\",$D$32=\"Poor\"),CN44,\"\"))","v":""},null,null,null,null,null,null,null,null,null,null,null,null,null,null,null,null,null,null,null,null,null,null,null,null,null,null,null,null,null,null,null,null,null,null,null,null,null,null,null,null,null,null,null,null,null,null,null,null,null,null,null,null,null,null,null,null,null,null,null,null,null,null,null,null,null,null,null,null,null,null,null,null,null,null,null,null,null,null,null,null,null,null,null,null,null,null,null,null,null,null,null,null,null,null,null,null,null,null,null,null,null,null,null,null,null,null,null,null,null,null,null,null,null,null,null,null,null,null,null,null,null,null,null,null,null,null,null,null,{"$f":"$C$48","v":"Spec. Chem.   PCB"},{"$f":"IF($D$48=\"Concern\",\"(\"&HN45&\")\",IF(OR($D$48=\"Fair\",$D$32=\"Poor\"),HN45,\"\"))","v":""},null,null,null,null,null,null,null,null,null,null,null,null,null,null,null,null,null,null,null,null,null,null,null,null,{"$f":"$C$51","v":"Spec. Chem.   DDT"},{"$f":"IF($D$51=\"Concern\",\"(\"&IN44&\")\",IF(OR($D$51=\"Fair\",$D$51=\"Poor\"),IN44,\"\"))","v":""}]
[null,null,null,null,null,null,null,"** Potential Source  ",null,null,null,null,null,null,null,null,null,null,null,null,null,null,null,null,null,null,null,null,null,null,null,null,null,null,null,null,null,null,null,null,null,null,null,null,null,null,null,null,null,null,null,null,null,null,null,null,null,null,null,null,null,null,null,null,null,null,null,null,null,null,null,null,null,null,null,null,null,null,null,null,null,null,null,null,null,null,null,null,null,null,null,null,{"$f":"IF($C$33=\"\",\"\",$C$33)","v":""},{"$f":"IF($D$33=\"Concern\",\"(**)\",IF(OR($D$33=\"Fair\",$D$33=\"Poor\"),\"**\",\"\"))","v":""},null,null,null,null,null,null,null,null,null,null,null,null,null,null,null,null,null,null,null,null,null,null,null,null,null,null,null,null,null,null,null,null,null,null,null,null,null,null,null,null,null,null,null,null,null,null,null,null,null,null,null,null,null,null,null,null,null,null,null,null,null,null,null,null,null,null,null,null,null,null,null,null,null,null,null,null,null,null,null,null,null,null,null,null,null,null,null,null,null,null,null,null,null,null,null,null,null,null,null,null,null,null,null,null,null,null,null,null,null,null,null,null,null,null,null,null,null,null,null,null,null,null,null,null,null,null,null,null,{"$f":"IF($C$49=\"\",\"\",$C$49)","v":""},{"$f":"IF($D$49=\"Concern\",\"(**)\",IF(OR($D$49=\"Fair\",$D$49=\"Poor\"),\"**\",\"\"))","v":""},null,null,null,null,null,null,null,null,null,null,null,null,null,null,null,null,null,null,null,null,null,null,null,null,{"$f":"IF($C$52=\"\",\"\",$C$52)","v":""},{"$f":"IF($D$52=\"Concern\",\"(**)\",IF(OR($D$52=\"Fair\",$D$52=\"Poor\"),\"**\",\"\"))","v":""}]
[null,null,null,null,null,null,null,"No asterisk: Known Source  "]
[null,null,null,null,null,null,null,"[Out of Segment Source ]  "]
[]
[]
[]
[null,"SegNameLong:  ","cccccc"]
[null,"Seg Name:  ","ccc"]
[null,"Seg Num:  "]
[null,"Seg Size:  "]
[null,"Seg Class:  "]
[]
[]
[]
[]
[]
[]
[]
[]
[]
[]
[]
[]
[null,null,null,{"$f":"A99","v":""}]
[null,null,null,{"$f":"B99","v":""}]
[null,null,null,{"$f":"C99","v":""}]
[null,null,null,{"$f":"D99","v":""}]
[null,null,null,{"$f":"E99","v":""}]
[null,null,null,{"$f":"F99","v":""}]
[null,null,null,{"$f":"G99","v":""}]
[null,null,null,{"$f":"H99","v":""}]
[null,null,null,{"$f":"I99","v":""}]
[]
[]
[]
[]
[]
[]
[]
[]
[]
[]
[]
[]
[]
[{"$f":"TRIM(A101&\" \"&A102&\" \"&A103&\" \"&A104&\" \"&A105&\" \"&A106)","v":""},{"$f":"TRIM(B101&\" \"&B102&\" \"&B103&\" \"&B104&\" \"&B105&\" \"&B106)","v":""},"","","","","","",""]

{"sheet":"Seg4","index":8,"n_rows":99,"n_cols":311,"rows_kept":99,"cut":false,"hidden":false,"merged":[[15,1,20,1],[15,4,20,4],[15,5,20,5],[15,6,20,6],[15,7,20,7],[13,1,14,1],[13,2,14,3],[13,4,14,4],[13,5,14,5],[14,6,14,7],[27,1,29,1],[27,4,29,4],[27,5,29,5],[27,6,29,6],[27,7,29,7],[21,1,26,1],[21,4,26,4],[21,5,26,5],[21,6,26,6],[21,7,26,7],[49,6,51,6],[49,7,51,7],[30,1,32,1],[30,4,32,4],[30,5,32,5],[30,6,32,6],[30,7,32,7],[33,1,34,1],[33,4,34,4],[33,5,34,5],[33,6,34,6],[33,7,34,7],[43,91,45,94],[35,1,38,1],[35,4,38,4],[35,5,38,5],[35,6,38,6],[35,7,38,7],[39,1,40,1],[39,4,40,4],[39,5,40,5],[39,6,40,6],[39,7,40,7],[52,1,55,1],[43,247,45,250],[44,221,46,224],[47,1,48,1],[47,4,48,4],[47,5,48,5],[47,6,48,6],[47,7,48,7],[41,1,46,1],[41,4,46,4],[41,5,46,5],[41,6,46,6],[41,7,46,7],[49,1,51,1],[49,4,51,4],[49,5,51,5]]}
[]
[]
[]
[]
[null,null,null,null,null,null,null,null,null,null,null,null,null,null,null,null,null,null,null,null,null,null,null,null,null,null,null,null,null,null,null,null,null,null,null,null,null,null,null,null,null,null,null,null,null,null,null,null,null,null,null,null,null,null,null,null,null,null,null,null,null,null,null,null,null,null,null,null,null,null,null,null,null,null,null,null,null,null,null,null,null,null,null,null,null,null,null,null,null,null,null,null,null,null,null,null,null,null,null,null,null,null,null,null,null,null,null,null,null,null,null,null,null,null,null,null,null,null,null,null,null,null,null,null,null,null,null,null,null,null,null,null,null,null,null,null,null,null,null,null,null,null,null,null,null,null,null,null,null,null,null,null,null,null,null,null,null,null,null,null,null,null,null,null,null,null,null,null,null,null,null,null,null,null,null,null,null,null,null,null,null,null,null,null,null,null,null,null,null,null,null,null,null,null,null,null,null,null,null,null,null,null,null,null,null,null,null,null,null,null,null,null,null,null,null,null,null,null,null,null,null,null,null,null,null,null,null,null,null,null,null,null,null,null,null,null,null,null,null,null,null,null,null,null,null,null,null,null,null,null,null,null,null,null,null,null,null,null,null,null,null,null,null,null,null,null,null,null,null,null,null,null,null,null,null,null,null,null,null,null,null,null,null,null,null,"List of all codes from all groups for this segment, organized by Source Type. "]
[null,null,null,null,null,null,null,null,null,null,null,null,null,null,null,null,null,null,null,null,null,null,null,null,null,null,null,null,null,null,null,null,null,null,null,null,null,null,null,null,null,null,null,null,null,null,null,null,null,null,null,null,null,null,null,null,null,null,null,null,null,null,null,null,null,null,null,null,null,null,null,null,null,null,null,null,null,null,null,null,null,null,null,null,null,null,null,null,null,null,null,null,null,null,null,null,null,null,null,null,null,null,null,null,null,null,null,null,null,null,null,null,null,null,null,null,null,null,null,null,null,null,null,null,null,null,null,null,null,null,null,null,null,null,null,null,null,null,null,null,null,null,null,null,null,null,null,null,null,null,null,null,null,null,null,null,null,null,null,null,null,null,null,null,null,null,null,null,null,null,null,null,null,null,null,null,null,null,null,null,null,null,null,null,null,null,null,null,null,null,null,null,null,null,null,null,null,null,null,null,null,null,null,null,null,null,null,null,null,null,null,null,null,null,null,null,null,null,null,null,null,null,null,null,null,null,null,null,null,null,null,null,null,null,null,null,null,null,null,null,null,null,null,null,null,null,null,null,null,null,null,null,null,null,null,null,null,null,null,null,null,null,null,null,null,null,null,null,null,null,null,null,null,null,null,null,null,null,null,null,null,null,null,null,null,"List is updated only when \"SourceRC_List\" macro is run. Macro is run manually by touching button at right or when Source report card is activated."]
[null,null,null,null,null,null,null,null,null,null,null,null,null,null,null,null,null,null,null,null,null,null,null,null,null,null,null,null,null,null,null,null,null,null,null,null,null,null,null,null,null,null,null,null,null,null,null,null,null,null,null,null,null,null,null,null,null,null,null,null,null,null,null,null,null,null,null,null,null,null,null,null,null,null,null,null,null,null,null,null,null,null,null,null,null,null,null,null,null,null,null,null,null,null,null,null,null,null,null,null,null,null,null,null,null,null,null,null,null,null,null,null,null,null,null,null,null,null,null,null,null,null,null,null,null,null,null,null,null,null,null,null,null,null,null,null,null,null,null,null,null,null,null,null,null,null,null,null,null,null,null,null,null,null,null,null,null,null,null,null,null,null,null,null,null,null,null,null,null,null,null,null,null,null,null,null,null,null,null,null,null,null,null,null,null,null,null,null,null,null,null,null,null,null,null,null,null,null,null,null,null,null,null,null,null,null,null,null,null,null,null,null,null,null,null,null,null,null,null,null,null,null,null,null,null,null,null,null,null,null,null,null,null,null,null,null,null,null,null,null,null,null,null,null,null,null,null,null,null,null,null,null,null,null,null,null,null,null,null,null,null,null,null,null,null,null,null,null,null,null,null,null,null,null,null,null,null,null,null,null,null,null,null,null,null,"Numbers indicate knowledge about the certainty of assessment: 0 = N/A, 1 = Potential Source, 2 = Suspected Source, 3 = Known Source."]
[null,null,null,null,null,null,null,null,null,null,null,null,null,null,null,null,null,null,null,null,null,null,null,null,null,null,null,null,null,null,null,null,null,null,null,null,null,null,null,null,null,null,null,null,null,null,null,null,null,null,null,null,null,null,null,null,null,null,null,null,null,null,null,null,null,null,null,null,null,null,null,null,null,null,null,null,null,null,null,null,null,null,null,null,null,null,null,null,null,null,null,null,null,null,null,null,null,null,null,null,null,null,null,null,null,null,null,null,null,null,null,null,null,null,null,null,null,null,null,null,null,null,null,null,null,null,null,null,null,null,null,null,null,null,null,null,null,null,null,null,null,null,null,null,null,null,null,null,null,null,null,null,null,null,null,null,null,null,null,null,null,null,null,null,null,null,null,null,null,null,null,null,null,null,null,null,null,null,null,null,null,null,null,null,null,null,null,null,null,null,null,null,null,null,null,null,null,null,null,null,null,null,null,null,null,null,null,null,null,null,null,null,null,null,null,null,null,null,null,null,null,null,null,null,null,null,null,null,null,null,null,null,null,null,null,null,null,null,null,null,null,null,null,null,null,null,null,null,null,null,null,null,null,null,null,null,null,null,null,null,null,null,null,null,null,null,null,null,null,null,null,null,null,null,null,null,null,null,null,null,null,null,null,null,null,"This list is then processed below to remove duplicates."]
[null,null,null,null,null,null,null,null,null,null,null,null,null,"Designate Point & Non-Point Sources",null,null,null,null,null,null,null,null,null,null,null,null,null,null,null,null,null,null,null,null,null,null,null,null,null,"Designate Point & Non-Point Sources",null,null,null,null,null,null,null,null,null,null,null,null,null,null,null,null,null,null,null,null,null,null,null,null,null,"Designate Point & Non-Point Sources",null,null,null,null,null,null,null,null,null,null,null,null,null,null,null,null,null,null,null,null,null,null,null,null,null,"Designate Point & Non-Point Sources",null,null,null,null,null,null,null,null,null,null,null,null,null,null,null,null,null,null,null,null,null,null,null,null,null,"Designate Point & Non-Point Sources",null,null,null,null,null,null,null,null,null,null,null,null,null,null,null,null,null,null,null,null,null,null,null,null,null,"Designate Point & Non-Point Sources",null,null,null,null,null,null,null,null,null,null,null,null,null,null,null,null,null,null,null,null,null,null,null,null,null,"Designate Point & Non-Point Sources",null,null,null,null,null,null,null,null,null,null,null,null,null,null,null,null,null,null,null,null,null,null,null,null,null,"Designate Point & Non-Point Sources",null,null,null,null,null,null,null,null,null,null,null,null,null,null,null,null,null,null,null,null,null,null,null,null,null,"Designate Point & Non-Point Sources",null,null,null,null,null,null,null,null,null,null,null,null,null,null,null,null,null,null,null,null,null,null,null,null,null,"Designate Point & Non-Point Sources"]
[null,null,null,null,null,null,null,null,null,null,null,null,null,null,null,null,null,null,null,null,null,null,null,"Codes selected at left are distributed according to Source Type. "]
[null,{"$f":"\"River Basin: \"&RiverBasinName","v":"River Basin: Test River Basin"},null,null,null,null,{"$f":"\"Data Year:  \"&AssessmentYear","v":"Data Year:  2011"},null,null,null,null,null,null,null,null,null,null,null,null,null,null,null,null,"Numbers indicate confidence of assessment: 0 = N/A, 1 = Potential Source, 2 = Suspected Source, 3 = Known Source.",null,null,null,null,null,null,null,null,null,null,null,null,null,null,null,null,null,null,null,null,null,null,null,null,null,null,null,null,null,null,null,null,null,null,null,null,null,null,null,null,null,null,null,null,null,null,null,null,null,null,null,null,null,null,null,null,null,null,null,null,null,null,null,null,null,null,null,null,null,null,null,null,null,null,null,null,null,null,null,null,null,null,null,null,null,null,null,null,null,null,null,null,null,null,null,null,null,null,null,null,null,null,null,null,null,null,null,null,null,null,null,null,null,null,null,null,null,null,null,null,null,null,null,null,null,null,null,null,null,null,null,null,null,null,null,null,null,null,null,null,null,null,null,null,null,null,null,null,null,null,null,null,null,null,null,null,null,null,null,null,null,null,null,null,null,null,null,null,null,null,null,null,null,null,null,null,null,null,null,null,null,null,null,null,null,null,null,null,null,null,null,null,null,null,null,null,null,null,null,null,null,null,null,null,null,null,null,null,null,null,null,null,null,null,null,null,null,null,null,null,null,null,null,null,null,null,null,null,null,null,null,null,null,null,null,null,null,null,null,null,null,null,null,null,null,null,null,null,null,null,null,null,null,null,null,null,null,null,null,null,null,null,"Municp",null,null,"Industr",null,null,"St Water",null,null,"Res Ext",null,null,"Land Dis",null,null,"Seds",null,null,"Hydro",null,null,"Other",null,null,"Unknown"]
[null,{"$f":"\"Segment Name: \"&C60","v":"Segment Name: dddddd"},null,null,null,null,null,null,null,null,null,null,null,null,null,null,null,null,null,null,null,null,null,"These codes are processed by \"SourceRC_List macro and transferred to Source report card."]
[null,{"$f":"\"Class: \"&C64","v":"Class: "},null,{"$f":"\"Size: \"&C63","v":"Size: "},null,null,{"$f":"\"Seg ID #: \"&C62","v":"Seg ID #: "}]
[null,"CATEGORY","INDICATOR ASSESSMENT",null,"OVERALL STATUS","DATA LEVEL","POINT","NONPOINT",null,null,null,null,null,"Point Sources",null,null,null,null,null,null,null,null,null,"Municipal",null,null,"Industrial",null,null,"Storm Water",null,null,"Resource Ext",null,null,"Land Disposal",null,null,null,"Point Sources",null,null,null,null,null,null,null,null,null,"Municipal",null,null,"Industrial",null,null,"Storm Water",null,null,"Resource Ext",null,null,"Land Disposal",null,null,null,"Point Sources",null,null,null,null,null,null,null,null,null,"Municipal",null,null,"Industrial",null,null,"Storm Water",null,null,"Resource Ext",null,null,"Land Disposal",null,null,null,"Point Sources",null,null,null,null,null,null,null,null,null,"Municipal",null,null,"Industrial",null,null,"Storm Water",null,null,"Resource Ext",null,null,"Land Disposal",null,null,null,"Point Sources",null,null,null,null,null,null,null,null,null,"Municipal",null,null,"Industrial",null,null,"Storm Water",null,null,"Resource Ext",null,null,"Land Disposal",null,null,null,"Point Sources",null,null,null,null,null,null,null,null,null,"Municipal",null,null,"Industrial",null,null,"Storm Water",null,null,"Resource Ext",null,null,"Land Disposal",null,null,null,"Point Sources",null,null,null,null,null,null,null,null,null,"Municipal",null,null,"Industrial",null,null,"Storm Water",null,null,"Resource Ext",null,null,"Land Disposal",null,null,null,"Point Sources",null,null,null,null,null,null,null,null,null,"Municipal",null,null,"Industrial",null,null,"Storm Water",null,null,"Resource Ext",null,null,"Land Disposal",null,null,null,"Point Sources",null,null,null,null,null,null,null,null,null,"Municipal",null,null,"Industrial",null,null,"Storm Water",null,null,"Resource Ext",null,null,"Land Disposal",null,null,null,"Point Sources",null,null,null,null,null,null,null,null,null,"Municipal",null,null,"Industrial",null,null,"Storm Water",null,null,"Resource Ext",null,null,"Land Disposal"]
[null,null,null,null,null,null,"Click below to select Sources"]
[null,"Biology","Plank/Peri.   A","NA","NA","NA",{"$f":"$O$15&\"  \"&$O$16&\"  \"&$O$17&\"  \"&$O$18&\"  \"&$O$19&\"  \"&$O$20","v":"          "},{"$f":"$O$28&\"  \"&$O$29&\"  \"&$O$30&\"  \"&$O$31&\"  \"&$O$32&\"  \"&$O$33","v":"          "}]
[null,null,"Macrophyton   M","NA"]
[null,null,"Invertebrates   I","NA"]
[null,null,"Fish   F","NA"]
[null,null,"Wildlife   W","NA"]
[]
[null,"Chemistry","Dis. Oxygen    DO","NA","NA","NA",{"$f":"$AO$15&\"  \"&$AO$16&\"  \"&$AO$17&\"  \"&$AO$18&\"  \"&$AO$19&\"  \"&$AO$20","v":"          "},{"$f":"$AO$28&\"  \"&$AO$29&\"  \"&$AO$30&\"  \"&$AO$31&\"  \"&$AO$32&\"  \"&$AO$33","v":"          "}]
[null,null,"pH     pH","NA"]
[null,null,"Temperature    T","NA"]
[null,null,"Ionic Strength    Z","NA"]
[null,null,"Sus. Solids    SS","NA"]
[null,null,null,null,null,null,null,null,null,null,null,null,null,"Non Point Sources",null,null,null,null,null,null,null,null,null,"Seds",null,null,"Hydromodification",null,null,"Other",null,null,"Unknown",null,null,null,null,null,null,"Non Point Sources",null,null,null,null,null,null,null,null,null,"Seds",null,null,"Hydromodification",null,null,"Other",null,null,"Unknown",null,null,null,null,null,null,"Non Point Sources",null,null,null,null,null,null,null,null,null,"Seds",null,null,"Hydromodification",null,null,"Other",null,null,"Unknown",null,null,null,null,null,null,"Non Point Sources",null,null,null,null,null,null,null,null,null,"Seds",null,null,"Hydromodification",null,null,"Other",null,null,"Unknown",null,null,null,null,null,null,"Non Point Sources",null,null,null,null,null,null,null,null,null,"Seds",null,null,"Hydromodification",null,null,"Other",null,null,"Unknown",null,null,null,null,null,null,"Non Point Sources",null,null,null,null,null,null,null,null,null,"Seds",null,null,"Hydromodification",null,null,"Other",null,null,"Unknown",null,null,null,null,null,null,"Non Point Sources",null,null,null,null,null,null,null,null,null,"Seds",null,null,"Hydromodification",null,null,"Other",null,null,"Unknown",null,null,null,null,null,null,"Non Point Sources",null,null,null,null,null,null,null,null,null,"Seds",null,null,"Hydromodification",null,null,"Other",null,null,"Unknown",null,null,null,null,null,null,"Non Point Sources",null,null,null,null,null,null,null,null,null,"Seds",null,null,"Hydromodification",null,null,"Other",null,null,"Unknown",null,null,null,null,null,null,"Non Point Sources",null,null,null,null,null,null,null,null,null,"Seds",null,null,"Hydromodification",null,null,"Other",null,null,"Unknown"]
[null,"Nutrients","Phosphorus  P","NA","NA","NA",{"$f":"$BO$15&\"  \"&$BO$16&\"  \"&$BO$17&\"  \"&$BO$18&\"  \"&$BO$19&\"  \"&$BO$20","v":"          "},{"$f":"$BO$28&\"  \"&$BO$29&\"  \"&$BO$30&\"  \"&$BO$31&\"  \"&$BO$32&\"  \"&$BO$33","v":"          "}]
[null,null,"Nitrogen   N","NA"]
[]
[null,"Toxicity","Unknown   U","NA","NA","NA",{"$f":"$CO$15&\"  \"&$CO$16&\"  \"&$CO$17&\"  \"&$CO$18&\"  \"&$CO$19&\"  \"&$CO$20","v":"          "},{"$f":"$CO$28&\"  \"&$CO$29&\"  \"&$CO$30&\"  \"&$CO$31&\"  \"&$CO$32&\"  \"&$CO$33","v":"          "}]
[null,null,{"$f":"\"Spec. Chem.  \"&CN44","v":"Spec. Chem.  Ag"},"NA"]
[null,null,null,null,null,null,null,null,null,null,null,null,null,null,null,null,null,null,null,null,null,null,null,null,null,null,null,null,null,null,null,null,null,null,null,null,null,null,null,null,null,null,null,null,null,null,null,null,null,null,null,null,null,null,null,null,null,null,null,null,null,null,null,null,null,null,null,null,null,null,null,null,null,null,null,null,null,null,null,null,null,null,null,null,null,null,null,null,null,null,null,null,null,null,null,null,null,null,null,null,null,null,null,null,null,null,null,null,null,null,null,null,null,null,null,null,null,null,null,null,null,null,null,null,null,null,null,null,null,null,null,null,null,null,null,null,null,null,null,null,null,null,null,null,null,null,null,null,null,null,null,null,null,null,null,null,null,null,null,null,null,null,null,null,null,null,null,null,null,null,null,null,null,null,null,null,null,null,null,null,null,null,null,null,null,null,null,null,null,null,null,null,null,null,null,null,null,null,null,null,null,null,null,null,null,null,null,null,null,null,null,null,null,null,null,null,null,null,null,null,null,null,null,null,null,null,null,null,null,null,null,null,null,null,null,null,null,null,null,null,null,null,null,null,null,null,null,null,null,null,null,null,null,null,null,null,null,null,null,null,null,null,null,null,null,null,null,null,null,null,null,null,null,null,null,null,null,null,null,null,null,null,null,null,null,"The colored cells below reflect this segments pollution status and are replicated on the Sources report card automatically"]
[null,"Flow","Flow  Q","NA","NA","NA",{"$f":"$DO$15&\"  \"&$DO$16&\"  \"&$DO$17&\"  \"&$DO$18&\"  \"&$DO$19&\"  \"&$DO$20","v":"          "},{"$f":"$DO$28&\"  \"&$DO$29&\"  \"&$DO$30&\"  \"&$DO$31&\"  \"&$DO$32&\"  \"&$DO$33","v":"          "},null,null,null,null,null,null,null,null,null,null,null,null,null,null,null,null,null,null,null,null,null,null,null,null,null,null,null,null,null,null,null,null,null,null,null,null,null,null,null,null,null,null,null,null,null,null,null,null,null,null,null,null,null,null,null,null,null,null,null,null,null,null,null,null,null,null,null,null,null,null,null,null,null,null,null,null,null,null,null,null,null,null,null,null,null,null,null,null,null,null,null,null,null,null,null,null,null,null,null,null,null,null,null,null,null,null,null,null,null,null,null,null,null,null,null,null,null,null,null,null,null,null,null,null,null,null,null,null,null,null,null,null,null,null,null,null,null,null,null,null,null,null,null,null,null,null,null,null,null,null,null,null,null,null,null,null,null,null,null,null,null,null,null,null,null,null,null,null,null,null,null,null,null,null,null,null,null,null,null,null,null,null,null,null,null,null,null,null,null,null,null,null,null,null,null,null,null,null,null,null,null,null,null,null,null,null,null,null,null,null,null,null,null,null,null,null,null,null,null,null,null,null,null,null,null,null,null,null,null,null,null,null,null,null,null,null,null,null,null,null,null,null,null,null,null,null,null,null,null,null,null,null,null,null,null,null,null,null,null,null,null,null,null,null,null,null,null,null,null,null,null,null,null,null,null,null,null,null,{"$f":"KA11","v":"Municp"},null,null,{"$f":"KD11","v":"Industr"},null,null,{"$f":"KG11","v":"St Water"},null,null,{"$f":"KJ11","v":"Res Ext"},null,null,{"$f":"KM11","v":"Land Dis"},null,null,{"$f":"KP11","v":"Seds"},null,null,{"$f":"KS11","v":"Hydro"},null,null,{"$f":"KV11","v":"Other"},null,null,{"$f":"KY11","v":"Unknown"}]
[null,null,null,null,null,null,null,null,null,null,null,null,null,"* designates a Suspected Source",null,null,null,null,null,null,null,null,null,null,null,null,null,null,null,null,null,null,null,null,null,null,null,null,null,"* designates a Suspected Source",null,null,null,null,null,null,null,null,null,null,null,null,null,null,null,null,null,null,null,null,null,null,null,null,null,"* designates a Suspected Source",null,null,null,null,null,null,null,null,null,null,null,null,null,null,null,null,null,null,null,null,null,null,null,null,null,"* designates a Suspected Source",null,null,null,null,null,null,null,null,null,null,null,null,null,null,null,null,null,null,null,null,null,null,null,null,null,"* designates a Suspected Source",null,null,null,null,null,null,null,null,null,null,null,null,null,null,null,null,null,null,null,null,null,null,null,null,null,"* designates a Suspected Source",null,null,null,null,null,null,null,null,null,null,null,null,null,null,null,null,null,null,null,null,null,null,null,null,null,"* designates a Suspected Source",null,null,null,null,null,null,null,null,null,null,null,null,null,null,null,null,null,null,null,null,null,null,null,null,null,"* designates a Suspected Source",null,null,null,null,null,null,null,null,null,null,null,null,null,null,null,null,null,null,null,null,null,null,null,null,null,"* designates a Suspected Source",null,null,null,null,null,null,null,null,null,null,null,null,null,null,null,null,null,null,null,null,null,null,null,null,null,null,null,null,null,null,null,null,null,null,null,null,null,null,null,null,null,null,null,null,null,null,null,null,null,null,null,null,null,null,null,null,null,null,null,null,null,null,null,null,{"$f":"TRIM(KA41&\" \"&KA42&\" \"&KA43&\" \"&KA44&\" \"&KA45&\" \"&KA46)","v":""},null,null,{"$f":"TRIM(KD41&\" \"&KD42&\" \"&KD43&\" \"&KD44&\" \"&KD45&\" \"&KD46)","v":""},null,null,{"$f":"TRIM(KG41&\" \"&KG42&\" \"&KG43&\" \"&KG44&\" \"&KG45&\" \"&KG46)","v":""},null,null,{"$f":"TRIM(KJ41&\" \"&KJ42&\" \"&KJ43&\" \"&KJ44&\" \"&KJ45&\" \"&KJ46)","v":""},null,null,{"$f":"TRIM(KM41&\" \"&KM42&\" \"&KM43&\" \"&KM44&\" \"&KM45&\" \"&KM46)","v":""},null,null,{"$f":"TRIM(KP41&\" \"&KP42&\" \"&KP43&\" \"&KP44&\" \"&KP45&\" \"&KP46)","v":""},null,null,{"$f":"TRIM(KS41&\" \"&KS42&\" \"&KS43&\" \"&KS44&\" \"&KS45&\" \"&KS46)","v":""},null,null,{"$f":"TRIM(KV41&\" \"&KV42&\" \"&KV43&\" \"&KV44&\" \"&KV45&\" \"&KV46)","v":""},null,null,{"$f":"TRIM(KY41&\" \"&KY42&\" \"&KY43&\" \"&KY44&\" \"&KY45&\" \"&KY46)","v":""}]
[null,"Habitat","Substrate   S","NA","NA","NA",{"$f":"$EO$15&\"  \"&$EO$16&\"  \"&$EO$17&\"  \"&$EO$18&\"  \"&$EO$19&\"  \"&$EO$20","v":"          "},{"$f":"$EO$28&\"  \"&$EO$29&\"  \"&$EO$30&\"  \"&$EO$31&\"  \"&$EO$32&\"  \"&$EO$33","v":"          "},null,null,null,null,null,"** designates a Potential Source",null,null,null,null,null,null,null,null,null,null,null,null,null,null,null,null,null,null,null,null,null,null,null,null,null,"** designates a Potential Source",null,null,null,null,null,null,null,null,null,null,null,null,null,null,null,null,null,null,null,null,null,null,null,null,null,"** designates a Potential Source",null,null,null,null,null,null,null,null,null,null,null,null,null,null,null,null,null,null,null,null,null,null,null,null,null,"** designates a Potential Source",null,null,null,null,null,null,null,null,null,null,null,null,null,null,null,null,null,null,null,null,null,null,null,null,null,"** designates a Potential Source",null,null,null,null,null,null,null,null,null,null,null,null,null,null,null,null,null,null,null,null,null,null,null,null,null,"** designates a Potential Source",null,null,null,null,null,null,null,null,null,null,null,null,null,null,null,null,null,null,null,null,null,null,null,null,null,"** designates a Potential Source",null,null,null,null,null,null,null,null,null,null,null,null,null,null,null,null,null,null,null,null,null,null,null,null,null,"** designates a Potential Source",null,null,null,null,null,null,null,null,null,null,null,null,null,null,null,null,null,null,null,null,null,null,null,null,null,"** designates a Potential Source"]
[null,null,"Morphology   H","NA",null,null,null,null,null,null,null,null,null,"No asterisk designates a Known Source",null,null,null,null,null,null,null,null,null,null,null,null,null,null,null,null,null,null,null,null,null,null,null,null,null,"No asterisk designates a Known Source",null,null,null,null,null,null,null,null,null,null,null,null,null,null,null,null,null,null,null,null,null,null,null,null,null,"No asterisk designates a Known Source",null,null,null,null,null,null,null,null,null,null,null,null,null,null,null,null,null,null,null,null,null,null,null,null,null,"No asterisk designates a Known Source",null,null,null,null,null,null,null,null,null,null,null,null,null,null,null,null,null,null,null,null,null,null,null,null,null,"No asterisk designates a Known Source",null,null,null,null,null,null,null,null,null,null,null,null,null,null,null,null,null,null,null,null,null,null,null,null,null,"No asterisk designates a Known Source",null,null,null,null,null,null,null,null,null,null,null,null,null,null,null,null,null,null,null,null,null,null,null,null,null,"No asterisk designates a Known Source",null,null,null,null,null,null,null,null,null,null,null,null,null,null,null,null,null,null,null,null,null,null,null,null,null,"No asterisk designates a Known Source",null,null,null,null,null,null,null,null,null,null,null,null,null,null,null,null,null,null,null,null,null,null,null,null,null,"No asterisk designates a Known Source",null,null,null,null,null,null,null,null,null,null,null,null,null,null,null,null,null,null,null,null,null,null,null,null,null,null,null,null,null,null,null,null,null,null,null,null,null,null,null,null,null,null,null,null,null,null,null,null,null,null,null,null,null,null,null,null,null,null,null,null,null,null,null,"max confid #",{"$f":"MAX(KB11:KB31)","v":0},null,null,{"$f":"MAX(KE11:KE31)","v":0},null,null,{"$f":"MAX(KH11:KH31)","v":0},null,null,{"$f":"MAX(KK11:KK31)","v":0},null,null,{"$f":"MAX(KN11:KN31)","v":0},null,null,{"$f":"MAX(KQ11:KQ31)","v":0},null,null,{"$f":"MAX(KT11:KT31)","v":0},null,null,{"$f":"MAX(KW11:KW31)","v":0},null,null,{"$f":"MAX(KZ11:KZ31)","v":0}]
[null,null,"Riparian Zone   R","NA",null,null,null,null,null,null,null,null,null,"Square brackets designates an Out of Segment Source (i.e., pollutant is a source for downstream segments)",null,null,null,null,null,null,null,null,null,null,null,null,null,null,null,null,null,null,null,null,null,null,null,null,null,"Square brackets designates an Out of Segment Source (i.e., pollutant is a source for downstream segments)",null,null,null,null,null,null,null,null,null,null,null,null,null,null,null,null,null,null,null,null,null,null,null,null,null,"Square brackets designates an Out of Segment Source (i.e., pollutant is a source for downstream segments)",null,null,null,null,null,null,null,null,null,null,null,null,null,null,null,null,null,null,null,null,null,null,null,null,null,"Square brackets designates an Out of Segment Source (i.e., pollutant is a source for downstream segments)",null,null,null,null,null,null,null,null,null,null,null,null,null,null,null,null,null,null,null,null,null,null,null,null,null,"Square brackets designates an Out of Segment Source (i.e., pollutant is a source for downstream segments)",null,null,null,null,null,null,null,null,null,null,null,null,null,null,null,null,null,null,null,null,null,null,null,null,null,"Square brackets designates an Out of Segment Source (i.e., pollutant is a source for downstream segments)",null,null,null,null,null,null,null,null,null,null,null,null,null,null,null,null,null,null,null,null,null,null,null,null,null,"Square brackets designates an Out of Segment Source (i.e., pollutant is a source for downstream segments)",null,null,null,null,null,null,null,null,null,null,null,null,null,null,null,null,null,null,null,null,null,null,null,null,null,"Square brackets designates an Out of Segment Source (i.e., pollutant is a source for downstream segments)",null,null,null,null,null,null,null,null,null,null,null,null,null,null,null,null,null,null,null,null,null,null,null,null,null,"Square brackets designates an Out of Segment Source (i.e., pollutant is a source for downstream segments)",null,null,null,null,null,null,null,null,null,null,null,null,null,null,null,null,null,null,null,null,null,null,null,null,null,null,null,null,null,null,null,null,null,null,null,null,null,null,null,null,null,null,null,null,null,null,null,null,null,null,null,null,null,null,null,null,null,null,null,null,null,null,null,"The lists below show unique codes in lists assembled above. Numbers are max confidence #, used to color cells for worst case. The codes are catenated in the colored boxes above for transfer to Sources RC when that sheet is activated."]
[]
[null,"Bacteria","Bacteria   B","NA","NA","NA",{"$f":"$FO$15&\"  \"&$FO$16&\"  \"&$FO$17&\"  \"&$FO$18&\"  \"&$FO$19&\"  \"&$FO$20","v":"          "},{"$f":"$FO$28&\"  \"&$FO$29&\"  \"&$FO$30&\"  \"&$FO$31&\"  \"&$FO$32&\"  \"&$FO$33","v":"          "},null,null,null,null,null,null,null,null,null,null,null,null,null,null,null,null,null,null,null,null,null,null,null,null,null,null,null,null,null,null,null,null,null,null,null,null,null,null,null,null,null,null,null,null,null,null,null,null,null,null,null,null,null,null,null,null,null,null,null,null,null,null,null,null,null,null,null,null,null,null,null,null,null,null,null,null,null,null,null,null,null,null,null,null,null,null,null,null,null,null,null,null,null,null,null,null,null,null,null,null,null,null,null,null,null,null,null,null,null,null,null,null,null,null,null,null,null,null,null,null,null,null,null,null,null,null,null,null,null,null,null,null,null,null,null,null,null,null,null,null,null,null,null,null,null,null,null,null,null,null,null,null,null,null,null,null,null,null,null,null,null,null,null,null,null,null,null,null,null,null,null,null,null,null,null,null,null,null,null,null,null,null,null,null,null,null,null,null,null,null,null,null,null,null,null,null,null,null,null,null,null,null,null,null,null,null,null,null,null,null,null,null,null,null,null,null,null,null,null,null,null,null,null,null,null,null,null,null,null,null,null,null,null,null,null,null,null,null,null,null,null,null,null,null,null,null,null,null,null,null,null,null,null,null,null,null,null,null,null,null,null,null,null,null,null,null,null,null,null,null,null,null,null,null,null,null,null,null,"Municp",null,null,"Industr",null,null,"St Water",null,null,"Res Ext",null,null,"Land Dis",null,null,"Seds",null,null,"Hydro",null,null,"Other",null,null,"Unknown"]
[]
[null,"Aesthetics","Oil & Grease   G","NA","NA","NA",{"$f":"$GO$15&\"  \"&$GO$16&\"  \"&$GO$17&\"  \"&$GO$18&\"  \"&$GO$19&\"  \"&$GO$20","v":"          "},{"$f":"$GO$28&\"  \"&$GO$29&\"  \"&$GO$30&\"  \"&$GO$31&\"  \"&$GO$32&\"  \"&$GO$33","v":"          "},null,null,null,null,null,null,null,null,null,null,null,null,null,null,null,null,null,null,null,null,null,null,null,null,null,null,null,null,null,null,null,null,null,null,null,null,null,null,null,null,null,null,null,null,null,null,null,null,null,null,null,null,null,null,null,null,null,null,null,null,null,null,null,null,null,null,null,null,null,null,null,null,null,null,null,null,null,null,null,null,null,null,null,"Identify the suspected toxic chemical substance below (e.g., Hg, PCB, etc). ",null,null,null,null,null,null,null,null,null,null,null,null,null,null,null,null,null,null,null,null,null,null,null,null,null,null,null,null,null,null,null,null,null,null,null,null,null,null,null,null,null,null,null,null,null,null,null,null,null,null,null,null,null,null,null,null,null,null,null,null,null,null,null,null,null,null,null,null,null,null,null,null,null,null,null,null,null,null,null,null,null,null,null,null,null,null,null,null,null,null,null,null,null,null,null,null,null,null,null,null,null,null,null,null,null,null,null,null,null,null,null,null,null,null,null,null,null,null,null,null,null,null,null,null,null,null,null,null,null,null,null,null,null,null,null,null,null,null,null,null,null,null,null,null,null,null,null,null,null,null,null,null,null,null,null,"Identify the suspected toxic chemical substance below (e.g., Hg, PCB, etc). "]
[null,null,"Taste & Odor   O","NA",null,null,null,null,null,null,null,null,null,null,"Pollution  Indicators (Causes):  ",null,{"$f":"P46&\" \"&P47&\" \"&P48&\" \"&P49&\" \"&P50&\" \"&P51","v":"     "},null,null,null,null,null,null,null,null,null,null,null,null,null,null,null,null,null,null,null,null,null,null,null,"Pollution  Indicators (Causes):  ",null,{"$f":"AP46&\" \"&AP47&\" \"&AP48&\" \"&AP49&\" \"&AP50&\" \"&AP51","v":"     "},null,null,null,null,null,null,null,null,null,null,null,null,null,null,null,null,null,null,null,null,null,null,null,"Pollution  Indicators (Causes):  ",null,{"$f":"BP46&\" \"&BP47&\" \"&BP48","v":"  "},null,null,null,null,null,null,null,null,null,null,null,null,null,null,null,null,null,null,null,null,null,null,null,null,null,null,null,null,null,null,null,null,null,null,null,null,null,null,null,null,null,null,null,null,null,null,null,null,null,"Pollution  Indicators (Causes):  ",null,{"$f":"DP46&\" \"&DP47","v":" "},null,null,null,null,null,null,null,null,null,null,null,null,null,null,null,null,null,null,null,null,null,null,null,"Pollution  Indicators (Causes):  ",null,{"$f":"EP46&\" \"&EP47&\" \"&EP48&\" \"&EP49","v":"   "},null,null,null,null,null,null,null,null,null,null,null,null,null,null,null,null,null,null,null,null,null,null,null,"Pollution  Indicators (Causes):  ",null,{"$f":"FP46&\" \"&FP47","v":" "},null,null,null,null,null,null,null,null,null,null,null,null,null,null,null,null,null,null,null,null,null,null,null,"Pollution  Indicators (Causes):  ",null,{"$f":"GP46&\" \"&GP47&\" \"&GP48&\" \"&GP49&\" \"&GP50&\" \"&GP51","v":"     "},null,null,null,null,null,null,null,null,null,null,null,null,null,null,null,null,null,null,null,null,null,null,"Identify the suspected toxic chemical substance below (e.g., Hg, PCB, etc). "]
[null,null,"Turb/Color   C","NA",null,null,null,null,null,null,null,null,null,null,null,null,null,null,null,null,null,null,null,null,null,null,null,null,null,null,null,null,null,null,null,null,null,null,null,null,null,null,null,null,null,null,null,null,null,null,null,null,null,null,null,null,null,null,null,null,null,null,null,null,null,null,null,null,null,null,null,null,null,null,null,null,null,null,null,null,null,null,null,null,null,null,null,null,null,null,null,"Ag",null,null,null,null,null,null,null,null,null,null,null,null,null,null,null,null,null,null,null,null,null,null,null,null,null,null,null,null,null,null,null,null,null,null,null,null,null,null,null,null,null,null,null,null,null,null,null,null,null,null,null,null,null,null,null,null,null,null,null,null,null,null,null,null,null,null,null,null,null,null,null,null,null,null,null,null,null,null,null,null,null,null,null,null,null,null,null,null,null,null,null,null,null,null,null,null,null,null,null,null,null,null,null,null,null,null,null,null,null,null,null,null,null,null,null,null,null,null,null,null,null,null,null,null,null,null,null,null,null,null,null,null,null,null,null,null,null,null,null,null,null,null,null,null,null,null,null,null,null,null,null,null,null,null,null,"DDT"]
[null,null,"Nuisance Plants   V","NA",null,null,null,null,null,null,null,null,null,null,{"$f":"$B$16","v":"Biology"},null,null,null,null,null,null,null,null,null,null,null,null,null,null,null,null,null,null,null,null,null,null,null,null,null,{"$f":"$B$22","v":"Chemistry"},null,null,null,null,null,null,null,null,null,null,null,null,null,null,null,null,null,null,null,null,null,null,null,null,null,{"$f":"$B$28","v":"Nutrients"},null,null,null,null,null,null,null,null,null,null,null,null,null,null,null,null,null,null,null,null,null,null,null,null,null,null,null,null,null,null,null,null,null,null,null,null,null,null,null,null,null,null,null,null,null,null,null,null,null,null,null,{"$f":"$B$34","v":"Flow"},null,null,null,null,null,null,null,null,null,null,null,null,null,null,null,null,null,null,null,null,null,null,null,null,null,{"$f":"$B$36","v":"Habitat"},null,null,null,null,null,null,null,null,null,null,null,null,null,null,null,null,null,null,null,null,null,null,null,null,null,{"$f":"$B$40","v":"Bacteria"},null,null,null,null,null,null,null,null,null,null,null,null,null,null,null,null,null,null,null,null,null,null,null,null,null,{"$f":"$B$42","v":"Aesthetics"},null,null,null,null,null,null,null,null,null,null,null,null,null,null,null,null,null,null,null,null,null,null,null,null,"PCB"]
[null,null,"Trash /Debris   D","NA",null,null,null,null,null,null,null,null,null,null,{"$f":"$C$16","v":"Plank/Peri.   A"},{"$f":"IF($D$16=\"Concern\",\"(A)\",IF(OR($D$16=\"Fair\",$D$16=\"Poor\"),\"A\",\"\"))","v":""},null,null,null,null,null,null,null,null,null,null,null,null,null,null,null,null,null,null,null,null,null,null,null,null,{"$f":"$C$22","v":"Dis. Oxygen    DO"},{"$f":"IF($D$22=\"Concern\",\"(DO)\",IF(OR($D$22=\"Fair\",$D$22=\"Poor\"),\"DO\",\"\"))","v":""},null,null,null,null,null,null,null,null,null,null,null,null,null,null,null,null,null,null,null,null,null,null,null,null,{"$f":"$C$28","v":"Phosphorus  P"},{"$f":"IF($D$28=\"Concern\",\"(P)\",IF(OR($D$28=\"Fair\",$D$28=\"Poor\"),\"P\",\"\"))","v":""},null,null,null,null,null,null,null,null,null,null,null,null,null,null,null,null,null,null,null,null,null,null,null,null,null,null,null,null,null,null,null,null,null,null,null,null,null,null,null,null,null,null,null,null,null,null,null,null,null,null,{"$f":"$C$34","v":"Flow  Q"},{"$f":"IF($D$34=\"Concern\",\"(O)\",IF(OR($D$34=\"Fair\",$D$34=\"Poor\"),\"O\",\"\"))","v":""},null,null,null,null,null,null,null,null,null,null,null,null,null,null,null,null,null,null,null,null,null,null,null,null,{"$f":"$C$36","v":"Substrate   S"},{"$f":"IF($D$36=\"Concern\",\"(S)\",IF(OR($D$36=\"Fair\",$D$36=\"Poor\"),\"S\",\"\"))","v":""},null,null,null,null,null,null,null,null,null,null,null,null,null,null,null,null,null,null,null,null,null,null,null,null,{"$f":"$C$40","v":"Bacteria   B"},{"$f":"IF($D$40=\"Concern\",\"(B)\",IF(OR($D$40=\"Fair\",$D$40=\"Poor\"),\"B\",\"\"))","v":""},null,null,null,null,null,null,null,null,null,null,null,null,null,null,null,null,null,null,null,null,null,null,null,null,{"$f":"$C$42","v":"Oil & Grease   G"},{"$f":"IF($D$42=\"Concern\",\"(G)\",IF(OR($D$42=\"Fair\",$D$42=\"Poor\"),\"G\",\"\"))","v":""}]
[null,null,null,null,null,null,null,null,null,null,null,null,null,null,{"$f":"$C$17","v":"Macrophyton   M"},{"$f":"IF($D$17=\"Concern\",\"(M)\",IF(OR($D$17=\"Fair\",$D$17=\"Poor\"),\"M\",\"\"))","v":""},null,null,null,null,null,null,null,null,null,null,null,null,null,null,null,null,null,null,null,null,null,null,null,null,{"$f":"$C$23","v":"pH     pH"},{"$f":"IF($D$23=\"Concern\",\"(pH)\",IF(OR($D$23=\"Fair\",$D$23=\"Poor\"),\"pH\",\"\"))","v":""},null,null,null,null,null,null,null,null,null,null,null,null,null,null,null,null,null,null,null,null,null,null,null,null,{"$f":"$C$29","v":"Nitrogen   N"},{"$f":"IF($D$29=\"Concern\",\"(N)\",IF(OR($D$29=\"Fair\",$D$29=\"Poor\"),\"N\",\"\"))","v":""},null,null,null,null,null,null,null,null,null,null,null,null,null,null,null,null,null,null,null,null,null,null,null,null,null,null,null,null,null,null,null,null,null,null,null,null,null,null,null,null,null,null,null,null,null,null,null,null,null,null,{"$f":"IF($C$41=\"\",\"\",$C$41)","v":""},{"$f":"IF($D$35=\"Concern\",\"(**)\",IF(OR($D$35=\"Fair\",$D$35=\"Poor\"),\"**\",\"\"))","v":""},null,null,null,null,null,null,null,null,null,null,null,null,null,null,null,null,null,null,null,null,null,null,null,null,{"$f":"$C$37","v":"Morphology   H"},{"$f":"IF($D$37=\"Concern\",\"(H)\",IF(OR($D$37=\"Fair\",$D$37=\"Poor\"),\"H\",\"\"))","v":""},null,null,null,null,null,null,null,null,null,null,null,null,null,null,null,null,null,null,null,null,null,null,null,null,{"$f":"IF($C$41=\"\",\"\",$C$41)","v":""},{"$f":"IF($D$41=\"Concern\",\"(**)\",IF(OR($D$41=\"Fair\",$D$41=\"Poor\"),\"**\",\"\"))","v":""},null,null,null,null,null,null,null,null,null,null,null,null,null,null,null,null,null,null,null,null,null,null,null,null,{"$f":"$C$43","v":"Taste & Odor   O"},{"$f":"IF($D$43=\"Concern\",\"(O)\",IF(OR($D$43=\"Fair\",$D$43=\"Poor\"),\"O\",\"\"))","v":""}]
[null,"Tissue",{"$f":"\"Spec. Chem.   \"&HN45","v":"Spec. Chem.   PCB"},"NA","NA","NA",{"$f":"$HO$15&\"  \"&$HO$16&\"  \"&$HO$17&\"  \"&$HO$18&\"  \"&$HO$19&\"  \"&$HO$20","v":"          "},{"$f":"$HO$28&\"  \"&$HO$29&\"  \"&$HO$30&\"  \"&$HO$31&\"  \"&$HO$32&\"  \"&$HO$33","v":"          "},null,null,null,null,null,null,{"$f":"$C$18","v":"Invertebrates   I"},{"$f":"IF($D$18=\"Concern\",\"(I)\",IF(OR($D$18=\"Fair\",$D$18=\"Poor\"),\"I\",\"\"))","v":""},null,null,null,null,null,null,null,null,null,null,null,null,null,null,null,null,null,null,null,null,null,null,null,null,{"$f":"$C$24","v":"Temperature    T"},{"$f":"IF($D$24=\"Concern\",\"(T)\",IF(OR($D$24=\"Fair\",$D$24=\"Poor\"),\"T\",\"\"))","v":""},null,null,null,null,null,null,null,null,null,null,null,null,null,null,null,null,null,null,null,null,null,null,null,null,{"$f":"IF($C$30=\"\",\"\",$C$30)","v":""},{"$f":"IF($D$30=\"Concern\",\"(**)\",IF(OR($D$30=\"Fair\",$D$30=\"Poor\"),\"**\",\"\"))","v":""},null,null,null,null,null,null,null,null,null,null,null,null,null,null,null,null,null,null,null,null,null,null,null,null,null,null,null,null,null,null,null,null,null,null,null,null,null,null,null,null,null,null,null,null,null,null,null,null,null,null,null,null,null,null,null,null,null,null,null,null,null,null,null,null,null,null,null,null,null,null,null,null,null,null,null,null,{"$f":"$C$38","v":"Riparian Zone   R"},{"$f":"IF($D$38=\"Concern\",\"(R)\",IF(OR($D$38=\"Fair\",$D$38=\"Poor\"),\"R\",\"\"))","v":""},null,null,null,null,null,null,null,null,null,null,null,null,null,null,null,null,null,null,null,null,null,null,null,null,null,null,null,null,null,null,null,null,null,null,null,null,null,null,null,null,null,null,null,null,null,null,null,null,null,null,{"$f":"$C$44","v":"Turb/Color   C"},{"$f":"IF($D$44=\"Concern\",\"(C)\",IF(OR($D$44=\"Fair\",$D$44=\"Poor\"),\"C\",\"\"))","v":""}]
[null,null,null,null,null,null,null,null,null,null,null,null,null,null,{"$f":"$C$19","v":"Fish   F"},{"$f":"IF($D$19=\"Concern\",\"(F)\",IF(OR($D$19=\"Fair\",$D$19=\"Poor\"),\"F\",\"\"))","v":""},null,null,null,null,null,null,null,null,null,null,null,null,null,null,null,null,null,null,null,null,null,null,null,null,{"$f":"$C$25","v":"Ionic Strength    Z"},{"$f":"IF($D$25=\"Concern\",\"(Z)\",IF(OR($D$25=\"Fair\",$D$25=\"Poor\"),\"Z\",\"\"))","v":""},null,null,null,null,null,null,null,null,null,null,null,null,null,null,null,null,null,null,null,null,null,null,null,null,null,null,null,null,null,null,null,null,null,null,null,null,null,null,null,null,null,null,null,null,null,null,null,null,null,null,"Pollution  Indicators (Causes):  ",null,{"$f":"CP52&\" \"&CP53&\" \"&CP54","v":"  "},null,null,null,null,null,null,null,null,null,null,null,null,null,null,null,null,null,null,null,null,null,null,null,null,null,null,null,null,null,null,null,null,null,null,null,null,null,null,null,null,null,null,null,null,null,null,null,null,null,{"$f":"IF($C$39=\"\",\"\",$C$39)","v":""},{"$f":"IF($D$39=\"Concern\",\"(**)\",IF(OR($D$39=\"Fair\",$D$39=\"Poor\"),\"**\",\"\"))","v":""},null,null,null,null,null,null,null,null,null,null,null,null,null,null,null,null,null,null,null,null,null,null,null,null,null,null,null,null,null,null,null,null,null,null,null,null,null,null,null,null,null,null,null,null,null,null,null,null,null,null,{"$f":"$C$45","v":"Nuisance Plants   V"},{"$f":"IF($D$45=\"Concern\",\"(V)\",IF(OR($D$45=\"Fair\",$D$45=\"Poor\"),\"V\",\"\"))","v":""},null,null,null,null,null,null,null,null,null,null,null,null,null,null,null,null,null,null,null,null,null,null,null,null,null,null,null,null,null,null,null,null,null,null,null,null,null,null,null,null,null,null,null,null,null,null,null,null,null,null,"Pollution  Indicators (Causes):  ",null,{"$f":"IP52&\" \"&IP53&\" \"&IP54","v":"  "}]
[null,"Sediment","Unknown   U","NA","NA","NA",{"$f":"$IO$15&\"  \"&$IO$16&\"  \"&$IO$17&\"  \"&$IO$18&\"  \"&$IO$19&\"  \"&$IO$20","v":"          "},{"$f":"$IO$28&\"  \"&$IO$29&\"  \"&$IO$30&\"  \"&$IO$31&\"  \"&$IO$32&\"  \"&$IO$33","v":"          "},null,null,null,null,null,null,{"$f":"$C$20","v":"Wildlife   W"},{"$f":"IF($D$20=\"Concern\",\"(W)\",IF(OR($D$20=\"Fair\",$D$20=\"Poor\"),\"W\",\"\"))","v":""},null,null,null,null,null,null,null,null,null,null,null,null,null,null,null,null,null,null,null,null,null,null,null,null,{"$f":"$C$26","v":"Sus. Solids    SS"},{"$f":"IF($D$26=\"Concern\",\"(SS)\",IF(OR($D$26=\"Fair\",$D$26=\"Poor\"),\"SS\",\"\"))","v":""},null,null,null,null,null,null,null,null,null,null,null,null,null,null,null,null,null,null,null,null,null,null,null,null,null,null,null,null,null,null,null,null,null,null,null,null,null,null,null,null,null,null,null,null,null,null,null,null,null,null,null,null,null,null,null,null,null,null,null,null,null,null,null,null,null,null,null,null,null,null,null,null,null,null,null,null,null,null,null,null,null,null,null,null,null,null,null,null,null,null,null,null,null,null,null,null,null,null,null,null,null,null,null,null,null,null,null,null,null,null,null,null,null,null,null,null,null,null,null,null,null,null,null,null,null,null,null,null,null,null,null,null,null,null,null,null,null,null,null,null,null,null,null,null,null,null,null,null,null,null,null,null,null,null,{"$f":"$C$46","v":"Trash /Debris   D"},{"$f":"IF($D$46=\"Concern\",\"(D)\",IF(OR($D$46=\"Fair\",$D$46=\"Poor\"),\"D\",\"\"))","v":""},null,null,null,null,null,null,null,null,null,null,null,null,null,null,null,null,null,null,null,null,null,null,null,null,"Pollution  Indicators (Causes):  ",null,{"$f":"HP53&\" \"&HP54","v":" "}]
[null,null,{"$f":"\"Spec. Chem.   \"&IN44","v":"Spec. Chem.   DDT"},"NA",null,null,null,null,null,null,null,null,null,null,{"$f":"IF($C$21=\"\",\"\",$C$21)","v":""},{"$f":"IF($D$21=\"Concern\",\"(**)\",IF(OR($D$21=\"Fair\",$D$21=\"Poor\"),\"**\",\"\"))","v":""},null,null,null,null,null,null,null,null,null,null,null,null,null,null,null,null,null,null,null,null,null,null,null,null,{"$f":"IF($C$27=\"\",\"\",$C$27)","v":""},{"$f":"IF($D$27=\"Concern\",\"(**)\",IF(OR($D$27=\"Fair\",$D$27=\"Poor\"),\"**\",\"\"))","v":""},null,null,null,null,null,null,null,null,null,null,null,null,null,null,null,null,null,null,null,null,null,null,null,null,null,null,null,null,null,null,null,null,null,null,null,null,null,null,null,null,null,null,null,null,null,null,null,null,null,null,{"$f":"$B$31","v":"Toxicity"},null,null,null,null,null,null,null,null,null,null,null,null,null,null,null,null,null,null,null,null,null,null,null,null,null,null,null,null,null,null,null,null,null,null,null,null,null,null,null,null,null,null,null,null,null,null,null,null,null,null,null,null,null,null,null,null,null,null,null,null,null,null,null,null,null,null,null,null,null,null,null,null,null,null,null,null,null,null,null,null,null,null,null,null,null,null,null,null,null,null,null,null,null,null,null,null,null,null,null,null,null,null,null,{"$f":"IF($C$47=\"\",\"\",$C$47)","v":""},{"$f":"IF($D$47=\"Concern\",\"(**)\",IF(OR($D$47=\"Fair\",$D$47=\"Poor\"),\"**\",\"\"))","v":""},null,null,null,null,null,null,null,null,null,null,null,null,null,null,null,null,null,null,null,null,null,null,null,null,null,null,null,null,null,null,null,null,null,null,null,null,null,null,null,null,null,null,null,null,null,null,null,null,null,null,{"$f":"$B$50","v":"Sediment"}]
[null,null,null,null,null,null,null,null,null,null,null,null,null,null,null,null,null,null,null,null,null,null,null,null,null,null,null,null,null,null,null,null,null,null,null,null,null,null,null,null,null,null,null,null,null,null,null,null,null,null,null,null,null,null,null,null,null,null,null,null,null,null,null,null,null,null,null,null,null,null,null,null,null,null,null,null,null,null,null,null,null,null,null,null,null,null,null,null,null,null,null,null,{"$f":"$C$31","v":"Unknown   U"},{"$f":"IF($D$31=\"Concern\",\"(U)\",IF(OR($D$31=\"Fair\",$D$31=\"Poor\"),\"U\",\"\"))","v":""},null,null,null,null,null,null,null,null,null,null,null,null,null,null,null,null,null,null,null,null,null,null,null,null,null,null,null,null,null,null,null,null,null,null,null,null,null,null,null,null,null,null,null,null,null,null,null,null,null,null,null,null,null,null,null,null,null,null,null,null,null,null,null,null,null,null,null,null,null,null,null,null,null,null,null,null,null,null,null,null,null,null,null,null,null,null,null,null,null,null,null,null,null,null,null,null,null,null,null,null,null,null,null,null,null,null,null,null,null,null,null,null,null,null,null,null,null,null,null,null,null,null,null,null,null,null,null,null,{"$f":"$B$48","v":"Tissue"},null,null,null,null,null,null,null,null,null,null,null,null,null,null,null,null,null,null,null,null,null,null,null,null,null,{"$f":"$C$50","v":"Unknown   U"},{"$f":"IF($D$50=\"Concern\",\"(U)\",IF(OR($D$50=\"Fair\",$D$50=\"Poor\"),\"U\",\"\"))","v":""}]
[null,"Comments:",null,null,null,null,null,"*  Suspected Source  ",null,null,null,null,null,null,null,null,null,null,null,null,null,null,null,null,null,null,null,null,null,null,null,null,null,null,null,null,null,null,null,null,null,null,null,null,null,null,null,null,null,null,null,null,null,null,null,null,null,null,null,null,null,null,null,null,null,null,null,null,null,null,null,null,null,null,null,null,null,null,null,null,null,null,null,null,null,null,null,null,null,null,null,null,{"$f":"$C$32","v":"Spec. Chem.  Ag"},{"$f":"IF($D$32=\"Concern\",\"(\"&CN44&\")\",IF(OR($D$32=\"Fair\",$D$32=\"Poor\"),CN44,\"\"))","v":""},null,null,null,null,null,null,null,null,null,null,null,null,null,null,null,null,null,null,null,null,null,null,null,null,null,null,null,null,null,null,null,null,null,null,null,null,null,null,null,null,null,null,null,null,null,null,null,null,null,null,null,null,null,null,null,null,null,null,null,null,null,null,null,null,null,null,null,null,null,null,null,null,null,null,null,null,null,null,null,null,null,null,null,null,null,null,null,null,null,null,null,null,null,null,null,null,null,null,null,null,null,null,null,null,null,null,null,null,null,null,null,null,null,null,null,null,null,null,null,null,null,null,null,null,null,null,null,null,{"$f":"$C$48","v":"Spec. Chem.   PCB"},{"$f":"IF($D$48=\"Concern\",\"(\"&HN45&\")\",IF(OR($D$48=\"Fair\",$D$32=\"Poor\"),HN45,\"\"))","v":""},null,null,null,null,null,null,null,null,null,null,null,null,null,null,null,null,null,null,null,null,null,null,null,null,{"$f":"$C$51","v":"Spec. Chem.   DDT"},{"$f":"IF($D$51=\"Concern\",\"(\"&IN44&\")\",IF(OR($D$51=\"Fair\",$D$51=\"Poor\"),IN44,\"\"))","v":""}]
[null,null,null,null,null,null,null,"** Potential Source  ",null,null,null,null,null,null,null,null,null,null,null,null,null,null,null,null,null,null,null,null,null,null,null,null,null,null,null,null,null,null,null,null,null,null,null,null,null,null,null,null,null,null,null,null,null,null,null,null,null,null,null,null,null,null,null,null,null,null,null,null,null,null,null,null,null,null,null,null,null,null,null,null,null,null,null,null,null,null,null,null,null,null,null,null,{"$f":"IF($C$33=\"\",\"\",$C$33)","v":""},{"$f":"IF($D$33=\"Concern\",\"(**)\",IF(OR($D$33=\"Fair\",$D$33=\"Poor\"),\"**\",\"\"))","v":""},null,null,null,null,null,null,null,null,null,null,null,null,null,null,null,null,null,null,null,null,null,null,null,null,null,null,null,null,null,null,null,null,null,null,null,null,null,null,null,null,null,null,null,null,null,null,null,null,null,null,null,null,null,null,null,null,null,null,null,null,null,null,null,null,null,null,null,null,null,null,null,null,null,null,null,null,null,null,null,null,null,null,null,null,null,null,null,null,null,null,null,null,null,null,null,null,null,null,null,null,null,null,null,null,null,null,null,null,null,null,null,null,null,null,null,null,null,null,null,null,null,null,null,null,null,null,null,null,{"$f":"IF($C$49=\"\",\"\",$C$49)","v":""},{"$f":"IF($D$49=\"Concern\",\"(**)\",IF(OR($D$49=\"Fair\",$D$49=\"Poor\"),\"**\",\"\"))","v":""},null,null,null,null,null,null,null,null,null,null,null,null,null,null,null,null,null,null,null,null,null,null,null,null,{"$f":"IF($C$52=\"\",\"\",$C$52)","v":""},{"$f":"IF($D$52=\"Concern\",\"(**)\",IF(OR($D$52=\"Fair\",$D$52=\"Poor\"),\"**\",\"\"))","v":""}]
[null,null,null,null,null,null,null,"No asterisk: Known Source  "]
[null,null,null,null,null,null,null,"[Out of Segment Source ]  "]
[]
[]
[]
[null,"SegNameLong:  ","dddddd"]
[null,"Seg Name:  ","ddd"]
[null,"Seg Num:  "]
[null,"Seg Size:  "]
[null,"Seg Class:  "]
[]
[]
[]
[]
[]
[]
[]
[]
[]
[]
[]
[]
[null,null,null,{"$f":"A99","v":""}]
[null,null,null,{"$f":"B99","v":""}]
[null,null,null,{"$f":"C99","v":""}]
[null,null,null,{"$f":"D99","v":""}]
[null,null,null,{"$f":"E99","v":""}]
[null,null,null,{"$f":"F99","v":""}]
[null,null,null,{"$f":"G99","v":""}]
[null,null,null,{"$f":"H99","v":""}]
[null,null,null,{"$f":"I99","v":""}]
[]
[]
[]
[]
[]
[]
[]
[]
[]
[]
[]
[]
[]
[{"$f":"TRIM(A101&\" \"&A102&\" \"&A103&\" \"&A104&\" \"&A105&\" \"&A106)","v":""},{"$f":"TRIM(B101&\" \"&B102&\" \"&B103&\" \"&B104&\" \"&B105&\" \"&B106)","v":""},"","","","","","",""]

{"sheet":"Seg5","index":9,"n_rows":99,"n_cols":311,"rows_kept":99,"cut":false,"hidden":false,"merged":[[15,1,20,1],[15,4,20,4],[15,5,20,5],[15,6,20,6],[15,7,20,7],[13,1,14,1],[13,2,14,3],[13,4,14,4],[13,5,14,5],[14,6,14,7],[27,1,29,1],[27,4,29,4],[27,5,29,5],[27,6,29,6],[27,7,29,7],[21,1,26,1],[21,4,26,4],[21,5,26,5],[21,6,26,6],[21,7,26,7],[49,6,51,6],[49,7,51,7],[30,1,32,1],[30,4,32,4],[30,5,32,5],[30,6,32,6],[30,7,32,7],[33,1,34,1],[33,4,34,4],[33,5,34,5],[33,6,34,6],[33,7,34,7],[43,91,45,94],[35,1,38,1],[35,4,38,4],[35,5,38,5],[35,6,38,6],[35,7,38,7],[39,1,40,1],[39,4,40,4],[39,5,40,5],[39,6,40,6],[39,7,40,7],[52,1,55,1],[43,247,45,250],[44,221,46,224],[47,1,48,1],[47,4,48,4],[47,5,48,5],[47,6,48,6],[47,7,48,7],[41,1,46,1],[41,4,46,4],[41,5,46,5],[41,6,46,6],[41,7,46,7],[49,1,51,1],[49,4,51,4],[49,5,51,5]]}
[]
[]
[]
[]
[null,null,null,null,null,null,null,null,null,null,null,null,null,null,null,null,null,null,null,null,null,null,null,null,null,null,null,null,null,null,null,null,null,null,null,null,null,null,null,null,null,null,null,null,null,null,null,null,null,null,null,null,null,null,null,null,null,null,null,null,null,null,null,null,null,null,null,null,null,null,null,null,null,null,null,null,null,null,null,null,null,null,null,null,null,null,null,null,null,null,null,null,null,null,null,null,null,null,null,null,null,null,null,null,null,null,null,null,null,null,null,null,null,null,null,null,null,null,null,null,null,null,null,null,null,null,null,null,null,null,null,null,null,null,null,null,null,null,null,null,null,null,null,null,null,null,null,null,null,null,null,null,null,null,null,null,null,null,null,null,null,null,null,null,null,null,null,null,null,null,null,null,null,null,null,null,null,null,null,null,null,null,null,null,null,null,null,null,null,null,null,null,null,null,null,null,null,null,null,null,null,null,null,null,null,null,null,null,null,null,null,null,null,null,null,null,null,null,null,null,null,null,null,null,null,null,null,null,null,null,null,null,null,null,null,null,null,null,null,null,null,null,null,null,null,null,null,null,null,null,null,null,null,null,null,null,null,null,null,null,null,null,null,null,null,null,null,null,null,null,null,null,null,null,null,null,null,null,null,null,null,null,null,null,null,"List of all codes from all groups for this segment, organized by Source Type. "]
[null,null,null,null,null,null,null,null,null,null,null,null,null,null,null,null,null,null,null,null,null,null,null,null,null,null,null,null,null,null,null,null,null,null,null,null,null,null,null,null,null,null,null,null,null,null,null,null,null,null,null,null,null,null,null,null,null,null,null,null,null,null,null,null,null,null,null,null,null,null,null,null,null,null,null,null,null,null,null,null,null,null,null,null,null,null,null,null,null,null,null,null,null,null,null,null,null,null,null,null,null,null,null,null,null,null,null,null,null,null,null,null,null,null,null,null,null,null,null,null,null,null,null,null,null,null,null,null,null,null,null,null,null,null,null,null,null,null,null,null,null,null,null,null,null,null,null,null,null,null,null,null,null,null,null,null,null,null,null,null,null,null,null,null,null,null,null,null,null,null,null,null,null,null,null,null,null,null,null,null,null,null,null,null,null,null,null,null,null,null,null,null,null,null,null,null,null,null,null,null,null,null,null,null,null,null,null,null,null,null,null,null,null,null,null,null,null,null,null,null,null,null,null,null,null,null,null,null,null,null,null,null,null,null,null,null,null,null,null,null,null,null,null,null,null,null,null,null,null,null,null,null,null,null,null,null,null,null,null,null,null,null,null,null,null,null,null,null,null,null,null,null,null,null,null,null,null,null,null,null,null,null,null,null,null,"List is updated only when \"SourceRC_List\" macro is run. Macro is run manually by touching button at right or when Source report card is activated."]
[null,null,null,null,null,null,null,null,null,null,null,null,null,null,null,null,null,null,null,null,null,null,null,null,null,null,null,null,null,null,null,null,null,null,null,null,null,null,null,null,null,null,null,null,null,null,null,null,null,null,null,null,null,null,null,null,null,null,null,null,null,null,null,null,null,null,null,null,null,null,null,null,null,null,null,null,null,null,null,null,null,null,null,null,null,null,null,null,null,null,null,null,null,null,null,null,null,null,null,null,null,null,null,null,null,null,null,null,null,null,null,null,null,null,null,null,null,null,null,null,null,null,null,null,null,null,null,null,null,null,null,null,null,null,null,null,null,null,null,null,null,null,null,null,null,null,null,null,null,null,null,null,null,null,null,null,null,null,null,null,null,null,null,null,null,null,null,null,null,null,null,null,null,null,null,null,null,null,null,null,null,null,null,null,null,null,null,null,null,null,null,null,null,null,null,null,null,null,null,null,null,null,null,null,null,null,null,null,null,null,null,null,null,null,null,null,null,null,null,null,null,null,null,null,null,null,null,null,null,null,null,null,null,null,null,null,null,null,null,null,null,null,null,null,null,null,null,null,null,null,null,null,null,null,null,null,null,null,null,null,null,null,null,null,null,null,null,null,null,null,null,null,null,null,null,null,null,null,null,null,null,null,null,null,null,"Numbers indicate knowledge about the certainty of assessment: 0 = N/A, 1 = Potential Source, 2 = Suspected Source, 3 = Known Source."]
[null,null,null,null,null,null,null,null,null,null,null,null,null,null,null,null,null,null,null,null,null,null,null,null,null,null,null,null,null,null,null,null,null,null,null,null,null,null,null,null,null,null,null,null,null,null,null,null,null,null,null,null,null,null,null,null,null,null,null,null,null,null,null,null,null,null,null,null,null,null,null,null,null,null,null,null,null,null,null,null,null,null,null,null,null,null,null,null,null,null,null,null,null,null,null,null,null,null,null,null,null,null,null,null,null,null,null,null,null,null,null,null,null,null,null,null,null,null,null,null,null,null,null,null,null,null,null,null,null,null,null,null,null,null,null,null,null,null,null,null,null,null,null,null,null,null,null,null,null,null,null,null,null,null,null,null,null,null,null,null,null,null,null,null,null,null,null,null,null,null,null,null,null,null,null,null,null,null,null,null,null,null,null,null,null,null,null,null,null,null,null,null,null,null,null,null,null,null,null,null,null,null,null,null,null,null,null,null,null,null,null,null,null,null,null,null,null,null,null,null,null,null,null,null,null,null,null,null,null,null,null,null,null,null,null,null,null,null,null,null,null,null,null,null,null,null,null,null,null,null,null,null,null,null,null,null,null,null,null,null,null,null,null,null,null,null,null,null,null,null,null,null,null,null,null,null,null,null,null,null,null,null,null,null,null,"This list is then processed below to remove duplicates."]
[null,null,null,null,null,null,null,null,null,null,null,null,null,"Designate Point & Non-Point Sources",null,null,null,null,null,null,null,null,null,null,null,null,null,null,null,null,null,null,null,null,null,null,null,null,null,"Designate Point & Non-Point Sources",null,null,null,null,null,null,null,null,null,null,null,null,null,null,null,null,null,null,null,null,null,null,null,null,null,"Designate Point & Non-Point Sources",null,null,null,null,null,null,null,null,null,null,null,null,null,null,null,null,null,null,null,null,null,null,null,null,null,"Designate Point & Non-Point Sources",null,null,null,null,null,null,null,null,null,null,null,null,null,null,null,null,null,null,null,null,null,null,null,null,null,"Designate Point & Non-Point Sources",null,null,null,null,null,null,null,null,null,null,null,null,null,null,null,null,null,null,null,null,null,null,null,null,null,"Designate Point & Non-Point Sources",null,null,null,null,null,null,null,null,null,null,null,null,null,null,null,null,null,null,null,null,null,null,null,null,null,"Designate Point & Non-Point Sources",null,null,null,null,null,null,null,null,null,null,null,null,null,null,null,null,null,null,null,null,null,null,null,null,null,"Designate Point & Non-Point Sources",null,null,null,null,null,null,null,null,null,null,null,null,null,null,null,null,null,null,null,null,null,null,null,null,null,"Designate Point & Non-Point Sources",null,null,null,null,null,null,null,null,null,null,null,null,null,null,null,null,null,null,null,null,null,null,null,null,null,"Designate Point & Non-Point Sources"]
[null,null,null,null,null,null,null,null,null,null,null,null,null,null,null,null,null,null,null,null,null,null,null,"Codes selected at left are distributed according to Source Type. "]
[null,{"$f":"\"River Basin: \"&RiverBasinName","v":"River Basin: Test River Basin"},null,null,null,null,{"$f":"\"Data Year:  \"&AssessmentYear","v":"Data Year:  2011"},null,null,null,null,null,null,null,null,null,null,null,null,null,null,null,null,"Numbers indicate confidence of assessment: 0 = N/A, 1 = Potential Source, 2 = Suspected Source, 3 = Known Source.",null,null,null,null,null,null,null,null,null,null,null,null,null,null,null,null,null,null,null,null,null,null,null,null,null,null,null,null,null,null,null,null,null,null,null,null,null,null,null,null,null,null,null,null,null,null,null,null,null,null,null,null,null,null,null,null,null,null,null,null,null,null,null,null,null,null,null,null,null,null,null,null,null,null,null,null,null,null,null,null,null,null,null,null,null,null,null,null,null,null,null,null,null,null,null,null,null,null,null,null,null,null,null,null,null,null,null,null,null,null,null,null,null,null,null,null,null,null,null,null,null,null,null,null,null,null,null,null,null,null,null,null,null,null,null,null,null,null,null,null,null,null,null,null,null,null,null,null,null,null,null,null,null,null,null,null,null,null,null,null,null,null,null,null,null,null,null,null,null,null,null,null,null,null,null,null,null,null,null,null,null,null,null,null,null,null,null,null,null,null,null,null,null,null,null,null,null,null,null,null,null,null,null,null,null,null,null,null,null,null,null,null,null,null,null,null,null,null,null,null,null,null,null,null,null,null,null,null,null,null,null,null,null,null,null,null,null,null,null,null,null,null,null,null,null,null,null,null,null,null,null,null,null,null,null,null,null,null,null,null,null,null,"Municp",null,null,"Industr",null,null,"St Water",null,null,"Res Ext",null,null,"Land Dis",null,null,"Seds",null,null,"Hydro",null,null,"Other",null,null,"Unknown"]
[null,{"$f":"\"Segment Name: \"&C60","v":"Segment Name: eeeeee"},null,null,null,null,null,null,null,null,null,null,null,null,null,null,null,null,null,null,null,null,null,"These codes are processed by \"SourceRC_List macro and transferred to Source report card."]
[null,{"$f":"\"Class: \"&C64","v":"Class: "},null,{"$f":"\"Size: \"&C63","v":"Size: "},null,null,{"$f":"\"Seg ID #: \"&C62","v":"Seg ID #: "}]
[null,"CATEGORY","INDICATOR ASSESSMENT",null,"OVERALL STATUS","DATA LEVEL","POINT","NONPOINT",null,null,null,null,null,"Point Sources",null,null,null,null,null,null,null,null,null,"Municipal",null,null,"Industrial",null,null,"Storm Water",null,null,"Resource Ext",null,null,"Land Disposal",null,null,null,"Point Sources",null,null,null,null,null,null,null,null,null,"Municipal",null,null,"Industrial",null,null,"Storm Water",null,null,"Resource Ext",null,null,"Land Disposal",null,null,null,"Point Sources",null,null,null,null,null,null,null,null,null,"Municipal",null,null,"Industrial",null,null,"Storm Water",null,null,"Resource Ext",null,null,"Land Disposal",null,null,null,"Point Sources",null,null,null,null,null,null,null,null,null,"Municipal",null,null,"Industrial",null,null,"Storm Water",null,null,"Resource Ext",null,null,"Land Disposal",null,null,null,"Point Sources",null,null,null,null,null,null,null,null,null,"Municipal",null,null,"Industrial",null,null,"Storm Water",null,null,"Resource Ext",null,null,"Land Disposal",null,null,null,"Point Sources",null,null,null,null,null,null,null,null,null,"Municipal",null,null,"Industrial",null,null,"Storm Water",null,null,"Resource Ext",null,null,"Land Disposal",null,null,null,"Point Sources",null,null,null,null,null,null,null,null,null,"Municipal",null,null,"Industrial",null,null,"Storm Water",null,null,"Resource Ext",null,null,"Land Disposal",null,null,null,"Point Sources",null,null,null,null,null,null,null,null,null,"Municipal",null,null,"Industrial",null,null,"Storm Water",null,null,"Resource Ext",null,null,"Land Disposal",null,null,null,"Point Sources",null,null,null,null,null,null,null,null,null,"Municipal",null,null,"Industrial",null,null,"Storm Water",null,null,"Resource Ext",null,null,"Land Disposal",null,null,null,"Point Sources",null,null,null,null,null,null,null,null,null,"Municipal",null,null,"Industrial",null,null,"Storm Water",null,null,"Resource Ext",null,null,"Land Disposal"]
[null,null,null,null,null,null,"Click below to select Sources"]
[null,"Biology","Plank/Peri.   A","NA","NA","NA",{"$f":"$O$15&\"  \"&$O$16&\"  \"&$O$17&\"  \"&$O$18&\"  \"&$O$19&\"  \"&$O$20","v":"          "},{"$f":"$O$28&\"  \"&$O$29&\"  \"&$O$30&\"  \"&$O$31&\"  \"&$O$32&\"  \"&$O$33","v":"          "}]
[null,null,"Macrophyton   M","NA"]
[null,null,"Invertebrates   I","NA"]
[null,null,"Fish   F","NA"]
[null,null,"Wildlife   W","NA"]
[]
[null,"Chemistry","Dis. Oxygen    DO","NA","NA","NA",{"$f":"$AO$15&\"  \"&$AO$16&\"  \"&$AO$17&\"  \"&$AO$18&\"  \"&$AO$19&\"  \"&$AO$20","v":"          "},{"$f":"$AO$28&\"  \"&$AO$29&\"  \"&$AO$30&\"  \"&$AO$31&\"  \"&$AO$32&\"  \"&$AO$33","v":"          "}]
[null,null,"pH     pH","NA"]
[null,null,"Temperature    T","NA"]
[null,null,"Ionic Strength    Z","NA"]
[null,null,"Sus. Solids    SS","NA"]
[null,null,null,null,null,null,null,null,null,null,null,null,null,"Non Point Sources",null,null,null,null,null,null,null,null,null,"Seds",null,null,"Hydromodification",null,null,"Other",null,null,"Unknown",null,null,null,null,null,null,"Non Point Sources",null,null,null,null,null,null,null,null,null,"Seds",null,null,"Hydromodification",null,null,"Other",null,null,"Unknown",null,null,null,null,null,null,"Non Point Sources",null,null,null,null,null,null,null,null,null,"Seds",null,null,"Hydromodification",null,null,"Other",null,null,"Unknown",null,null,null,null,null,null,"Non Point Sources",null,null,null,null,null,null,null,null,null,"Seds",null,null,"Hydromodification",null,null,"Other",null,null,"Unknown",null,null,null,null,null,null,"Non Point Sources",null,null,null,null,null,null,null,null,null,"Seds",null,null,"Hydromodification",null,null,"Other",null,null,"Unknown",null,null,null,null,null,null,"Non Point Sources",null,null,null,null,null,null,null,null,null,"Seds",null,null,"Hydromodification",null,null,"Other",null,null,"Unknown",null,null,null,null,null,null,"Non Point Sources",null,null,null,null,null,null,null,null,null,"Seds",null,null,"Hydromodification",null,null,"Other",null,null,"Unknown",null,null,null,null,null,null,"Non Point Sources",null,null,null,null,null,null,null,null,null,"Seds",null,null,"Hydromodification",null,null,"Other",null,null,"Unknown",null,null,null,null,null,null,"Non Point Sources",null,null,null,null,null,null,null,null,null,"Seds",null,null,"Hydromodification",null,null,"Other",null,null,"Unknown",null,null,null,null,null,null,"Non Point Sources",null,null,null,null,null,null,null,null,null,"Seds",null,null,"Hydromodification",null,null,"Other",null,null,"Unknown"]
[null,"Nutrients","Phosphorus  P","NA","NA","NA",{"$f":"$BO$15&\"  \"&$BO$16&\"  \"&$BO$17&\"  \"&$BO$18&\"  \"&$BO$19&\"  \"&$BO$20","v":"          "},{"$f":"$BO$28&\"  \"&$BO$29&\"  \"&$BO$30&\"  \"&$BO$31&\"  \"&$BO$32&\"  \"&$BO$33","v":"          "}]
[null,null,"Nitrogen   N","NA"]
[]
[null,"Toxicity","Unknown   U","NA","NA","NA",{"$f":"$CO$15&\"  \"&$CO$16&\"  \"&$CO$17&\"  \"&$CO$18&\"  \"&$CO$19&\"  \"&$CO$20","v":"          "},{"$f":"$CO$28&\"  \"&$CO$29&\"  \"&$CO$30&\"  \"&$CO$31&\"  \"&$CO$32&\"  \"&$CO$33","v":"          "}]
[null,null,{"$f":"\"Spec. Chem.  \"&CN44","v":"Spec. Chem.  Ag"},"NA"]
[null,null,null,null,null,null,null,null,null,null,null,null,null,null,null,null,null,null,null,null,null,null,null,null,null,null,null,null,null,null,null,null,null,null,null,null,null,null,null,null,null,null,null,null,null,null,null,null,null,null,null,null,null,null,null,null,null,null,null,null,null,null,null,null,null,null,null,null,null,null,null,null,null,null,null,null,null,null,null,null,null,null,null,null,null,null,null,null,null,null,null,null,null,null,null,null,null,null,null,null,null,null,null,null,null,null,null,null,null,null,null,null,null,null,null,null,null,null,null,null,null,null,null,null,null,null,null,null,null,null,null,null,null,null,null,null,null,null,null,null,null,null,null,null,null,null,null,null,null,null,null,null,null,null,null,null,null,null,null,null,null,null,null,null,null,null,null,null,null,null,null,null,null,null,null,null,null,null,null,null,null,null,null,null,null,null,null,null,null,null,null,null,null,null,null,null,null,null,null,null,null,null,null,null,null,null,null,null,null,null,null,null,null,null,null,null,null,null,null,null,null,null,null,null,null,null,null,null,null,null,null,null,null,null,null,null,null,null,null,null,null,null,null,null,null,null,null,null,null,null,null,null,null,null,null,null,null,null,null,null,null,null,null,null,null,null,null,null,null,null,null,null,null,null,null,null,null,null,null,null,null,null,null,null,null,"The colored cells below reflect this segments pollution status and are replicated on the Sources report card automatically"]
[null,"Flow","Flow  Q","NA","NA","NA",{"$f":"$DO$15&\"  \"&$DO$16&\"  \"&$DO$17&\"  \"&$DO$18&\"  \"&$DO$19&\"  \"&$DO$20","v":"          "},{"$f":"$DO$28&\"  \"&$DO$29&\"  \"&$DO$30&\"  \"&$DO$31&\"  \"&$DO$32&\"  \"&$DO$33","v":"          "},null,null,null,null,null,null,null,null,null,null,null,null,null,null,null,null,null,null,null,null,null,null,null,null,null,null,null,null,null,null,null,null,null,null,null,null,null,null,null,null,null,null,null,null,null,null,null,null,null,null,null,null,null,null,null,null,null,null,null,null,null,null,null,null,null,null,null,null,null,null,null,null,null,null,null,null,null,null,null,null,null,null,null,null,null,null,null,null,null,null,null,null,null,null,null,null,null,null,null,null,null,null,null,null,null,null,null,null,null,null,null,null,null,null,null,null,null,null,null,null,null,null,null,null,null,null,null,null,null,null,null,null,null,null,null,null,null,null,null,null,null,null,null,null,null,null,null,null,null,null,null,null,null,null,null,null,null,null,null,null,null,null,null,null,null,null,null,null,null,null,null,null,null,null,null,null,null,null,null,null,null,null,null,null,null,null,null,null,null,null,null,null,null,null,null,null,null,null,null,null,null,null,null,null,null,null,null,null,null,null,null,null,null,null,null,null,null,null,null,null,null,null,null,null,null,null,null,null,null,null,null,null,null,null,null,null,null,null,null,null,null,null,null,null,null,null,null,null,null,null,null,null,null,null,null,null,null,null,null,null,null,null,null,null,null,null,null,null,null,null,null,null,null,null,null,null,null,null,{"$f":"KA11","v":"Municp"},null,null,{"$f":"KD11","v":"Industr"},null,null,{"$f":"KG11","v":"St Water"},null,null,{"$f":"KJ11","v":"Res Ext"},null,null,{"$f":"KM11","v":"Land Dis"},null,null,{"$f":"KP11","v":"Seds"},null,null,{"$f":"KS11","v":"Hydro"},null,null,{"$f":"KV11","v":"Other"},null,null,{"$f":"KY11","v":"Unknown"}]
[null,null,null,null,null,null,null,null,null,null,null,null,null,"* designates a Suspected Source",null,null,null,null,null,null,null,null,null,null,null,null,null,null,null,null,null,null,null,null,null,null,null,null,null,"* designates a Suspected Source",null,null,null,null,null,null,null,null,null,null,null,null,null,null,null,null,null,null,null,null,null,null,null,null,null,"* designates a Suspected Source",null,null,null,null,null,null,null,null,null,null,null,null,null,null,null,null,null,null,null,null,null,null,null,null,null,"* designates a Suspected Source",null,null,null,null,null,null,null,null,null,null,null,null,null,null,null,null,null,null,null,null,null,null,null,null,null,"* designates a Suspected Source",null,null,null,null,null,null,null,null,null,null,null,null,null,null,null,null,null,null,null,null,null,null,null,null,null,"* designates a Suspected Source",null,null,null,null,null,null,null,null,null,null,null,null,null,null,null,null,null,null,null,null,null,null,null,null,null,"* designates a Suspected Source",null,null,null,null,null,null,null,null,null,null,null,null,null,null,null,null,null,null,null,null,null,null,null,null,null,"* designates a Suspected Source",null,null,null,null,null,null,null,null,null,null,null,null,null,null,null,null,null,null,null,null,null,null,null,null,null,"* designates a Suspected Source",null,null,null,null,null,null,null,null,null,null,null,null,null,null,null,null,null,null,null,null,null,null,null,null,null,null,null,null,null,null,null,null,null,null,null,null,null,null,null,null,null,null,null,null,null,null,null,null,null,null,null,null,null,null,null,null,null,null,null,null,null,null,null,null,{"$f":"TRIM(KA41&\" \"&KA42&\" \"&KA43&\" \"&KA44&\" \"&KA45&\" \"&KA46)","v":""},null,null,{"$f":"TRIM(KD41&\" \"&KD42&\" \"&KD43&\" \"&KD44&\" \"&KD45&\" \"&KD46)","v":""},null,null,{"$f":"TRIM(KG41&\" \"&KG42&\" \"&KG43&\" \"&KG44&\" \"&KG45&\" \"&KG46)","v":""},null,null,{"$f":"TRIM(KJ41&\" \"&KJ42&\" \"&KJ43&\" \"&KJ44&\" \"&KJ45&\" \"&KJ46)","v":""},null,null,{"$f":"TRIM(KM41&\" \"&KM42&\" \"&KM43&\" \"&KM44&\" \"&KM45&\" \"&KM46)","v":""},null,null,{"$f":"TRIM(KP41&\" \"&KP42&\" \"&KP43&\" \"&KP44&\" \"&KP45&\" \"&KP46)","v":""},null,null,{"$f":"TRIM(KS41&\" \"&KS42&\" \"&KS43&\" \"&KS44&\" \"&KS45&\" \"&KS46)","v":""},null,null,{"$f":"TRIM(KV41&\" \"&KV42&\" \"&KV43&\" \"&KV44&\" \"&KV45&\" \"&KV46)","v":""},null,null,{"$f":"TRIM(KY41&\" \"&KY42&\" \"&KY43&\" \"&KY44&\" \"&KY45&\" \"&KY46)","v":""}]
[null,"Habitat","Substrate   S","NA","NA","NA",{"$f":"$EO$15&\"  \"&$EO$16&\"  \"&$EO$17&\"  \"&$EO$18&\"  \"&$EO$19&\"  \"&$EO$20","v":"          "},{"$f":"$EO$28&\"  \"&$EO$29&\"  \"&$EO$30&\"  \"&$EO$31&\"  \"&$EO$32&\"  \"&$EO$33","v":"          "},null,null,null,null,null,"** designates a Potential Source",null,null,null,null,null,null,null,null,null,null,null,null,null,null,null,null,null,null,null,null,null,null,null,null,null,"** designates a Potential Source",null,null,null,null,null,null,null,null,null,null,null,null,null,null,null,null,null,null,null,null,null,null,null,null,null,"** designates a Potential Source",null,null,null,null,null,null,null,null,null,null,null,null,null,null,null,null,null,null,null,null,null,null,null,null,null,"** designates a Potential Source",null,null,null,null,null,null,null,null,null,null,null,null,null,null,null,null,null,null,null,null,null,null,null,null,null,"** designates a Potential Source",null,null,null,null,null,null,null,null,null,null,null,null,null,null,null,null,null,null,null,null,null,null,null,null,null,"** designates a Potential Source",null,null,null,null,null,null,null,null,null,null,null,null,null,null,null,null,null,null,null,null,null,null,null,null,null,"** designates a Potential Source",null,null,null,null,null,null,null,null,null,null,null,null,null,null,null,null,null,null,null,null,null,null,null,null,null,"** designates a Potential Source",null,null,null,null,null,null,null,null,null,null,null,null,null,null,null,null,null,null,null,null,null,null,null,null,null,"** designates a Potential Source"]
[null,null,"Morphology   H","NA",null,null,null,null,null,null,null,null,null,"No asterisk designates a Known Source",null,null,null,null,null,null,null,null,null,null,null,null,null,null,null,null,null,null,null,null,null,null,null,null,null,"No asterisk designates a Known Source",null,null,null,null,null,null,null,null,null,null,null,null,null,null,null,null,null,null,null,null,null,null,null,null,null,"No asterisk designates a Known Source",null,null,null,null,null,null,null,null,null,null,null,null,null,null,null,null,null,null,null,null,null,null,null,null,null,"No asterisk designates a Known Source",null,null,null,null,null,null,null,null,null,null,null,null,null,null,null,null,null,null,null,null,null,null,null,null,null,"No asterisk designates a Known Source",null,null,null,null,null,null,null,null,null,null,null,null,null,null,null,null,null,null,null,null,null,null,null,null,null,"No asterisk designates a Known Source",null,null,null,null,null,null,null,null,null,null,null,null,null,null,null,null,null,null,null,null,null,null,null,null,null,"No asterisk designates a Known Source",null,null,null,null,null,null,null,null,null,null,null,null,null,null,null,null,null,null,null,null,null,null,null,null,null,"No asterisk designates a Known Source",null,null,null,null,null,null,null,null,null,null,null,null,null,null,null,null,null,null,null,null,null,null,null,null,null,"No asterisk designates a Known Source",null,null,null,null,null,null,null,null,null,null,null,null,null,null,null,null,null,null,null,null,null,null,null,null,null,null,null,null,null,null,null,null,null,null,null,null,null,null,null,null,null,null,null,null,null,null,null,null,null,null,null,null,null,null,null,null,null,null,null,null,null,null,null,"max confid #",{"$f":"MAX(KB11:KB31)","v":0},null,null,{"$f":"MAX(KE11:KE31)","v":0},null,null,{"$f":"MAX(KH11:KH31)","v":0},null,null,{"$f":"MAX(KK11:KK31)","v":0},null,null,{"$f":"MAX(KN11:KN31)","v":0},null,null,{"$f":"MAX(KQ11:KQ31)","v":0},null,null,{"$f":"MAX(KT11:KT31)","v":0},null,null,{"$f":"MAX(KW11:KW31)","v":0},null,null,{"$f":"MAX(KZ11:KZ31)","v":0}]
[null,null,"Riparian Zone   R","NA",null,null,null,null,null,null,null,null,null,"Square brackets designates an Out of Segment Source (i.e., pollutant is a source for downstream segments)",null,null,null,null,null,null,null,null,null,null,null,null,null,null,null,null,null,null,null,null,null,null,null,null,null,"Square brackets designates an Out of Segment Source (i.e., pollutant is a source for downstream segments)",null,null,null,null,null,null,null,null,null,null,null,null,null,null,null,null,null,null,null,null,null,null,null,null,null,"Square brackets designates an Out of Segment Source (i.e., pollutant is a source for downstream segments)",null,null,null,null,null,null,null,null,null,null,null,null,null,null,null,null,null,null,null,null,null,null,null,null,null,"Square brackets designates an Out of Segment Source (i.e., pollutant is a source for downstream segments)",null,null,null,null,null,null,null,null,null,null,null,null,null,null,null,null,null,null,null,null,null,null,null,null,null,"Square brackets designates an Out of Segment Source (i.e., pollutant is a source for downstream segments)",null,null,null,null,null,null,null,null,null,null,null,null,null,null,null,null,null,null,null,null,null,null,null,null,null,"Square brackets designates an Out of Segment Source (i.e., pollutant is a source for downstream segments)",null,null,null,null,null,null,null,null,null,null,null,null,null,null,null,null,null,null,null,null,null,null,null,null,null,"Square brackets designates an Out of Segment Source (i.e., pollutant is a source for downstream segments)",null,null,null,null,null,null,null,null,null,null,null,null,null,null,null,null,null,null,null,null,null,null,null,null,null,"Square brackets designates an Out of Segment Source (i.e., pollutant is a source for downstream segments)",null,null,null,null,null,null,null,null,null,null,null,null,null,null,null,null,null,null,null,null,null,null,null,null,null,"Square brackets designates an Out of Segment Source (i.e., pollutant is a source for downstream segments)",null,null,null,null,null,null,null,null,null,null,null,null,null,null,null,null,null,null,null,null,null,null,null,null,null,null,null,null,null,null,null,null,null,null,null,null,null,null,null,null,null,null,null,null,null,null,null,null,null,null,null,null,null,null,null,null,null,null,null,null,null,null,null,"The lists below show unique codes in lists assembled above. Numbers are max confidence #, used to color cells for worst case. The codes are catenated in the colored boxes above for transfer to Sources RC when that sheet is activated."]
[]
[null,"Bacteria","Bacteria   B","NA","NA","NA",{"$f":"$FO$15&\"  \"&$FO$16&\"  \"&$FO$17&\"  \"&$FO$18&\"  \"&$FO$19&\"  \"&$FO$20","v":"          "},{"$f":"$FO$28&\"  \"&$FO$29&\"  \"&$FO$30&\"  \"&$FO$31&\"  \"&$FO$32&\"  \"&$FO$33","v":"          "},null,null,null,null,null,null,null,null,null,null,null,null,null,null,null,null,null,null,null,null,null,null,null,null,null,null,null,null,null,null,null,null,null,null,null,null,null,null,null,null,null,null,null,null,null,null,null,null,null,null,null,null,null,null,null,null,null,null,null,null,null,null,null,null,null,null,null,null,null,null,null,null,null,null,null,null,null,null,null,null,null,null,null,null,null,null,null,null,null,null,null,null,null,null,null,null,null,null,null,null,null,null,null,null,null,null,null,null,null,null,null,null,null,null,null,null,null,null,null,null,null,null,null,null,null,null,null,null,null,null,null,null,null,null,null,null,null,null,null,null,null,null,null,null,null,null,null,null,null,null,null,null,null,null,null,null,null,null,null,null,null,null,null,null,null,null,null,null,null,null,null,null,null,null,null,null,null,null,null,null,null,null,null,null,null,null,null,null,null,null,null,null,null,null,null,null,null,null,null,null,null,null,null,null,null,null,null,null,null,null,null,null,null,null,null,null,null,null,null,null,null,null,null,null,null,null,null,null,null,null,null,null,null,null,null,null,null,null,null,null,null,null,null,null,null,null,null,null,null,null,null,null,null,null,null,null,null,null,null,null,null,null,null,null,null,null,null,null,null,null,null,null,null,null,null,null,null,null,"Municp",null,null,"Industr",null,null,"St Water",null,null,"Res Ext",null,null,"Land Dis",null,null,"Seds",null,null,"Hydro",null,null,"Other",null,null,"Unknown"]
[]
[null,"Aesthetics","Oil & Grease   G","NA","NA","NA",{"$f":"$GO$15&\"  \"&$GO$16&\"  \"&$GO$17&\"  \"&$GO$18&\"  \"&$GO$19&\"  \"&$GO$20","v":"          "},{"$f":"$GO$28&\"  \"&$GO$29&\"  \"&$GO$30&\"  \"&$GO$31&\"  \"&$GO$32&\"  \"&$GO$33","v":"          "},null,null,null,null,null,null,null,null,null,null,null,null,null,null,null,null,null,null,null,null,null,null,null,null,null,null,null,null,null,null,null,null,null,null,null,null,null,null,null,null,null,null,null,null,null,null,null,null,null,null,null,null,null,null,null,null,null,null,null,null,null,null,null,null,null,null,null,null,null,null,null,null,null,null,null,null,null,null,null,null,null,null,null,"Identify the suspected toxic chemical substance below (e.g., Hg, PCB, etc). ",null,null,null,null,null,null,null,null,null,null,null,null,null,null,null,null,null,null,null,null,null,null,null,null,null,null,null,null,null,null,null,null,null,null,null,null,null,null,null,null,null,null,null,null,null,null,null,null,null,null,null,null,null,null,null,null,null,null,null,null,null,null,null,null,null,null,null,null,null,null,null,null,null,null,null,null,null,null,null,null,null,null,null,null,null,null,null,null,null,null,null,null,null,null,null,null,null,null,null,null,null,null,null,null,null,null,null,null,null,null,null,null,null,null,null,null,null,null,null,null,null,null,null,null,null,null,null,null,null,null,null,null,null,null,null,null,null,null,null,null,null,null,null,null,null,null,null,null,null,null,null,null,null,null,null,"Identify the suspected toxic chemical substance below (e.g., Hg, PCB, etc). "]
[null,null,"Taste & Odor   O","NA",null,null,null,null,null,null,null,null,null,null,"Pollution  Indicators (Causes):  ",null,{"$f":"P46&\" \"&P47&\" \"&P48&\" \"&P49&\" \"&P50&\" \"&P51","v":"     "},null,null,null,null,null,null,null,null,null,null,null,null,null,null,null,null,null,null,null,null,null,null,null,"Pollution  Indicators (Causes):  ",null,{"$f":"AP46&\" \"&AP47&\" \"&AP48&\" \"&AP49&\" \"&AP50&\" \"&AP51","v":"     "},null,null,null,null,null,null,null,null,null,null,null,null,null,null,null,null,null,null,null,null,null,null,null,"Pollution  Indicators (Causes):  ",null,{"$f":"BP46&\" \"&BP47&\" \"&BP48","v":"  "},null,null,null,null,null,null,null,null,null,null,null,null,null,null,null,null,null,null,null,null,null,null,null,null,null,null,null,null,null,null,null,null,null,null,null,null,null,null,null,null,null,null,null,null,null,null,null,null,null,"Pollution  Indicators (Causes):  ",null,{"$f":"DP46&\" \"&DP47","v":" "},null,null,null,null,null,null,null,null,null,null,null,null,null,null,null,null,null,null,null,null,null,null,null,"Pollution  Indicators (Causes):  ",null,{"$f":"EP46&\" \"&EP47&\" \"&EP48&\" \"&EP49","v":"   "},null,null,null,null,null,null,null,null,null,null,null,null,null,null,null,null,null,null,null,null,null,null,null,"Pollution  Indicators (Causes):  ",null,{"$f":"FP46&\" \"&FP47","v":" "},null,null,null,null,null,null,null,null,null,null,null,null,null,null,null,null,null,null,null,null,null,null,null,"Pollution  Indicators (Causes):  ",null,{"$f":"GP46&\" \"&GP47&\" \"&GP48&\" \"&GP49&\" \"&GP50&\" \"&GP51","v":"     "},null,null,null,null,null,null,null,null,null,null,null,null,null,null,null,null,null,null,null,null,null,null,"Identify the suspected toxic chemical substance below (e.g., Hg, PCB, etc). "]
[null,null,"Turb/Color   C","NA",null,null,null,null,null,null,null,null,null,null,null,null,null,null,null,null,null,null,null,null,null,null,null,null,null,null,null,null,null,null,null,null,null,null,null,null,null,null,null,null,null,null,null,null,null,null,null,null,null,null,null,null,null,null,null,null,null,null,null,null,null,null,null,null,null,null,null,null,null,null,null,null,null,null,null,null,null,null,null,null,null,null,null,null,null,null,null,"Ag",null,null,null,null,null,null,null,null,null,null,null,null,null,null,null,null,null,null,null,null,null,null,null,null,null,null,null,null,null,null,null,null,null,null,null,null,null,null,null,null,null,null,null,null,null,null,null,null,null,null,null,null,null,null,null,null,null,null,null,null,null,null,null,null,null,null,null,null,null,null,null,null,null,null,null,null,null,null,null,null,null,null,null,null,null,null,null,null,null,null,null,null,null,null,null,null,null,null,null,null,null,null,null,null,null,null,null,null,null,null,null,null,null,null,null,null,null,null,null,null,null,null,null,null,null,null,null,null,null,null,null,null,null,null,null,null,null,null,null,null,null,null,null,null,null,null,null,null,null,null,null,null,null,null,null,"DDT"]
[null,null,"Nuisance Plants   V","NA",null,null,null,null,null,null,null,null,null,null,{"$f":"$B$16","v":"Biology"},null,null,null,null,null,null,null,null,null,null,null,null,null,null,null,null,null,null,null,null,null,null,null,null,null,{"$f":"$B$22","v":"Chemistry"},null,null,null,null,null,null,null,null,null,null,null,null,null,null,null,null,null,null,null,null,null,null,null,null,null,{"$f":"$B$28","v":"Nutrients"},null,null,null,null,null,null,null,null,null,null,null,null,null,null,null,null,null,null,null,null,null,null,null,null,null,null,null,null,null,null,null,null,null,null,null,null,null,null,null,null,null,null,null,null,null,null,null,null,null,null,null,{"$f":"$B$34","v":"Flow"},null,null,null,null,null,null,null,null,null,null,null,null,null,null,null,null,null,null,null,null,null,null,null,null,null,{"$f":"$B$36","v":"Habitat"},null,null,null,null,null,null,null,null,null,null,null,null,null,null,null,null,null,null,null,null,null,null,null,null,null,{"$f":"$B$40","v":"Bacteria"},null,null,null,null,null,null,null,null,null,null,null,null,null,null,null,null,null,null,null,null,null,null,null,null,null,{"$f":"$B$42","v":"Aesthetics"},null,null,null,null,null,null,null,null,null,null,null,null,null,null,null,null,null,null,null,null,null,null,null,null,"PCB"]
[null,null,"Trash /Debris   D","NA",null,null,null,null,null,null,null,null,null,null,{"$f":"$C$16","v":"Plank/Peri.   A"},{"$f":"IF($D$16=\"Concern\",\"(A)\",IF(OR($D$16=\"Fair\",$D$16=\"Poor\"),\"A\",\"\"))","v":""},null,null,null,null,null,null,null,null,null,null,null,null,null,null,null,null,null,null,null,null,null,null,null,null,{"$f":"$C$22","v":"Dis. Oxygen    DO"},{"$f":"IF($D$22=\"Concern\",\"(DO)\",IF(OR($D$22=\"Fair\",$D$22=\"Poor\"),\"DO\",\"\"))","v":""},null,null,null,null,null,null,null,null,null,null,null,null,null,null,null,null,null,null,null,null,null,null,null,null,{"$f":"$C$28","v":"Phosphorus  P"},{"$f":"IF($D$28=\"Concern\",\"(P)\",IF(OR($D$28=\"Fair\",$D$28=\"Poor\"),\"P\",\"\"))","v":""},null,null,null,null,null,null,null,null,null,null,null,null,null,null,null,null,null,null,null,null,null,null,null,null,null,null,null,null,null,null,null,null,null,null,null,null,null,null,null,null,null,null,null,null,null,null,null,null,null,null,{"$f":"$C$34","v":"Flow  Q"},{"$f":"IF($D$34=\"Concern\",\"(O)\",IF(OR($D$34=\"Fair\",$D$34=\"Poor\"),\"O\",\"\"))","v":""},null,null,null,null,null,null,null,null,null,null,null,null,null,null,null,null,null,null,null,null,null,null,null,null,{"$f":"$C$36","v":"Substrate   S"},{"$f":"IF($D$36=\"Concern\",\"(S)\",IF(OR($D$36=\"Fair\",$D$36=\"Poor\"),\"S\",\"\"))","v":""},null,null,null,null,null,null,null,null,null,null,null,null,null,null,null,null,null,null,null,null,null,null,null,null,{"$f":"$C$40","v":"Bacteria   B"},{"$f":"IF($D$40=\"Concern\",\"(B)\",IF(OR($D$40=\"Fair\",$D$40=\"Poor\"),\"B\",\"\"))","v":""},null,null,null,null,null,null,null,null,null,null,null,null,null,null,null,null,null,null,null,null,null,null,null,null,{"$f":"$C$42","v":"Oil & Grease   G"},{"$f":"IF($D$42=\"Concern\",\"(G)\",IF(OR($D$42=\"Fair\",$D$42=\"Poor\"),\"G\",\"\"))","v":""}]
[null,null,null,null,null,null,null,null,null,null,null,null,null,null,{"$f":"$C$17","v":"Macrophyton   M"},{"$f":"IF($D$17=\"Concern\",\"(M)\",IF(OR($D$17=\"Fair\",$D$17=\"Poor\"),\"M\",\"\"))","v":""},null,null,null,null,null,null,null,null,null,null,null,null,null,null,null,null,null,null,null,null,null,null,null,null,{"$f":"$C$23","v":"pH     pH"},{"$f":"IF($D$23=\"Concern\",\"(pH)\",IF(OR($D$23=\"Fair\",$D$23=\"Poor\"),\"pH\",\"\"))","v":""},null,null,null,null,null,null,null,null,null,null,null,null,null,null,null,null,null,null,null,null,null,null,null,null,{"$f":"$C$29","v":"Nitrogen   N"},{"$f":"IF($D$29=\"Concern\",\"(N)\",IF(OR($D$29=\"Fair\",$D$29=\"Poor\"),\"N\",\"\"))","v":""},null,null,null,null,null,null,null,null,null,null,null,null,null,null,null,null,null,null,null,null,null,null,null,null,null,null,null,null,null,null,null,null,null,null,null,null,null,null,null,null,null,null,null,null,null,null,null,null,null,null,{"$f":"IF($C$41=\"\",\"\",$C$41)","v":""},{"$f":"IF($D$35=\"Concern\",\"(**)\",IF(OR($D$35=\"Fair\",$D$35=\"Poor\"),\"**\",\"\"))","v":""},null,null,null,null,null,null,null,null,null,null,null,null,null,null,null,null,null,null,null,null,null,null,null,null,{"$f":"$C$37","v":"Morphology   H"},{"$f":"IF($D$37=\"Concern\",\"(H)\",IF(OR($D$37=\"Fair\",$D$37=\"Poor\"),\"H\",\"\"))","v":""},null,null,null,null,null,null,null,null,null,null,null,null,null,null,null,null,null,null,null,null,null,null,null,null,{"$f":"IF($C$41=\"\",\"\",$C$41)","v":""},{"$f":"IF($D$41=\"Concern\",\"(**)\",IF(OR($D$41=\"Fair\",$D$41=\"Poor\"),\"**\",\"\"))","v":""},null,null,null,null,null,null,null,null,null,null,null,null,null,null,null,null,null,null,null,null,null,null,null,null,{"$f":"$C$43","v":"Taste & Odor   O"},{"$f":"IF($D$43=\"Concern\",\"(O)\",IF(OR($D$43=\"Fair\",$D$43=\"Poor\"),\"O\",\"\"))","v":""}]
[null,"Tissue",{"$f":"\"Spec. Chem.   \"&HN45","v":"Spec. Chem.   PCB"},"NA","NA","NA",{"$f":"$HO$15&\"  \"&$HO$16&\"  \"&$HO$17&\"  \"&$HO$18&\"  \"&$HO$19&\"  \"&$HO$20","v":"          "},{"$f":"$HO$28&\"  \"&$HO$29&\"  \"&$HO$30&\"  \"&$HO$31&\"  \"&$HO$32&\"  \"&$HO$33","v":"          "},null,null,null,null,null,null,{"$f":"$C$18","v":"Invertebrates   I"},{"$f":"IF($D$18=\"Concern\",\"(I)\",IF(OR($D$18=\"Fair\",$D$18=\"Poor\"),\"I\",\"\"))","v":""},null,null,null,null,null,null,null,null,null,null,null,null,null,null,null,null,null,null,null,null,null,null,null,null,{"$f":"$C$24","v":"Temperature    T"},{"$f":"IF($D$24=\"Concern\",\"(T)\",IF(OR($D$24=\"Fair\",$D$24=\"Poor\"),\"T\",\"\"))","v":""},null,null,null,null,null,null,null,null,null,null,null,null,null,null,null,null,null,null,null,null,null,null,null,null,{"$f":"IF($C$30=\"\",\"\",$C$30)","v":""},{"$f":"IF($D$30=\"Concern\",\"(**)\",IF(OR($D$30=\"Fair\",$D$30=\"Poor\"),\"**\",\"\"))","v":""},null,null,null,null,null,null,null,null,null,null,null,null,null,null,null,null,null,null,null,null,null,null,null,null,null,null,null,null,null,null,null,null,null,null,null,null,null,null,null,null,null,null,null,null,null,null,null,null,null,null,null,null,null,null,null,null,null,null,null,null,null,null,null,null,null,null,null,null,null,null,null,null,null,null,null,null,{"$f":"$C$38","v":"Riparian Zone   R"},{"$f":"IF($D$38=\"Concern\",\"(R)\",IF(OR($D$38=\"Fair\",$D$38=\"Poor\"),\"R\",\"\"))","v":""},null,null,null,null,null,null,null,null,null,null,null,null,null,null,null,null,null,null,null,null,null,null,null,null,null,null,null,null,null,null,null,null,null,null,null,null,null,null,null,null,null,null,null,null,null,null,null,null,null,null,{"$f":"$C$44","v":"Turb/Color   C"},{"$f":"IF($D$44=\"Concern\",\"(C)\",IF(OR($D$44=\"Fair\",$D$44=\"Poor\"),\"C\",\"\"))","v":""}]
[null,null,null,null,null,null,null,null,null,null,null,null,null,null,{"$f":"$C$19","v":"Fish   F"},{"$f":"IF($D$19=\"Concern\",\"(F)\",IF(OR($D$19=\"Fair\",$D$19=\"Poor\"),\"F\",\"\"))","v":""},null,null,null,null,null,null,null,null,null,null,null,null,null,null,null,null,null,null,null,null,null,null,null,null,{"$f":"$C$25","v":"Ionic Strength    Z"},{"$f":"IF($D$25=\"Concern\",\"(Z)\",IF(OR($D$25=\"Fair\",$D$25=\"Poor\"),\"Z\",\"\"))","v":""},null,null,null,null,null,null,null,null,null,null,null,null,null,null,null,null,null,null,null,null,null,null,null,null,null,null,null,null,null,null,null,null,null,null,null,null,null,null,null,null,null,null,null,null,null,null,null,null,null,null,"Pollution  Indicators (Causes):  ",null,{"$f":"CP52&\" \"&CP53&\" \"&CP54","v":"  "},null,null,null,null,null,null,null,null,null,null,null,null,null,null,null,null,null,null,null,null,null,null,null,null,null,null,null,null,null,null,null,null,null,null,null,null,null,null,null,null,null,null,null,null,null,null,null,null,null,{"$f":"IF($C$39=\"\",\"\",$C$39)","v":""},{"$f":"IF($D$39=\"Concern\",\"(**)\",IF(OR($D$39=\"Fair\",$D$39=\"Poor\"),\"**\",\"\"))","v":""},null,null,null,null,null,null,null,null,null,null,null,null,null,null,null,null,null,null,null,null,null,null,null,null,null,null,null,null,null,null,null,null,null,null,null,null,null,null,null,null,null,null,null,null,null,null,null,null,null,null,{"$f":"$C$45","v":"Nuisance Plants   V"},{"$f":"IF($D$45=\"Concern\",\"(V)\",IF(OR($D$45=\"Fair\",$D$45=\"Poor\"),\"V\",\"\"))","v":""},null,null,null,null,null,null,null,null,null,null,null,null,null,null,null,null,null,null,null,null,null,null,null,null,null,null,null,null,null,null,null,null,null,null,null,null,null,null,null,null,null,null,null,null,null,null,null,null,null,null,"Pollution  Indicators (Causes):  ",null,{"$f":"IP52&\" \"&IP53&\" \"&IP54","v":"  "}]
[null,"Sediment","Unknown   U","NA","NA","NA",{"$f":"$IO$15&\"  \"&$IO$16&\"  \"&$IO$17&\"  \"&$IO$18&\"  \"&$IO$19&\"  \"&$IO$20","v":"          "},{"$f":"$IO$28&\"  \"&$IO$29&\"  \"&$IO$30&\"  \"&$IO$31&\"  \"&$IO$32&\"  \"&$IO$33","v":"          "},null,null,null,null,null,null,{"$f":"$C$20","v":"Wildlife   W"},{"$f":"IF($D$20=\"Concern\",\"(W)\",IF(OR($D$20=\"Fair\",$D$20=\"Poor\"),\"W\",\"\"))","v":""},null,null,null,null,null,null,null,null,null,null,null,null,null,null,null,null,null,null,null,null,null,null,null,null,{"$f":"$C$26","v":"Sus. Solids    SS"},{"$f":"IF($D$26=\"Concern\",\"(SS)\",IF(OR($D$26=\"Fair\",$D$26=\"Poor\"),\"SS\",\"\"))","v":""},null,null,null,null,null,null,null,null,null,null,null,null,null,null,null,null,null,null,null,null,null,null,null,null,null,null,null,null,null,null,null,null,null,null,null,null,null,null,null,null,null,null,null,null,null,null,null,null,null,null,null,null,null,null,null,null,null,null,null,null,null,null,null,null,null,null,null,null,null,null,null,null,null,null,null,null,null,null,null,null,null,null,null,null,null,null,null,null,null,null,null,null,null,null,null,null,null,null,null,null,null,null,null,null,null,null,null,null,null,null,null,null,null,null,null,null,null,null,null,null,null,null,null,null,null,null,null,null,null,null,null,null,null,null,null,null,null,null,null,null,null,null,null,null,null,null,null,null,null,null,null,null,null,null,{"$f":"$C$46","v":"Trash /Debris   D"},{"$f":"IF($D$46=\"Concern\",\"(D)\",IF(OR($D$46=\"Fair\",$D$46=\"Poor\"),\"D\",\"\"))","v":""},null,null,null,null,null,null,null,null,null,null,null,null,null,null,null,null,null,null,null,null,null,null,null,null,"Pollution  Indicators (Causes):  ",null,{"$f":"HP53&\" \"&HP54","v":" "}]
[null,null,{"$f":"\"Spec. Chem.   \"&IN44","v":"Spec. Chem.   DDT"},"NA",null,null,null,null,null,null,null,null,null,null,{"$f":"IF($C$21=\"\",\"\",$C$21)","v":""},{"$f":"IF($D$21=\"Concern\",\"(**)\",IF(OR($D$21=\"Fair\",$D$21=\"Poor\"),\"**\",\"\"))","v":""},null,null,null,null,null,null,null,null,null,null,null,null,null,null,null,null,null,null,null,null,null,null,null,null,{"$f":"IF($C$27=\"\",\"\",$C$27)","v":""},{"$f":"IF($D$27=\"Concern\",\"(**)\",IF(OR($D$27=\"Fair\",$D$27=\"Poor\"),\"**\",\"\"))","v":""},null,null,null,null,null,null,null,null,null,null,null,null,null,null,null,null,null,null,null,null,null,null,null,null,null,null,null,null,null,null,null,null,null,null,null,null,null,null,null,null,null,null,null,null,null,null,null,null,null,null,{"$f":"$B$31","v":"Toxicity"},null,null,null,null,null,null,null,null,null,null,null,null,null,null,null,null,null,null,null,null,null,null,null,null,null,null,null,null,null,null,null,null,null,null,null,null,null,null,null,null,null,null,null,null,null,null,null,null,null,null,null,null,null,null,null,null,null,null,null,null,null,null,null,null,null,null,null,null,null,null,null,null,null,null,null,null,null,null,null,null,null,null,null,null,null,null,null,null,null,null,null,null,null,null,null,null,null,null,null,null,null,null,null,{"$f":"IF($C$47=\"\",\"\",$C$47)","v":""},{"$f":"IF($D$47=\"Concern\",\"(**)\",IF(OR($D$47=\"Fair\",$D$47=\"Poor\"),\"**\",\"\"))","v":""},null,null,null,null,null,null,null,null,null,null,null,null,null,null,null,null,null,null,null,null,null,null,null,null,null,null,null,null,null,null,null,null,null,null,null,null,null,null,null,null,null,null,null,null,null,null,null,null,null,null,{"$f":"$B$50","v":"Sediment"}]
[null,null,null,null,null,null,null,null,null,null,null,null,null,null,null,null,null,null,null,null,null,null,null,null,null,null,null,null,null,null,null,null,null,null,null,null,null,null,null,null,null,null,null,null,null,null,null,null,null,null,null,null,null,null,null,null,null,null,null,null,null,null,null,null,null,null,null,null,null,null,null,null,null,null,null,null,null,null,null,null,null,null,null,null,null,null,null,null,null,null,null,null,{"$f":"$C$31","v":"Unknown   U"},{"$f":"IF($D$31=\"Concern\",\"(U)\",IF(OR($D$31=\"Fair\",$D$31=\"Poor\"),\"U\",\"\"))","v":""},null,null,null,null,null,null,null,null,null,null,null,null,null,null,null,null,null,null,null,null,null,null,null,null,null,null,null,null,null,null,null,null,null,null,null,null,null,null,null,null,null,null,null,null,null,null,null,null,null,null,null,null,null,null,null,null,null,null,null,null,null,null,null,null,null,null,null,null,null,null,null,null,null,null,null,null,null,null,null,null,null,null,null,null,null,null,null,null,null,null,null,null,null,null,null,null,null,null,null,null,null,null,null,null,null,null,null,null,null,null,null,null,null,null,null,null,null,null,null,null,null,null,null,null,null,null,null,null,{"$f":"$B$48","v":"Tissue"},null,null,null,null,null,null,null,null,null,null,null,null,null,null,null,null,null,null,null,null,null,null,null,null,null,{"$f":"$C$50","v":"Unknown   U"},{"$f":"IF($D$50=\"Concern\",\"(U)\",IF(OR($D$50=\"Fair\",$D$50=\"Poor\"),\"U\",\"\"))","v":""}]
[null,"Comments:",null,null,null,null,null,"*  Suspected Source  ",null,null,null,null,null,null,null,null,null,null,null,null,null,null,null,null,null,null,null,null,null,null,null,null,null,null,null,null,null,null,null,null,null,null,null,null,null,null,null,null,null,null,null,null,null,null,null,null,null,null,null,null,null,null,null,null,null,null,null,null,null,null,null,null,null,null,null,null,null,null,null,null,null,null,null,null,null,null,null,null,null,null,null,null,{"$f":"$C$32","v":"Spec. Chem.  Ag"},{"$f":"IF($D$32=\"Concern\",\"(\"&CN44&\")\",IF(OR($D$32=\"Fair\",$D$32=\"Poor\"),CN44,\"\"))","v":""},null,null,null,null,null,null,null,null,null,null,null,null,null,null,null,null,null,null,null,null,null,null,null,null,null,null,null,null,null,null,null,null,null,null,null,null,null,null,null,null,null,null,null,null,null,null,null,null,null,null,null,null,null,null,null,null,null,null,null,null,null,null,null,null,null,null,null,null,null,null,null,null,null,null,null,null,null,null,null,null,null,null,null,null,null,null,null,null,null,null,null,null,null,null,null,null,null,null,null,null,null,null,null,null,null,null,null,null,null,null,null,null,null,null,null,null,null,null,null,null,null,null,null,null,null,null,null,null,{"$f":"$C$48","v":"Spec. Chem.   PCB"},{"$f":"IF($D$48=\"Concern\",\"(\"&HN45&\")\",IF(OR($D$48=\"Fair\",$D$32=\"Poor\"),HN45,\"\"))","v":""},null,null,null,null,null,null,null,null,null,null,null,null,null,null,null,null,null,null,null,null,null,null,null,null,{"$f":"$C$51","v":"Spec. Chem.   DDT"},{"$f":"IF($D$51=\"Concern\",\"(\"&IN44&\")\",IF(OR($D$51=\"Fair\",$D$51=\"Poor\"),IN44,\"\"))","v":""}]
[null,null,null,null,null,null,null,"** Potential Source  ",null,null,null,null,null,null,null,null,null,null,null,null,null,null,null,null,null,null,null,null,null,null,null,null,null,null,null,null,null,null,null,null,null,null,null,null,null,null,null,null,null,null,null,null,null,null,null,null,null,null,null,null,null,null,null,null,null,null,null,null,null,null,null,null,null,null,null,null,null,null,null,null,null,null,null,null,null,null,null,null,null,null,null,null,{"$f":"IF($C$33=\"\",\"\",$C$33)","v":""},{"$f":"IF($D$33=\"Concern\",\"(**)\",IF(OR($D$33=\"Fair\",$D$33=\"Poor\"),\"**\",\"\"))","v":""},null,null,null,null,null,null,null,null,null,null,null,null,null,null,null,null,null,null,null,null,null,null,null,null,null,null,null,null,null,null,null,null,null,null,null,null,null,null,null,null,null,null,null,null,null,null,null,null,null,null,null,null,null,null,null,null,null,null,null,null,null,null,null,null,null,null,null,null,null,null,null,null,null,null,null,null,null,null,null,null,null,null,null,null,null,null,null,null,null,null,null,null,null,null,null,null,null,null,null,null,null,null,null,null,null,null,null,null,null,null,null,null,null,null,null,null,null,null,null,null,null,null,null,null,null,null,null,null,{"$f":"IF($C$49=\"\",\"\",$C$49)","v":""},{"$f":"IF($D$49=\"Concern\",\"(**)\",IF(OR($D$49=\"Fair\",$D$49=\"Poor\"),\"**\",\"\"))","v":""},null,null,null,null,null,null,null,null,null,null,null,null,null,null,null,null,null,null,null,null,null,null,null,null,{"$f":"IF($C$52=\"\",\"\",$C$52)","v":""},{"$f":"IF($D$52=\"Concern\",\"(**)\",IF(OR($D$52=\"Fair\",$D$52=\"Poor\"),\"**\",\"\"))","v":""}]
[null,null,null,null,null,null,null,"No asterisk: Known Source  "]
[null,null,null,null,null,null,null,"[Out of Segment Source ]  "]
[]
[]
[]
[null,"SegNameLong:  ","eeeeee"]
[null,"Seg Name:  ","eee"]
[null,"Seg Num:  "]
[null,"Seg Size:  "]
[null,"Seg Class:  "]
[]
[]
[]
[]
[]
[]
[]
[]
[]
[]
[]
[]
[null,null,null,{"$f":"A99","v":""}]
[null,null,null,{"$f":"B99","v":""}]
[null,null,null,{"$f":"C99","v":""}]
[null,null,null,{"$f":"D99","v":""}]
[null,null,null,{"$f":"E99","v":""}]
[null,null,null,{"$f":"F99","v":""}]
[null,null,null,{"$f":"G99","v":""}]
[null,null,null,{"$f":"H99","v":""}]
[null,null,null,{"$f":"I99","v":""}]
[]
[]
[]
[]
[]
[]
[]
[]
[]
[]
[]
[]
[]
[{"$f":"TRIM(A101&\" \"&A102&\" \"&A103&\" \"&A104&\" \"&A105&\" \"&A106)","v":""},{"$f":"TRIM(B101&\" \"&B102&\" \"&B103&\" \"&B104&\" \"&B105&\" \"&B106)","v":""},"","","","","","",""]

{"sheet":"Seg6","index":10,"n_rows":99,"n_cols":311,"rows_kept":99,"cut":false,"hidden":false,"merged":[[52,1,55,1],[43,247,45,250],[44,221,46,224],[47,1,48,1],[47,4,48,4],[47,5,48,5],[47,6,48,6],[47,7,48,7],[41,1,46,1],[41,4,46,4],[41,5,46,5],[41,6,46,6],[41,7,46,7],[43,91,45,94],[49,1,51,1],[49,4,51,4],[39,6,40,6],[39,7,40,7],[35,1,38,1],[35,4,38,4],[35,5,38,5],[35,6,38,6],[35,7,38,7],[49,5,51,5],[49,6,51,6],[49,7,51,7],[30,1,32,1],[30,4,32,4],[30,5,32,5],[30,6,32,6],[30,7,32,7],[33,1,34,1],[33,4,34,4],[33,5,34,5],[33,6,34,6],[33,7,34,7],[39,1,40,1],[39,4,40,4],[39,5,40,5],[21,1,26,1],[21,4,26,4],[21,5,26,5],[21,6,26,6],[21,7,26,7],[27,1,29,1],[27,4,29,4],[27,5,29,5],[27,6,29,6],[27,7,29,7],[15,1,20,1],[15,4,20,4],[15,5,20,5],[15,6,20,6],[15,7,20,7],[13,1,14,1],[13,2,14,3],[13,4,14,4],[13,5,14,5],[14,6,14,7]]}
[]
[]
[]
[]
[null,null,null,null,null,null,null,null,null,null,null,null,null,null,null,null,null,null,null,null,null,null,null,null,null,null,null,null,null,null,null,null,null,null,null,null,null,null,null,null,null,null,null,null,null,null,null,null,null,null,null,null,null,null,null,null,null,null,null,null,null,null,null,null,null,null,null,null,null,null,null,null,null,null,null,null,null,null,null,null,null,null,null,null,null,null,null,null,null,null,null,null,null,null,null,null,null,null,null,null,null,null,null,null,null,null,null,null,null,null,null,null,null,null,null,null,null,null,null,null,null,null,null,null,null,null,null,null,null,null,null,null,null,null,null,null,null,null,null,null,null,null,null,null,null,null,null,null,null,null,null,null,null,null,null,null,null,null,null,null,null,null,null,null,null,null,null,null,null,null,null,null,null,null,null,null,null,null,null,null,null,null,null,null,null,null,null,null,null,null,null,null,null,null,null,null,null,null,null,null,null,null,null,null,null,null,null,null,null,null,null,null,null,null,null,null,null,null,null,null,null,null,null,null,null,null,null,null,null,null,null,null,null,null,null,null,null,null,null,null,null,null,null,null,null,null,null,null,null,null,null,null,null,null,null,null,null,null,null,null,null,null,null,null,null,null,null,null,null,null,null,null,null,null,null,null,null,null,null,null,null,null,null,null,null,"List of all codes from all groups for this segment, organized by Source Type. "]
[null,null,null,null,null,null,null,null,null,null,null,null,null,null,null,null,null,null,null,null,null,null,null,null,null,null,null,null,null,null,null,null,null,null,null,null,null,null,null,null,null,null,null,null,null,null,null,null,null,null,null,null,null,null,null,null,null,null,null,null,null,null,null,null,null,null,null,null,null,null,null,null,null,null,null,null,null,null,null,null,null,null,null,null,null,null,null,null,null,null,null,null,null,null,null,null,null,null,null,null,null,null,null,null,null,null,null,null,null,null,null,null,null,null,null,null,null,null,null,null,null,null,null,null,null,null,null,null,null,null,null,null,null,null,null,null,null,null,null,null,null,null,null,null,null,null,null,null,null,null,null,null,null,null,null,null,null,null,null,null,null,null,null,null,null,null,null,null,null,null,null,null,null,null,null,null,null,null,null,null,null,null,null,null,null,null,null,null,null,null,null,null,null,null,null,null,null,null,null,null,null,null,null,null,null,null,null,null,null,null,null,null,null,null,null,null,null,null,null,null,null,null,null,null,null,null,null,null,null,null,null,null,null,null,null,null,null,null,null,null,null,null,null,null,null,null,null,null,null,null,null,null,null,null,null,null,null,null,null,null,null,null,null,null,null,null,null,null,null,null,null,null,null,null,null,null,null,null,null,null,null,null,null,null,null,"List is updated only when \"SourceRC_List\" macro is run. Macro is run manually by touching button at right or when Source report card is activated."]
[null,null,null,null,null,null,null,null,null,null,null,null,null,null,null,null,null,null,null,null,null,null,null,null,null,null,null,null,null,null,null,null,null,null,null,null,null,null,null,null,null,null,null,null,null,null,null,null,null,null,null,null,null,null,null,null,null,null,null,null,null,null,null,null,null,null,null,null,null,null,null,null,null,null,null,null,null,null,null,null,null,null,null,null,null,null,null,null,null,null,null,null,null,null,null,null,null,null,null,null,null,null,null,null,null,null,null,null,null,null,null,null,null,null,null,null,null,null,null,null,null,null,null,null,null,null,null,null,null,null,null,null,null,null,null,null,null,null,null,null,null,null,null,null,null,null,null,null,null,null,null,null,null,null,null,null,null,null,null,null,null,null,null,null,null,null,null,null,null,null,null,null,null,null,null,null,null,null,null,null,null,null,null,null,null,null,null,null,null,null,null,null,null,null,null,null,null,null,null,null,null,null,null,null,null,null,null,null,null,null,null,null,null,null,null,null,null,null,null,null,null,null,null,null,null,null,null,null,null,null,null,null,null,null,null,null,null,null,null,null,null,null,null,null,null,null,null,null,null,null,null,null,null,null,null,null,null,null,null,null,null,null,null,null,null,null,null,null,null,null,null,null,null,null,null,null,null,null,null,null,null,null,null,null,null,"Numbers indicate knowledge about the certainty of assessment: 0 = N/A, 1 = Potential Source, 2 = Suspected Source, 3 = Known Source."]
[null,null,null,null,null,null,null,null,null,null,null,null,null,null,null,null,null,null,null,null,null,null,null,null,null,null,null,null,null,null,null,null,null,null,null,null,null,null,null,null,null,null,null,null,null,null,null,null,null,null,null,null,null,null,null,null,null,null,null,null,null,null,null,null,null,null,null,null,null,null,null,null,null,null,null,null,null,null,null,null,null,null,null,null,null,null,null,null,null,null,null,null,null,null,null,null,null,null,null,null,null,null,null,null,null,null,null,null,null,null,null,null,null,null,null,null,null,null,null,null,null,null,null,null,null,null,null,null,null,null,null,null,null,null,null,null,null,null,null,null,null,null,null,null,null,null,null,null,null,null,null,null,null,null,null,null,null,null,null,null,null,null,null,null,null,null,null,null,null,null,null,null,null,null,null,null,null,null,null,null,null,null,null,null,null,null,null,null,null,null,null,null,null,null,null,null,null,null,null,null,null,null,null,null,null,null,null,null,null,null,null,null,null,null,null,null,null,null,null,null,null,null,null,null,null,null,null,null,null,null,null,null,null,null,null,null,null,null,null,null,null,null,null,null,null,null,null,null,null,null,null,null,null,null,null,null,null,null,null,null,null,null,null,null,null,null,null,null,null,null,null,null,null,null,null,null,null,null,null,null,null,null,null,null,null,"This list is then processed below to remove duplicates."]
[null,null,null,null,null,null,null,null,null,null,null,null,null,"Designate Point & Non-Point Sources",null,null,null,null,null,null,null,null,null,null,null,null,null,null,null,null,null,null,null,null,null,null,null,null,null,"Designate Point & Non-Point Sources",null,null,null,null,null,null,null,null,null,null,null,null,null,null,null,null,null,null,null,null,null,null,null,null,null,"Designate Point & Non-Point Sources",null,null,null,null,null,null,null,null,null,null,null,null,null,null,null,null,null,null,null,null,null,null,null,null,null,"Designate Point & Non-Point Sources",null,null,null,null,null,null,null,null,null,null,null,null,null,null,null,null,null,null,null,null,null,null,null,null,null,"Designate Point & Non-Point Sources",null,null,null,null,null,null,null,null,null,null,null,null,null,null,null,null,null,null,null,null,null,null,null,null,null,"Designate Point & Non-Point Sources",null,null,null,null,null,null,null,null,null,null,null,null,null,null,null,null,null,null,null,null,null,null,null,null,null,"Designate Point & Non-Point Sources",null,null,null,null,null,null,null,null,null,null,null,null,null,null,null,null,null,null,null,null,null,null,null,null,null,"Designate Point & Non-Point Sources",null,null,null,null,null,null,null,null,null,null,null,null,null,null,null,null,null,null,null,null,null,null,null,null,null,"Designate Point & Non-Point Sources",null,null,null,null,null,null,null,null,null,null,null,null,null,null,null,null,null,null,null,null,null,null,null,null,null,"Designate Point & Non-Point Sources"]
[null,null,null,null,null,null,null,null,null,null,null,null,null,null,null,null,null,null,null,null,null,null,null,"Codes selected at left are distributed according to Source Type. "]
[null,{"$f":"\"River Basin: \"&RiverBasinName","v":"River Basin: Test River Basin"},null,null,null,null,{"$f":"\"Data Year:  \"&AssessmentYear","v":"Data Year:  2011"},null,null,null,null,null,null,null,null,null,null,null,null,null,null,null,null,"Numbers indicate confidence of assessment: 0 = N/A, 1 = Potential Source, 2 = Suspected Source, 3 = Known Source.",null,null,null,null,null,null,null,null,null,null,null,null,null,null,null,null,null,null,null,null,null,null,null,null,null,null,null,null,null,null,null,null,null,null,null,null,null,null,null,null,null,null,null,null,null,null,null,null,null,null,null,null,null,null,null,null,null,null,null,null,null,null,null,null,null,null,null,null,null,null,null,null,null,null,null,null,null,null,null,null,null,null,null,null,null,null,null,null,null,null,null,null,null,null,null,null,null,null,null,null,null,null,null,null,null,null,null,null,null,null,null,null,null,null,null,null,null,null,null,null,null,null,null,null,null,null,null,null,null,null,null,null,null,null,null,null,null,null,null,null,null,null,null,null,null,null,null,null,null,null,null,null,null,null,null,null,null,null,null,null,null,null,null,null,null,null,null,null,null,null,null,null,null,null,null,null,null,null,null,null,null,null,null,null,null,null,null,null,null,null,null,null,null,null,null,null,null,null,null,null,null,null,null,null,null,null,null,null,null,null,null,null,null,null,null,null,null,null,null,null,null,null,null,null,null,null,null,null,null,null,null,null,null,null,null,null,null,null,null,null,null,null,null,null,null,null,null,null,null,null,null,null,null,null,null,null,null,null,null,null,null,null,"Municp",null,null,"Industr",null,null,"St Water",null,null,"Res Ext",null,null,"Land Dis",null,null,"Seds",null,null,"Hydro",null,null,"Other",null,null,"Unknown"]
[null,{"$f":"\"Segment Name: \"&C60","v":"Segment Name: ffffff"},null,null,null,null,null,null,null,null,null,null,null,null,null,null,null,null,null,null,null,null,null,"These codes are processed by \"SourceRC_List macro and transferred to Source report card."]
[null,{"$f":"\"Class: \"&C64","v":"Class: "},null,{"$f":"\"Size: \"&C63","v":"Size: "},null,null,{"$f":"\"Seg ID #: \"&C62","v":"Seg ID #: "}]
[null,"CATEGORY","INDICATOR ASSESSMENT",null,"OVERALL STATUS","DATA LEVEL","POINT","NONPOINT",null,null,null,null,null,"Point Sources",null,null,null,null,null,null,null,null,null,"Municipal",null,null,"Industrial",null,null,"Storm Water",null,null,"Resource Ext",null,null,"Land Disposal",null,null,null,"Point Sources",null,null,null,null,null,null,null,null,null,"Municipal",null,null,"Industrial",null,null,"Storm Water",null,null,"Resource Ext",null,null,"Land Disposal",null,null,null,"Point Sources",null,null,null,null,null,null,null,null,null,"Municipal",null,null,"Industrial",null,null,"Storm Water",null,null,"Resource Ext",null,null,"Land Disposal",null,null,null,"Point Sources",null,null,null,null,null,null,null,null,null,"Municipal",null,null,"Industrial",null,null,"Storm Water",null,null,"Resource Ext",null,null,"Land Disposal",null,null,null,"Point Sources",null,null,null,null,null,null,null,null,null,"Municipal",null,null,"Industrial",null,null,"Storm Water",null,null,"Resource Ext",null,null,"Land Disposal",null,null,null,"Point Sources",null,null,null,null,null,null,null,null,null,"Municipal",null,null,"Industrial",null,null,"Storm Water",null,null,"Resource Ext",null,null,"Land Disposal",null,null,null,"Point Sources",null,null,null,null,null,null,null,null,null,"Municipal",null,null,"Industrial",null,null,"Storm Water",null,null,"Resource Ext",null,null,"Land Disposal",null,null,null,"Point Sources",null,null,null,null,null,null,null,null,null,"Municipal",null,null,"Industrial",null,null,"Storm Water",null,null,"Resource Ext",null,null,"Land Disposal",null,null,null,"Point Sources",null,null,null,null,null,null,null,null,null,"Municipal",null,null,"Industrial",null,null,"Storm Water",null,null,"Resource Ext",null,null,"Land Disposal",null,null,null,"Point Sources",null,null,null,null,null,null,null,null,null,"Municipal",null,null,"Industrial",null,null,"Storm Water",null,null,"Resource Ext",null,null,"Land Disposal"]
[null,null,null,null,null,null,"Click below to select Sources"]
[null,"Biology","Plank/Peri.   A","NA","NA","NA",{"$f":"$O$15&\"  \"&$O$16&\"  \"&$O$17&\"  \"&$O$18&\"  \"&$O$19&\"  \"&$O$20","v":"          "},{"$f":"$O$28&\"  \"&$O$29&\"  \"&$O$30&\"  \"&$O$31&\"  \"&$O$32&\"  \"&$O$33","v":"          "}]
[null,null,"Macrophyton   M","NA"]
[null,null,"Invertebrates   I","NA"]
[null,null,"Fish   F","NA"]
[null,null,"Wildlife   W","NA"]
[]
[null,"Chemistry","Dis. Oxygen    DO","NA","NA","NA",{"$f":"$AO$15&\"  \"&$AO$16&\"  \"&$AO$17&\"  \"&$AO$18&\"  \"&$AO$19&\"  \"&$AO$20","v":"          "},{"$f":"$AO$28&\"  \"&$AO$29&\"  \"&$AO$30&\"  \"&$AO$31&\"  \"&$AO$32&\"  \"&$AO$33","v":"          "}]
[null,null,"pH     pH","NA"]
[null,null,"Temperature    T","NA"]
[null,null,"Ionic Strength    Z","NA"]
[null,null,"Sus. Solids    SS","NA"]
[null,null,null,null,null,null,null,null,null,null,null,null,null,"Non Point Sources",null,null,null,null,null,null,null,null,null,"Seds",null,null,"Hydromodification",null,null,"Other",null,null,"Unknown",null,null,null,null,null,null,"Non Point Sources",null,null,null,null,null,null,null,null,null,"Seds",null,null,"Hydromodification",null,null,"Other",null,null,"Unknown",null,null,null,null,null,null,"Non Point Sources",null,null,null,null,null,null,null,null,null,"Seds",null,null,"Hydromodification",null,null,"Other",null,null,"Unknown",null,null,null,null,null,null,"Non Point Sources",null,null,null,null,null,null,null,null,null,"Seds",null,null,"Hydromodification",null,null,"Other",null,null,"Unknown",null,null,null,null,null,null,"Non Point Sources",null,null,null,null,null,null,null,null,null,"Seds",null,null,"Hydromodification",null,null,"Other",null,null,"Unknown",null,null,null,null,null,null,"Non Point Sources",null,null,null,null,null,null,null,null,null,"Seds",null,null,"Hydromodification",null,null,"Other",null,null,"Unknown",null,null,null,null,null,null,"Non Point Sources",null,null,null,null,null,null,null,null,null,"Seds",null,null,"Hydromodification",null,null,"Other",null,null,"Unknown",null,null,null,null,null,null,"Non Point Sources",null,null,null,null,null,null,null,null,null,"Seds",null,null,"Hydromodification",null,null,"Other",null,null,"Unknown",null,null,null,null,null,null,"Non Point Sources",null,null,null,null,null,null,null,null,null,"Seds",null,null,"Hydromodification",null,null,"Other",null,null,"Unknown",null,null,null,null,null,null,"Non Point Sources",null,null,null,null,null,null,null,null,null,"Seds",null,null,"Hydromodification",null,null,"Other",null,null,"Unknown"]
[null,"Nutrients","Phosphorus  P","NA","NA","NA",{"$f":"$BO$15&\"  \"&$BO$16&\"  \"&$BO$17&\"  \"&$BO$18&\"  \"&$BO$19&\"  \"&$BO$20","v":"          "},{"$f":"$BO$28&\"  \"&$BO$29&\"  \"&$BO$30&\"  \"&$BO$31&\"  \"&$BO$32&\"  \"&$BO$33","v":"          "}]
[null,null,"Nitrogen   N","NA"]
[]
[null,"Toxicity","Unknown   U","NA","NA","NA",{"$f":"$CO$15&\"  \"&$CO$16&\"  \"&$CO$17&\"  \"&$CO$18&\"  \"&$CO$19&\"  \"&$CO$20","v":"          "},{"$f":"$CO$28&\"  \"&$CO$29&\"  \"&$CO$30&\"  \"&$CO$31&\"  \"&$CO$32&\"  \"&$CO$33","v":"          "}]
[null,null,{"$f":"\"Spec. Chem.  \"&CN44","v":"Spec. Chem.  Ag"},"NA"]
[null,null,null,null,null,null,null,null,null,null,null,null,null,null,null,null,null,null,null,null,null,null,null,null,null,null,null,null,null,null,null,null,null,null,null,null,null,null,null,null,null,null,null,null,null,null,null,null,null,null,null,null,null,null,null,null,null,null,null,null,null,null,null,null,null,null,null,null,null,null,null,null,null,null,null,null,null,null,null,null,null,null,null,null,null,null,null,null,null,null,null,null,null,null,null,null,null,null,null,null,null,null,null,null,null,null,null,null,null,null,null,null,null,null,null,null,null,null,null,null,null,null,null,null,null,null,null,null,null,null,null,null,null,null,null,null,null,null,null,null,null,null,null,null,null,null,null,null,null,null,null,null,null,null,null,null,null,null,null,null,null,null,null,null,null,null,null,null,null,null,null,null,null,null,null,null,null,null,null,null,null,null,null,null,null,null,null,null,null,null,null,null,null,null,null,null,null,null,null,null,null,null,null,null,null,null,null,null,null,null,null,null,null,null,null,null,null,null,null,null,null,null,null,null,null,null,null,null,null,null,null,null,null,null,null,null,null,null,null,null,null,null,null,null,null,null,null,null,null,null,null,null,null,null,null,null,null,null,null,null,null,null,null,null,null,null,null,null,null,null,null,null,null,null,null,null,null,null,null,null,null,null,null,null,null,"The colored cells below reflect this segments pollution status and are replicated on the Sources report card automatically"]
[null,"Flow","Flow  Q","NA","NA","NA",{"$f":"$DO$15&\"  \"&$DO$16&\"  \"&$DO$17&\"  \"&$DO$18&\"  \"&$DO$19&\"  \"&$DO$20","v":"          "},{"$f":"$DO$28&\"  \"&$DO$29&\"  \"&$DO$30&\"  \"&$DO$31&\"  \"&$DO$32&\"  \"&$DO$33","v":"          "},null,null,null,null,null,null,null,null,null,null,null,null,null,null,null,null,null,null,null,null,null,null,null,null,null,null,null,null,null,null,null,null,null,null,null,null,null,null,null,null,null,null,null,null,null,null,null,null,null,null,null,null,null,null,null,null,null,null,null,null,null,null,null,null,null,null,null,null,null,null,null,null,null,null,null,null,null,null,null,null,null,null,null,null,null,null,null,null,null,null,null,null,null,null,null,null,null,null,null,null,null,null,null,null,null,null,null,null,null,null,null,null,null,null,null,null,null,null,null,null,null,null,null,null,null,null,null,null,null,null,null,null,null,null,null,null,null,null,null,null,null,null,null,null,null,null,null,null,null,null,null,null,null,null,null,null,null,null,null,null,null,null,null,null,null,null,null,null,null,null,null,null,null,null,null,null,null,null,null,null,null,null,null,null,null,null,null,null,null,null,null,null,null,null,null,null,null,null,null,null,null,null,null,null,null,null,null,null,null,null,null,null,null,null,null,null,null,null,null,null,null,null,null,null,null,null,null,null,null,null,null,null,null,null,null,null,null,null,null,null,null,null,null,null,null,null,null,null,null,null,null,null,null,null,null,null,null,null,null,null,null,null,null,null,null,null,null,null,null,null,null,null,null,null,null,null,null,null,{"$f":"KA11","v":"Municp"},null,null,{"$f":"KD11","v":"Industr"},null,null,{"$f":"KG11","v":"St Water"},null,null,{"$f":"KJ11","v":"Res Ext"},null,null,{"$f":"KM11","v":"Land Dis"},null,null,{"$f":"KP11","v":"Seds"},null,null,{"$f":"KS11","v":"Hydro"},null,null,{"$f":"KV11","v":"Other"},null,null,{"$f":"KY11","v":"Unknown"}]
[null,null,null,null,null,null,null,null,null,null,null,null,null,"* designates a Suspected Source",null,null,null,null,null,null,null,null,null,null,null,null,null,null,null,null,null,null,null,null,null,null,null,null,null,"* designates a Suspected Source",null,null,null,null,null,null,null,null,null,null,null,null,null,null,null,null,null,null,null,null,null,null,null,null,null,"* designates a Suspected Source",null,null,null,null,null,null,null,null,null,null,null,null,null,null,null,null,null,null,null,null,null,null,null,null,null,"* designates a Suspected Source",null,null,null,null,null,null,null,null,null,null,null,null,null,null,null,null,null,null,null,null,null,null,null,null,null,"* designates a Suspected Source",null,null,null,null,null,null,null,null,null,null,null,null,null,null,null,null,null,null,null,null,null,null,null,null,null,"* designates a Suspected Source",null,null,null,null,null,null,null,null,null,null,null,null,null,null,null,null,null,null,null,null,null,null,null,null,null,"* designates a Suspected Source",null,null,null,null,null,null,null,null,null,null,null,null,null,null,null,null,null,null,null,null,null,null,null,null,null,"* designates a Suspected Source",null,null,null,null,null,null,null,null,null,null,null,null,null,null,null,null,null,null,null,null,null,null,null,null,null,"* designates a Suspected Source",null,null,null,null,null,null,null,null,null,null,null,null,null,null,null,null,null,null,null,null,null,null,null,null,null,null,null,null,null,null,null,null,null,null,null,null,null,null,null,null,null,null,null,null,null,null,null,null,null,null,null,null,null,null,null,null,null,null,null,null,null,null,null,null,{"$f":"TRIM(KA41&\" \"&KA42&\" \"&KA43&\" \"&KA44&\" \"&KA45&\" \"&KA46)","v":""},null,null,{"$f":"TRIM(KD41&\" \"&KD42&\" \"&KD43&\" \"&KD44&\" \"&KD45&\" \"&KD46)","v":""},null,null,{"$f":"TRIM(KG41&\" \"&KG42&\" \"&KG43&\" \"&KG44&\" \"&KG45&\" \"&KG46)","v":""},null,null,{"$f":"TRIM(KJ41&\" \"&KJ42&\" \"&KJ43&\" \"&KJ44&\" \"&KJ45&\" \"&KJ46)","v":""},null,null,{"$f":"TRIM(KM41&\" \"&KM42&\" \"&KM43&\" \"&KM44&\" \"&KM45&\" \"&KM46)","v":""},null,null,{"$f":"TRIM(KP41&\" \"&KP42&\" \"&KP43&\" \"&KP44&\" \"&KP45&\" \"&KP46)","v":""},null,null,{"$f":"TRIM(KS41&\" \"&KS42&\" \"&KS43&\" \"&KS44&\" \"&KS45&\" \"&KS46)","v":""},null,null,{"$f":"TRIM(KV41&\" \"&KV42&\" \"&KV43&\" \"&KV44&\" \"&KV45&\" \"&KV46)","v":""},null,null,{"$f":"TRIM(KY41&\" \"&KY42&\" \"&KY43&\" \"&KY44&\" \"&KY45&\" \"&KY46)","v":""}]
[null,"Habitat","Substrate   S","NA","NA","NA",{"$f":"$EO$15&\"  \"&$EO$16&\"  \"&$EO$17&\"  \"&$EO$18&\"  \"&$EO$19&\"  \"&$EO$20","v":"          "},{"$f":"$EO$28&\"  \"&$EO$29&\"  \"&$EO$30&\"  \"&$EO$31&\"  \"&$EO$32&\"  \"&$EO$33","v":"          "},null,null,null,null,null,"** designates a Potential Source",null,null,null,null,null,null,null,null,null,null,null,null,null,null,null,null,null,null,null,null,null,null,null,null,null,"** designates a Potential Source",null,null,null,null,null,null,null,null,null,null,null,null,null,null,null,null,null,null,null,null,null,null,null,null,null,"** designates a Potential Source",null,null,null,null,null,null,null,null,null,null,null,null,null,null,null,null,null,null,null,null,null,null,null,null,null,"** designates a Potential Source",null,null,null,null,null,null,null,null,null,null,null,null,null,null,null,null,null,null,null,null,null,null,null,null,null,"** designates a Potential Source",null,null,null,null,null,null,null,null,null,null,null,null,null,null,null,null,null,null,null,null,null,null,null,null,null,"** designates a Potential Source",null,null,null,null,null,null,null,null,null,null,null,null,null,null,null,null,null,null,null,null,null,null,null,null,null,"** designates a Potential Source",null,null,null,null,null,null,null,null,null,null,null,null,null,null,null,null,null,null,null,null,null,null,null,null,null,"** designates a Potential Source",null,null,null,null,null,null,null,null,null,null,null,null,null,null,null,null,null,null,null,null,null,null,null,null,null,"** designates a Potential Source"]
[null,null,"Morphology   H","NA",null,null,null,null,null,null,null,null,null,"No asterisk designates a Known Source",null,null,null,null,null,null,null,null,null,null,null,null,null,null,null,null,null,null,null,null,null,null,null,null,null,"No asterisk designates a Known Source",null,null,null,null,null,null,null,null,null,null,null,null,null,null,null,null,null,null,null,null,null,null,null,null,null,"No asterisk designates a Known Source",null,null,null,null,null,null,null,null,null,null,null,null,null,null,null,null,null,null,null,null,null,null,null,null,null,"No asterisk designates a Known Source",null,null,null,null,null,null,null,null,null,null,null,null,null,null,null,null,null,null,null,null,null,null,null,null,null,"No asterisk designates a Known Source",null,null,null,null,null,null,null,null,null,null,null,null,null,null,null,null,null,null,null,null,null,null,null,null,null,"No asterisk designates a Known Source",null,null,null,null,null,null,null,null,null,null,null,null,null,null,null,null,null,null,null,null,null,null,null,null,null,"No asterisk designates a Known Source",null,null,null,null,null,null,null,null,null,null,null,null,null,null,null,null,null,null,null,null,null,null,null,null,null,"No asterisk designates a Known Source",null,null,null,null,null,null,null,null,null,null,null,null,null,null,null,null,null,null,null,null,null,null,null,null,null,"No asterisk designates a Known Source",null,null,null,null,null,null,null,null,null,null,null,null,null,null,null,null,null,null,null,null,null,null,null,null,null,null,null,null,null,null,null,null,null,null,null,null,null,null,null,null,null,null,null,null,null,null,null,null,null,null,null,null,null,null,null,null,null,null,null,null,null,null,null,"max confid #",{"$f":"MAX(KB11:KB31)","v":0},null,null,{"$f":"MAX(KE11:KE31)","v":0},null,null,{"$f":"MAX(KH11:KH31)","v":0},null,null,{"$f":"MAX(KK11:KK31)","v":0},null,null,{"$f":"MAX(KN11:KN31)","v":0},null,null,{"$f":"MAX(KQ11:KQ31)","v":0},null,null,{"$f":"MAX(KT11:KT31)","v":0},null,null,{"$f":"MAX(KW11:KW31)","v":0},null,null,{"$f":"MAX(KZ11:KZ31)","v":0}]
[null,null,"Riparian Zone   R","NA",null,null,null,null,null,null,null,null,null,"Square brackets designates an Out of Segment Source (i.e., pollutant is a source for downstream segments)",null,null,null,null,null,null,null,null,null,null,null,null,null,null,null,null,null,null,null,null,null,null,null,null,null,"Square brackets designates an Out of Segment Source (i.e., pollutant is a source for downstream segments)",null,null,null,null,null,null,null,null,null,null,null,null,null,null,null,null,null,null,null,null,null,null,null,null,null,"Square brackets designates an Out of Segment Source (i.e., pollutant is a source for downstream segments)",null,null,null,null,null,null,null,null,null,null,null,null,null,null,null,null,null,null,null,null,null,null,null,null,null,"Square brackets designates an Out of Segment Source (i.e., pollutant is a source for downstream segments)",null,null,null,null,null,null,null,null,null,null,null,null,null,null,null,null,null,null,null,null,null,null,null,null,null,"Square brackets designates an Out of Segment Source (i.e., pollutant is a source for downstream segments)",null,null,null,null,null,null,null,null,null,null,null,null,null,null,null,null,null,null,null,null,null,null,null,null,null,"Square brackets designates an Out of Segment Source (i.e., pollutant is a source for downstream segments)",null,null,null,null,null,null,null,null,null,null,null,null,null,null,null,null,null,null,null,null,null,null,null,null,null,"Square brackets designates an Out of Segment Source (i.e., pollutant is a source for downstream segments)",null,null,null,null,null,null,null,null,null,null,null,null,null,null,null,null,null,null,null,null,null,null,null,null,null,"Square brackets designates an Out of Segment Source (i.e., pollutant is a source for downstream segments)",null,null,null,null,null,null,null,null,null,null,null,null,null,null,null,null,null,null,null,null,null,null,null,null,null,"Square brackets designates an Out of Segment Source (i.e., pollutant is a source for downstream segments)",null,null,null,null,null,null,null,null,null,null,null,null,null,null,null,null,null,null,null,null,null,null,null,null,null,null,null,null,null,null,null,null,null,null,null,null,null,null,null,null,null,null,null,null,null,null,null,null,null,null,null,null,null,null,null,null,null,null,null,null,null,null,null,"The lists below show unique codes in lists assembled above. Numbers are max confidence #, used to color cells for worst case. The codes are catenated in the colored boxes above for transfer to Sources RC when that sheet is activated."]
[]
[null,"Bacteria","Bacteria   B","NA","NA","NA",{"$f":"$FO$15&\"  \"&$FO$16&\"  \"&$FO$17&\"  \"&$FO$18&\"  \"&$FO$19&\"  \"&$FO$20","v":"          "},{"$f":"$FO$28&\"  \"&$FO$29&\"  \"&$FO$30&\"  \"&$FO$31&\"  \"&$FO$32&\"  \"&$FO$33","v":"          "},null,null,null,null,null,null,null,null,null,null,null,null,null,null,null,null,null,null,null,null,null,null,null,null,null,null,null,null,null,null,null,null,null,null,null,null,null,null,null,null,null,null,null,null,null,null,null,null,null,null,null,null,null,null,null,null,null,null,null,null,null,null,null,null,null,null,null,null,null,null,null,null,null,null,null,null,null,null,null,null,null,null,null,null,null,null,null,null,null,null,null,null,null,null,null,null,null,null,null,null,null,null,null,null,null,null,null,null,null,null,null,null,null,null,null,null,null,null,null,null,null,null,null,null,null,null,null,null,null,null,null,null,null,null,null,null,null,null,null,null,null,null,null,null,null,null,null,null,null,null,null,null,null,null,null,null,null,null,null,null,null,null,null,null,null,null,null,null,null,null,null,null,null,null,null,null,null,null,null,null,null,null,null,null,null,null,null,null,null,null,null,null,null,null,null,null,null,null,null,null,null,null,null,null,null,null,null,null,null,null,null,null,null,null,null,null,null,null,null,null,null,null,null,null,null,null,null,null,null,null,null,null,null,null,null,null,null,null,null,null,null,null,null,null,null,null,null,null,null,null,null,null,null,null,null,null,null,null,null,null,null,null,null,null,null,null,null,null,null,null,null,null,null,null,null,null,null,null,"Municp",null,null,"Industr",null,null,"St Water",null,null,"Res Ext",null,null,"Land Dis",null,null,"Seds",null,null,"Hydro",null,null,"Other",null,null,"Unknown"]
[]
[null,"Aesthetics","Oil & Grease   G","NA","NA","NA",{"$f":"$GO$15&\"  \"&$GO$16&\"  \"&$GO$17&\"  \"&$GO$18&\"  \"&$GO$19&\"  \"&$GO$20","v":"          "},{"$f":"$GO$28&\"  \"&$GO$29&\"  \"&$GO$30&\"  \"&$GO$31&\"  \"&$GO$32&\"  \"&$GO$33","v":"          "},null,null,null,null,null,null,null,null,null,null,null,null,null,null,null,null,null,null,null,null,null,null,null,null,null,null,null,null,null,null,null,null,null,null,null,null,null,null,null,null,null,null,null,null,null,null,null,null,null,null,null,null,null,null,null,null,null,null,null,null,null,null,null,null,null,null,null,null,null,null,null,null,null,null,null,null,null,null,null,null,null,null,null,"Identify the suspected toxic chemical substance below (e.g., Hg, PCB, etc). ",null,null,null,null,null,null,null,null,null,null,null,null,null,null,null,null,null,null,null,null,null,null,null,null,null,null,null,null,null,null,null,null,null,null,null,null,null,null,null,null,null,null,null,null,null,null,null,null,null,null,null,null,null,null,null,null,null,null,null,null,null,null,null,null,null,null,null,null,null,null,null,null,null,null,null,null,null,null,null,null,null,null,null,null,null,null,null,null,null,null,null,null,null,null,null,null,null,null,null,null,null,null,null,null,null,null,null,null,null,null,null,null,null,null,null,null,null,null,null,null,null,null,null,null,null,null,null,null,null,null,null,null,null,null,null,null,null,null,null,null,null,null,null,null,null,null,null,null,null,null,null,null,null,null,null,"Identify the suspected toxic chemical substance below (e.g., Hg, PCB, etc). "]
[null,null,"Taste & Odor   O","NA",null,null,null,null,null,null,null,null,null,null,"Pollution  Indicators (Causes):  ",null,{"$f":"P46&\" \"&P47&\" \"&P48&\" \"&P49&\" \"&P50&\" \"&P51","v":"     "},null,null,null,null,null,null,null,null,null,null,null,null,null,null,null,null,null,null,null,null,null,null,null,"Pollution  Indicators (Causes):  ",null,{"$f":"AP46&\" \"&AP47&\" \"&AP48&\" \"&AP49&\" \"&AP50&\" \"&AP51","v":"     "},null,null,null,null,null,null,null,null,null,null,null,null,null,null,null,null,null,null,null,null,null,null,null,"Pollution  Indicators (Causes):  ",null,{"$f":"BP46&\" \"&BP47&\" \"&BP48","v":"  "},null,null,null,null,null,null,null,null,null,null,null,null,null,null,null,null,null,null,null,null,null,null,null,null,null,null,null,null,null,null,null,null,null,null,null,null,null,null,null,null,null,null,null,null,null,null,null,null,null,"Pollution  Indicators (Causes):  ",null,{"$f":"DP46&\" \"&DP47","v":" "},null,null,null,null,null,null,null,null,null,null,null,null,null,null,null,null,null,null,null,null,null,null,null,"Pollution  Indicators (Causes):  ",null,{"$f":"EP46&\" \"&EP47&\" \"&EP48&\" \"&EP49","v":"   "},null,null,null,null,null,null,null,null,null,null,null,null,null,null,null,null,null,null,null,null,null,null,null,"Pollution  Indicators (Causes):  ",null,{"$f":"FP46&\" \"&FP47","v":" "},null,null,null,null,null,null,null,null,null,null,null,null,null,null,null,null,null,null,null,null,null,null,null,"Pollution  Indicators (Causes):  ",null,{"$f":"GP46&\" \"&GP47&\" \"&GP48&\" \"&GP49&\" \"&GP50&\" \"&GP51","v":"     "},null,null,null,null,null,null,null,null,null,null,null,null,null,null,null,null,null,null,null,null,null,null,"Identify the suspected toxic chemical substance below (e.g., Hg, PCB, etc). "]
[null,null,"Turb/Color   C","NA",null,null,null,null,null,null,null,null,null,null,null,null,null,null,null,null,null,null,null,null,null,null,null,null,null,null,null,null,null,null,null,null,null,null,null,null,null,null,null,null,null,null,null,null,null,null,null,null,null,null,null,null,null,null,null,null,null,null,null,null,null,null,null,null,null,null,null,null,null,null,null,null,null,null,null,null,null,null,null,null,null,null,null,null,null,null,null,"Ag",null,null,null,null,null,null,null,null,null,null,null,null,null,null,null,null,null,null,null,null,null,null,null,null,null,null,null,null,null,null,null,null,null,null,null,null,null,null,null,null,null,null,null,null,null,null,null,null,null,null,null,null,null,null,null,null,null,null,null,null,null,null,null,null,null,null,null,null,null,null,null,null,null,null,null,null,null,null,null,null,null,null,null,null,null,null,null,null,null,null,null,null,null,null,null,null,null,null,null,null,null,null,null,null,null,null,null,null,null,null,null,null,null,null,null,null,null,null,null,null,null,null,null,null,null,null,null,null,null,null,null,null,null,null,null,null,null,null,null,null,null,null,null,null,null,null,null,null,null,null,null,null,null,null,null,"DDT"]
[null,null,"Nuisance Plants   V","NA",null,null,null,null,null,null,null,null,null,null,{"$f":"$B$16","v":"Biology"},null,null,null,null,null,null,null,null,null,null,null,null,null,null,null,null,null,null,null,null,null,null,null,null,null,{"$f":"$B$22","v":"Chemistry"},null,null,null,null,null,null,null,null,null,null,null,null,null,null,null,null,null,null,null,null,null,null,null,null,null,{"$f":"$B$28","v":"Nutrients"},null,null,null,null,null,null,null,null,null,null,null,null,null,null,null,null,null,null,null,null,null,null,null,null,null,null,null,null,null,null,null,null,null,null,null,null,null,null,null,null,null,null,null,null,null,null,null,null,null,null,null,{"$f":"$B$34","v":"Flow"},null,null,null,null,null,null,null,null,null,null,null,null,null,null,null,null,null,null,null,null,null,null,null,null,null,{"$f":"$B$36","v":"Habitat"},null,null,null,null,null,null,null,null,null,null,null,null,null,null,null,null,null,null,null,null,null,null,null,null,null,{"$f":"$B$40","v":"Bacteria"},null,null,null,null,null,null,null,null,null,null,null,null,null,null,null,null,null,null,null,null,null,null,null,null,null,{"$f":"$B$42","v":"Aesthetics"},null,null,null,null,null,null,null,null,null,null,null,null,null,null,null,null,null,null,null,null,null,null,null,null,"PCB"]
[null,null,"Trash /Debris   D","NA",null,null,null,null,null,null,null,null,null,null,{"$f":"$C$16","v":"Plank/Peri.   A"},{"$f":"IF($D$16=\"Concern\",\"(A)\",IF(OR($D$16=\"Fair\",$D$16=\"Poor\"),\"A\",\"\"))","v":""},null,null,null,null,null,null,null,null,null,null,null,null,null,null,null,null,null,null,null,null,null,null,null,null,{"$f":"$C$22","v":"Dis. Oxygen    DO"},{"$f":"IF($D$22=\"Concern\",\"(DO)\",IF(OR($D$22=\"Fair\",$D$22=\"Poor\"),\"DO\",\"\"))","v":""},null,null,null,null,null,null,null,null,null,null,null,null,null,null,null,null,null,null,null,null,null,null,null,null,{"$f":"$C$28","v":"Phosphorus  P"},{"$f":"IF($D$28=\"Concern\",\"(P)\",IF(OR($D$28=\"Fair\",$D$28=\"Poor\"),\"P\",\"\"))","v":""},null,null,null,null,null,null,null,null,null,null,null,null,null,null,null,null,null,null,null,null,null,null,null,null,null,null,null,null,null,null,null,null,null,null,null,null,null,null,null,null,null,null,null,null,null,null,null,null,null,null,{"$f":"$C$34","v":"Flow  Q"},{"$f":"IF($D$34=\"Concern\",\"(O)\",IF(OR($D$34=\"Fair\",$D$34=\"Poor\"),\"O\",\"\"))","v":""},null,null,null,null,null,null,null,null,null,null,null,null,null,null,null,null,null,null,null,null,null,null,null,null,{"$f":"$C$36","v":"Substrate   S"},{"$f":"IF($D$36=\"Concern\",\"(S)\",IF(OR($D$36=\"Fair\",$D$36=\"Poor\"),\"S\",\"\"))","v":""},null,null,null,null,null,null,null,null,null,null,null,null,null,null,null,null,null,null,null,null,null,null,null,null,{"$f":"$C$40","v":"Bacteria   B"},{"$f":"IF($D$40=\"Concern\",\"(B)\",IF(OR($D$40=\"Fair\",$D$40=\"Poor\"),\"B\",\"\"))","v":""},null,null,null,null,null,null,null,null,null,null,null,null,null,null,null,null,null,null,null,null,null,null,null,null,{"$f":"$C$42","v":"Oil & Grease   G"},{"$f":"IF($D$42=\"Concern\",\"(G)\",IF(OR($D$42=\"Fair\",$D$42=\"Poor\"),\"G\",\"\"))","v":""}]
[null,null,null,null,null,null,null,null,null,null,null,null,null,null,{"$f":"$C$17","v":"Macrophyton   M"},{"$f":"IF($D$17=\"Concern\",\"(M)\",IF(OR($D$17=\"Fair\",$D$17=\"Poor\"),\"M\",\"\"))","v":""},null,null,null,null,null,null,null,null,null,null,null,null,null,null,null,null,null,null,null,null,null,null,null,null,{"$f":"$C$23","v":"pH     pH"},{"$f":"IF($D$23=\"Concern\",\"(pH)\",IF(OR($D$23=\"Fair\",$D$23=\"Poor\"),\"pH\",\"\"))","v":""},null,null,null,null,null,null,null,null,null,null,null,null,null,null,null,null,null,null,null,null,null,null,null,null,{"$f":"$C$29","v":"Nitrogen   N"},{"$f":"IF($D$29=\"Concern\",\"(N)\",IF(OR($D$29=\"Fair\",$D$29=\"Poor\"),\"N\",\"\"))","v":""},null,null,null,null,null,null,null,null,null,null,null,null,null,null,null,null,null,null,null,null,null,null,null,null,null,null,null,null,null,null,null,null,null,null,null,null,null,null,null,null,null,null,null,null,null,null,null,null,null,null,{"$f":"IF($C$41=\"\",\"\",$C$41)","v":""},{"$f":"IF($D$35=\"Concern\",\"(**)\",IF(OR($D$35=\"Fair\",$D$35=\"Poor\"),\"**\",\"\"))","v":""},null,null,null,null,null,null,null,null,null,null,null,null,null,null,null,null,null,null,null,null,null,null,null,null,{"$f":"$C$37","v":"Morphology   H"},{"$f":"IF($D$37=\"Concern\",\"(H)\",IF(OR($D$37=\"Fair\",$D$37=\"Poor\"),\"H\",\"\"))","v":""},null,null,null,null,null,null,null,null,null,null,null,null,null,null,null,null,null,null,null,null,null,null,null,null,{"$f":"IF($C$41=\"\",\"\",$C$41)","v":""},{"$f":"IF($D$41=\"Concern\",\"(**)\",IF(OR($D$41=\"Fair\",$D$41=\"Poor\"),\"**\",\"\"))","v":""},null,null,null,null,null,null,null,null,null,null,null,null,null,null,null,null,null,null,null,null,null,null,null,null,{"$f":"$C$43","v":"Taste & Odor   O"},{"$f":"IF($D$43=\"Concern\",\"(O)\",IF(OR($D$43=\"Fair\",$D$43=\"Poor\"),\"O\",\"\"))","v":""}]
[null,"Tissue",{"$f":"\"Spec. Chem.   \"&HN45","v":"Spec. Chem.   PCB"},"NA","NA","NA",{"$f":"$HO$15&\"  \"&$HO$16&\"  \"&$HO$17&\"  \"&$HO$18&\"  \"&$HO$19&\"  \"&$HO$20","v":"          "},{"$f":"$HO$28&\"  \"&$HO$29&\"  \"&$HO$30&\"  \"&$HO$31&\"  \"&$HO$32&\"  \"&$HO$33","v":"          "},null,null,null,null,null,null,{"$f":"$C$18","v":"Invertebrates   I"},{"$f":"IF($D$18=\"Concern\",\"(I)\",IF(OR($D$18=\"Fair\",$D$18=\"Poor\"),\"I\",\"\"))","v":""},null,null,null,null,null,null,null,null,null,null,null,null,null,null,null,null,null,null,null,null,null,null,null,null,{"$f":"$C$24","v":"Temperature    T"},{"$f":"IF($D$24=\"Concern\",\"(T)\",IF(OR($D$24=\"Fair\",$D$24=\"Poor\"),\"T\",\"\"))","v":""},null,null,null,null,null,null,null,null,null,null,null,null,null,null,null,null,null,null,null,null,null,null,null,null,{"$f":"IF($C$30=\"\",\"\",$C$30)","v":""},{"$f":"IF($D$30=\"Concern\",\"(**)\",IF(OR($D$30=\"Fair\",$D$30=\"Poor\"),\"**\",\"\"))","v":""},null,null,null,null,null,null,null,null,null,null,null,null,null,null,null,null,null,null,null,null,null,null,null,null,null,null,null,null,null,null,null,null,null,null,null,null,null,null,null,null,null,null,null,null,null,null,null,null,null,null,null,null,null,null,null,null,null,null,null,null,null,null,null,null,null,null,null,null,null,null,null,null,null,null,null,null,{"$f":"$C$38","v":"Riparian Zone   R"},{"$f":"IF($D$38=\"Concern\",\"(R)\",IF(OR($D$38=\"Fair\",$D$38=\"Poor\"),\"R\",\"\"))","v":""},null,null,null,null,null,null,null,null,null,null,null,null,null,null,null,null,null,null,null,null,null,null,null,null,null,null,null,null,null,null,null,null,null,null,null,null,null,null,null,null,null,null,null,null,null,null,null,null,null,null,{"$f":"$C$44","v":"Turb/Color   C"},{"$f":"IF($D$44=\"Concern\",\"(C)\",IF(OR($D$44=\"Fair\",$D$44=\"Poor\"),\"C\",\"\"))","v":""}]
[null,null,null,null,null,null,null,null,null,null,null,null,null,null,{"$f":"$C$19","v":"Fish   F"},{"$f":"IF($D$19=\"Concern\",\"(F)\",IF(OR($D$19=\"Fair\",$D$19=\"Poor\"),\"F\",\"\"))","v":""},null,null,null,null,null,null,null,null,null,null,null,null,null,null,null,null,null,null,null,null,null,null,null,null,{"$f":"$C$25","v":"Ionic Strength    Z"},{"$f":"IF($D$25=\"Concern\",\"(Z)\",IF(OR($D$25=\"Fair\",$D$25=\"Poor\"),\"Z\",\"\"))","v":""},null,null,null,null,null,null,null,null,null,null,null,null,null,null,null,null,null,null,null,null,null,null,null,null,null,null,null,null,null,null,null,null,null,null,null,null,null,null,null,null,null,null,null,null,null,null,null,null,null,null,"Pollution  Indicators (Causes):  ",null,{"$f":"CP52&\" \"&CP53&\" \"&CP54","v":"  "},null,null,null,null,null,null,null,null,null,null,null,null,null,null,null,null,null,null,null,null,null,null,null,null,null,null,null,null,null,null,null,null,null,null,null,null,null,null,null,null,null,null,null,null,null,null,null,null,null,{"$f":"IF($C$39=\"\",\"\",$C$39)","v":""},{"$f":"IF($D$39=\"Concern\",\"(**)\",IF(OR($D$39=\"Fair\",$D$39=\"Poor\"),\"**\",\"\"))","v":""},null,null,null,null,null,null,null,null,null,null,null,null,null,null,null,null,null,null,null,null,null,null,null,null,null,null,null,null,null,null,null,null,null,null,null,null,null,null,null,null,null,null,null,null,null,null,null,null,null,null,{"$f":"$C$45","v":"Nuisance Plants   V"},{"$f":"IF($D$45=\"Concern\",\"(V)\",IF(OR($D$45=\"Fair\",$D$45=\"Poor\"),\"V\",\"\"))","v":""},null,null,null,null,null,null,null,null,null,null,null,null,null,null,null,null,null,null,null,null,null,null,null,null,null,null,null,null,null,null,null,null,null,null,null,null,null,null,null,null,null,null,null,null,null,null,null,null,null,null,"Pollution  Indicators (Causes):  ",null,{"$f":"IP52&\" \"&IP53&\" \"&IP54","v":"  "}]
[null,"Sediment","Unknown   U","NA","NA","NA",{"$f":"$IO$15&\"  \"&$IO$16&\"  \"&$IO$17&\"  \"&$IO$18&\"  \"&$IO$19&\"  \"&$IO$20","v":"          "},{"$f":"$IO$28&\"  \"&$IO$29&\"  \"&$IO$30&\"  \"&$IO$31&\"  \"&$IO$32&\"  \"&$IO$33","v":"          "},null,null,null,null,null,null,{"$f":"$C$20","v":"Wildlife   W"},{"$f":"IF($D$20=\"Concern\",\"(W)\",IF(OR($D$20=\"Fair\",$D$20=\"Poor\"),\"W\",\"\"))","v":""},null,null,null,null,null,null,null,null,null,null,null,null,null,null,null,null,null,null,null,null,null,null,null,null,{"$f":"$C$26","v":"Sus. Solids    SS"},{"$f":"IF($D$26=\"Concern\",\"(SS)\",IF(OR($D$26=\"Fair\",$D$26=\"Poor\"),\"SS\",\"\"))","v":""},null,null,null,null,null,null,null,null,null,null,null,null,null,null,null,null,null,null,null,null,null,null,null,null,null,null,null,null,null,null,null,null,null,null,null,null,null,null,null,null,null,null,null,null,null,null,null,null,null,null,null,null,null,null,null,null,null,null,null,null,null,null,null,null,null,null,null,null,null,null,null,null,null,null,null,null,null,null,null,null,null,null,null,null,null,null,null,null,null,null,null,null,null,null,null,null,null,null,null,null,null,null,null,null,null,null,null,null,null,null,null,null,null,null,null,null,null,null,null,null,null,null,null,null,null,null,null,null,null,null,null,null,null,null,null,null,null,null,null,null,null,null,null,null,null,null,null,null,null,null,null,null,null,null,{"$f":"$C$46","v":"Trash /Debris   D"},{"$f":"IF($D$46=\"Concern\",\"(D)\",IF(OR($D$46=\"Fair\",$D$46=\"Poor\"),\"D\",\"\"))","v":""},null,null,null,null,null,null,null,null,null,null,null,null,null,null,null,null,null,null,null,null,null,null,null,null,"Pollution  Indicators (Causes):  ",null,{"$f":"HP53&\" \"&HP54","v":" "}]
[null,null,{"$f":"\"Spec. Chem.   \"&IN44","v":"Spec. Chem.   DDT"},"NA",null,null,null,null,null,null,null,null,null,null,{"$f":"IF($C$21=\"\",\"\",$C$21)","v":""},{"$f":"IF($D$21=\"Concern\",\"(**)\",IF(OR($D$21=\"Fair\",$D$21=\"Poor\"),\"**\",\"\"))","v":""},null,null,null,null,null,null,null,null,null,null,null,null,null,null,null,null,null,null,null,null,null,null,null,null,{"$f":"IF($C$27=\"\",\"\",$C$27)","v":""},{"$f":"IF($D$27=\"Concern\",\"(**)\",IF(OR($D$27=\"Fair\",$D$27=\"Poor\"),\"**\",\"\"))","v":""},null,null,null,null,null,null,null,null,null,null,null,null,null,null,null,null,null,null,null,null,null,null,null,null,null,null,null,null,null,null,null,null,null,null,null,null,null,null,null,null,null,null,null,null,null,null,null,null,null,null,{"$f":"$B$31","v":"Toxicity"},null,null,null,null,null,null,null,null,null,null,null,null,null,null,null,null,null,null,null,null,null,null,null,null,null,null,null,null,null,null,null,null,null,null,null,null,null,null,null,null,null,null,null,null,null,null,null,null,null,null,null,null,null,null,null,null,null,null,null,null,null,null,null,null,null,null,null,null,null,null,null,null,null,null,null,null,null,null,null,null,null,null,null,null,null,null,null,null,null,null,null,null,null,null,null,null,null,null,null,null,null,null,null,{"$f":"IF($C$47=\"\",\"\",$C$47)","v":""},{"$f":"IF($D$47=\"Concern\",\"(**)\",IF(OR($D$47=\"Fair\",$D$47=\"Poor\"),\"**\",\"\"))","v":""},null,null,null,null,null,null,null,null,null,null,null,null,null,null,null,null,null,null,null,null,null,null,null,null,null,null,null,null,null,null,null,null,null,null,null,null,null,null,null,null,null,null,null,null,null,null,null,null,null,null,{"$f":"$B$50","v":"Sediment"}]
[null,null,null,null,null,null,null,null,null,null,null,null,null,null,null,null,null,null,null,null,null,null,null,null,null,null,null,null,null,null,null,null,null,null,null,null,null,null,null,null,null,null,null,null,null,null,null,null,null,null,null,null,null,null,null,null,null,null,null,null,null,null,null,null,null,null,null,null,null,null,null,null,null,null,null,null,null,null,null,null,null,null,null,null,null,null,null,null,null,null,null,null,{"$f":"$C$31","v":"Unknown   U"},{"$f":"IF($D$31=\"Concern\",\"(U)\",IF(OR($D$31=\"Fair\",$D$31=\"Poor\"),\"U\",\"\"))","v":""},null,null,null,null,null,null,null,null,null,null,null,null,null,null,null,null,null,null,null,null,null,null,null,null,null,null,null,null,null,null,null,null,null,null,null,null,null,null,null,null,null,null,null,null,null,null,null,null,null,null,null,null,null,null,null,null,null,null,null,null,null,null,null,null,null,null,null,null,null,null,null,null,null,null,null,null,null,null,null,null,null,null,null,null,null,null,null,null,null,null,null,null,null,null,null,null,null,null,null,null,null,null,null,null,null,null,null,null,null,null,null,null,null,null,null,null,null,null,null,null,null,null,null,null,null,null,null,null,{"$f":"$B$48","v":"Tissue"},null,null,null,null,null,null,null,null,null,null,null,null,null,null,null,null,null,null,null,null,null,null,null,null,null,{"$f":"$C$50","v":"Unknown   U"},{"$f":"IF($D$50=\"Concern\",\"(U)\",IF(OR($D$50=\"Fair\",$D$50=\"Poor\"),\"U\",\"\"))","v":""}]
[null,"Comments:",null,null,null,null,null,"*  Suspected Source  ",null,null,null,null,null,null,null,null,null,null,null,null,null,null,null,null,null,null,null,null,null,null,null,null,null,null,null,null,null,null,null,null,null,null,null,null,null,null,null,null,null,null,null,null,null,null,null,null,null,null,null,null,null,null,null,null,null,null,null,null,null,null,null,null,null,null,null,null,null,null,null,null,null,null,null,null,null,null,null,null,null,null,null,null,{"$f":"$C$32","v":"Spec. Chem.  Ag"},{"$f":"IF($D$32=\"Concern\",\"(\"&CN44&\")\",IF(OR($D$32=\"Fair\",$D$32=\"Poor\"),CN44,\"\"))","v":""},null,null,null,null,null,null,null,null,null,null,null,null,null,null,null,null,null,null,null,null,null,null,null,null,null,null,null,null,null,null,null,null,null,null,null,null,null,null,null,null,null,null,null,null,null,null,null,null,null,null,null,null,null,null,null,null,null,null,null,null,null,null,null,null,null,null,null,null,null,null,null,null,null,null,null,null,null,null,null,null,null,null,null,null,null,null,null,null,null,null,null,null,null,null,null,null,null,null,null,null,null,null,null,null,null,null,null,null,null,null,null,null,null,null,null,null,null,null,null,null,null,null,null,null,null,null,null,null,{"$f":"$C$48","v":"Spec. Chem.   PCB"},{"$f":"IF($D$48=\"Concern\",\"(\"&HN45&\")\",IF(OR($D$48=\"Fair\",$D$32=\"Poor\"),HN45,\"\"))","v":""},null,null,null,null,null,null,null,null,null,null,null,null,null,null,null,null,null,null,null,null,null,null,null,null,{"$f":"$C$51","v":"Spec. Chem.   DDT"},{"$f":"IF($D$51=\"Concern\",\"(\"&IN44&\")\",IF(OR($D$51=\"Fair\",$D$51=\"Poor\"),IN44,\"\"))","v":""}]
[null,null,null,null,null,null,null,"** Potential Source  ",null,null,null,null,null,null,null,null,null,null,null,null,null,null,null,null,null,null,null,null,null,null,null,null,null,null,null,null,null,null,null,null,null,null,null,null,null,null,null,null,null,null,null,null,null,null,null,null,null,null,null,null,null,null,null,null,null,null,null,null,null,null,null,null,null,null,null,null,null,null,null,null,null,null,null,null,null,null,null,null,null,null,null,null,{"$f":"IF($C$33=\"\",\"\",$C$33)","v":""},{"$f":"IF($D$33=\"Concern\",\"(**)\",IF(OR($D$33=\"Fair\",$D$33=\"Poor\"),\"**\",\"\"))","v":""},null,null,null,null,null,null,null,null,null,null,null,null,null,null,null,null,null,null,null,null,null,null,null,null,null,null,null,null,null,null,null,null,null,null,null,null,null,null,null,null,null,null,null,null,null,null,null,null,null,null,null,null,null,null,null,null,null,null,null,null,null,null,null,null,null,null,null,null,null,null,null,null,null,null,null,null,null,null,null,null,null,null,null,null,null,null,null,null,null,null,null,null,null,null,null,null,null,null,null,null,null,null,null,null,null,null,null,null,null,null,null,null,null,null,null,null,null,null,null,null,null,null,null,null,null,null,null,null,{"$f":"IF($C$49=\"\",\"\",$C$49)","v":""},{"$f":"IF($D$49=\"Concern\",\"(**)\",IF(OR($D$49=\"Fair\",$D$49=\"Poor\"),\"**\",\"\"))","v":""},null,null,null,null,null,null,null,null,null,null,null,null,null,null,null,null,null,null,null,null,null,null,null,null,{"$f":"IF($C$52=\"\",\"\",$C$52)","v":""},{"$f":"IF($D$52=\"Concern\",\"(**)\",IF(OR($D$52=\"Fair\",$D$52=\"Poor\"),\"**\",\"\"))","v":""}]
[null,null,null,null,null,null,null,"No asterisk: Known Source  "]
[null,null,null,null,null,null,null,"[Out of Segment Source ]  "]
[]
[]
[]
[null,"SegNameLong:  ","ffffff"]
[null,"Seg Name:  ","fff"]
[null,"Seg Num:  "]
[null,"Seg Size:  "]
[null,"Seg Class:  "]
[]
[]
[]
[]
[]
[]
[]
[]
[]
[]
[]
[]
[null,null,null,{"$f":"A99","v":""}]
[null,null,null,{"$f":"B99","v":""}]
[null,null,null,{"$f":"C99","v":""}]
[null,null,null,{"$f":"D99","v":""}]
[null,null,null,{"$f":"E99","v":""}]
[null,null,null,{"$f":"F99","v":""}]
[null,null,null,{"$f":"G99","v":""}]
[null,null,null,{"$f":"H99","v":""}]
[null,null,null,{"$f":"I99","v":""}]
[]
[]
[]
[]
[]
[]
[]
[]
[]
[]
[]
[]
[]
[{"$f":"TRIM(A101&\" \"&A102&\" \"&A103&\" \"&A104&\" \"&A105&\" \"&A106)","v":""},{"$f":"TRIM(B101&\" \"&B102&\" \"&B103&\" \"&B104&\" \"&B105&\" \"&B106)","v":""},"","","","","","",""]

{"sheet":"Seg7","index":11,"n_rows":99,"n_cols":311,"rows_kept":99,"cut":false,"hidden":false,"merged":[[52,1,55,1],[43,247,45,250],[44,221,46,224],[47,1,48,1],[47,4,48,4],[47,5,48,5],[47,6,48,6],[47,7,48,7],[41,1,46,1],[41,4,46,4],[41,5,46,5],[41,6,46,6],[41,7,46,7],[43,91,45,94],[49,1,51,1],[49,4,51,4],[39,6,40,6],[39,7,40,7],[35,1,38,1],[35,4,38,4],[35,5,38,5],[35,6,38,6],[35,7,38,7],[49,5,51,5],[49,6,51,6],[49,7,51,7],[30,1,32,1],[30,4,32,4],[30,5,32,5],[30,6,32,6],[30,7,32,7],[33,1,34,1],[33,4,34,4],[33,5,34,5],[33,6,34,6],[33,7,34,7],[39,1,40,1],[39,4,40,4],[39,5,40,5],[21,1,26,1],[21,4,26,4],[21,5,26,5],[21,6,26,6],[21,7,26,7],[27,1,29,1],[27,4,29,4],[27,5,29,5],[27,6,29,6],[27,7,29,7],[15,1,20,1],[15,4,20,4],[15,5,20,5],[15,6,20,6],[15,7,20,7],[13,1,14,1],[13,2,14,3],[13,4,14,4],[13,5,14,5],[14,6,14,7]]}
[]
[]
[]
[]
[null,null,null,null,null,null,null,null,null,null,null,null,null,null,null,null,null,null,null,null,null,null,null,null,null,null,null,null,null,null,null,null,null,null,null,null,null,null,null,null,null,null,null,null,null,null,null,null,null,null,null,null,null,null,null,null,null,null,null,null,null,null,null,null,null,null,null,null,null,null,null,null,null,null,null,null,null,null,null,null,null,null,null,null,null,null,null,null,null,null,null,null,null,null,null,null,null,null,null,null,null,null,null,null,null,null,null,null,null,null,null,null,null,null,null,null,null,null,null,null,null,null,null,null,null,null,null,null,null,null,null,null,null,null,null,null,null,null,null,null,null,null,null,null,null,null,null,null,null,null,null,null,null,null,null,null,null,null,null,null,null,null,null,null,null,null,null,null,null,null,null,null,null,null,null,null,null,null,null,null,null,null,null,null,null,null,null,null,null,null,null,null,null,null,null,null,null,null,null,null,null,null,null,null,null,null,null,null,null,null,null,null,null,null,null,null,null,null,null,null,null,null,null,null,null,null,null,null,null,null,null,null,null,null,null,null,null,null,null,null,null,null,null,null,null,null,null,null,null,null,null,null,null,null,null,null,null,null,null,null,null,null,null,null,null,null,null,null,null,null,null,null,null,null,null,null,null,null,null,null,null,null,null,null,null,"List of all codes from all groups for this segment, organized by Source Type. "]
[null,null,null,null,null,null,null,null,null,null,null,null,null,null,null,null,null,null,null,null,null,null,null,null,null,null,null,null,null,null,null,null,null,null,null,null,null,null,null,null,null,null,null,null,null,null,null,null,null,null,null,null,null,null,null,null,null,null,null,null,null,null,null,null,null,null,null,null,null,null,null,null,null,null,null,null,null,null,null,null,null,null,null,null,null,null,null,null,null,null,null,null,null,null,null,null,null,null,null,null,null,null,null,null,null,null,null,null,null,null,null,null,null,null,null,null,null,null,null,null,null,null,null,null,null,null,null,null,null,null,null,null,null,null,null,null,null,null,null,null,null,null,null,null,null,null,null,null,null,null,null,null,null,null,null,null,null,null,null,null,null,null,null,null,null,null,null,null,null,null,null,null,null,null,null,null,null,null,null,null,null,null,null,null,null,null,null,null,null,null,null,null,null,null,null,null,null,null,null,null,null,null,null,null,null,null,null,null,null,null,null,null,null,null,null,null,null,null,null,null,null,null,null,null,null,null,null,null,null,null,null,null,null,null,null,null,null,null,null,null,null,null,null,null,null,null,null,null,null,null,null,null,null,null,null,null,null,null,null,null,null,null,null,null,null,null,null,null,null,null,null,null,null,null,null,null,null,null,null,null,null,null,null,null,null,"List is updated only when \"SourceRC_List\" macro is run. Macro is run manually by touching button at right or when Source report card is activated."]
[null,null,null,null,null,null,null,null,null,null,null,null,null,null,null,null,null,null,null,null,null,null,null,null,null,null,null,null,null,null,null,null,null,null,null,null,null,null,null,null,null,null,null,null,null,null,null,null,null,null,null,null,null,null,null,null,null,null,null,null,null,null,null,null,null,null,null,null,null,null,null,null,null,null,null,null,null,null,null,null,null,null,null,null,null,null,null,null,null,null,null,null,null,null,null,null,null,null,null,null,null,null,null,null,null,null,null,null,null,null,null,null,null,null,null,null,null,null,null,null,null,null,null,null,null,null,null,null,null,null,null,null,null,null,null,null,null,null,null,null,null,null,null,null,null,null,null,null,null,null,null,null,null,null,null,null,null,null,null,null,null,null,null,null,null,null,null,null,null,null,null,null,null,null,null,null,null,null,null,null,null,null,null,null,null,null,null,null,null,null,null,null,null,null,null,null,null,null,null,null,null,null,null,null,null,null,null,null,null,null,null,null,null,null,null,null,null,null,null,null,null,null,null,null,null,null,null,null,null,null,null,null,null,null,null,null,null,null,null,null,null,null,null,null,null,null,null,null,null,null,null,null,null,null,null,null,null,null,null,null,null,null,null,null,null,null,null,null,null,null,null,null,null,null,null,null,null,null,null,null,null,null,null,null,null,"Numbers indicate knowledge about the certainty of assessment: 0 = N/A, 1 = Potential Source, 2 = Suspected Source, 3 = Known Source."]
[null,null,null,null,null,null,null,null,null,null,null,null,null,null,null,null,null,null,null,null,null,null,null,null,null,null,null,null,null,null,null,null,null,null,null,null,null,null,null,null,null,null,null,null,null,null,null,null,null,null,null,null,null,null,null,null,null,null,null,null,null,null,null,null,null,null,null,null,null,null,null,null,null,null,null,null,null,null,null,null,null,null,null,null,null,null,null,null,null,null,null,null,null,null,null,null,null,null,null,null,null,null,null,null,null,null,null,null,null,null,null,null,null,null,null,null,null,null,null,null,null,null,null,null,null,null,null,null,null,null,null,null,null,null,null,null,null,null,null,null,null,null,null,null,null,null,null,null,null,null,null,null,null,null,null,null,null,null,null,null,null,null,null,null,null,null,null,null,null,null,null,null,null,null,null,null,null,null,null,null,null,null,null,null,null,null,null,null,null,null,null,null,null,null,null,null,null,null,null,null,null,null,null,null,null,null,null,null,null,null,null,null,null,null,null,null,null,null,null,null,null,null,null,null,null,null,null,null,null,null,null,null,null,null,null,null,null,null,null,null,null,null,null,null,null,null,null,null,null,null,null,null,null,null,null,null,null,null,null,null,null,null,null,null,null,null,null,null,null,null,null,null,null,null,null,null,null,null,null,null,null,null,null,null,null,"This list is then processed below to remove duplicates."]
[null,null,null,null,null,null,null,null,null,null,null,null,null,"Designate Point & Non-Point Sources",null,null,null,null,null,null,null,null,null,null,null,null,null,null,null,null,null,null,null,null,null,null,null,null,null,"Designate Point & Non-Point Sources",null,null,null,null,null,null,null,null,null,null,null,null,null,null,null,null,null,null,null,null,null,null,null,null,null,"Designate Point & Non-Point Sources",null,null,null,null,null,null,null,null,null,null,null,null,null,null,null,null,null,null,null,null,null,null,null,null,null,"Designate Point & Non-Point Sources",null,null,null,null,null,null,null,null,null,null,null,null,null,null,null,null,null,null,null,null,null,null,null,null,null,"Designate Point & Non-Point Sources",null,null,null,null,null,null,null,null,null,null,null,null,null,null,null,null,null,null,null,null,null,null,null,null,null,"Designate Point & Non-Point Sources",null,null,null,null,null,null,null,null,null,null,null,null,null,null,null,null,null,null,null,null,null,null,null,null,null,"Designate Point & Non-Point Sources",null,null,null,null,null,null,null,null,null,null,null,null,null,null,null,null,null,null,null,null,null,null,null,null,null,"Designate Point & Non-Point Sources",null,null,null,null,null,null,null,null,null,null,null,null,null,null,null,null,null,null,null,null,null,null,null,null,null,"Designate Point & Non-Point Sources",null,null,null,null,null,null,null,null,null,null,null,null,null,null,null,null,null,null,null,null,null,null,null,null,null,"Designate Point & Non-Point Sources"]
[null,null,null,null,null,null,null,null,null,null,null,null,null,null,null,null,null,null,null,null,null,null,null,"Codes selected at left are distributed according to Source Type. "]
[null,{"$f":"\"River Basin: \"&RiverBasinName","v":"River Basin: Test River Basin"},null,null,null,null,{"$f":"\"Data Year:  \"&AssessmentYear","v":"Data Year:  2011"},null,null,null,null,null,null,null,null,null,null,null,null,null,null,null,null,"Numbers indicate confidence of assessment: 0 = N/A, 1 = Potential Source, 2 = Suspected Source, 3 = Known Source.",null,null,null,null,null,null,null,null,null,null,null,null,null,null,null,null,null,null,null,null,null,null,null,null,null,null,null,null,null,null,null,null,null,null,null,null,null,null,null,null,null,null,null,null,null,null,null,null,null,null,null,null,null,null,null,null,null,null,null,null,null,null,null,null,null,null,null,null,null,null,null,null,null,null,null,null,null,null,null,null,null,null,null,null,null,null,null,null,null,null,null,null,null,null,null,null,null,null,null,null,null,null,null,null,null,null,null,null,null,null,null,null,null,null,null,null,null,null,null,null,null,null,null,null,null,null,null,null,null,null,null,null,null,null,null,null,null,null,null,null,null,null,null,null,null,null,null,null,null,null,null,null,null,null,null,null,null,null,null,null,null,null,null,null,null,null,null,null,null,null,null,null,null,null,null,null,null,null,null,null,null,null,null,null,null,null,null,null,null,null,null,null,null,null,null,null,null,null,null,null,null,null,null,null,null,null,null,null,null,null,null,null,null,null,null,null,null,null,null,null,null,null,null,null,null,null,null,null,null,null,null,null,null,null,null,null,null,null,null,null,null,null,null,null,null,null,null,null,null,null,null,null,null,null,null,null,null,null,null,null,null,null,"Municp",null,null,"Industr",null,null,"St Water",null,null,"Res Ext",null,null,"Land Dis",null,null,"Seds",null,null,"Hydro",null,null,"Other",null,null,"Unknown"]
[null,{"$f":"\"Segment Name: \"&C60","v":"Segment Name: gggggg"},null,null,null,null,null,null,null,null,null,null,null,null,null,null,null,null,null,null,null,null,null,"These codes are processed by \"SourceRC_List macro and transferred to Source report card."]
[null,{"$f":"\"Class: \"&C64","v":"Class: "},null,{"$f":"\"Size: \"&C63","v":"Size: "},null,null,{"$f":"\"Seg ID #: \"&C62","v":"Seg ID #: "}]
[null,"CATEGORY","INDICATOR ASSESSMENT",null,"OVERALL STATUS","DATA LEVEL","POINT","NONPOINT",null,null,null,null,null,"Point Sources",null,null,null,null,null,null,null,null,null,"Municipal",null,null,"Industrial",null,null,"Storm Water",null,null,"Resource Ext",null,null,"Land Disposal",null,null,null,"Point Sources",null,null,null,null,null,null,null,null,null,"Municipal",null,null,"Industrial",null,null,"Storm Water",null,null,"Resource Ext",null,null,"Land Disposal",null,null,null,"Point Sources",null,null,null,null,null,null,null,null,null,"Municipal",null,null,"Industrial",null,null,"Storm Water",null,null,"Resource Ext",null,null,"Land Disposal",null,null,null,"Point Sources",null,null,null,null,null,null,null,null,null,"Municipal",null,null,"Industrial",null,null,"Storm Water",null,null,"Resource Ext",null,null,"Land Disposal",null,null,null,"Point Sources",null,null,null,null,null,null,null,null,null,"Municipal",null,null,"Industrial",null,null,"Storm Water",null,null,"Resource Ext",null,null,"Land Disposal",null,null,null,"Point Sources",null,null,null,null,null,null,null,null,null,"Municipal",null,null,"Industrial",null,null,"Storm Water",null,null,"Resource Ext",null,null,"Land Disposal",null,null,null,"Point Sources",null,null,null,null,null,null,null,null,null,"Municipal",null,null,"Industrial",null,null,"Storm Water",null,null,"Resource Ext",null,null,"Land Disposal",null,null,null,"Point Sources",null,null,null,null,null,null,null,null,null,"Municipal",null,null,"Industrial",null,null,"Storm Water",null,null,"Resource Ext",null,null,"Land Disposal",null,null,null,"Point Sources",null,null,null,null,null,null,null,null,null,"Municipal",null,null,"Industrial",null,null,"Storm Water",null,null,"Resource Ext",null,null,"Land Disposal",null,null,null,"Point Sources",null,null,null,null,null,null,null,null,null,"Municipal",null,null,"Industrial",null,null,"Storm Water",null,null,"Resource Ext",null,null,"Land Disposal"]
[null,null,null,null,null,null,"Click below to select Sources"]
[null,"Biology","Plank/Peri.   A","NA","NA","NA",{"$f":"$O$15&\"  \"&$O$16&\"  \"&$O$17&\"  \"&$O$18&\"  \"&$O$19&\"  \"&$O$20","v":"          "},{"$f":"$O$28&\"  \"&$O$29&\"  \"&$O$30&\"  \"&$O$31&\"  \"&$O$32&\"  \"&$O$33","v":"          "}]
[null,null,"Macrophyton   M","NA"]
[null,null,"Invertebrates   I","NA"]
[null,null,"Fish   F","NA"]
[null,null,"Wildlife   W","NA"]
[]
[null,"Chemistry","Dis. Oxygen    DO","NA","NA","NA",{"$f":"$AO$15&\"  \"&$AO$16&\"  \"&$AO$17&\"  \"&$AO$18&\"  \"&$AO$19&\"  \"&$AO$20","v":"          "},{"$f":"$AO$28&\"  \"&$AO$29&\"  \"&$AO$30&\"  \"&$AO$31&\"  \"&$AO$32&\"  \"&$AO$33","v":"          "}]
[null,null,"pH     pH","NA"]
[null,null,"Temperature    T","NA"]
[null,null,"Ionic Strength    Z","NA"]
[null,null,"Sus. Solids    SS","NA"]
[null,null,null,null,null,null,null,null,null,null,null,null,null,"Non Point Sources",null,null,null,null,null,null,null,null,null,"Seds",null,null,"Hydromodification",null,null,"Other",null,null,"Unknown",null,null,null,null,null,null,"Non Point Sources",null,null,null,null,null,null,null,null,null,"Seds",null,null,"Hydromodification",null,null,"Other",null,null,"Unknown",null,null,null,null,null,null,"Non Point Sources",null,null,null,null,null,null,null,null,null,"Seds",null,null,"Hydromodification",null,null,"Other",null,null,"Unknown",null,null,null,null,null,null,"Non Point Sources",null,null,null,null,null,null,null,null,null,"Seds",null,null,"Hydromodification",null,null,"Other",null,null,"Unknown",null,null,null,null,null,null,"Non Point Sources",null,null,null,null,null,null,null,null,null,"Seds",null,null,"Hydromodification",null,null,"Other",null,null,"Unknown",null,null,null,null,null,null,"Non Point Sources",null,null,null,null,null,null,null,null,null,"Seds",null,null,"Hydromodification",null,null,"Other",null,null,"Unknown",null,null,null,null,null,null,"Non Point Sources",null,null,null,null,null,null,null,null,null,"Seds",null,null,"Hydromodification",null,null,"Other",null,null,"Unknown",null,null,null,null,null,null,"Non Point Sources",null,null,null,null,null,null,null,null,null,"Seds",null,null,"Hydromodification",null,null,"Other",null,null,"Unknown",null,null,null,null,null,null,"Non Point Sources",null,null,null,null,null,null,null,null,null,"Seds",null,null,"Hydromodification",null,null,"Other",null,null,"Unknown",null,null,null,null,null,null,"Non Point Sources",null,null,null,null,null,null,null,null,null,"Seds",null,null,"Hydromodification",null,null,"Other",null,null,"Unknown"]
[null,"Nutrients","Phosphorus  P","NA","NA","NA",{"$f":"$BO$15&\"  \"&$BO$16&\"  \"&$BO$17&\"  \"&$BO$18&\"  \"&$BO$19&\"  \"&$BO$20","v":"          "},{"$f":"$BO$28&\"  \"&$BO$29&\"  \"&$BO$30&\"  \"&$BO$31&\"  \"&$BO$32&\"  \"&$BO$33","v":"          "}]
[null,null,"Nitrogen   N","NA"]
[]
[null,"Toxicity","Unknown   U","NA","NA","NA",{"$f":"$CO$15&\"  \"&$CO$16&\"  \"&$CO$17&\"  \"&$CO$18&\"  \"&$CO$19&\"  \"&$CO$20","v":"          "},{"$f":"$CO$28&\"  \"&$CO$29&\"  \"&$CO$30&\"  \"&$CO$31&\"  \"&$CO$32&\"  \"&$CO$33","v":"          "}]
[null,null,{"$f":"\"Spec. Chem.  \"&CN44","v":"Spec. Chem.  Ag"},"NA"]
[null,null,null,null,null,null,null,null,null,null,null,null,null,null,null,null,null,null,null,null,null,null,null,null,null,null,null,null,null,null,null,null,null,null,null,null,null,null,null,null,null,null,null,null,null,null,null,null,null,null,null,null,null,null,null,null,null,null,null,null,null,null,null,null,null,null,null,null,null,null,null,null,null,null,null,null,null,null,null,null,null,null,null,null,null,null,null,null,null,null,null,null,null,null,null,null,null,null,null,null,null,null,null,null,null,null,null,null,null,null,null,null,null,null,null,null,null,null,null,null,null,null,null,null,null,null,null,null,null,null,null,null,null,null,null,null,null,null,null,null,null,null,null,null,null,null,null,null,null,null,null,null,null,null,null,null,null,null,null,null,null,null,null,null,null,null,null,null,null,null,null,null,null,null,null,null,null,null,null,null,null,null,null,null,null,null,null,null,null,null,null,null,null,null,null,null,null,null,null,null,null,null,null,null,null,null,null,null,null,null,null,null,null,null,null,null,null,null,null,null,null,null,null,null,null,null,null,null,null,null,null,null,null,null,null,null,null,null,null,null,null,null,null,null,null,null,null,null,null,null,null,null,null,null,null,null,null,null,null,null,null,null,null,null,null,null,null,null,null,null,null,null,null,null,null,null,null,null,null,null,null,null,null,null,null,"The colored cells below reflect this segments pollution status and are replicated on the Sources report card automatically"]
[null,"Flow","Flow  Q","NA","NA","NA",{"$f":"$DO$15&\"  \"&$DO$16&\"  \"&$DO$17&\"  \"&$DO$18&\"  \"&$DO$19&\"  \"&$DO$20","v":"          "},{"$f":"$DO$28&\"  \"&$DO$29&\"  \"&$DO$30&\"  \"&$DO$31&\"  \"&$DO$32&\"  \"&$DO$33","v":"          "},null,null,null,null,null,null,null,null,null,null,null,null,null,null,null,null,null,null,null,null,null,null,null,null,null,null,null,null,null,null,null,null,null,null,null,null,null,null,null,null,null,null,null,null,null,null,null,null,null,null,null,null,null,null,null,null,null,null,null,null,null,null,null,null,null,null,null,null,null,null,null,null,null,null,null,null,null,null,null,null,null,null,null,null,null,null,null,null,null,null,null,null,null,null,null,null,null,null,null,null,null,null,null,null,null,null,null,null,null,null,null,null,null,null,null,null,null,null,null,null,null,null,null,null,null,null,null,null,null,null,null,null,null,null,null,null,null,null,null,null,null,null,null,null,null,null,null,null,null,null,null,null,null,null,null,null,null,null,null,null,null,null,null,null,null,null,null,null,null,null,null,null,null,null,null,null,null,null,null,null,null,null,null,null,null,null,null,null,null,null,null,null,null,null,null,null,null,null,null,null,null,null,null,null,null,null,null,null,null,null,null,null,null,null,null,null,null,null,null,null,null,null,null,null,null,null,null,null,null,null,null,null,null,null,null,null,null,null,null,null,null,null,null,null,null,null,null,null,null,null,null,null,null,null,null,null,null,null,null,null,null,null,null,null,null,null,null,null,null,null,null,null,null,null,null,null,null,null,{"$f":"KA11","v":"Municp"},null,null,{"$f":"KD11","v":"Industr"},null,null,{"$f":"KG11","v":"St Water"},null,null,{"$f":"KJ11","v":"Res Ext"},null,null,{"$f":"KM11","v":"Land Dis"},null,null,{"$f":"KP11","v":"Seds"},null,null,{"$f":"KS11","v":"Hydro"},null,null,{"$f":"KV11","v":"Other"},null,null,{"$f":"KY11","v":"Unknown"}]
[null,null,null,null,null,null,null,null,null,null,null,null,null,"* designates a Suspected Source",null,null,null,null,null,null,null,null,null,null,null,null,null,null,null,null,null,null,null,null,null,null,null,null,null,"* designates a Suspected Source",null,null,null,null,null,null,null,null,null,null,null,null,null,null,null,null,null,null,null,null,null,null,null,null,null,"* designates a Suspected Source",null,null,null,null,null,null,null,null,null,null,null,null,null,null,null,null,null,null,null,null,null,null,null,null,null,"* designates a Suspected Source",null,null,null,null,null,null,null,null,null,null,null,null,null,null,null,null,null,null,null,null,null,null,null,null,null,"* designates a Suspected Source",null,null,null,null,null,null,null,null,null,null,null,null,null,null,null,null,null,null,null,null,null,null,null,null,null,"* designates a Suspected Source",null,null,null,null,null,null,null,null,null,null,null,null,null,null,null,null,null,null,null,null,null,null,null,null,null,"* designates a Suspected Source",null,null,null,null,null,null,null,null,null,null,null,null,null,null,null,null,null,null,null,null,null,null,null,null,null,"* designates a Suspected Source",null,null,null,null,null,null,null,null,null,null,null,null,null,null,null,null,null,null,null,null,null,null,null,null,null,"* designates a Suspected Source",null,null,null,null,null,null,null,null,null,null,null,null,null,null,null,null,null,null,null,null,null,null,null,null,null,null,null,null,null,null,null,null,null,null,null,null,null,null,null,null,null,null,null,null,null,null,null,null,null,null,null,null,null,null,null,null,null,null,null,null,null,null,null,null,{"$f":"TRIM(KA41&\" \"&KA42&\" \"&KA43&\" \"&KA44&\" \"&KA45&\" \"&KA46)","v":""},null,null,{"$f":"TRIM(KD41&\" \"&KD42&\" \"&KD43&\" \"&KD44&\" \"&KD45&\" \"&KD46)","v":""},null,null,{"$f":"TRIM(KG41&\" \"&KG42&\" \"&KG43&\" \"&KG44&\" \"&KG45&\" \"&KG46)","v":""},null,null,{"$f":"TRIM(KJ41&\" \"&KJ42&\" \"&KJ43&\" \"&KJ44&\" \"&KJ45&\" \"&KJ46)","v":""},null,null,{"$f":"TRIM(KM41&\" \"&KM42&\" \"&KM43&\" \"&KM44&\" \"&KM45&\" \"&KM46)","v":""},null,null,{"$f":"TRIM(KP41&\" \"&KP42&\" \"&KP43&\" \"&KP44&\" \"&KP45&\" \"&KP46)","v":""},null,null,{"$f":"TRIM(KS41&\" \"&KS42&\" \"&KS43&\" \"&KS44&\" \"&KS45&\" \"&KS46)","v":""},null,null,{"$f":"TRIM(KV41&\" \"&KV42&\" \"&KV43&\" \"&KV44&\" \"&KV45&\" \"&KV46)","v":""},null,null,{"$f":"TRIM(KY41&\" \"&KY42&\" \"&KY43&\" \"&KY44&\" \"&KY45&\" \"&KY46)","v":""}]
[null,"Habitat","Substrate   S","NA","NA","NA",{"$f":"$EO$15&\"  \"&$EO$16&\"  \"&$EO$17&\"  \"&$EO$18&\"  \"&$EO$19&\"  \"&$EO$20","v":"          "},{"$f":"$EO$28&\"  \"&$EO$29&\"  \"&$EO$30&\"  \"&$EO$31&\"  \"&$EO$32&\"  \"&$EO$33","v":"          "},null,null,null,null,null,"** designates a Potential Source",null,null,null,null,null,null,null,null,null,null,null,null,null,null,null,null,null,null,null,null,null,null,null,null,null,"** designates a Potential Source",null,null,null,null,null,null,null,null,null,null,null,null,null,null,null,null,null,null,null,null,null,null,null,null,null,"** designates a Potential Source",null,null,null,null,null,null,null,null,null,null,null,null,null,null,null,null,null,null,null,null,null,null,null,null,null,"** designates a Potential Source",null,null,null,null,null,null,null,null,null,null,null,null,null,null,null,null,null,null,null,null,null,null,null,null,null,"** designates a Potential Source",null,null,null,null,null,null,null,null,null,null,null,null,null,null,null,null,null,null,null,null,null,null,null,null,null,"** designates a Potential Source",null,null,null,null,null,null,null,null,null,null,null,null,null,null,null,null,null,null,null,null,null,null,null,null,null,"** designates a Potential Source",null,null,null,null,null,null,null,null,null,null,null,null,null,null,null,null,null,null,null,null,null,null,null,null,null,"** designates a Potential Source",null,null,null,null,null,null,null,null,null,null,null,null,null,null,null,null,null,null,null,null,null,null,null,null,null,"** designates a Potential Source"]
[null,null,"Morphology   H","NA",null,null,null,null,null,null,null,null,null,"No asterisk designates a Known Source",null,null,null,null,null,null,null,null,null,null,null,null,null,null,null,null,null,null,null,null,null,null,null,null,null,"No asterisk designates a Known Source",null,null,null,null,null,null,null,null,null,null,null,null,null,null,null,null,null,null,null,null,null,null,null,null,null,"No asterisk designates a Known Source",null,null,null,null,null,null,null,null,null,null,null,null,null,null,null,null,null,null,null,null,null,null,null,null,null,"No asterisk designates a Known Source",null,null,null,null,null,null,null,null,null,null,null,null,null,null,null,null,null,null,null,null,null,null,null,null,null,"No asterisk designates a Known Source",null,null,null,null,null,null,null,null,null,null,null,null,null,null,null,null,null,null,null,null,null,null,null,null,null,"No asterisk designates a Known Source",null,null,null,null,null,null,null,null,null,null,null,null,null,null,null,null,null,null,null,null,null,null,null,null,null,"No asterisk designates a Known Source",null,null,null,null,null,null,null,null,null,null,null,null,null,null,null,null,null,null,null,null,null,null,null,null,null,"No asterisk designates a Known Source",null,null,null,null,null,null,null,null,null,null,null,null,null,null,null,null,null,null,null,null,null,null,null,null,null,"No asterisk designates a Known Source",null,null,null,null,null,null,null,null,null,null,null,null,null,null,null,null,null,null,null,null,null,null,null,null,null,null,null,null,null,null,null,null,null,null,null,null,null,null,null,null,null,null,null,null,null,null,null,null,null,null,null,null,null,null,null,null,null,null,null,null,null,null,null,"max confid #",{"$f":"MAX(KB11:KB31)","v":0},null,null,{"$f":"MAX(KE11:KE31)","v":0},null,null,{"$f":"MAX(KH11:KH31)","v":0},null,null,{"$f":"MAX(KK11:KK31)","v":0},null,null,{"$f":"MAX(KN11:KN31)","v":0},null,null,{"$f":"MAX(KQ11:KQ31)","v":0},null,null,{"$f":"MAX(KT11:KT31)","v":0},null,null,{"$f":"MAX(KW11:KW31)","v":0},null,null,{"$f":"MAX(KZ11:KZ31)","v":0}]
[null,null,"Riparian Zone   R","NA",null,null,null,null,null,null,null,null,null,"Square brackets designates an Out of Segment Source (i.e., pollutant is a source for downstream segments)",null,null,null,null,null,null,null,null,null,null,null,null,null,null,null,null,null,null,null,null,null,null,null,null,null,"Square brackets designates an Out of Segment Source (i.e., pollutant is a source for downstream segments)",null,null,null,null,null,null,null,null,null,null,null,null,null,null,null,null,null,null,null,null,null,null,null,null,null,"Square brackets designates an Out of Segment Source (i.e., pollutant is a source for downstream segments)",null,null,null,null,null,null,null,null,null,null,null,null,null,null,null,null,null,null,null,null,null,null,null,null,null,"Square brackets designates an Out of Segment Source (i.e., pollutant is a source for downstream segments)",null,null,null,null,null,null,null,null,null,null,null,null,null,null,null,null,null,null,null,null,null,null,null,null,null,"Square brackets designates an Out of Segment Source (i.e., pollutant is a source for downstream segments)",null,null,null,null,null,null,null,null,null,null,null,null,null,null,null,null,null,null,null,null,null,null,null,null,null,"Square brackets designates an Out of Segment Source (i.e., pollutant is a source for downstream segments)",null,null,null,null,null,null,null,null,null,null,null,null,null,null,null,null,null,null,null,null,null,null,null,null,null,"Square brackets designates an Out of Segment Source (i.e., pollutant is a source for downstream segments)",null,null,null,null,null,null,null,null,null,null,null,null,null,null,null,null,null,null,null,null,null,null,null,null,null,"Square brackets designates an Out of Segment Source (i.e., pollutant is a source for downstream segments)",null,null,null,null,null,null,null,null,null,null,null,null,null,null,null,null,null,null,null,null,null,null,null,null,null,"Square brackets designates an Out of Segment Source (i.e., pollutant is a source for downstream segments)",null,null,null,null,null,null,null,null,null,null,null,null,null,null,null,null,null,null,null,null,null,null,null,null,null,null,null,null,null,null,null,null,null,null,null,null,null,null,null,null,null,null,null,null,null,null,null,null,null,null,null,null,null,null,null,null,null,null,null,null,null,null,null,"The lists below show unique codes in lists assembled above. Numbers are max confidence #, used to color cells for worst case. The codes are catenated in the colored boxes above for transfer to Sources RC when that sheet is activated."]
[]
[null,"Bacteria","Bacteria   B","NA","NA","NA",{"$f":"$FO$15&\"  \"&$FO$16&\"  \"&$FO$17&\"  \"&$FO$18&\"  \"&$FO$19&\"  \"&$FO$20","v":"          "},{"$f":"$FO$28&\"  \"&$FO$29&\"  \"&$FO$30&\"  \"&$FO$31&\"  \"&$FO$32&\"  \"&$FO$33","v":"          "},null,null,null,null,null,null,null,null,null,null,null,null,null,null,null,null,null,null,null,null,null,null,null,null,null,null,null,null,null,null,null,null,null,null,null,null,null,null,null,null,null,null,null,null,null,null,null,null,null,null,null,null,null,null,null,null,null,null,null,null,null,null,null,null,null,null,null,null,null,null,null,null,null,null,null,null,null,null,null,null,null,null,null,null,null,null,null,null,null,null,null,null,null,null,null,null,null,null,null,null,null,null,null,null,null,null,null,null,null,null,null,null,null,null,null,null,null,null,null,null,null,null,null,null,null,null,null,null,null,null,null,null,null,null,null,null,null,null,null,null,null,null,null,null,null,null,null,null,null,null,null,null,null,null,null,null,null,null,null,null,null,null,null,null,null,null,null,null,null,null,null,null,null,null,null,null,null,null,null,null,null,null,null,null,null,null,null,null,null,null,null,null,null,null,null,null,null,null,null,null,null,null,null,null,null,null,null,null,null,null,null,null,null,null,null,null,null,null,null,null,null,null,null,null,null,null,null,null,null,null,null,null,null,null,null,null,null,null,null,null,null,null,null,null,null,null,null,null,null,null,null,null,null,null,null,null,null,null,null,null,null,null,null,null,null,null,null,null,null,null,null,null,null,null,null,null,null,null,"Municp",null,null,"Industr",null,null,"St Water",null,null,"Res Ext",null,null,"Land Dis",null,null,"Seds",null,null,"Hydro",null,null,"Other",null,null,"Unknown"]
[]
[null,"Aesthetics","Oil & Grease   G","NA","NA","NA",{"$f":"$GO$15&\"  \"&$GO$16&\"  \"&$GO$17&\"  \"&$GO$18&\"  \"&$GO$19&\"  \"&$GO$20","v":"          "},{"$f":"$GO$28&\"  \"&$GO$29&\"  \"&$GO$30&\"  \"&$GO$31&\"  \"&$GO$32&\"  \"&$GO$33","v":"          "},null,null,null,null,null,null,null,null,null,null,null,null,null,null,null,null,null,null,null,null,null,null,null,null,null,null,null,null,null,null,null,null,null,null,null,null,null,null,null,null,null,null,null,null,null,null,null,null,null,null,null,null,null,null,null,null,null,null,null,null,null,null,null,null,null,null,null,null,null,null,null,null,null,null,null,null,null,null,null,null,null,null,null,"Identify the suspected toxic chemical substance below (e.g., Hg, PCB, etc). ",null,null,null,null,null,null,null,null,null,null,null,null,null,null,null,null,null,null,null,null,null,null,null,null,null,null,null,null,null,null,null,null,null,null,null,null,null,null,null,null,null,null,null,null,null,null,null,null,null,null,null,null,null,null,null,null,null,null,null,null,null,null,null,null,null,null,null,null,null,null,null,null,null,null,null,null,null,null,null,null,null,null,null,null,null,null,null,null,null,null,null,null,null,null,null,null,null,null,null,null,null,null,null,null,null,null,null,null,null,null,null,null,null,null,null,null,null,null,null,null,null,null,null,null,null,null,null,null,null,null,null,null,null,null,null,null,null,null,null,null,null,null,null,null,null,null,null,null,null,null,null,null,null,null,null,"Identify the suspected toxic chemical substance below (e.g., Hg, PCB, etc). "]
[null,null,"Taste & Odor   O","NA",null,null,null,null,null,null,null,null,null,null,"Pollution  Indicators (Causes):  ",null,{"$f":"P46&\" \"&P47&\" \"&P48&\" \"&P49&\" \"&P50&\" \"&P51","v":"     "},null,null,null,null,null,null,null,null,null,null,null,null,null,null,null,null,null,null,null,null,null,null,null,"Pollution  Indicators (Causes):  ",null,{"$f":"AP46&\" \"&AP47&\" \"&AP48&\" \"&AP49&\" \"&AP50&\" \"&AP51","v":"     "},null,null,null,null,null,null,null,null,null,null,null,null,null,null,null,null,null,null,null,null,null,null,null,"Pollution  Indicators (Causes):  ",null,{"$f":"BP46&\" \"&BP47&\" \"&BP48","v":"  "},null,null,null,null,null,null,null,null,null,null,null,null,null,null,null,null,null,null,null,null,null,null,null,null,null,null,null,null,null,null,null,null,null,null,null,null,null,null,null,null,null,null,null,null,null,null,null,null,null,"Pollution  Indicators (Causes):  ",null,{"$f":"DP46&\" \"&DP47","v":" "},null,null,null,null,null,null,null,null,null,null,null,null,null,null,null,null,null,null,null,null,null,null,null,"Pollution  Indicators (Causes):  ",null,{"$f":"EP46&\" \"&EP47&\" \"&EP48&\" \"&EP49","v":"   "},null,null,null,null,null,null,null,null,null,null,null,null,null,null,null,null,null,null,null,null,null,null,null,"Pollution  Indicators (Causes):  ",null,{"$f":"FP46&\" \"&FP47","v":" "},null,null,null,null,null,null,null,null,null,null,null,null,null,null,null,null,null,null,null,null,null,null,null,"Pollution  Indicators (Causes):  ",null,{"$f":"GP46&\" \"&GP47&\" \"&GP48&\" \"&GP49&\" \"&GP50&\" \"&GP51","v":"     "},null,null,null,null,null,null,null,null,null,null,null,null,null,null,null,null,null,null,null,null,null,null,"Identify the suspected toxic chemical substance below (e.g., Hg, PCB, etc). "]
[null,null,"Turb/Color   C","NA",null,null,null,null,null,null,null,null,null,null,null,null,null,null,null,null,null,null,null,null,null,null,null,null,null,null,null,null,null,null,null,null,null,null,null,null,null,null,null,null,null,null,null,null,null,null,null,null,null,null,null,null,null,null,null,null,null,null,null,null,null,null,null,null,null,null,null,null,null,null,null,null,null,null,null,null,null,null,null,null,null,null,null,null,null,null,null,"Ag",null,null,null,null,null,null,null,null,null,null,null,null,null,null,null,null,null,null,null,null,null,null,null,null,null,null,null,null,null,null,null,null,null,null,null,null,null,null,null,null,null,null,null,null,null,null,null,null,null,null,null,null,null,null,null,null,null,null,null,null,null,null,null,null,null,null,null,null,null,null,null,null,null,null,null,null,null,null,null,null,null,null,null,null,null,null,null,null,null,null,null,null,null,null,null,null,null,null,null,null,null,null,null,null,null,null,null,null,null,null,null,null,null,null,null,null,null,null,null,null,null,null,null,null,null,null,null,null,null,null,null,null,null,null,null,null,null,null,null,null,null,null,null,null,null,null,null,null,null,null,null,null,null,null,null,"DDT"]
[null,null,"Nuisance Plants   V","NA",null,null,null,null,null,null,null,null,null,null,{"$f":"$B$16","v":"Biology"},null,null,null,null,null,null,null,null,null,null,null,null,null,null,null,null,null,null,null,null,null,null,null,null,null,{"$f":"$B$22","v":"Chemistry"},null,null,null,null,null,null,null,null,null,null,null,null,null,null,null,null,null,null,null,null,null,null,null,null,null,{"$f":"$B$28","v":"Nutrients"},null,null,null,null,null,null,null,null,null,null,null,null,null,null,null,null,null,null,null,null,null,null,null,null,null,null,null,null,null,null,null,null,null,null,null,null,null,null,null,null,null,null,null,null,null,null,null,null,null,null,null,{"$f":"$B$34","v":"Flow"},null,null,null,null,null,null,null,null,null,null,null,null,null,null,null,null,null,null,null,null,null,null,null,null,null,{"$f":"$B$36","v":"Habitat"},null,null,null,null,null,null,null,null,null,null,null,null,null,null,null,null,null,null,null,null,null,null,null,null,null,{"$f":"$B$40","v":"Bacteria"},null,null,null,null,null,null,null,null,null,null,null,null,null,null,null,null,null,null,null,null,null,null,null,null,null,{"$f":"$B$42","v":"Aesthetics"},null,null,null,null,null,null,null,null,null,null,null,null,null,null,null,null,null,null,null,null,null,null,null,null,"PCB"]
[null,null,"Trash /Debris   D","NA",null,null,null,null,null,null,null,null,null,null,{"$f":"$C$16","v":"Plank/Peri.   A"},{"$f":"IF($D$16=\"Concern\",\"(A)\",IF(OR($D$16=\"Fair\",$D$16=\"Poor\"),\"A\",\"\"))","v":""},null,null,null,null,null,null,null,null,null,null,null,null,null,null,null,null,null,null,null,null,null,null,null,null,{"$f":"$C$22","v":"Dis. Oxygen    DO"},{"$f":"IF($D$22=\"Concern\",\"(DO)\",IF(OR($D$22=\"Fair\",$D$22=\"Poor\"),\"DO\",\"\"))","v":""},null,null,null,null,null,null,null,null,null,null,null,null,null,null,null,null,null,null,null,null,null,null,null,null,{"$f":"$C$28","v":"Phosphorus  P"},{"$f":"IF($D$28=\"Concern\",\"(P)\",IF(OR($D$28=\"Fair\",$D$28=\"Poor\"),\"P\",\"\"))","v":""},null,null,null,null,null,null,null,null,null,null,null,null,null,null,null,null,null,null,null,null,null,null,null,null,null,null,null,null,null,null,null,null,null,null,null,null,null,null,null,null,null,null,null,null,null,null,null,null,null,null,{"$f":"$C$34","v":"Flow  Q"},{"$f":"IF($D$34=\"Concern\",\"(O)\",IF(OR($D$34=\"Fair\",$D$34=\"Poor\"),\"O\",\"\"))","v":""},null,null,null,null,null,null,null,null,null,null,null,null,null,null,null,null,null,null,null,null,null,null,null,null,{"$f":"$C$36","v":"Substrate   S"},{"$f":"IF($D$36=\"Concern\",\"(S)\",IF(OR($D$36=\"Fair\",$D$36=\"Poor\"),\"S\",\"\"))","v":""},null,null,null,null,null,null,null,null,null,null,null,null,null,null,null,null,null,null,null,null,null,null,null,null,{"$f":"$C$40","v":"Bacteria   B"},{"$f":"IF($D$40=\"Concern\",\"(B)\",IF(OR($D$40=\"Fair\",$D$40=\"Poor\"),\"B\",\"\"))","v":""},null,null,null,null,null,null,null,null,null,null,null,null,null,null,null,null,null,null,null,null,null,null,null,null,{"$f":"$C$42","v":"Oil & Grease   G"},{"$f":"IF($D$42=\"Concern\",\"(G)\",IF(OR($D$42=\"Fair\",$D$42=\"Poor\"),\"G\",\"\"))","v":""}]
[null,null,null,null,null,null,null,null,null,null,null,null,null,null,{"$f":"$C$17","v":"Macrophyton   M"},{"$f":"IF($D$17=\"Concern\",\"(M)\",IF(OR($D$17=\"Fair\",$D$17=\"Poor\"),\"M\",\"\"))","v":""},null,null,null,null,null,null,null,null,null,null,null,null,null,null,null,null,null,null,null,null,null,null,null,null,{"$f":"$C$23","v":"pH     pH"},{"$f":"IF($D$23=\"Concern\",\"(pH)\",IF(OR($D$23=\"Fair\",$D$23=\"Poor\"),\"pH\",\"\"))","v":""},null,null,null,null,null,null,null,null,null,null,null,null,null,null,null,null,null,null,null,null,null,null,null,null,{"$f":"$C$29","v":"Nitrogen   N"},{"$f":"IF($D$29=\"Concern\",\"(N)\",IF(OR($D$29=\"Fair\",$D$29=\"Poor\"),\"N\",\"\"))","v":""},null,null,null,null,null,null,null,null,null,null,null,null,null,null,null,null,null,null,null,null,null,null,null,null,null,null,null,null,null,null,null,null,null,null,null,null,null,null,null,null,null,null,null,null,null,null,null,null,null,null,{"$f":"IF($C$41=\"\",\"\",$C$41)","v":""},{"$f":"IF($D$35=\"Concern\",\"(**)\",IF(OR($D$35=\"Fair\",$D$35=\"Poor\"),\"**\",\"\"))","v":""},null,null,null,null,null,null,null,null,null,null,null,null,null,null,null,null,null,null,null,null,null,null,null,null,{"$f":"$C$37","v":"Morphology   H"},{"$f":"IF($D$37=\"Concern\",\"(H)\",IF(OR($D$37=\"Fair\",$D$37=\"Poor\"),\"H\",\"\"))","v":""},null,null,null,null,null,null,null,null,null,null,null,null,null,null,null,null,null,null,null,null,null,null,null,null,{"$f":"IF($C$41=\"\",\"\",$C$41)","v":""},{"$f":"IF($D$41=\"Concern\",\"(**)\",IF(OR($D$41=\"Fair\",$D$41=\"Poor\"),\"**\",\"\"))","v":""},null,null,null,null,null,null,null,null,null,null,null,null,null,null,null,null,null,null,null,null,null,null,null,null,{"$f":"$C$43","v":"Taste & Odor   O"},{"$f":"IF($D$43=\"Concern\",\"(O)\",IF(OR($D$43=\"Fair\",$D$43=\"Poor\"),\"O\",\"\"))","v":""}]
[null,"Tissue",{"$f":"\"Spec. Chem.   \"&HN45","v":"Spec. Chem.   PCB"},"NA","NA","NA",{"$f":"$HO$15&\"  \"&$HO$16&\"  \"&$HO$17&\"  \"&$HO$18&\"  \"&$HO$19&\"  \"&$HO$20","v":"          "},{"$f":"$HO$28&\"  \"&$HO$29&\"  \"&$HO$30&\"  \"&$HO$31&\"  \"&$HO$32&\"  \"&$HO$33","v":"          "},null,null,null,null,null,null,{"$f":"$C$18","v":"Invertebrates   I"},{"$f":"IF($D$18=\"Concern\",\"(I)\",IF(OR($D$18=\"Fair\",$D$18=\"Poor\"),\"I\",\"\"))","v":""},null,null,null,null,null,null,null,null,null,null,null,null,null,null,null,null,null,null,null,null,null,null,null,null,{"$f":"$C$24","v":"Temperature    T"},{"$f":"IF($D$24=\"Concern\",\"(T)\",IF(OR($D$24=\"Fair\",$D$24=\"Poor\"),\"T\",\"\"))","v":""},null,null,null,null,null,null,null,null,null,null,null,null,null,null,null,null,null,null,null,null,null,null,null,null,{"$f":"IF($C$30=\"\",\"\",$C$30)","v":""},{"$f":"IF($D$30=\"Concern\",\"(**)\",IF(OR($D$30=\"Fair\",$D$30=\"Poor\"),\"**\",\"\"))","v":""},null,null,null,null,null,null,null,null,null,null,null,null,null,null,null,null,null,null,null,null,null,null,null,null,null,null,null,null,null,null,null,null,null,null,null,null,null,null,null,null,null,null,null,null,null,null,null,null,null,null,null,null,null,null,null,null,null,null,null,null,null,null,null,null,null,null,null,null,null,null,null,null,null,null,null,null,{"$f":"$C$38","v":"Riparian Zone   R"},{"$f":"IF($D$38=\"Concern\",\"(R)\",IF(OR($D$38=\"Fair\",$D$38=\"Poor\"),\"R\",\"\"))","v":""},null,null,null,null,null,null,null,null,null,null,null,null,null,null,null,null,null,null,null,null,null,null,null,null,null,null,null,null,null,null,null,null,null,null,null,null,null,null,null,null,null,null,null,null,null,null,null,null,null,null,{"$f":"$C$44","v":"Turb/Color   C"},{"$f":"IF($D$44=\"Concern\",\"(C)\",IF(OR($D$44=\"Fair\",$D$44=\"Poor\"),\"C\",\"\"))","v":""}]
[null,null,null,null,null,null,null,null,null,null,null,null,null,null,{"$f":"$C$19","v":"Fish   F"},{"$f":"IF($D$19=\"Concern\",\"(F)\",IF(OR($D$19=\"Fair\",$D$19=\"Poor\"),\"F\",\"\"))","v":""},null,null,null,null,null,null,null,null,null,null,null,null,null,null,null,null,null,null,null,null,null,null,null,null,{"$f":"$C$25","v":"Ionic Strength    Z"},{"$f":"IF($D$25=\"Concern\",\"(Z)\",IF(OR($D$25=\"Fair\",$D$25=\"Poor\"),\"Z\",\"\"))","v":""},null,null,null,null,null,null,null,null,null,null,null,null,null,null,null,null,null,null,null,null,null,null,null,null,null,null,null,null,null,null,null,null,null,null,null,null,null,null,null,null,null,null,null,null,null,null,null,null,null,null,"Pollution  Indicators (Causes):  ",null,{"$f":"CP52&\" \"&CP53&\" \"&CP54","v":"  "},null,null,null,null,null,null,null,null,null,null,null,null,null,null,null,null,null,null,null,null,null,null,null,null,null,null,null,null,null,null,null,null,null,null,null,null,null,null,null,null,null,null,null,null,null,null,null,null,null,{"$f":"IF($C$39=\"\",\"\",$C$39)","v":""},{"$f":"IF($D$39=\"Concern\",\"(**)\",IF(OR($D$39=\"Fair\",$D$39=\"Poor\"),\"**\",\"\"))","v":""},null,null,null,null,null,null,null,null,null,null,null,null,null,null,null,null,null,null,null,null,null,null,null,null,null,null,null,null,null,null,null,null,null,null,null,null,null,null,null,null,null,null,null,null,null,null,null,null,null,null,{"$f":"$C$45","v":"Nuisance Plants   V"},{"$f":"IF($D$45=\"Concern\",\"(V)\",IF(OR($D$45=\"Fair\",$D$45=\"Poor\"),\"V\",\"\"))","v":""},null,null,null,null,null,null,null,null,null,null,null,null,null,null,null,null,null,null,null,null,null,null,null,null,null,null,null,null,null,null,null,null,null,null,null,null,null,null,null,null,null,null,null,null,null,null,null,null,null,null,"Pollution  Indicators (Causes):  ",null,{"$f":"IP52&\" \"&IP53&\" \"&IP54","v":"  "}]
[null,"Sediment","Unknown   U","NA","NA","NA",{"$f":"$IO$15&\"  \"&$IO$16&\"  \"&$IO$17&\"  \"&$IO$18&\"  \"&$IO$19&\"  \"&$IO$20","v":"          "},{"$f":"$IO$28&\"  \"&$IO$29&\"  \"&$IO$30&\"  \"&$IO$31&\"  \"&$IO$32&\"  \"&$IO$33","v":"          "},null,null,null,null,null,null,{"$f":"$C$20","v":"Wildlife   W"},{"$f":"IF($D$20=\"Concern\",\"(W)\",IF(OR($D$20=\"Fair\",$D$20=\"Poor\"),\"W\",\"\"))","v":""},null,null,null,null,null,null,null,null,null,null,null,null,null,null,null,null,null,null,null,null,null,null,null,null,{"$f":"$C$26","v":"Sus. Solids    SS"},{"$f":"IF($D$26=\"Concern\",\"(SS)\",IF(OR($D$26=\"Fair\",$D$26=\"Poor\"),\"SS\",\"\"))","v":""},null,null,null,null,null,null,null,null,null,null,null,null,null,null,null,null,null,null,null,null,null,null,null,null,null,null,null,null,null,null,null,null,null,null,null,null,null,null,null,null,null,null,null,null,null,null,null,null,null,null,null,null,null,null,null,null,null,null,null,null,null,null,null,null,null,null,null,null,null,null,null,null,null,null,null,null,null,null,null,null,null,null,null,null,null,null,null,null,null,null,null,null,null,null,null,null,null,null,null,null,null,null,null,null,null,null,null,null,null,null,null,null,null,null,null,null,null,null,null,null,null,null,null,null,null,null,null,null,null,null,null,null,null,null,null,null,null,null,null,null,null,null,null,null,null,null,null,null,null,null,null,null,null,null,{"$f":"$C$46","v":"Trash /Debris   D"},{"$f":"IF($D$46=\"Concern\",\"(D)\",IF(OR($D$46=\"Fair\",$D$46=\"Poor\"),\"D\",\"\"))","v":""},null,null,null,null,null,null,null,null,null,null,null,null,null,null,null,null,null,null,null,null,null,null,null,null,"Pollution  Indicators (Causes):  ",null,{"$f":"HP53&\" \"&HP54","v":" "}]
[null,null,{"$f":"\"Spec. Chem.   \"&IN44","v":"Spec. Chem.   DDT"},"NA",null,null,null,null,null,null,null,null,null,null,{"$f":"IF($C$21=\"\",\"\",$C$21)","v":""},{"$f":"IF($D$21=\"Concern\",\"(**)\",IF(OR($D$21=\"Fair\",$D$21=\"Poor\"),\"**\",\"\"))","v":""},null,null,null,null,null,null,null,null,null,null,null,null,null,null,null,null,null,null,null,null,null,null,null,null,{"$f":"IF($C$27=\"\",\"\",$C$27)","v":""},{"$f":"IF($D$27=\"Concern\",\"(**)\",IF(OR($D$27=\"Fair\",$D$27=\"Poor\"),\"**\",\"\"))","v":""},null,null,null,null,null,null,null,null,null,null,null,null,null,null,null,null,null,null,null,null,null,null,null,null,null,null,null,null,null,null,null,null,null,null,null,null,null,null,null,null,null,null,null,null,null,null,null,null,null,null,{"$f":"$B$31","v":"Toxicity"},null,null,null,null,null,null,null,null,null,null,null,null,null,null,null,null,null,null,null,null,null,null,null,null,null,null,null,null,null,null,null,null,null,null,null,null,null,null,null,null,null,null,null,null,null,null,null,null,null,null,null,null,null,null,null,null,null,null,null,null,null,null,null,null,null,null,null,null,null,null,null,null,null,null,null,null,null,null,null,null,null,null,null,null,null,null,null,null,null,null,null,null,null,null,null,null,null,null,null,null,null,null,null,{"$f":"IF($C$47=\"\",\"\",$C$47)","v":""},{"$f":"IF($D$47=\"Concern\",\"(**)\",IF(OR($D$47=\"Fair\",$D$47=\"Poor\"),\"**\",\"\"))","v":""},null,null,null,null,null,null,null,null,null,null,null,null,null,null,null,null,null,null,null,null,null,null,null,null,null,null,null,null,null,null,null,null,null,null,null,null,null,null,null,null,null,null,null,null,null,null,null,null,null,null,{"$f":"$B$50","v":"Sediment"}]
[null,null,null,null,null,null,null,null,null,null,null,null,null,null,null,null,null,null,null,null,null,null,null,null,null,null,null,null,null,null,null,null,null,null,null,null,null,null,null,null,null,null,null,null,null,null,null,null,null,null,null,null,null,null,null,null,null,null,null,null,null,null,null,null,null,null,null,null,null,null,null,null,null,null,null,null,null,null,null,null,null,null,null,null,null,null,null,null,null,null,null,null,{"$f":"$C$31","v":"Unknown   U"},{"$f":"IF($D$31=\"Concern\",\"(U)\",IF(OR($D$31=\"Fair\",$D$31=\"Poor\"),\"U\",\"\"))","v":""},null,null,null,null,null,null,null,null,null,null,null,null,null,null,null,null,null,null,null,null,null,null,null,null,null,null,null,null,null,null,null,null,null,null,null,null,null,null,null,null,null,null,null,null,null,null,null,null,null,null,null,null,null,null,null,null,null,null,null,null,null,null,null,null,null,null,null,null,null,null,null,null,null,null,null,null,null,null,null,null,null,null,null,null,null,null,null,null,null,null,null,null,null,null,null,null,null,null,null,null,null,null,null,null,null,null,null,null,null,null,null,null,null,null,null,null,null,null,null,null,null,null,null,null,null,null,null,null,{"$f":"$B$48","v":"Tissue"},null,null,null,null,null,null,null,null,null,null,null,null,null,null,null,null,null,null,null,null,null,null,null,null,null,{"$f":"$C$50","v":"Unknown   U"},{"$f":"IF($D$50=\"Concern\",\"(U)\",IF(OR($D$50=\"Fair\",$D$50=\"Poor\"),\"U\",\"\"))","v":""}]
[null,"Comments:",null,null,null,null,null,"*  Suspected Source  ",null,null,null,null,null,null,null,null,null,null,null,null,null,null,null,null,null,null,null,null,null,null,null,null,null,null,null,null,null,null,null,null,null,null,null,null,null,null,null,null,null,null,null,null,null,null,null,null,null,null,null,null,null,null,null,null,null,null,null,null,null,null,null,null,null,null,null,null,null,null,null,null,null,null,null,null,null,null,null,null,null,null,null,null,{"$f":"$C$32","v":"Spec. Chem.  Ag"},{"$f":"IF($D$32=\"Concern\",\"(\"&CN44&\")\",IF(OR($D$32=\"Fair\",$D$32=\"Poor\"),CN44,\"\"))","v":""},null,null,null,null,null,null,null,null,null,null,null,null,null,null,null,null,null,null,null,null,null,null,null,null,null,null,null,null,null,null,null,null,null,null,null,null,null,null,null,null,null,null,null,null,null,null,null,null,null,null,null,null,null,null,null,null,null,null,null,null,null,null,null,null,null,null,null,null,null,null,null,null,null,null,null,null,null,null,null,null,null,null,null,null,null,null,null,null,null,null,null,null,null,null,null,null,null,null,null,null,null,null,null,null,null,null,null,null,null,null,null,null,null,null,null,null,null,null,null,null,null,null,null,null,null,null,null,null,{"$f":"$C$48","v":"Spec. Chem.   PCB"},{"$f":"IF($D$48=\"Concern\",\"(\"&HN45&\")\",IF(OR($D$48=\"Fair\",$D$32=\"Poor\"),HN45,\"\"))","v":""},null,null,null,null,null,null,null,null,null,null,null,null,null,null,null,null,null,null,null,null,null,null,null,null,{"$f":"$C$51","v":"Spec. Chem.   DDT"},{"$f":"IF($D$51=\"Concern\",\"(\"&IN44&\")\",IF(OR($D$51=\"Fair\",$D$51=\"Poor\"),IN44,\"\"))","v":""}]
[null,null,null,null,null,null,null,"** Potential Source  ",null,null,null,null,null,null,null,null,null,null,null,null,null,null,null,null,null,null,null,null,null,null,null,null,null,null,null,null,null,null,null,null,null,null,null,null,null,null,null,null,null,null,null,null,null,null,null,null,null,null,null,null,null,null,null,null,null,null,null,null,null,null,null,null,null,null,null,null,null,null,null,null,null,null,null,null,null,null,null,null,null,null,null,null,{"$f":"IF($C$33=\"\",\"\",$C$33)","v":""},{"$f":"IF($D$33=\"Concern\",\"(**)\",IF(OR($D$33=\"Fair\",$D$33=\"Poor\"),\"**\",\"\"))","v":""},null,null,null,null,null,null,null,null,null,null,null,null,null,null,null,null,null,null,null,null,null,null,null,null,null,null,null,null,null,null,null,null,null,null,null,null,null,null,null,null,null,null,null,null,null,null,null,null,null,null,null,null,null,null,null,null,null,null,null,null,null,null,null,null,null,null,null,null,null,null,null,null,null,null,null,null,null,null,null,null,null,null,null,null,null,null,null,null,null,null,null,null,null,null,null,null,null,null,null,null,null,null,null,null,null,null,null,null,null,null,null,null,null,null,null,null,null,null,null,null,null,null,null,null,null,null,null,null,{"$f":"IF($C$49=\"\",\"\",$C$49)","v":""},{"$f":"IF($D$49=\"Concern\",\"(**)\",IF(OR($D$49=\"Fair\",$D$49=\"Poor\"),\"**\",\"\"))","v":""},null,null,null,null,null,null,null,null,null,null,null,null,null,null,null,null,null,null,null,null,null,null,null,null,{"$f":"IF($C$52=\"\",\"\",$C$52)","v":""},{"$f":"IF($D$52=\"Concern\",\"(**)\",IF(OR($D$52=\"Fair\",$D$52=\"Poor\"),\"**\",\"\"))","v":""}]
[null,null,null,null,null,null,null,"No asterisk: Known Source  "]
[null,null,null,null,null,null,null,"[Out of Segment Source ]  "]
[]
[]
[]
[null,"SegNameLong:  ","gggggg"]
[null,"Seg Name:  ","ggg"]
[null,"Seg Num:  "]
[null,"Seg Size:  "]
[null,"Seg Class:  "]
[]
[]
[]
[]
[]
[]
[]
[]
[]
[]
[]
[]
[null,null,null,{"$f":"A99","v":""}]
[null,null,null,{"$f":"B99","v":""}]
[null,null,null,{"$f":"C99","v":""}]
[null,null,null,{"$f":"D99","v":""}]
[null,null,null,{"$f":"E99","v":""}]
[null,null,null,{"$f":"F99","v":""}]
[null,null,null,{"$f":"G99","v":""}]
[null,null,null,{"$f":"H99","v":""}]
[null,null,null,{"$f":"I99","v":""}]
[]
[]
[]
[]
[]
[]
[]
[]
[]
[]
[]
[]
[]
[{"$f":"TRIM(A101&\" \"&A102&\" \"&A103&\" \"&A104&\" \"&A105&\" \"&A106)","v":""},{"$f":"TRIM(B101&\" \"&B102&\" \"&B103&\" \"&B104&\" \"&B105&\" \"&B106)","v":""},"","","","","","",""]

{"sheet":"Seg8","index":12,"n_rows":99,"n_cols":311,"rows_kept":99,"cut":false,"hidden":false,"merged":[[15,1,20,1],[15,4,20,4],[15,5,20,5],[15,6,20,6],[15,7,20,7],[13,1,14,1],[13,2,14,3],[13,4,14,4],[13,5,14,5],[14,6,14,7],[27,1,29,1],[27,4,29,4],[27,5,29,5],[27,6,29,6],[27,7,29,7],[21,1,26,1],[21,4,26,4],[21,5,26,5],[21,6,26,6],[21,7,26,7],[49,6,51,6],[49,7,51,7],[30,1,32,1],[30,4,32,4],[30,5,32,5],[30,6,32,6],[30,7,32,7],[33,1,34,1],[33,4,34,4],[33,5,34,5],[33,6,34,6],[33,7,34,7],[43,91,45,94],[35,1,38,1],[35,4,38,4],[35,5,38,5],[35,6,38,6],[35,7,38,7],[39,1,40,1],[39,4,40,4],[39,5,40,5],[39,6,40,6],[39,7,40,7],[52,1,55,1],[43,247,45,250],[44,221,46,224],[47,1,48,1],[47,4,48,4],[47,5,48,5],[47,6,48,6],[47,7,48,7],[41,1,46,1],[41,4,46,4],[41,5,46,5],[41,6,46,6],[41,7,46,7],[49,1,51,1],[49,4,51,4],[49,5,51,5]]}
[]
[]
[]
[]
[null,null,null,null,null,null,null,null,null,null,null,null,null,null,null,null,null,null,null,null,null,null,null,null,null,null,null,null,null,null,null,null,null,null,null,null,null,null,null,null,null,null,null,null,null,null,null,null,null,null,null,null,null,null,null,null,null,null,null,null,null,null,null,null,null,null,null,null,null,null,null,null,null,null,null,null,null,null,null,null,null,null,null,null,null,null,null,null,null,null,null,null,null,null,null,null,null,null,null,null,null,null,null,null,null,null,null,null,null,null,null,null,null,null,null,null,null,null,null,null,null,null,null,null,null,null,null,null,null,null,null,null,null,null,null,null,null,null,null,null,null,null,null,null,null,null,null,null,null,null,null,null,null,null,null,null,null,null,null,null,null,null,null,null,null,null,null,null,null,null,null,null,null,null,null,null,null,null,null,null,null,null,null,null,null,null,null,null,null,null,null,null,null,null,null,null,null,null,null,null,null,null,null,null,null,null,null,null,null,null,null,null,null,null,null,null,null,null,null,null,null,null,null,null,null,null,null,null,null,null,null,null,null,null,null,null,null,null,null,null,null,null,null,null,null,null,null,null,null,null,null,null,null,null,null,null,null,null,null,null,null,null,null,null,null,null,null,null,null,null,null,null,null,null,null,null,null,null,null,null,null,null,null,null,null,"List of all codes from all groups for this segment, organized by Source Type. "]
[null,null,null,null,null,null,null,null,null,null,null,null,null,null,null,null,null,null,null,null,null,null,null,null,null,null,null,null,null,null,null,null,null,null,null,null,null,null,null,null,null,null,null,null,null,null,null,null,null,null,null,null,null,null,null,null,null,null,null,null,null,null,null,null,null,null,null,null,null,null,null,null,null,null,null,null,null,null,null,null,null,null,null,null,null,null,null,null,null,null,null,null,null,null,null,null,null,null,null,null,null,null,null,null,null,null,null,null,null,null,null,null,null,null,null,null,null,null,null,null,null,null,null,null,null,null,null,null,null,null,null,null,null,null,null,null,null,null,null,null,null,null,null,null,null,null,null,null,null,null,null,null,null,null,null,null,null,null,null,null,null,null,null,null,null,null,null,null,null,null,null,null,null,null,null,null,null,null,null,null,null,null,null,null,null,null,null,null,null,null,null,null,null,null,null,null,null,null,null,null,null,null,null,null,null,null,null,null,null,null,null,null,null,null,null,null,null,null,null,null,null,null,null,null,null,null,null,null,null,null,null,null,null,null,null,null,null,null,null,null,null,null,null,null,null,null,null,null,null,null,null,null,null,null,null,null,null,null,null,null,null,null,null,null,null,null,null,null,null,null,null,null,null,null,null,null,null,null,null,null,null,null,null,null,null,"List is updated only when \"SourceRC_List\" macro is run. Macro is run manually by touching button at right or when Source report card is activated."]
[null,null,null,null,null,null,null,null,null,null,null,null,null,null,null,null,null,null,null,null,null,null,null,null,null,null,null,null,null,null,null,null,null,null,null,null,null,null,null,null,null,null,null,null,null,null,null,null,null,null,null,null,null,null,null,null,null,null,null,null,null,null,null,null,null,null,null,null,null,null,null,null,null,null,null,null,null,null,null,null,null,null,null,null,null,null,null,null,null,null,null,null,null,null,null,null,null,null,null,null,null,null,null,null,null,null,null,null,null,null,null,null,null,null,null,null,null,null,null,null,null,null,null,null,null,null,null,null,null,null,null,null,null,null,null,null,null,null,null,null,null,null,null,null,null,null,null,null,null,null,null,null,null,null,null,null,null,null,null,null,null,null,null,null,null,null,null,null,null,null,null,null,null,null,null,null,null,null,null,null,null,null,null,null,null,null,null,null,null,null,null,null,null,null,null,null,null,null,null,null,null,null,null,null,null,null,null,null,null,null,null,null,null,null,null,null,null,null,null,null,null,null,null,null,null,null,null,null,null,null,null,null,null,null,null,null,null,null,null,null,null,null,null,null,null,null,null,null,null,null,null,null,null,null,null,null,null,null,null,null,null,null,null,null,null,null,null,null,null,null,null,null,null,null,null,null,null,null,null,null,null,null,null,null,null,"Numbers indicate knowledge about the certainty of assessment: 0 = N/A, 1 = Potential Source, 2 = Suspected Source, 3 = Known Source."]
[null,null,null,null,null,null,null,null,null,null,null,null,null,null,null,null,null,null,null,null,null,null,null,null,null,null,null,null,null,null,null,null,null,null,null,null,null,null,null,null,null,null,null,null,null,null,null,null,null,null,null,null,null,null,null,null,null,null,null,null,null,null,null,null,null,null,null,null,null,null,null,null,null,null,null,null,null,null,null,null,null,null,null,null,null,null,null,null,null,null,null,null,null,null,null,null,null,null,null,null,null,null,null,null,null,null,null,null,null,null,null,null,null,null,null,null,null,null,null,null,null,null,null,null,null,null,null,null,null,null,null,null,null,null,null,null,null,null,null,null,null,null,null,null,null,null,null,null,null,null,null,null,null,null,null,null,null,null,null,null,null,null,null,null,null,null,null,null,null,null,null,null,null,null,null,null,null,null,null,null,null,null,null,null,null,null,null,null,null,null,null,null,null,null,null,null,null,null,null,null,null,null,null,null,null,null,null,null,null,null,null,null,null,null,null,null,null,null,null,null,null,null,null,null,null,null,null,null,null,null,null,null,null,null,null,null,null,null,null,null,null,null,null,null,null,null,null,null,null,null,null,null,null,null,null,null,null,null,null,null,null,null,null,null,null,null,null,null,null,null,null,null,null,null,null,null,null,null,null,null,null,null,null,null,null,"This list is then processed below to remove duplicates."]
[null,null,null,null,null,null,null,null,null,null,null,null,null,"Designate Point & Non-Point Sources",null,null,null,null,null,null,null,null,null,null,null,null,null,null,null,null,null,null,null,null,null,null,null,null,null,"Designate Point & Non-Point Sources",null,null,null,null,null,null,null,null,null,null,null,null,null,null,null,null,null,null,null,null,null,null,null,null,null,"Designate Point & Non-Point Sources",null,null,null,null,null,null,null,null,null,null,null,null,null,null,null,null,null,null,null,null,null,null,null,null,null,"Designate Point & Non-Point Sources",null,null,null,null,null,null,null,null,null,null,null,null,null,null,null,null,null,null,null,null,null,null,null,null,null,"Designate Point & Non-Point Sources",null,null,null,null,null,null,null,null,null,null,null,null,null,null,null,null,null,null,null,null,null,null,null,null,null,"Designate Point & Non-Point Sources",null,null,null,null,null,null,null,null,null,null,null,null,null,null,null,null,null,null,null,null,null,null,null,null,null,"Designate Point & Non-Point Sources",null,null,null,null,null,null,null,null,null,null,null,null,null,null,null,null,null,null,null,null,null,null,null,null,null,"Designate Point & Non-Point Sources",null,null,null,null,null,null,null,null,null,null,null,null,null,null,null,null,null,null,null,null,null,null,null,null,null,"Designate Point & Non-Point Sources",null,null,null,null,null,null,null,null,null,null,null,null,null,null,null,null,null,null,null,null,null,null,null,null,null,"Designate Point & Non-Point Sources"]
[null,null,null,null,null,null,null,null,null,null,null,null,null,null,null,null,null,null,null,null,null,null,null,"Codes selected at left are distributed according to Source Type. "]
[null,{"$f":"\"River Basin: \"&RiverBasinName","v":"River Basin: Test River Basin"},null,null,null,null,{"$f":"\"Data Year:  \"&AssessmentYear","v":"Data Year:  2011"},null,null,null,null,null,null,null,null,null,null,null,null,null,null,null,null,"Numbers indicate confidence of assessment: 0 = N/A, 1 = Potential Source, 2 = Suspected Source, 3 = Known Source.",null,null,null,null,null,null,null,null,null,null,null,null,null,null,null,null,null,null,null,null,null,null,null,null,null,null,null,null,null,null,null,null,null,null,null,null,null,null,null,null,null,null,null,null,null,null,null,null,null,null,null,null,null,null,null,null,null,null,null,null,null,null,null,null,null,null,null,null,null,null,null,null,null,null,null,null,null,null,null,null,null,null,null,null,null,null,null,null,null,null,null,null,null,null,null,null,null,null,null,null,null,null,null,null,null,null,null,null,null,null,null,null,null,null,null,null,null,null,null,null,null,null,null,null,null,null,null,null,null,null,null,null,null,null,null,null,null,null,null,null,null,null,null,null,null,null,null,null,null,null,null,null,null,null,null,null,null,null,null,null,null,null,null,null,null,null,null,null,null,null,null,null,null,null,null,null,null,null,null,null,null,null,null,null,null,null,null,null,null,null,null,null,null,null,null,null,null,null,null,null,null,null,null,null,null,null,null,null,null,null,null,null,null,null,null,null,null,null,null,null,null,null,null,null,null,null,null,null,null,null,null,null,null,null,null,null,null,null,null,null,null,null,null,null,null,null,null,null,null,null,null,null,null,null,null,null,null,null,null,null,null,null,"Municp",null,null,"Industr",null,null,"St Water",null,null,"Res Ext",null,null,"Land Dis",null,null,"Seds",null,null,"Hydro",null,null,"Other",null,null,"Unknown"]
[null,{"$f":"\"Segment Name: \"&C60","v":"Segment Name: hhhhhh"},null,null,null,null,null,null,null,null,null,null,null,null,null,null,null,null,null,null,null,null,null,"These codes are processed by \"SourceRC_List macro and transferred to Source report card."]
[null,{"$f":"\"Class: \"&C64","v":"Class: "},null,{"$f":"\"Size: \"&C63","v":"Size: "},null,null,{"$f":"\"Seg ID #: \"&C62","v":"Seg ID #: "}]
[null,"CATEGORY","INDICATOR ASSESSMENT",null,"OVERALL STATUS","DATA LEVEL","POINT","NONPOINT",null,null,null,null,null,"Point Sources",null,null,null,null,null,null,null,null,null,"Municipal",null,null,"Industrial",null,null,"Storm Water",null,null,"Resource Ext",null,null,"Land Disposal",null,null,null,"Point Sources",null,null,null,null,null,null,null,null,null,"Municipal",null,null,"Industrial",null,null,"Storm Water",null,null,"Resource Ext",null,null,"Land Disposal",null,null,null,"Point Sources",null,null,null,null,null,null,null,null,null,"Municipal",null,null,"Industrial",null,null,"Storm Water",null,null,"Resource Ext",null,null,"Land Disposal",null,null,null,"Point Sources",null,null,null,null,null,null,null,null,null,"Municipal",null,null,"Industrial",null,null,"Storm Water",null,null,"Resource Ext",null,null,"Land Disposal",null,null,null,"Point Sources",null,null,null,null,null,null,null,null,null,"Municipal",null,null,"Industrial",null,null,"Storm Water",null,null,"Resource Ext",null,null,"Land Disposal",null,null,null,"Point Sources",null,null,null,null,null,null,null,null,null,"Municipal",null,null,"Industrial",null,null,"Storm Water",null,null,"Resource Ext",null,null,"Land Disposal",null,null,null,"Point Sources",null,null,null,null,null,null,null,null,null,"Municipal",null,null,"Industrial",null,null,"Storm Water",null,null,"Resource Ext",null,null,"Land Disposal",null,null,null,"Point Sources",null,null,null,null,null,null,null,null,null,"Municipal",null,null,"Industrial",null,null,"Storm Water",null,null,"Resource Ext",null,null,"Land Disposal",null,null,null,"Point Sources",null,null,null,null,null,null,null,null,null,"Municipal",null,null,"Industrial",null,null,"Storm Water",null,null,"Resource Ext",null,null,"Land Disposal",null,null,null,"Point Sources",null,null,null,null,null,null,null,null,null,"Municipal",null,null,"Industrial",null,null,"Storm Water",null,null,"Resource Ext",null,null,"Land Disposal"]
[null,null,null,null,null,null,"Click below to select Sources"]
[null,"Biology","Plank/Peri.   A","NA","NA","NA",{"$f":"$O$15&\"  \"&$O$16&\"  \"&$O$17&\"  \"&$O$18&\"  \"&$O$19&\"  \"&$O$20","v":"          "},{"$f":"$O$28&\"  \"&$O$29&\"  \"&$O$30&\"  \"&$O$31&\"  \"&$O$32&\"  \"&$O$33","v":"          "}]
[null,null,"Macrophyton   M","NA"]
[null,null,"Invertebrates   I","NA"]
[null,null,"Fish   F","NA"]
[null,null,"Wildlife   W","NA"]
[]
[null,"Chemistry","Dis. Oxygen    DO","NA","NA","NA",{"$f":"$AO$15&\"  \"&$AO$16&\"  \"&$AO$17&\"  \"&$AO$18&\"  \"&$AO$19&\"  \"&$AO$20","v":"          "},{"$f":"$AO$28&\"  \"&$AO$29&\"  \"&$AO$30&\"  \"&$AO$31&\"  \"&$AO$32&\"  \"&$AO$33","v":"          "}]
[null,null,"pH     pH","NA"]
[null,null,"Temperature    T","NA"]
[null,null,"Ionic Strength    Z","NA"]
[null,null,"Sus. Solids    SS","NA"]
[null,null,null,null,null,null,null,null,null,null,null,null,null,"Non Point Sources",null,null,null,null,null,null,null,null,null,"Seds",null,null,"Hydromodification",null,null,"Other",null,null,"Unknown",null,null,null,null,null,null,"Non Point Sources",null,null,null,null,null,null,null,null,null,"Seds",null,null,"Hydromodification",null,null,"Other",null,null,"Unknown",null,null,null,null,null,null,"Non Point Sources",null,null,null,null,null,null,null,null,null,"Seds",null,null,"Hydromodification",null,null,"Other",null,null,"Unknown",null,null,null,null,null,null,"Non Point Sources",null,null,null,null,null,null,null,null,null,"Seds",null,null,"Hydromodification",null,null,"Other",null,null,"Unknown",null,null,null,null,null,null,"Non Point Sources",null,null,null,null,null,null,null,null,null,"Seds",null,null,"Hydromodification",null,null,"Other",null,null,"Unknown",null,null,null,null,null,null,"Non Point Sources",null,null,null,null,null,null,null,null,null,"Seds",null,null,"Hydromodification",null,null,"Other",null,null,"Unknown",null,null,null,null,null,null,"Non Point Sources",null,null,null,null,null,null,null,null,null,"Seds",null,null,"Hydromodification",null,null,"Other",null,null,"Unknown",null,null,null,null,null,null,"Non Point Sources",null,null,null,null,null,null,null,null,null,"Seds",null,null,"Hydromodification",null,null,"Other",null,null,"Unknown",null,null,null,null,null,null,"Non Point Sources",null,null,null,null,null,null,null,null,null,"Seds",null,null,"Hydromodification",null,null,"Other",null,null,"Unknown",null,null,null,null,null,null,"Non Point Sources",null,null,null,null,null,null,null,null,null,"Seds",null,null,"Hydromodification",null,null,"Other",null,null,"Unknown"]
[null,"Nutrients","Phosphorus  P","NA","NA","NA",{"$f":"$BO$15&\"  \"&$BO$16&\"  \"&$BO$17&\"  \"&$BO$18&\"  \"&$BO$19&\"  \"&$BO$20","v":"          "},{"$f":"$BO$28&\"  \"&$BO$29&\"  \"&$BO$30&\"  \"&$BO$31&\"  \"&$BO$32&\"  \"&$BO$33","v":"          "}]
[null,null,"Nitrogen   N","NA"]
[]
[null,"Toxicity","Unknown   U","NA","NA","NA",{"$f":"$CO$15&\"  \"&$CO$16&\"  \"&$CO$17&\"  \"&$CO$18&\"  \"&$CO$19&\"  \"&$CO$20","v":"          "},{"$f":"$CO$28&\"  \"&$CO$29&\"  \"&$CO$30&\"  \"&$CO$31&\"  \"&$CO$32&\"  \"&$CO$33","v":"          "}]
[null,null,{"$f":"\"Spec. Chem.  \"&CN44","v":"Spec. Chem.  Ag"},"NA"]
[null,null,null,null,null,null,null,null,null,null,null,null,null,null,null,null,null,null,null,null,null,null,null,null,null,null,null,null,null,null,null,null,null,null,null,null,null,null,null,null,null,null,null,null,null,null,null,null,null,null,null,null,null,null,null,null,null,null,null,null,null,null,null,null,null,null,null,null,null,null,null,null,null,null,null,null,null,null,null,null,null,null,null,null,null,null,null,null,null,null,null,null,null,null,null,null,null,null,null,null,null,null,null,null,null,null,null,null,null,null,null,null,null,null,null,null,null,null,null,null,null,null,null,null,null,null,null,null,null,null,null,null,null,null,null,null,null,null,null,null,null,null,null,null,null,null,null,null,null,null,null,null,null,null,null,null,null,null,null,null,null,null,null,null,null,null,null,null,null,null,null,null,null,null,null,null,null,null,null,null,null,null,null,null,null,null,null,null,null,null,null,null,null,null,null,null,null,null,null,null,null,null,null,null,null,null,null,null,null,null,null,null,null,null,null,null,null,null,null,null,null,null,null,null,null,null,null,null,null,null,null,null,null,null,null,null,null,null,null,null,null,null,null,null,null,null,null,null,null,null,null,null,null,null,null,null,null,null,null,null,null,null,null,null,null,null,null,null,null,null,null,null,null,null,null,null,null,null,null,null,null,null,null,null,null,"The colored cells below reflect this segments pollution status and are replicated on the Sources report card automatically"]
[null,"Flow","Flow  Q","NA","NA","NA",{"$f":"$DO$15&\"  \"&$DO$16&\"  \"&$DO$17&\"  \"&$DO$18&\"  \"&$DO$19&\"  \"&$DO$20","v":"          "},{"$f":"$DO$28&\"  \"&$DO$29&\"  \"&$DO$30&\"  \"&$DO$31&\"  \"&$DO$32&\"  \"&$DO$33","v":"          "},null,null,null,null,null,null,null,null,null,null,null,null,null,null,null,null,null,null,null,null,null,null,null,null,null,null,null,null,null,null,null,null,null,null,null,null,null,null,null,null,null,null,null,null,null,null,null,null,null,null,null,null,null,null,null,null,null,null,null,null,null,null,null,null,null,null,null,null,null,null,null,null,null,null,null,null,null,null,null,null,null,null,null,null,null,null,null,null,null,null,null,null,null,null,null,null,null,null,null,null,null,null,null,null,null,null,null,null,null,null,null,null,null,null,null,null,null,null,null,null,null,null,null,null,null,null,null,null,null,null,null,null,null,null,null,null,null,null,null,null,null,null,null,null,null,null,null,null,null,null,null,null,null,null,null,null,null,null,null,null,null,null,null,null,null,null,null,null,null,null,null,null,null,null,null,null,null,null,null,null,null,null,null,null,null,null,null,null,null,null,null,null,null,null,null,null,null,null,null,null,null,null,null,null,null,null,null,null,null,null,null,null,null,null,null,null,null,null,null,null,null,null,null,null,null,null,null,null,null,null,null,null,null,null,null,null,null,null,null,null,null,null,null,null,null,null,null,null,null,null,null,null,null,null,null,null,null,null,null,null,null,null,null,null,null,null,null,null,null,null,null,null,null,null,null,null,null,null,{"$f":"KA11","v":"Municp"},null,null,{"$f":"KD11","v":"Industr"},null,null,{"$f":"KG11","v":"St Water"},null,null,{"$f":"KJ11","v":"Res Ext"},null,null,{"$f":"KM11","v":"Land Dis"},null,null,{"$f":"KP11","v":"Seds"},null,null,{"$f":"KS11","v":"Hydro"},null,null,{"$f":"KV11","v":"Other"},null,null,{"$f":"KY11","v":"Unknown"}]
[null,null,null,null,null,null,null,null,null,null,null,null,null,"* designates a Suspected Source",null,null,null,null,null,null,null,null,null,null,null,null,null,null,null,null,null,null,null,null,null,null,null,null,null,"* designates a Suspected Source",null,null,null,null,null,null,null,null,null,null,null,null,null,null,null,null,null,null,null,null,null,null,null,null,null,"* designates a Suspected Source",null,null,null,null,null,null,null,null,null,null,null,null,null,null,null,null,null,null,null,null,null,null,null,null,null,"* designates a Suspected Source",null,null,null,null,null,null,null,null,null,null,null,null,null,null,null,null,null,null,null,null,null,null,null,null,null,"* designates a Suspected Source",null,null,null,null,null,null,null,null,null,null,null,null,null,null,null,null,null,null,null,null,null,null,null,null,null,"* designates a Suspected Source",null,null,null,null,null,null,null,null,null,null,null,null,null,null,null,null,null,null,null,null,null,null,null,null,null,"* designates a Suspected Source",null,null,null,null,null,null,null,null,null,null,null,null,null,null,null,null,null,null,null,null,null,null,null,null,null,"* designates a Suspected Source",null,null,null,null,null,null,null,null,null,null,null,null,null,null,null,null,null,null,null,null,null,null,null,null,null,"* designates a Suspected Source",null,null,null,null,null,null,null,null,null,null,null,null,null,null,null,null,null,null,null,null,null,null,null,null,null,null,null,null,null,null,null,null,null,null,null,null,null,null,null,null,null,null,null,null,null,null,null,null,null,null,null,null,null,null,null,null,null,null,null,null,null,null,null,null,{"$f":"TRIM(KA41&\" \"&KA42&\" \"&KA43&\" \"&KA44&\" \"&KA45&\" \"&KA46)","v":""},null,null,{"$f":"TRIM(KD41&\" \"&KD42&\" \"&KD43&\" \"&KD44&\" \"&KD45&\" \"&KD46)","v":""},null,null,{"$f":"TRIM(KG41&\" \"&KG42&\" \"&KG43&\" \"&KG44&\" \"&KG45&\" \"&KG46)","v":""},null,null,{"$f":"TRIM(KJ41&\" \"&KJ42&\" \"&KJ43&\" \"&KJ44&\" \"&KJ45&\" \"&KJ46)","v":""},null,null,{"$f":"TRIM(KM41&\" \"&KM42&\" \"&KM43&\" \"&KM44&\" \"&KM45&\" \"&KM46)","v":""},null,null,{"$f":"TRIM(KP41&\" \"&KP42&\" \"&KP43&\" \"&KP44&\" \"&KP45&\" \"&KP46)","v":""},null,null,{"$f":"TRIM(KS41&\" \"&KS42&\" \"&KS43&\" \"&KS44&\" \"&KS45&\" \"&KS46)","v":""},null,null,{"$f":"TRIM(KV41&\" \"&KV42&\" \"&KV43&\" \"&KV44&\" \"&KV45&\" \"&KV46)","v":""},null,null,{"$f":"TRIM(KY41&\" \"&KY42&\" \"&KY43&\" \"&KY44&\" \"&KY45&\" \"&KY46)","v":""}]
[null,"Habitat","Substrate   S","NA","NA","NA",{"$f":"$EO$15&\"  \"&$EO$16&\"  \"&$EO$17&\"  \"&$EO$18&\"  \"&$EO$19&\"  \"&$EO$20","v":"          "},{"$f":"$EO$28&\"  \"&$EO$29&\"  \"&$EO$30&\"  \"&$EO$31&\"  \"&$EO$32&\"  \"&$EO$33","v":"          "},null,null,null,null,null,"** designates a Potential Source",null,null,null,null,null,null,null,null,null,null,null,null,null,null,null,null,null,null,null,null,null,null,null,null,null,"** designates a Potential Source",null,null,null,null,null,null,null,null,null,null,null,null,null,null,null,null,null,null,null,null,null,null,null,null,null,"** designates a Potential Source",null,null,null,null,null,null,null,null,null,null,null,null,null,null,null,null,null,null,null,null,null,null,null,null,null,"** designates a Potential Source",null,null,null,null,null,null,null,null,null,null,null,null,null,null,null,null,null,null,null,null,null,null,null,null,null,"** designates a Potential Source",null,null,null,null,null,null,null,null,null,null,null,null,null,null,null,null,null,null,null,null,null,null,null,null,null,"** designates a Potential Source",null,null,null,null,null,null,null,null,null,null,null,null,null,null,null,null,null,null,null,null,null,null,null,null,null,"** designates a Potential Source",null,null,null,null,null,null,null,null,null,null,null,null,null,null,null,null,null,null,null,null,null,null,null,null,null,"** designates a Potential Source",null,null,null,null,null,null,null,null,null,null,null,null,null,null,null,null,null,null,null,null,null,null,null,null,null,"** designates a Potential Source"]
[null,null,"Morphology   H","NA",null,null,null,null,null,null,null,null,null,"No asterisk designates a Known Source",null,null,null,null,null,null,null,null,null,null,null,null,null,null,null,null,null,null,null,null,null,null,null,null,null,"No asterisk designates a Known Source",null,null,null,null,null,null,null,null,null,null,null,null,null,null,null,null,null,null,null,null,null,null,null,null,null,"No asterisk designates a Known Source",null,null,null,null,null,null,null,null,null,null,null,null,null,null,null,null,null,null,null,null,null,null,null,null,null,"No asterisk designates a Known Source",null,null,null,null,null,null,null,null,null,null,null,null,null,null,null,null,null,null,null,null,null,null,null,null,null,"No asterisk designates a Known Source",null,null,null,null,null,null,null,null,null,null,null,null,null,null,null,null,null,null,null,null,null,null,null,null,null,"No asterisk designates a Known Source",null,null,null,null,null,null,null,null,null,null,null,null,null,null,null,null,null,null,null,null,null,null,null,null,null,"No asterisk designates a Known Source",null,null,null,null,null,null,null,null,null,null,null,null,null,null,null,null,null,null,null,null,null,null,null,null,null,"No asterisk designates a Known Source",null,null,null,null,null,null,null,null,null,null,null,null,null,null,null,null,null,null,null,null,null,null,null,null,null,"No asterisk designates a Known Source",null,null,null,null,null,null,null,null,null,null,null,null,null,null,null,null,null,null,null,null,null,null,null,null,null,null,null,null,null,null,null,null,null,null,null,null,null,null,null,null,null,null,null,null,null,null,null,null,null,null,null,null,null,null,null,null,null,null,null,null,null,null,null,"max confid #",{"$f":"MAX(KB11:KB31)","v":0},null,null,{"$f":"MAX(KE11:KE31)","v":0},null,null,{"$f":"MAX(KH11:KH31)","v":0},null,null,{"$f":"MAX(KK11:KK31)","v":0},null,null,{"$f":"MAX(KN11:KN31)","v":0},null,null,{"$f":"MAX(KQ11:KQ31)","v":0},null,null,{"$f":"MAX(KT11:KT31)","v":0},null,null,{"$f":"MAX(KW11:KW31)","v":0},null,null,{"$f":"MAX(KZ11:KZ31)","v":0}]
[null,null,"Riparian Zone   R","NA",null,null,null,null,null,null,null,null,null,"Square brackets designates an Out of Segment Source (i.e., pollutant is a source for downstream segments)",null,null,null,null,null,null,null,null,null,null,null,null,null,null,null,null,null,null,null,null,null,null,null,null,null,"Square brackets designates an Out of Segment Source (i.e., pollutant is a source for downstream segments)",null,null,null,null,null,null,null,null,null,null,null,null,null,null,null,null,null,null,null,null,null,null,null,null,null,"Square brackets designates an Out of Segment Source (i.e., pollutant is a source for downstream segments)",null,null,null,null,null,null,null,null,null,null,null,null,null,null,null,null,null,null,null,null,null,null,null,null,null,"Square brackets designates an Out of Segment Source (i.e., pollutant is a source for downstream segments)",null,null,null,null,null,null,null,null,null,null,null,null,null,null,null,null,null,null,null,null,null,null,null,null,null,"Square brackets designates an Out of Segment Source (i.e., pollutant is a source for downstream segments)",null,null,null,null,null,null,null,null,null,null,null,null,null,null,null,null,null,null,null,null,null,null,null,null,null,"Square brackets designates an Out of Segment Source (i.e., pollutant is a source for downstream segments)",null,null,null,null,null,null,null,null,null,null,null,null,null,null,null,null,null,null,null,null,null,null,null,null,null,"Square brackets designates an Out of Segment Source (i.e., pollutant is a source for downstream segments)",null,null,null,null,null,null,null,null,null,null,null,null,null,null,null,null,null,null,null,null,null,null,null,null,null,"Square brackets designates an Out of Segment Source (i.e., pollutant is a source for downstream segments)",null,null,null,null,null,null,null,null,null,null,null,null,null,null,null,null,null,null,null,null,null,null,null,null,null,"Square brackets designates an Out of Segment Source (i.e., pollutant is a source for downstream segments)",null,null,null,null,null,null,null,null,null,null,null,null,null,null,null,null,null,null,null,null,null,null,null,null,null,null,null,null,null,null,null,null,null,null,null,null,null,null,null,null,null,null,null,null,null,null,null,null,null,null,null,null,null,null,null,null,null,null,null,null,null,null,null,"The lists below show unique codes in lists assembled above. Numbers are max confidence #, used to color cells for worst case. The codes are catenated in the colored boxes above for transfer to Sources RC when that sheet is activated."]
[]
[null,"Bacteria","Bacteria   B","NA","NA","NA",{"$f":"$FO$15&\"  \"&$FO$16&\"  \"&$FO$17&\"  \"&$FO$18&\"  \"&$FO$19&\"  \"&$FO$20","v":"          "},{"$f":"$FO$28&\"  \"&$FO$29&\"  \"&$FO$30&\"  \"&$FO$31&\"  \"&$FO$32&\"  \"&$FO$33","v":"          "},null,null,null,null,null,null,null,null,null,null,null,null,null,null,null,null,null,null,null,null,null,null,null,null,null,null,null,null,null,null,null,null,null,null,null,null,null,null,null,null,null,null,null,null,null,null,null,null,null,null,null,null,null,null,null,null,null,null,null,null,null,null,null,null,null,null,null,null,null,null,null,null,null,null,null,null,null,null,null,null,null,null,null,null,null,null,null,null,null,null,null,null,null,null,null,null,null,null,null,null,null,null,null,null,null,null,null,null,null,null,null,null,null,null,null,null,null,null,null,null,null,null,null,null,null,null,null,null,null,null,null,null,null,null,null,null,null,null,null,null,null,null,null,null,null,null,null,null,null,null,null,null,null,null,null,null,null,null,null,null,null,null,null,null,null,null,null,null,null,null,null,null,null,null,null,null,null,null,null,null,null,null,null,null,null,null,null,null,null,null,null,null,null,null,null,null,null,null,null,null,null,null,null,null,null,null,null,null,null,null,null,null,null,null,null,null,null,null,null,null,null,null,null,null,null,null,null,null,null,null,null,null,null,null,null,null,null,null,null,null,null,null,null,null,null,null,null,null,null,null,null,null,null,null,null,null,null,null,null,null,null,null,null,null,null,null,null,null,null,null,null,null,null,null,null,null,null,null,"Municp",null,null,"Industr",null,null,"St Water",null,null,"Res Ext",null,null,"Land Dis",null,null,"Seds",null,null,"Hydro",null,null,"Other",null,null,"Unknown"]
[]
[null,"Aesthetics","Oil & Grease   G","NA","NA","NA",{"$f":"$GO$15&\"  \"&$GO$16&\"  \"&$GO$17&\"  \"&$GO$18&\"  \"&$GO$19&\"  \"&$GO$20","v":"          "},{"$f":"$GO$28&\"  \"&$GO$29&\"  \"&$GO$30&\"  \"&$GO$31&\"  \"&$GO$32&\"  \"&$GO$33","v":"          "},null,null,null,null,null,null,null,null,null,null,null,null,null,null,null,null,null,null,null,null,null,null,null,null,null,null,null,null,null,null,null,null,null,null,null,null,null,null,null,null,null,null,null,null,null,null,null,null,null,null,null,null,null,null,null,null,null,null,null,null,null,null,null,null,null,null,null,null,null,null,null,null,null,null,null,null,null,null,null,null,null,null,null,"Identify the suspected toxic chemical substance below (e.g., Hg, PCB, etc). ",null,null,null,null,null,null,null,null,null,null,null,null,null,null,null,null,null,null,null,null,null,null,null,null,null,null,null,null,null,null,null,null,null,null,null,null,null,null,null,null,null,null,null,null,null,null,null,null,null,null,null,null,null,null,null,null,null,null,null,null,null,null,null,null,null,null,null,null,null,null,null,null,null,null,null,null,null,null,null,null,null,null,null,null,null,null,null,null,null,null,null,null,null,null,null,null,null,null,null,null,null,null,null,null,null,null,null,null,null,null,null,null,null,null,null,null,null,null,null,null,null,null,null,null,null,null,null,null,null,null,null,null,null,null,null,null,null,null,null,null,null,null,null,null,null,null,null,null,null,null,null,null,null,null,null,"Identify the suspected toxic chemical substance below (e.g., Hg, PCB, etc). "]
[null,null,"Taste & Odor   O","NA",null,null,null,null,null,null,null,null,null,null,"Pollution  Indicators (Causes):  ",null,{"$f":"P46&\" \"&P47&\" \"&P48&\" \"&P49&\" \"&P50&\" \"&P51","v":"     "},null,null,null,null,null,null,null,null,null,null,null,null,null,null,null,null,null,null,null,null,null,null,null,"Pollution  Indicators (Causes):  ",null,{"$f":"AP46&\" \"&AP47&\" \"&AP48&\" \"&AP49&\" \"&AP50&\" \"&AP51","v":"     "},null,null,null,null,null,null,null,null,null,null,null,null,null,null,null,null,null,null,null,null,null,null,null,"Pollution  Indicators (Causes):  ",null,{"$f":"BP46&\" \"&BP47&\" \"&BP48","v":"  "},null,null,null,null,null,null,null,null,null,null,null,null,null,null,null,null,null,null,null,null,null,null,null,null,null,null,null,null,null,null,null,null,null,null,null,null,null,null,null,null,null,null,null,null,null,null,null,null,null,"Pollution  Indicators (Causes):  ",null,{"$f":"DP46&\" \"&DP47","v":" "},null,null,null,null,null,null,null,null,null,null,null,null,null,null,null,null,null,null,null,null,null,null,null,"Pollution  Indicators (Causes):  ",null,{"$f":"EP46&\" \"&EP47&\" \"&EP48&\" \"&EP49","v":"   "},null,null,null,null,null,null,null,null,null,null,null,null,null,null,null,null,null,null,null,null,null,null,null,"Pollution  Indicators (Causes):  ",null,{"$f":"FP46&\" \"&FP47","v":" "},null,null,null,null,null,null,null,null,null,null,null,null,null,null,null,null,null,null,null,null,null,null,null,"Pollution  Indicators (Causes):  ",null,{"$f":"GP46&\" \"&GP47&\" \"&GP48&\" \"&GP49&\" \"&GP50&\" \"&GP51","v":"     "},null,null,null,null,null,null,null,null,null,null,null,null,null,null,null,null,null,null,null,null,null,null,"Identify the suspected toxic chemical substance below (e.g., Hg, PCB, etc). "]
[null,null,"Turb/Color   C","NA",null,null,null,null,null,null,null,null,null,null,null,null,null,null,null,null,null,null,null,null,null,null,null,null,null,null,null,null,null,null,null,null,null,null,null,null,null,null,null,null,null,null,null,null,null,null,null,null,null,null,null,null,null,null,null,null,null,null,null,null,null,null,null,null,null,null,null,null,null,null,null,null,null,null,null,null,null,null,null,null,null,null,null,null,null,null,null,"Ag",null,null,null,null,null,null,null,null,null,null,null,null,null,null,null,null,null,null,null,null,null,null,null,null,null,null,null,null,null,null,null,null,null,null,null,null,null,null,null,null,null,null,null,null,null,null,null,null,null,null,null,null,null,null,null,null,null,null,null,null,null,null,null,null,null,null,null,null,null,null,null,null,null,null,null,null,null,null,null,null,null,null,null,null,null,null,null,null,null,null,null,null,null,null,null,null,null,null,null,null,null,null,null,null,null,null,null,null,null,null,null,null,null,null,null,null,null,null,null,null,null,null,null,null,null,null,null,null,null,null,null,null,null,null,null,null,null,null,null,null,null,null,null,null,null,null,null,null,null,null,null,null,null,null,null,"DDT"]
[null,null,"Nuisance Plants   V","NA",null,null,null,null,null,null,null,null,null,null,{"$f":"$B$16","v":"Biology"},null,null,null,null,null,null,null,null,null,null,null,null,null,null,null,null,null,null,null,null,null,null,null,null,null,{"$f":"$B$22","v":"Chemistry"},null,null,null,null,null,null,null,null,null,null,null,null,null,null,null,null,null,null,null,null,null,null,null,null,null,{"$f":"$B$28","v":"Nutrients"},null,null,null,null,null,null,null,null,null,null,null,null,null,null,null,null,null,null,null,null,null,null,null,null,null,null,null,null,null,null,null,null,null,null,null,null,null,null,null,null,null,null,null,null,null,null,null,null,null,null,null,{"$f":"$B$34","v":"Flow"},null,null,null,null,null,null,null,null,null,null,null,null,null,null,null,null,null,null,null,null,null,null,null,null,null,{"$f":"$B$36","v":"Habitat"},null,null,null,null,null,null,null,null,null,null,null,null,null,null,null,null,null,null,null,null,null,null,null,null,null,{"$f":"$B$40","v":"Bacteria"},null,null,null,null,null,null,null,null,null,null,null,null,null,null,null,null,null,null,null,null,null,null,null,null,null,{"$f":"$B$42","v":"Aesthetics"},null,null,null,null,null,null,null,null,null,null,null,null,null,null,null,null,null,null,null,null,null,null,null,null,"PCB"]
[null,null,"Trash /Debris   D","NA",null,null,null,null,null,null,null,null,null,null,{"$f":"$C$16","v":"Plank/Peri.   A"},{"$f":"IF($D$16=\"Concern\",\"(A)\",IF(OR($D$16=\"Fair\",$D$16=\"Poor\"),\"A\",\"\"))","v":""},null,null,null,null,null,null,null,null,null,null,null,null,null,null,null,null,null,null,null,null,null,null,null,null,{"$f":"$C$22","v":"Dis. Oxygen    DO"},{"$f":"IF($D$22=\"Concern\",\"(DO)\",IF(OR($D$22=\"Fair\",$D$22=\"Poor\"),\"DO\",\"\"))","v":""},null,null,null,null,null,null,null,null,null,null,null,null,null,null,null,null,null,null,null,null,null,null,null,null,{"$f":"$C$28","v":"Phosphorus  P"},{"$f":"IF($D$28=\"Concern\",\"(P)\",IF(OR($D$28=\"Fair\",$D$28=\"Poor\"),\"P\",\"\"))","v":""},null,null,null,null,null,null,null,null,null,null,null,null,null,null,null,null,null,null,null,null,null,null,null,null,null,null,null,null,null,null,null,null,null,null,null,null,null,null,null,null,null,null,null,null,null,null,null,null,null,null,{"$f":"$C$34","v":"Flow  Q"},{"$f":"IF($D$34=\"Concern\",\"(O)\",IF(OR($D$34=\"Fair\",$D$34=\"Poor\"),\"O\",\"\"))","v":""},null,null,null,null,null,null,null,null,null,null,null,null,null,null,null,null,null,null,null,null,null,null,null,null,{"$f":"$C$36","v":"Substrate   S"},{"$f":"IF($D$36=\"Concern\",\"(S)\",IF(OR($D$36=\"Fair\",$D$36=\"Poor\"),\"S\",\"\"))","v":""},null,null,null,null,null,null,null,null,null,null,null,null,null,null,null,null,null,null,null,null,null,null,null,null,{"$f":"$C$40","v":"Bacteria   B"},{"$f":"IF($D$40=\"Concern\",\"(B)\",IF(OR($D$40=\"Fair\",$D$40=\"Poor\"),\"B\",\"\"))","v":""},null,null,null,null,null,null,null,null,null,null,null,null,null,null,null,null,null,null,null,null,null,null,null,null,{"$f":"$C$42","v":"Oil & Grease   G"},{"$f":"IF($D$42=\"Concern\",\"(G)\",IF(OR($D$42=\"Fair\",$D$42=\"Poor\"),\"G\",\"\"))","v":""}]
[null,null,null,null,null,null,null,null,null,null,null,null,null,null,{"$f":"$C$17","v":"Macrophyton   M"},{"$f":"IF($D$17=\"Concern\",\"(M)\",IF(OR($D$17=\"Fair\",$D$17=\"Poor\"),\"M\",\"\"))","v":""},null,null,null,null,null,null,null,null,null,null,null,null,null,null,null,null,null,null,null,null,null,null,null,null,{"$f":"$C$23","v":"pH     pH"},{"$f":"IF($D$23=\"Concern\",\"(pH)\",IF(OR($D$23=\"Fair\",$D$23=\"Poor\"),\"pH\",\"\"))","v":""},null,null,null,null,null,null,null,null,null,null,null,null,null,null,null,null,null,null,null,null,null,null,null,null,{"$f":"$C$29","v":"Nitrogen   N"},{"$f":"IF($D$29=\"Concern\",\"(N)\",IF(OR($D$29=\"Fair\",$D$29=\"Poor\"),\"N\",\"\"))","v":""},null,null,null,null,null,null,null,null,null,null,null,null,null,null,null,null,null,null,null,null,null,null,null,null,null,null,null,null,null,null,null,null,null,null,null,null,null,null,null,null,null,null,null,null,null,null,null,null,null,null,{"$f":"IF($C$41=\"\",\"\",$C$41)","v":""},{"$f":"IF($D$35=\"Concern\",\"(**)\",IF(OR($D$35=\"Fair\",$D$35=\"Poor\"),\"**\",\"\"))","v":""},null,null,null,null,null,null,null,null,null,null,null,null,null,null,null,null,null,null,null,null,null,null,null,null,{"$f":"$C$37","v":"Morphology   H"},{"$f":"IF($D$37=\"Concern\",\"(H)\",IF(OR($D$37=\"Fair\",$D$37=\"Poor\"),\"H\",\"\"))","v":""},null,null,null,null,null,null,null,null,null,null,null,null,null,null,null,null,null,null,null,null,null,null,null,null,{"$f":"IF($C$41=\"\",\"\",$C$41)","v":""},{"$f":"IF($D$41=\"Concern\",\"(**)\",IF(OR($D$41=\"Fair\",$D$41=\"Poor\"),\"**\",\"\"))","v":""},null,null,null,null,null,null,null,null,null,null,null,null,null,null,null,null,null,null,null,null,null,null,null,null,{"$f":"$C$43","v":"Taste & Odor   O"},{"$f":"IF($D$43=\"Concern\",\"(O)\",IF(OR($D$43=\"Fair\",$D$43=\"Poor\"),\"O\",\"\"))","v":""}]
[null,"Tissue",{"$f":"\"Spec. Chem.   \"&HN45","v":"Spec. Chem.   PCB"},"NA","NA","NA",{"$f":"$HO$15&\"  \"&$HO$16&\"  \"&$HO$17&\"  \"&$HO$18&\"  \"&$HO$19&\"  \"&$HO$20","v":"          "},{"$f":"$HO$28&\"  \"&$HO$29&\"  \"&$HO$30&\"  \"&$HO$31&\"  \"&$HO$32&\"  \"&$HO$33","v":"          "},null,null,null,null,null,null,{"$f":"$C$18","v":"Invertebrates   I"},{"$f":"IF($D$18=\"Concern\",\"(I)\",IF(OR($D$18=\"Fair\",$D$18=\"Poor\"),\"I\",\"\"))","v":""},null,null,null,null,null,null,null,null,null,null,null,null,null,null,null,null,null,null,null,null,null,null,null,null,{"$f":"$C$24","v":"Temperature    T"},{"$f":"IF($D$24=\"Concern\",\"(T)\",IF(OR($D$24=\"Fair\",$D$24=\"Poor\"),\"T\",\"\"))","v":""},null,null,null,null,null,null,null,null,null,null,null,null,null,null,null,null,null,null,null,null,null,null,null,null,{"$f":"IF($C$30=\"\",\"\",$C$30)","v":""},{"$f":"IF($D$30=\"Concern\",\"(**)\",IF(OR($D$30=\"Fair\",$D$30=\"Poor\"),\"**\",\"\"))","v":""},null,null,null,null,null,null,null,null,null,null,null,null,null,null,null,null,null,null,null,null,null,null,null,null,null,null,null,null,null,null,null,null,null,null,null,null,null,null,null,null,null,null,null,null,null,null,null,null,null,null,null,null,null,null,null,null,null,null,null,null,null,null,null,null,null,null,null,null,null,null,null,null,null,null,null,null,{"$f":"$C$38","v":"Riparian Zone   R"},{"$f":"IF($D$38=\"Concern\",\"(R)\",IF(OR($D$38=\"Fair\",$D$38=\"Poor\"),\"R\",\"\"))","v":""},null,null,null,null,null,null,null,null,null,null,null,null,null,null,null,null,null,null,null,null,null,null,null,null,null,null,null,null,null,null,null,null,null,null,null,null,null,null,null,null,null,null,null,null,null,null,null,null,null,null,{"$f":"$C$44","v":"Turb/Color   C"},{"$f":"IF($D$44=\"Concern\",\"(C)\",IF(OR($D$44=\"Fair\",$D$44=\"Poor\"),\"C\",\"\"))","v":""}]
[null,null,null,null,null,null,null,null,null,null,null,null,null,null,{"$f":"$C$19","v":"Fish   F"},{"$f":"IF($D$19=\"Concern\",\"(F)\",IF(OR($D$19=\"Fair\",$D$19=\"Poor\"),\"F\",\"\"))","v":""},null,null,null,null,null,null,null,null,null,null,null,null,null,null,null,null,null,null,null,null,null,null,null,null,{"$f":"$C$25","v":"Ionic Strength    Z"},{"$f":"IF($D$25=\"Concern\",\"(Z)\",IF(OR($D$25=\"Fair\",$D$25=\"Poor\"),\"Z\",\"\"))","v":""},null,null,null,null,null,null,null,null,null,null,null,null,null,null,null,null,null,null,null,null,null,null,null,null,null,null,null,null,null,null,null,null,null,null,null,null,null,null,null,null,null,null,null,null,null,null,null,null,null,null,"Pollution  Indicators (Causes):  ",null,{"$f":"CP52&\" \"&CP53&\" \"&CP54","v":"  "},null,null,null,null,null,null,null,null,null,null,null,null,null,null,null,null,null,null,null,null,null,null,null,null,null,null,null,null,null,null,null,null,null,null,null,null,null,null,null,null,null,null,null,null,null,null,null,null,null,{"$f":"IF($C$39=\"\",\"\",$C$39)","v":""},{"$f":"IF($D$39=\"Concern\",\"(**)\",IF(OR($D$39=\"Fair\",$D$39=\"Poor\"),\"**\",\"\"))","v":""},null,null,null,null,null,null,null,null,null,null,null,null,null,null,null,null,null,null,null,null,null,null,null,null,null,null,null,null,null,null,null,null,null,null,null,null,null,null,null,null,null,null,null,null,null,null,null,null,null,null,{"$f":"$C$45","v":"Nuisance Plants   V"},{"$f":"IF($D$45=\"Concern\",\"(V)\",IF(OR($D$45=\"Fair\",$D$45=\"Poor\"),\"V\",\"\"))","v":""},null,null,null,null,null,null,null,null,null,null,null,null,null,null,null,null,null,null,null,null,null,null,null,null,null,null,null,null,null,null,null,null,null,null,null,null,null,null,null,null,null,null,null,null,null,null,null,null,null,null,"Pollution  Indicators (Causes):  ",null,{"$f":"IP52&\" \"&IP53&\" \"&IP54","v":"  "}]
[null,"Sediment","Unknown   U","NA","NA","NA",{"$f":"$IO$15&\"  \"&$IO$16&\"  \"&$IO$17&\"  \"&$IO$18&\"  \"&$IO$19&\"  \"&$IO$20","v":"          "},{"$f":"$IO$28&\"  \"&$IO$29&\"  \"&$IO$30&\"  \"&$IO$31&\"  \"&$IO$32&\"  \"&$IO$33","v":"          "},null,null,null,null,null,null,{"$f":"$C$20","v":"Wildlife   W"},{"$f":"IF($D$20=\"Concern\",\"(W)\",IF(OR($D$20=\"Fair\",$D$20=\"Poor\"),\"W\",\"\"))","v":""},null,null,null,null,null,null,null,null,null,null,null,null,null,null,null,null,null,null,null,null,null,null,null,null,{"$f":"$C$26","v":"Sus. Solids    SS"},{"$f":"IF($D$26=\"Concern\",\"(SS)\",IF(OR($D$26=\"Fair\",$D$26=\"Poor\"),\"SS\",\"\"))","v":""},null,null,null,null,null,null,null,null,null,null,null,null,null,null,null,null,null,null,null,null,null,null,null,null,null,null,null,null,null,null,null,null,null,null,null,null,null,null,null,null,null,null,null,null,null,null,null,null,null,null,null,null,null,null,null,null,null,null,null,null,null,null,null,null,null,null,null,null,null,null,null,null,null,null,null,null,null,null,null,null,null,null,null,null,null,null,null,null,null,null,null,null,null,null,null,null,null,null,null,null,null,null,null,null,null,null,null,null,null,null,null,null,null,null,null,null,null,null,null,null,null,null,null,null,null,null,null,null,null,null,null,null,null,null,null,null,null,null,null,null,null,null,null,null,null,null,null,null,null,null,null,null,null,null,{"$f":"$C$46","v":"Trash /Debris   D"},{"$f":"IF($D$46=\"Concern\",\"(D)\",IF(OR($D$46=\"Fair\",$D$46=\"Poor\"),\"D\",\"\"))","v":""},null,null,null,null,null,null,null,null,null,null,null,null,null,null,null,null,null,null,null,null,null,null,null,null,"Pollution  Indicators (Causes):  ",null,{"$f":"HP53&\" \"&HP54","v":" "}]
[null,null,{"$f":"\"Spec. Chem.   \"&IN44","v":"Spec. Chem.   DDT"},"NA",null,null,null,null,null,null,null,null,null,null,{"$f":"IF($C$21=\"\",\"\",$C$21)","v":""},{"$f":"IF($D$21=\"Concern\",\"(**)\",IF(OR($D$21=\"Fair\",$D$21=\"Poor\"),\"**\",\"\"))","v":""},null,null,null,null,null,null,null,null,null,null,null,null,null,null,null,null,null,null,null,null,null,null,null,null,{"$f":"IF($C$27=\"\",\"\",$C$27)","v":""},{"$f":"IF($D$27=\"Concern\",\"(**)\",IF(OR($D$27=\"Fair\",$D$27=\"Poor\"),\"**\",\"\"))","v":""},null,null,null,null,null,null,null,null,null,null,null,null,null,null,null,null,null,null,null,null,null,null,null,null,null,null,null,null,null,null,null,null,null,null,null,null,null,null,null,null,null,null,null,null,null,null,null,null,null,null,{"$f":"$B$31","v":"Toxicity"},null,null,null,null,null,null,null,null,null,null,null,null,null,null,null,null,null,null,null,null,null,null,null,null,null,null,null,null,null,null,null,null,null,null,null,null,null,null,null,null,null,null,null,null,null,null,null,null,null,null,null,null,null,null,null,null,null,null,null,null,null,null,null,null,null,null,null,null,null,null,null,null,null,null,null,null,null,null,null,null,null,null,null,null,null,null,null,null,null,null,null,null,null,null,null,null,null,null,null,null,null,null,null,{"$f":"IF($C$47=\"\",\"\",$C$47)","v":""},{"$f":"IF($D$47=\"Concern\",\"(**)\",IF(OR($D$47=\"Fair\",$D$47=\"Poor\"),\"**\",\"\"))","v":""},null,null,null,null,null,null,null,null,null,null,null,null,null,null,null,null,null,null,null,null,null,null,null,null,null,null,null,null,null,null,null,null,null,null,null,null,null,null,null,null,null,null,null,null,null,null,null,null,null,null,{"$f":"$B$50","v":"Sediment"}]
[null,null,null,null,null,null,null,null,null,null,null,null,null,null,null,null,null,null,null,null,null,null,null,null,null,null,null,null,null,null,null,null,null,null,null,null,null,null,null,null,null,null,null,null,null,null,null,null,null,null,null,null,null,null,null,null,null,null,null,null,null,null,null,null,null,null,null,null,null,null,null,null,null,null,null,null,null,null,null,null,null,null,null,null,null,null,null,null,null,null,null,null,{"$f":"$C$31","v":"Unknown   U"},{"$f":"IF($D$31=\"Concern\",\"(U)\",IF(OR($D$31=\"Fair\",$D$31=\"Poor\"),\"U\",\"\"))","v":""},null,null,null,null,null,null,null,null,null,null,null,null,null,null,null,null,null,null,null,null,null,null,null,null,null,null,null,null,null,null,null,null,null,null,null,null,null,null,null,null,null,null,null,null,null,null,null,null,null,null,null,null,null,null,null,null,null,null,null,null,null,null,null,null,null,null,null,null,null,null,null,null,null,null,null,null,null,null,null,null,null,null,null,null,null,null,null,null,null,null,null,null,null,null,null,null,null,null,null,null,null,null,null,null,null,null,null,null,null,null,null,null,null,null,null,null,null,null,null,null,null,null,null,null,null,null,null,null,{"$f":"$B$48","v":"Tissue"},null,null,null,null,null,null,null,null,null,null,null,null,null,null,null,null,null,null,null,null,null,null,null,null,null,{"$f":"$C$50","v":"Unknown   U"},{"$f":"IF($D$50=\"Concern\",\"(U)\",IF(OR($D$50=\"Fair\",$D$50=\"Poor\"),\"U\",\"\"))","v":""}]
[null,"Comments:",null,null,null,null,null,"*  Suspected Source  ",null,null,null,null,null,null,null,null,null,null,null,null,null,null,null,null,null,null,null,null,null,null,null,null,null,null,null,null,null,null,null,null,null,null,null,null,null,null,null,null,null,null,null,null,null,null,null,null,null,null,null,null,null,null,null,null,null,null,null,null,null,null,null,null,null,null,null,null,null,null,null,null,null,null,null,null,null,null,null,null,null,null,null,null,{"$f":"$C$32","v":"Spec. Chem.  Ag"},{"$f":"IF($D$32=\"Concern\",\"(\"&CN44&\")\",IF(OR($D$32=\"Fair\",$D$32=\"Poor\"),CN44,\"\"))","v":""},null,null,null,null,null,null,null,null,null,null,null,null,null,null,null,null,null,null,null,null,null,null,null,null,null,null,null,null,null,null,null,null,null,null,null,null,null,null,null,null,null,null,null,null,null,null,null,null,null,null,null,null,null,null,null,null,null,null,null,null,null,null,null,null,null,null,null,null,null,null,null,null,null,null,null,null,null,null,null,null,null,null,null,null,null,null,null,null,null,null,null,null,null,null,null,null,null,null,null,null,null,null,null,null,null,null,null,null,null,null,null,null,null,null,null,null,null,null,null,null,null,null,null,null,null,null,null,null,{"$f":"$C$48","v":"Spec. Chem.   PCB"},{"$f":"IF($D$48=\"Concern\",\"(\"&HN45&\")\",IF(OR($D$48=\"Fair\",$D$32=\"Poor\"),HN45,\"\"))","v":""},null,null,null,null,null,null,null,null,null,null,null,null,null,null,null,null,null,null,null,null,null,null,null,null,{"$f":"$C$51","v":"Spec. Chem.   DDT"},{"$f":"IF($D$51=\"Concern\",\"(\"&IN44&\")\",IF(OR($D$51=\"Fair\",$D$51=\"Poor\"),IN44,\"\"))","v":""}]
[null,null,null,null,null,null,null,"** Potential Source  ",null,null,null,null,null,null,null,null,null,null,null,null,null,null,null,null,null,null,null,null,null,null,null,null,null,null,null,null,null,null,null,null,null,null,null,null,null,null,null,null,null,null,null,null,null,null,null,null,null,null,null,null,null,null,null,null,null,null,null,null,null,null,null,null,null,null,null,null,null,null,null,null,null,null,null,null,null,null,null,null,null,null,null,null,{"$f":"IF($C$33=\"\",\"\",$C$33)","v":""},{"$f":"IF($D$33=\"Concern\",\"(**)\",IF(OR($D$33=\"Fair\",$D$33=\"Poor\"),\"**\",\"\"))","v":""},null,null,null,null,null,null,null,null,null,null,null,null,null,null,null,null,null,null,null,null,null,null,null,null,null,null,null,null,null,null,null,null,null,null,null,null,null,null,null,null,null,null,null,null,null,null,null,null,null,null,null,null,null,null,null,null,null,null,null,null,null,null,null,null,null,null,null,null,null,null,null,null,null,null,null,null,null,null,null,null,null,null,null,null,null,null,null,null,null,null,null,null,null,null,null,null,null,null,null,null,null,null,null,null,null,null,null,null,null,null,null,null,null,null,null,null,null,null,null,null,null,null,null,null,null,null,null,null,{"$f":"IF($C$49=\"\",\"\",$C$49)","v":""},{"$f":"IF($D$49=\"Concern\",\"(**)\",IF(OR($D$49=\"Fair\",$D$49=\"Poor\"),\"**\",\"\"))","v":""},null,null,null,null,null,null,null,null,null,null,null,null,null,null,null,null,null,null,null,null,null,null,null,null,{"$f":"IF($C$52=\"\",\"\",$C$52)","v":""},{"$f":"IF($D$52=\"Concern\",\"(**)\",IF(OR($D$52=\"Fair\",$D$52=\"Poor\"),\"**\",\"\"))","v":""}]
[null,null,null,null,null,null,null,"No asterisk: Known Source  "]
[null,null,null,null,null,null,null,"[Out of Segment Source ]  "]
[]
[]
[]
[null,"SegNameLong:  ","hhhhhh"]
[null,"Seg Name:  ","hhh"]
[null,"Seg Num:  "]
[null,"Seg Size:  "]
[null,"Seg Class:  "]
[]
[]
[]
[]
[]
[]
[]
[]
[]
[]
[]
[]
[null,null,null,{"$f":"A99","v":""}]
[null,null,null,{"$f":"B99","v":""}]
[null,null,null,{"$f":"C99","v":""}]
[null,null,null,{"$f":"D99","v":""}]
[null,null,null,{"$f":"E99","v":""}]
[null,null,null,{"$f":"F99","v":""}]
[null,null,null,{"$f":"G99","v":""}]
[null,null,null,{"$f":"H99","v":""}]
[null,null,null,{"$f":"I99","v":""}]
[]
[]
[]
[]
[]
[]
[]
[]
[]
[]
[]
[]
[]
[{"$f":"TRIM(A101&\" \"&A102&\" \"&A103&\" \"&A104&\" \"&A105&\" \"&A106)","v":""},{"$f":"TRIM(B101&\" \"&B102&\" \"&B103&\" \"&B104&\" \"&B105&\" \"&B106)","v":""},"","","","","","",""]

{"sheet":"Seg9","index":13,"n_rows":99,"n_cols":311,"rows_kept":99,"cut":false,"hidden":false,"merged":[[15,1,20,1],[15,4,20,4],[15,5,20,5],[15,6,20,6],[15,7,20,7],[13,1,14,1],[13,2,14,3],[13,4,14,4],[13,5,14,5],[14,6,14,7],[27,1,29,1],[27,4,29,4],[27,5,29,5],[27,6,29,6],[27,7,29,7],[21,1,26,1],[21,4,26,4],[21,5,26,5],[21,6,26,6],[21,7,26,7],[49,6,51,6],[49,7,51,7],[30,1,32,1],[30,4,32,4],[30,5,32,5],[30,6,32,6],[30,7,32,7],[33,1,34,1],[33,4,34,4],[33,5,34,5],[33,6,34,6],[33,7,34,7],[43,91,45,94],[35,1,38,1],[35,4,38,4],[35,5,38,5],[35,6,38,6],[35,7,38,7],[39,1,40,1],[39,4,40,4],[39,5,40,5],[39,6,40,6],[39,7,40,7],[52,1,55,1],[43,247,45,250],[44,221,46,224],[47,1,48,1],[47,4,48,4],[47,5,48,5],[47,6,48,6],[47,7,48,7],[41,1,46,1],[41,4,46,4],[41,5,46,5],[41,6,46,6],[41,7,46,7],[49,1,51,1],[49,4,51,4],[49,5,51,5]]}
[]
[]
[]
[]
[null,null,null,null,null,null,null,null,null,null,null,null,null,null,null,null,null,null,null,null,null,null,null,null,null,null,null,null,null,null,null,null,null,null,null,null,null,null,null,null,null,null,null,null,null,null,null,null,null,null,null,null,null,null,null,null,null,null,null,null,null,null,null,null,null,null,null,null,null,null,null,null,null,null,null,null,null,null,null,null,null,null,null,null,null,null,null,null,null,null,null,null,null,null,null,null,null,null,null,null,null,null,null,null,null,null,null,null,null,null,null,null,null,null,null,null,null,null,null,null,null,null,null,null,null,null,null,null,null,null,null,null,null,null,null,null,null,null,null,null,null,null,null,null,null,null,null,null,null,null,null,null,null,null,null,null,null,null,null,null,null,null,null,null,null,null,null,null,null,null,null,null,null,null,null,null,null,null,null,null,null,null,null,null,null,null,null,null,null,null,null,null,null,null,null,null,null,null,null,null,null,null,null,null,null,null,null,null,null,null,null,null,null,null,null,null,null,null,null,null,null,null,null,null,null,null,null,null,null,null,null,null,null,null,null,null,null,null,null,null,null,null,null,null,null,null,null,null,null,null,null,null,null,null,null,null,null,null,null,null,null,null,null,null,null,null,null,null,null,null,null,null,null,null,null,null,null,null,null,null,null,null,null,null,null,"List of all codes from all groups for this segment, organized by Source Type. "]
[null,null,null,null,null,null,null,null,null,null,null,null,null,null,null,null,null,null,null,null,null,null,null,null,null,null,null,null,null,null,null,null,null,null,null,null,null,null,null,null,null,null,null,null,null,null,null,null,null,null,null,null,null,null,null,null,null,null,null,null,null,null,null,null,null,null,null,null,null,null,null,null,null,null,null,null,null,null,null,null,null,null,null,null,null,null,null,null,null,null,null,null,null,null,null,null,null,null,null,null,null,null,null,null,null,null,null,null,null,null,null,null,null,null,null,null,null,null,null,null,null,null,null,null,null,null,null,null,null,null,null,null,null,null,null,null,null,null,null,null,null,null,null,null,null,null,null,null,null,null,null,null,null,null,null,null,null,null,null,null,null,null,null,null,null,null,null,null,null,null,null,null,null,null,null,null,null,null,null,null,null,null,null,null,null,null,null,null,null,null,null,null,null,null,null,null,null,null,null,null,null,null,null,null,null,null,null,null,null,null,null,null,null,null,null,null,null,null,null,null,null,null,null,null,null,null,null,null,null,null,null,null,null,null,null,null,null,null,null,null,null,null,null,null,null,null,null,null,null,null,null,null,null,null,null,null,null,null,null,null,null,null,null,null,null,null,null,null,null,null,null,null,null,null,null,null,null,null,null,null,null,null,null,null,null,"List is updated only when \"SourceRC_List\" macro is run. Macro is run manually by touching button at right or when Source report card is activated."]
[null,null,null,null,null,null,null,null,null,null,null,null,null,null,null,null,null,null,null,null,null,null,null,null,null,null,null,null,null,null,null,null,null,null,null,null,null,null,null,null,null,null,null,null,null,null,null,null,null,null,null,null,null,null,null,null,null,null,null,null,null,null,null,null,null,null,null,null,null,null,null,null,null,null,null,null,null,null,null,null,null,null,null,null,null,null,null,null,null,null,null,null,null,null,null,null,null,null,null,null,null,null,null,null,null,null,null,null,null,null,null,null,null,null,null,null,null,null,null,null,null,null,null,null,null,null,null,null,null,null,null,null,null,null,null,null,null,null,null,null,null,null,null,null,null,null,null,null,null,null,null,null,null,null,null,null,null,null,null,null,null,null,null,null,null,null,null,null,null,null,null,null,null,null,null,null,null,null,null,null,null,null,null,null,null,null,null,null,null,null,null,null,null,null,null,null,null,null,null,null,null,null,null,null,null,null,null,null,null,null,null,null,null,null,null,null,null,null,null,null,null,null,null,null,null,null,null,null,null,null,null,null,null,null,null,null,null,null,null,null,null,null,null,null,null,null,null,null,null,null,null,null,null,null,null,null,null,null,null,null,null,null,null,null,null,null,null,null,null,null,null,null,null,null,null,null,null,null,null,null,null,null,null,null,null,"Numbers indicate knowledge about the certainty of assessment: 0 = N/A, 1 = Potential Source, 2 = Suspected Source, 3 = Known Source."]
[null,null,null,null,null,null,null,null,null,null,null,null,null,null,null,null,null,null,null,null,null,null,null,null,null,null,null,null,null,null,null,null,null,null,null,null,null,null,null,null,null,null,null,null,null,null,null,null,null,null,null,null,null,null,null,null,null,null,null,null,null,null,null,null,null,null,null,null,null,null,null,null,null,null,null,null,null,null,null,null,null,null,null,null,null,null,null,null,null,null,null,null,null,null,null,null,null,null,null,null,null,null,null,null,null,null,null,null,null,null,null,null,null,null,null,null,null,null,null,null,null,null,null,null,null,null,null,null,null,null,null,null,null,null,null,null,null,null,null,null,null,null,null,null,null,null,null,null,null,null,null,null,null,null,null,null,null,null,null,null,null,null,null,null,null,null,null,null,null,null,null,null,null,null,null,null,null,null,null,null,null,null,null,null,null,null,null,null,null,null,null,null,null,null,null,null,null,null,null,null,null,null,null,null,null,null,null,null,null,null,null,null,null,null,null,null,null,null,null,null,null,null,null,null,null,null,null,null,null,null,null,null,null,null,null,null,null,null,null,null,null,null,null,null,null,null,null,null,null,null,null,null,null,null,null,null,null,null,null,null,null,null,null,null,null,null,null,null,null,null,null,null,null,null,null,null,null,null,null,null,null,null,null,null,null,"This list is then processed below to remove duplicates."]
[null,null,null,null,null,null,null,null,null,null,null,null,null,"Designate Point & Non-Point Sources",null,null,null,null,null,null,null,null,null,null,null,null,null,null,null,null,null,null,null,null,null,null,null,null,null,"Designate Point & Non-Point Sources",null,null,null,null,null,null,null,null,null,null,null,null,null,null,null,null,null,null,null,null,null,null,null,null,null,"Designate Point & Non-Point Sources",null,null,null,null,null,null,null,null,null,null,null,null,null,null,null,null,null,null,null,null,null,null,null,null,null,"Designate Point & Non-Point Sources",null,null,null,null,null,null,null,null,null,null,null,null,null,null,null,null,null,null,null,null,null,null,null,null,null,"Designate Point & Non-Point Sources",null,null,null,null,null,null,null,null,null,null,null,null,null,null,null,null,null,null,null,null,null,null,null,null,null,"Designate Point & Non-Point Sources",null,null,null,null,null,null,null,null,null,null,null,null,null,null,null,null,null,null,null,null,null,null,null,null,null,"Designate Point & Non-Point Sources",null,null,null,null,null,null,null,null,null,null,null,null,null,null,null,null,null,null,null,null,null,null,null,null,null,"Designate Point & Non-Point Sources",null,null,null,null,null,null,null,null,null,null,null,null,null,null,null,null,null,null,null,null,null,null,null,null,null,"Designate Point & Non-Point Sources",null,null,null,null,null,null,null,null,null,null,null,null,null,null,null,null,null,null,null,null,null,null,null,null,null,"Designate Point & Non-Point Sources"]
[null,null,null,null,null,null,null,null,null,null,null,null,null,null,null,null,null,null,null,null,null,null,null,"Codes selected at left are distributed according to Source Type. "]
[null,{"$f":"\"River Basin: \"&RiverBasinName","v":"River Basin: Test River Basin"},null,null,null,null,{"$f":"\"Data Year:  \"&AssessmentYear","v":"Data Year:  2011"},null,null,null,null,null,null,null,null,null,null,null,null,null,null,null,null,"Numbers indicate confidence of assessment: 0 = N/A, 1 = Potential Source, 2 = Suspected Source, 3 = Known Source.",null,null,null,null,null,null,null,null,null,null,null,null,null,null,null,null,null,null,null,null,null,null,null,null,null,null,null,null,null,null,null,null,null,null,null,null,null,null,null,null,null,null,null,null,null,null,null,null,null,null,null,null,null,null,null,null,null,null,null,null,null,null,null,null,null,null,null,null,null,null,null,null,null,null,null,null,null,null,null,null,null,null,null,null,null,null,null,null,null,null,null,null,null,null,null,null,null,null,null,null,null,null,null,null,null,null,null,null,null,null,null,null,null,null,null,null,null,null,null,null,null,null,null,null,null,null,null,null,null,null,null,null,null,null,null,null,null,null,null,null,null,null,null,null,null,null,null,null,null,null,null,null,null,null,null,null,null,null,null,null,null,null,null,null,null,null,null,null,null,null,null,null,null,null,null,null,null,null,null,null,null,null,null,null,null,null,null,null,null,null,null,null,null,null,null,null,null,null,null,null,null,null,null,null,null,null,null,null,null,null,null,null,null,null,null,null,null,null,null,null,null,null,null,null,null,null,null,null,null,null,null,null,null,null,null,null,null,null,null,null,null,null,null,null,null,null,null,null,null,null,null,null,null,null,null,null,null,null,null,null,null,null,"Municp",null,null,"Industr",null,null,"St Water",null,null,"Res Ext",null,null,"Land Dis",null,null,"Seds",null,null,"Hydro",null,null,"Other",null,null,"Unknown"]
[null,{"$f":"\"Segment Name: \"&C60","v":"Segment Name: iiiiii"},null,null,null,null,null,null,null,null,null,null,null,null,null,null,null,null,null,null,null,null,null,"These codes are processed by \"SourceRC_List macro and transferred to Source report card."]
[null,{"$f":"\"Class: \"&C64","v":"Class: "},null,{"$f":"\"Size: \"&C63","v":"Size: "},null,null,{"$f":"\"Seg ID #: \"&C62","v":"Seg ID #: "}]
[null,"CATEGORY","INDICATOR ASSESSMENT",null,"OVERALL STATUS","DATA LEVEL","POINT","NONPOINT",null,null,null,null,null,"Point Sources",null,null,null,null,null,null,null,null,null,"Municipal",null,null,"Industrial",null,null,"Storm Water",null,null,"Resource Ext",null,null,"Land Disposal",null,null,null,"Point Sources",null,null,null,null,null,null,null,null,null,"Municipal",null,null,"Industrial",null,null,"Storm Water",null,null,"Resource Ext",null,null,"Land Disposal",null,null,null,"Point Sources",null,null,null,null,null,null,null,null,null,"Municipal",null,null,"Industrial",null,null,"Storm Water",null,null,"Resource Ext",null,null,"Land Disposal",null,null,null,"Point Sources",null,null,null,null,null,null,null,null,null,"Municipal",null,null,"Industrial",null,null,"Storm Water",null,null,"Resource Ext",null,null,"Land Disposal",null,null,null,"Point Sources",null,null,null,null,null,null,null,null,null,"Municipal",null,null,"Industrial",null,null,"Storm Water",null,null,"Resource Ext",null,null,"Land Disposal",null,null,null,"Point Sources",null,null,null,null,null,null,null,null,null,"Municipal",null,null,"Industrial",null,null,"Storm Water",null,null,"Resource Ext",null,null,"Land Disposal",null,null,null,"Point Sources",null,null,null,null,null,null,null,null,null,"Municipal",null,null,"Industrial",null,null,"Storm Water",null,null,"Resource Ext",null,null,"Land Disposal",null,null,null,"Point Sources",null,null,null,null,null,null,null,null,null,"Municipal",null,null,"Industrial",null,null,"Storm Water",null,null,"Resource Ext",null,null,"Land Disposal",null,null,null,"Point Sources",null,null,null,null,null,null,null,null,null,"Municipal",null,null,"Industrial",null,null,"Storm Water",null,null,"Resource Ext",null,null,"Land Disposal",null,null,null,"Point Sources",null,null,null,null,null,null,null,null,null,"Municipal",null,null,"Industrial",null,null,"Storm Water",null,null,"Resource Ext",null,null,"Land Disposal"]
[null,null,null,null,null,null,"Click below to select Sources"]
[null,"Biology","Plank/Peri.   A","NA","NA","NA",{"$f":"$O$15&\"  \"&$O$16&\"  \"&$O$17&\"  \"&$O$18&\"  \"&$O$19&\"  \"&$O$20","v":"          "},{"$f":"$O$28&\"  \"&$O$29&\"  \"&$O$30&\"  \"&$O$31&\"  \"&$O$32&\"  \"&$O$33","v":"          "}]
[null,null,"Macrophyton   M","NA"]
[null,null,"Invertebrates   I","NA"]
[null,null,"Fish   F","NA"]
[null,null,"Wildlife   W","NA"]
[]
[null,"Chemistry","Dis. Oxygen    DO","NA","NA","NA",{"$f":"$AO$15&\"  \"&$AO$16&\"  \"&$AO$17&\"  \"&$AO$18&\"  \"&$AO$19&\"  \"&$AO$20","v":"          "},{"$f":"$AO$28&\"  \"&$AO$29&\"  \"&$AO$30&\"  \"&$AO$31&\"  \"&$AO$32&\"  \"&$AO$33","v":"          "}]
[null,null,"pH     pH","NA"]
[null,null,"Temperature    T","NA"]
[null,null,"Ionic Strength    Z","NA"]
[null,null,"Sus. Solids    SS","NA"]
[null,null,null,null,null,null,null,null,null,null,null,null,null,"Non Point Sources",null,null,null,null,null,null,null,null,null,"Seds",null,null,"Hydromodification",null,null,"Other",null,null,"Unknown",null,null,null,null,null,null,"Non Point Sources",null,null,null,null,null,null,null,null,null,"Seds",null,null,"Hydromodification",null,null,"Other",null,null,"Unknown",null,null,null,null,null,null,"Non Point Sources",null,null,null,null,null,null,null,null,null,"Seds",null,null,"Hydromodification",null,null,"Other",null,null,"Unknown",null,null,null,null,null,null,"Non Point Sources",null,null,null,null,null,null,null,null,null,"Seds",null,null,"Hydromodification",null,null,"Other",null,null,"Unknown",null,null,null,null,null,null,"Non Point Sources",null,null,null,null,null,null,null,null,null,"Seds",null,null,"Hydromodification",null,null,"Other",null,null,"Unknown",null,null,null,null,null,null,"Non Point Sources",null,null,null,null,null,null,null,null,null,"Seds",null,null,"Hydromodification",null,null,"Other",null,null,"Unknown",null,null,null,null,null,null,"Non Point Sources",null,null,null,null,null,null,null,null,null,"Seds",null,null,"Hydromodification",null,null,"Other",null,null,"Unknown",null,null,null,null,null,null,"Non Point Sources",null,null,null,null,null,null,null,null,null,"Seds",null,null,"Hydromodification",null,null,"Other",null,null,"Unknown",null,null,null,null,null,null,"Non Point Sources",null,null,null,null,null,null,null,null,null,"Seds",null,null,"Hydromodification",null,null,"Other",null,null,"Unknown",null,null,null,null,null,null,"Non Point Sources",null,null,null,null,null,null,null,null,null,"Seds",null,null,"Hydromodification",null,null,"Other",null,null,"Unknown"]
[null,"Nutrients","Phosphorus  P","NA","NA","NA",{"$f":"$BO$15&\"  \"&$BO$16&\"  \"&$BO$17&\"  \"&$BO$18&\"  \"&$BO$19&\"  \"&$BO$20","v":"          "},{"$f":"$BO$28&\"  \"&$BO$29&\"  \"&$BO$30&\"  \"&$BO$31&\"  \"&$BO$32&\"  \"&$BO$33","v":"          "}]
[null,null,"Nitrogen   N","NA"]
[]
[null,"Toxicity","Unknown   U","NA","NA","NA",{"$f":"$CO$15&\"  \"&$CO$16&\"  \"&$CO$17&\"  \"&$CO$18&\"  \"&$CO$19&\"  \"&$CO$20","v":"          "},{"$f":"$CO$28&\"  \"&$CO$29&\"  \"&$CO$30&\"  \"&$CO$31&\"  \"&$CO$32&\"  \"&$CO$33","v":"          "}]
[null,null,{"$f":"\"Spec. Chem.  \"&CN44","v":"Spec. Chem.  Ag"},"NA"]
[null,null,null,null,null,null,null,null,null,null,null,null,null,null,null,null,null,null,null,null,null,null,null,null,null,null,null,null,null,null,null,null,null,null,null,null,null,null,null,null,null,null,null,null,null,null,null,null,null,null,null,null,null,null,null,null,null,null,null,null,null,null,null,null,null,null,null,null,null,null,null,null,null,null,null,null,null,null,null,null,null,null,null,null,null,null,null,null,null,null,null,null,null,null,null,null,null,null,null,null,null,null,null,null,null,null,null,null,null,null,null,null,null,null,null,null,null,null,null,null,null,null,null,null,null,null,null,null,null,null,null,null,null,null,null,null,null,null,null,null,null,null,null,null,null,null,null,null,null,null,null,null,null,null,null,null,null,null,null,null,null,null,null,null,null,null,null,null,null,null,null,null,null,null,null,null,null,null,null,null,null,null,null,null,null,null,null,null,null,null,null,null,null,null,null,null,null,null,null,null,null,null,null,null,null,null,null,null,null,null,null,null,null,null,null,null,null,null,null,null,null,null,null,null,null,null,null,null,null,null,null,null,null,null,null,null,null,null,null,null,null,null,null,null,null,null,null,null,null,null,null,null,null,null,null,null,null,null,null,null,null,null,null,null,null,null,null,null,null,null,null,null,null,null,null,null,null,null,null,null,null,null,null,null,null,"The colored cells below reflect this segments pollution status and are replicated on the Sources report card automatically"]
[null,"Flow","Flow  Q","NA","NA","NA",{"$f":"$DO$15&\"  \"&$DO$16&\"  \"&$DO$17&\"  \"&$DO$18&\"  \"&$DO$19&\"  \"&$DO$20","v":"          "},{"$f":"$DO$28&\"  \"&$DO$29&\"  \"&$DO$30&\"  \"&$DO$31&\"  \"&$DO$32&\"  \"&$DO$33","v":"          "},null,null,null,null,null,null,null,null,null,null,null,null,null,null,null,null,null,null,null,null,null,null,null,null,null,null,null,null,null,null,null,null,null,null,null,null,null,null,null,null,null,null,null,null,null,null,null,null,null,null,null,null,null,null,null,null,null,null,null,null,null,null,null,null,null,null,null,null,null,null,null,null,null,null,null,null,null,null,null,null,null,null,null,null,null,null,null,null,null,null,null,null,null,null,null,null,null,null,null,null,null,null,null,null,null,null,null,null,null,null,null,null,null,null,null,null,null,null,null,null,null,null,null,null,null,null,null,null,null,null,null,null,null,null,null,null,null,null,null,null,null,null,null,null,null,null,null,null,null,null,null,null,null,null,null,null,null,null,null,null,null,null,null,null,null,null,null,null,null,null,null,null,null,null,null,null,null,null,null,null,null,null,null,null,null,null,null,null,null,null,null,null,null,null,null,null,null,null,null,null,null,null,null,null,null,null,null,null,null,null,null,null,null,null,null,null,null,null,null,null,null,null,null,null,null,null,null,null,null,null,null,null,null,null,null,null,null,null,null,null,null,null,null,null,null,null,null,null,null,null,null,null,null,null,null,null,null,null,null,null,null,null,null,null,null,null,null,null,null,null,null,null,null,null,null,null,null,null,{"$f":"KA11","v":"Municp"},null,null,{"$f":"KD11","v":"Industr"},null,null,{"$f":"KG11","v":"St Water"},null,null,{"$f":"KJ11","v":"Res Ext"},null,null,{"$f":"KM11","v":"Land Dis"},null,null,{"$f":"KP11","v":"Seds"},null,null,{"$f":"KS11","v":"Hydro"},null,null,{"$f":"KV11","v":"Other"},null,null,{"$f":"KY11","v":"Unknown"}]
[null,null,null,null,null,null,null,null,null,null,null,null,null,null,null,null,null,null,null,null,null,null,null,null,null,null,null,null,null,null,null,null,null,null,null,null,null,null,null,null,null,null,null,null,null,null,null,null,null,null,null,null,null,null,null,null,null,null,null,null,null,null,null,null,null,null,null,null,null,null,null,null,null,null,null,null,null,null,null,null,null,null,null,null,null,null,null,null,null,null,null,null,null,null,null,null,null,null,null,null,null,null,null,null,null,null,null,null,null,null,null,null,null,null,null,null,null,null,null,null,null,null,null,null,null,null,null,null,null,null,null,null,null,null,null,null,null,null,null,null,null,null,null,null,null,null,null,null,null,null,null,null,null,null,null,null,null,null,null,null,null,null,null,null,null,null,null,null,null,null,null,null,null,null,null,null,null,null,null,null,null,null,null,null,null,null,null,null,null,null,null,null,null,null,null,null,null,null,null,null,null,null,null,null,null,null,null,null,null,null,null,null,null,null,null,null,null,null,null,null,null,null,null,null,null,null,null,null,null,null,null,null,null,null,null,null,null,null,null,null,null,null,null,null,null,null,null,null,null,null,null,null,null,null,null,null,null,null,null,null,null,null,null,null,null,null,null,null,null,null,null,null,null,null,null,null,null,null,null,null,null,null,null,null,null,null,{"$f":"TRIM(KA41&\" \"&KA42&\" \"&KA43&\" \"&KA44&\" \"&KA45&\" \"&KA46)","v":""},null,null,{"$f":"TRIM(KD41&\" \"&KD42&\" \"&KD43&\" \"&KD44&\" \"&KD45&\" \"&KD46)","v":""},null,null,{"$f":"TRIM(KG41&\" \"&KG42&\" \"&KG43&\" \"&KG44&\" \"&KG45&\" \"&KG46)","v":""},null,null,{"$f":"TRIM(KJ41&\" \"&KJ42&\" \"&KJ43&\" \"&KJ44&\" \"&KJ45&\" \"&KJ46)","v":""},null,null,{"$f":"TRIM(KM41&\" \"&KM42&\" \"&KM43&\" \"&KM44&\" \"&KM45&\" \"&KM46)","v":""},null,null,{"$f":"TRIM(KP41&\" \"&KP42&\" \"&KP43&\" \"&KP44&\" \"&KP45&\" \"&KP46)","v":""},null,null,{"$f":"TRIM(KS41&\" \"&KS42&\" \"&KS43&\" \"&KS44&\" \"&KS45&\" \"&KS46)","v":""},null,null,{"$f":"TRIM(KV41&\" \"&KV42&\" \"&KV43&\" \"&KV44&\" \"&KV45&\" \"&KV46)","v":""},null,null,{"$f":"TRIM(KY41&\" \"&KY42&\" \"&KY43&\" \"&KY44&\" \"&KY45&\" \"&KY46)","v":""}]
[null,"Habitat","Substrate   S","NA","NA","NA",{"$f":"$EO$15&\"  \"&$EO$16&\"  \"&$EO$17&\"  \"&$EO$18&\"  \"&$EO$19&\"  \"&$EO$20","v":"          "},{"$f":"$EO$28&\"  \"&$EO$29&\"  \"&$EO$30&\"  \"&$EO$31&\"  \"&$EO$32&\"  \"&$EO$33","v":"          "}]
[null,null,"Morphology   H","NA",null,null,null,null,null,null,null,null,null,null,null,null,null,null,null,null,null,null,null,null,null,null,null,null,null,null,null,null,null,null,null,null,null,null,null,null,null,null,null,null,null,null,null,null,null,null,null,null,null,null,null,null,null,null,null,null,null,null,null,null,null,null,null,null,null,null,null,null,null,null,null,null,null,null,null,null,null,null,null,null,null,null,null,null,null,null,null,null,null,null,null,null,null,null,null,null,null,null,null,null,null,null,null,null,null,null,null,null,null,null,null,null,null,null,null,null,null,null,null,null,null,null,null,null,null,null,null,null,null,null,null,null,null,null,null,null,null,null,null,null,null,null,null,null,null,null,null,null,null,null,null,null,null,null,null,null,null,null,null,null,null,null,null,null,null,null,null,null,null,null,null,null,null,null,null,null,null,null,null,null,null,null,null,null,null,null,null,null,null,null,null,null,null,null,null,null,null,null,null,null,null,null,null,null,null,null,null,null,null,null,null,null,null,null,null,null,null,null,null,null,null,null,null,null,null,null,null,null,null,null,null,null,null,null,null,null,null,null,null,null,null,null,null,null,null,null,null,null,null,null,null,null,null,null,null,null,null,null,null,null,null,null,null,null,null,null,null,null,null,null,null,null,null,null,null,null,null,null,null,null,null,"max confid #",{"$f":"MAX(KB11:KB31)","v":0},null,null,{"$f":"MAX(KE11:KE31)","v":0},null,null,{"$f":"MAX(KH11:KH31)","v":0},null,null,{"$f":"MAX(KK11:KK31)","v":0},null,null,{"$f":"MAX(KN11:KN31)","v":0},null,null,{"$f":"MAX(KQ11:KQ31)","v":0},null,null,{"$f":"MAX(KT11:KT31)","v":0},null,null,{"$f":"MAX(KW11:KW31)","v":0},null,null,{"$f":"MAX(KZ11:KZ31)","v":0}]
[null,null,"Riparian Zone   R","NA",null,null,null,null,null,null,null,null,null,null,null,null,null,null,null,null,null,null,null,null,null,null,null,null,null,null,null,null,null,null,null,null,null,null,null,null,null,null,null,null,null,null,null,null,null,null,null,null,null,null,null,null,null,null,null,null,null,null,null,null,null,null,null,null,null,null,null,null,null,null,null,null,null,null,null,null,null,null,null,null,null,null,null,null,null,null,null,null,null,null,null,null,null,null,null,null,null,null,null,null,null,null,null,null,null,null,null,null,null,null,null,null,null,null,null,null,null,null,null,null,null,null,null,null,null,null,null,null,null,null,null,null,null,null,null,null,null,null,null,null,null,null,null,null,null,null,null,null,null,null,null,null,null,null,null,null,null,null,null,null,null,null,null,null,null,null,null,null,null,null,null,null,null,null,null,null,null,null,null,null,null,null,null,null,null,null,null,null,null,null,null,null,null,null,null,null,null,null,null,null,null,null,null,null,null,null,null,null,null,null,null,null,null,null,null,null,null,null,null,null,null,null,null,null,null,null,null,null,null,null,null,null,null,null,null,null,null,null,null,null,null,null,null,null,null,null,null,null,null,null,null,null,null,null,null,null,null,null,null,null,null,null,null,null,null,null,null,null,null,null,null,null,null,null,null,null,null,null,null,null,null,"The lists below show unique codes in lists assembled above. Numbers are max confidence #, used to color cells for worst case. The codes are catenated in the colored boxes above for transfer to Sources RC when that sheet is activated."]
[]
[null,"Bacteria","Bacteria   B","NA","NA","NA",{"$f":"$FO$15&\"  \"&$FO$16&\"  \"&$FO$17&\"  \"&$FO$18&\"  \"&$FO$19&\"  \"&$FO$20","v":"          "},{"$f":"$FO$28&\"  \"&$FO$29&\"  \"&$FO$30&\"  \"&$FO$31&\"  \"&$FO$32&\"  \"&$FO$33","v":"          "},null,null,null,null,null,null,null,null,null,null,null,null,null,null,null,null,null,null,null,null,null,null,null,null,null,null,null,null,null,null,null,null,null,null,null,null,null,null,null,null,null,null,null,null,null,null,null,null,null,null,null,null,null,null,null,null,null,null,null,null,null,null,null,null,null,null,null,null,null,null,null,null,null,null,null,null,null,null,null,null,null,null,null,null,null,null,null,null,null,null,null,null,null,null,null,null,null,null,null,null,null,null,null,null,null,null,null,null,null,null,null,null,null,null,null,null,null,null,null,null,null,null,null,null,null,null,null,null,null,null,null,null,null,null,null,null,null,null,null,null,null,null,null,null,null,null,null,null,null,null,null,null,null,null,null,null,null,null,null,null,null,null,null,null,null,null,null,null,null,null,null,null,null,null,null,null,null,null,null,null,null,null,null,null,null,null,null,null,null,null,null,null,null,null,null,null,null,null,null,null,null,null,null,null,null,null,null,null,null,null,null,null,null,null,null,null,null,null,null,null,null,null,null,null,null,null,null,null,null,null,null,null,null,null,null,null,null,null,null,null,null,null,null,null,null,null,null,null,null,null,null,null,null,null,null,null,null,null,null,null,null,null,null,null,null,null,null,null,null,null,null,null,null,null,null,null,null,null,"Municp",null,null,"Industr",null,null,"St Water",null,null,"Res Ext",null,null,"Land Dis",null,null,"Seds",null,null,"Hydro",null,null,"Other",null,null,"Unknown"]
[]
[null,"Aesthetics","Oil & Grease   G","NA","NA","NA",{"$f":"$GO$15&\"  \"&$GO$16&\"  \"&$GO$17&\"  \"&$GO$18&\"  \"&$GO$19&\"  \"&$GO$20","v":"          "},{"$f":"$GO$28&\"  \"&$GO$29&\"  \"&$GO$30&\"  \"&$GO$31&\"  \"&$GO$32&\"  \"&$GO$33","v":"          "},null,null,null,null,null,null,null,null,null,null,null,null,null,null,null,null,null,null,null,null,null,null,null,null,null,null,null,null,null,null,null,null,null,null,null,null,null,null,null,null,null,null,null,null,null,null,null,null,null,null,null,null,null,null,null,null,null,null,null,null,null,null,null,null,null,null,null,null,null,null,null,null,null,null,null,null,null,null,null,null,null,null,null,"Identify the suspected toxic chemical substance below (e.g., Hg, PCB, etc). ",null,null,null,null,null,null,null,null,null,null,null,null,null,null,null,null,null,null,null,null,null,null,null,null,null,null,null,null,null,null,null,null,null,null,null,null,null,null,null,null,null,null,null,null,null,null,null,null,null,null,null,null,null,null,null,null,null,null,null,null,null,null,null,null,null,null,null,null,null,null,null,null,null,null,null,null,null,null,null,null,null,null,null,null,null,null,null,null,null,null,null,null,null,null,null,null,null,null,null,null,null,null,null,null,null,null,null,null,null,null,null,null,null,null,null,null,null,null,null,null,null,null,null,null,null,null,null,null,null,null,null,null,null,null,null,null,null,null,null,null,null,null,null,null,null,null,null,null,null,null,null,null,null,null,null,"Identify the suspected toxic chemical substance below (e.g., Hg, PCB, etc). "]
[null,null,"Taste & Odor   O","NA",null,null,null,null,null,null,null,null,null,null,"Pollution  Indicators (Causes):  ",null,{"$f":"P46&\" \"&P47&\" \"&P48&\" \"&P49&\" \"&P50&\" \"&P51","v":"     "},null,null,null,null,null,null,null,null,null,null,null,null,null,null,null,null,null,null,null,null,null,null,null,"Pollution  Indicators (Causes):  ",null,{"$f":"AP46&\" \"&AP47&\" \"&AP48&\" \"&AP49&\" \"&AP50&\" \"&AP51","v":"     "},null,null,null,null,null,null,null,null,null,null,null,null,null,null,null,null,null,null,null,null,null,null,null,"Pollution  Indicators (Causes):  ",null,{"$f":"BP46&\" \"&BP47&\" \"&BP48","v":"  "},null,null,null,null,null,null,null,null,null,null,null,null,null,null,null,null,null,null,null,null,null,null,null,null,null,null,null,null,null,null,null,null,null,null,null,null,null,null,null,null,null,null,null,null,null,null,null,null,null,"Pollution  Indicators (Causes):  ",null,{"$f":"DP46&\" \"&DP47","v":" "},null,null,null,null,null,null,null,null,null,null,null,null,null,null,null,null,null,null,null,null,null,null,null,"Pollution  Indicators (Causes):  ",null,{"$f":"EP46&\" \"&EP47&\" \"&EP48&\" \"&EP49","v":"   "},null,null,null,null,null,null,null,null,null,null,null,null,null,null,null,null,null,null,null,null,null,null,null,"Pollution  Indicators (Causes):  ",null,{"$f":"FP46&\" \"&FP47","v":" "},null,null,null,null,null,null,null,null,null,null,null,null,null,null,null,null,null,null,null,null,null,null,null,"Pollution  Indicators (Causes):  ",null,{"$f":"GP46&\" \"&GP47&\" \"&GP48&\" \"&GP49&\" \"&GP50&\" \"&GP51","v":"     "},null,null,null,null,null,null,null,null,null,null,null,null,null,null,null,null,null,null,null,null,null,null,"Identify the suspected toxic chemical substance below (e.g., Hg, PCB, etc). "]
[null,null,"Turb/Color   C","NA",null,null,null,null,null,null,null,null,null,null,null,null,null,null,null,null,null,null,null,null,null,null,null,null,null,null,null,null,null,null,null,null,null,null,null,null,null,null,null,null,null,null,null,null,null,null,null,null,null,null,null,null,null,null,null,null,null,null,null,null,null,null,null,null,null,null,null,null,null,null,null,null,null,null,null,null,null,null,null,null,null,null,null,null,null,null,null,"Ag",null,null,null,null,null,null,null,null,null,null,null,null,null,null,null,null,null,null,null,null,null,null,null,null,null,null,null,null,null,null,null,null,null,null,null,null,null,null,null,null,null,null,null,null,null,null,null,null,null,null,null,null,null,null,null,null,null,null,null,null,null,null,null,null,null,null,null,null,null,null,null,null,null,null,null,null,null,null,null,null,null,null,null,null,null,null,null,null,null,null,null,null,null,null,null,null,null,null,null,null,null,null,null,null,null,null,null,null,null,null,null,null,null,null,null,null,null,null,null,null,null,null,null,null,null,null,null,null,null,null,null,null,null,null,null,null,null,null,null,null,null,null,null,null,null,null,null,null,null,null,null,null,null,null,null,"DDT"]
[null,null,"Nuisance Plants   V","NA",null,null,null,null,null,null,null,null,null,null,{"$f":"$B$16","v":"Biology"},null,null,null,null,null,null,null,null,null,null,null,null,null,null,null,null,null,null,null,null,null,null,null,null,null,{"$f":"$B$22","v":"Chemistry"},null,null,null,null,null,null,null,null,null,null,null,null,null,null,null,null,null,null,null,null,null,null,null,null,null,{"$f":"$B$28","v":"Nutrients"},null,null,null,null,null,null,null,null,null,null,null,null,null,null,null,null,null,null,null,null,null,null,null,null,null,null,null,null,null,null,null,null,null,null,null,null,null,null,null,null,null,null,null,null,null,null,null,null,null,null,null,{"$f":"$B$34","v":"Flow"},null,null,null,null,null,null,null,null,null,null,null,null,null,null,null,null,null,null,null,null,null,null,null,null,null,{"$f":"$B$36","v":"Habitat"},null,null,null,null,null,null,null,null,null,null,null,null,null,null,null,null,null,null,null,null,null,null,null,null,null,{"$f":"$B$40","v":"Bacteria"},null,null,null,null,null,null,null,null,null,null,null,null,null,null,null,null,null,null,null,null,null,null,null,null,null,{"$f":"$B$42","v":"Aesthetics"},null,null,null,null,null,null,null,null,null,null,null,null,null,null,null,null,null,null,null,null,null,null,null,null,"PCB"]
[null,null,"Trash /Debris   D","NA",null,null,null,null,null,null,null,null,null,null,{"$f":"$C$16","v":"Plank/Peri.   A"},{"$f":"IF($D$16=\"Concern\",\"(A)\",IF(OR($D$16=\"Fair\",$D$16=\"Poor\"),\"A\",\"\"))","v":""},null,null,null,null,null,null,null,null,null,null,null,null,null,null,null,null,null,null,null,null,null,null,null,null,{"$f":"$C$22","v":"Dis. Oxygen    DO"},{"$f":"IF($D$22=\"Concern\",\"(DO)\",IF(OR($D$22=\"Fair\",$D$22=\"Poor\"),\"DO\",\"\"))","v":""},null,null,null,null,null,null,null,null,null,null,null,null,null,null,null,null,null,null,null,null,null,null,null,null,{"$f":"$C$28","v":"Phosphorus  P"},{"$f":"IF($D$28=\"Concern\",\"(P)\",IF(OR($D$28=\"Fair\",$D$28=\"Poor\"),\"P\",\"\"))","v":""},null,null,null,null,null,null,null,null,null,null,null,null,null,null,null,null,null,null,null,null,null,null,null,null,null,null,null,null,null,null,null,null,null,null,null,null,null,null,null,null,null,null,null,null,null,null,null,null,null,null,{"$f":"$C$34","v":"Flow  Q"},{"$f":"IF($D$34=\"Concern\",\"(O)\",IF(OR($D$34=\"Fair\",$D$34=\"Poor\"),\"O\",\"\"))","v":""},null,null,null,null,null,null,null,null,null,null,null,null,null,null,null,null,null,null,null,null,null,null,null,null,{"$f":"$C$36","v":"Substrate   S"},{"$f":"IF($D$36=\"Concern\",\"(S)\",IF(OR($D$36=\"Fair\",$D$36=\"Poor\"),\"S\",\"\"))","v":""},null,null,null,null,null,null,null,null,null,null,null,null,null,null,null,null,null,null,null,null,null,null,null,null,{"$f":"$C$40","v":"Bacteria   B"},{"$f":"IF($D$40=\"Concern\",\"(B)\",IF(OR($D$40=\"Fair\",$D$40=\"Poor\"),\"B\",\"\"))","v":""},null,null,null,null,null,null,null,null,null,null,null,null,null,null,null,null,null,null,null,null,null,null,null,null,{"$f":"$C$42","v":"Oil & Grease   G"},{"$f":"IF($D$42=\"Concern\",\"(G)\",IF(OR($D$42=\"Fair\",$D$42=\"Poor\"),\"G\",\"\"))","v":""}]
[null,null,null,null,null,null,null,null,null,null,null,null,null,null,{"$f":"$C$17","v":"Macrophyton   M"},{"$f":"IF($D$17=\"Concern\",\"(M)\",IF(OR($D$17=\"Fair\",$D$17=\"Poor\"),\"M\",\"\"))","v":""},null,null,null,null,null,null,null,null,null,null,null,null,null,null,null,null,null,null,null,null,null,null,null,null,{"$f":"$C$23","v":"pH     pH"},{"$f":"IF($D$23=\"Concern\",\"(pH)\",IF(OR($D$23=\"Fair\",$D$23=\"Poor\"),\"pH\",\"\"))","v":""},null,null,null,null,null,null,null,null,null,null,null,null,null,null,null,null,null,null,null,null,null,null,null,null,{"$f":"$C$29","v":"Nitrogen   N"},{"$f":"IF($D$29=\"Concern\",\"(N)\",IF(OR($D$29=\"Fair\",$D$29=\"Poor\"),\"N\",\"\"))","v":""},null,null,null,null,null,null,null,null,null,null,null,null,null,null,null,null,null,null,null,null,null,null,null,null,null,null,null,null,null,null,null,null,null,null,null,null,null,null,null,null,null,null,null,null,null,null,null,null,null,null,{"$f":"IF($C$41=\"\",\"\",$C$41)","v":""},{"$f":"IF($D$35=\"Concern\",\"(**)\",IF(OR($D$35=\"Fair\",$D$35=\"Poor\"),\"**\",\"\"))","v":""},null,null,null,null,null,null,null,null,null,null,null,null,null,null,null,null,null,null,null,null,null,null,null,null,{"$f":"$C$37","v":"Morphology   H"},{"$f":"IF($D$37=\"Concern\",\"(H)\",IF(OR($D$37=\"Fair\",$D$37=\"Poor\"),\"H\",\"\"))","v":""},null,null,null,null,null,null,null,null,null,null,null,null,null,null,null,null,null,null,null,null,null,null,null,null,{"$f":"IF($C$41=\"\",\"\",$C$41)","v":""},{"$f":"IF($D$41=\"Concern\",\"(**)\",IF(OR($D$41=\"Fair\",$D$41=\"Poor\"),\"**\",\"\"))","v":""},null,null,null,null,null,null,null,null,null,null,null,null,null,null,null,null,null,null,null,null,null,null,null,null,{"$f":"$C$43","v":"Taste & Odor   O"},{"$f":"IF($D$43=\"Concern\",\"(O)\",IF(OR($D$43=\"Fair\",$D$43=\"Poor\"),\"O\",\"\"))","v":""}]
[null,"Tissue",{"$f":"\"Spec. Chem.   \"&HN45","v":"Spec. Chem.   PCB"},"NA","NA","NA",{"$f":"$HO$15&\"  \"&$HO$16&\"  \"&$HO$17&\"  \"&$HO$18&\"  \"&$HO$19&\"  \"&$HO$20","v":"          "},{"$f":"$HO$28&\"  \"&$HO$29&\"  \"&$HO$30&\"  \"&$HO$31&\"  \"&$HO$32&\"  \"&$HO$33","v":"          "},null,null,null,null,null,null,{"$f":"$C$18","v":"Invertebrates   I"},{"$f":"IF($D$18=\"Concern\",\"(I)\",IF(OR($D$18=\"Fair\",$D$18=\"Poor\"),\"I\",\"\"))","v":""},null,null,null,null,null,null,null,null,null,null,null,null,null,null,null,null,null,null,null,null,null,null,null,null,{"$f":"$C$24","v":"Temperature    T"},{"$f":"IF($D$24=\"Concern\",\"(T)\",IF(OR($D$24=\"Fair\",$D$24=\"Poor\"),\"T\",\"\"))","v":""},null,null,null,null,null,null,null,null,null,null,null,null,null,null,null,null,null,null,null,null,null,null,null,null,{"$f":"IF($C$30=\"\",\"\",$C$30)","v":""},{"$f":"IF($D$30=\"Concern\",\"(**)\",IF(OR($D$30=\"Fair\",$D$30=\"Poor\"),\"**\",\"\"))","v":""},null,null,null,null,null,null,null,null,null,null,null,null,null,null,null,null,null,null,null,null,null,null,null,null,null,null,null,null,null,null,null,null,null,null,null,null,null,null,null,null,null,null,null,null,null,null,null,null,null,null,null,null,null,null,null,null,null,null,null,null,null,null,null,null,null,null,null,null,null,null,null,null,null,null,null,null,{"$f":"$C$38","v":"Riparian Zone   R"},{"$f":"IF($D$38=\"Concern\",\"(R)\",IF(OR($D$38=\"Fair\",$D$38=\"Poor\"),\"R\",\"\"))","v":""},null,null,null,null,null,null,null,null,null,null,null,null,null,null,null,null,null,null,null,null,null,null,null,null,null,null,null,null,null,null,null,null,null,null,null,null,null,null,null,null,null,null,null,null,null,null,null,null,null,null,{"$f":"$C$44","v":"Turb/Color   C"},{"$f":"IF($D$44=\"Concern\",\"(C)\",IF(OR($D$44=\"Fair\",$D$44=\"Poor\"),\"C\",\"\"))","v":""}]
[null,null,null,null,null,null,null,null,null,null,null,null,null,null,{"$f":"$C$19","v":"Fish   F"},{"$f":"IF($D$19=\"Concern\",\"(F)\",IF(OR($D$19=\"Fair\",$D$19=\"Poor\"),\"F\",\"\"))","v":""},null,null,null,null,null,null,null,null,null,null,null,null,null,null,null,null,null,null,null,null,null,null,null,null,{"$f":"$C$25","v":"Ionic Strength    Z"},{"$f":"IF($D$25=\"Concern\",\"(Z)\",IF(OR($D$25=\"Fair\",$D$25=\"Poor\"),\"Z\",\"\"))","v":""},null,null,null,null,null,null,null,null,null,null,null,null,null,null,null,null,null,null,null,null,null,null,null,null,null,null,null,null,null,null,null,null,null,null,null,null,null,null,null,null,null,null,null,null,null,null,null,null,null,null,"Pollution  Indicators (Causes):  ",null,{"$f":"CP52&\" \"&CP53&\" \"&CP54","v":"  "},null,null,null,null,null,null,null,null,null,null,null,null,null,null,null,null,null,null,null,null,null,null,null,null,null,null,null,null,null,null,null,null,null,null,null,null,null,null,null,null,null,null,null,null,null,null,null,null,null,{"$f":"IF($C$39=\"\",\"\",$C$39)","v":""},{"$f":"IF($D$39=\"Concern\",\"(**)\",IF(OR($D$39=\"Fair\",$D$39=\"Poor\"),\"**\",\"\"))","v":""},null,null,null,null,null,null,null,null,null,null,null,null,null,null,null,null,null,null,null,null,null,null,null,null,null,null,null,null,null,null,null,null,null,null,null,null,null,null,null,null,null,null,null,null,null,null,null,null,null,null,{"$f":"$C$45","v":"Nuisance Plants   V"},{"$f":"IF($D$45=\"Concern\",\"(V)\",IF(OR($D$45=\"Fair\",$D$45=\"Poor\"),\"V\",\"\"))","v":""},null,null,null,null,null,null,null,null,null,null,null,null,null,null,null,null,null,null,null,null,null,null,null,null,null,null,null,null,null,null,null,null,null,null,null,null,null,null,null,null,null,null,null,null,null,null,null,null,null,null,"Pollution  Indicators (Causes):  ",null,{"$f":"IP52&\" \"&IP53&\" \"&IP54","v":"  "}]
[null,"Sediment","Unknown   U","NA","NA","NA",{"$f":"$IO$15&\"  \"&$IO$16&\"  \"&$IO$17&\"  \"&$IO$18&\"  \"&$IO$19&\"  \"&$IO$20","v":"          "},{"$f":"$IO$28&\"  \"&$IO$29&\"  \"&$IO$30&\"  \"&$IO$31&\"  \"&$IO$32&\"  \"&$IO$33","v":"          "},null,null,null,null,null,null,{"$f":"$C$20","v":"Wildlife   W"},{"$f":"IF($D$20=\"Concern\",\"(W)\",IF(OR($D$20=\"Fair\",$D$20=\"Poor\"),\"W\",\"\"))","v":""},null,null,null,null,null,null,null,null,null,null,null,null,null,null,null,null,null,null,null,null,null,null,null,null,{"$f":"$C$26","v":"Sus. Solids    SS"},{"$f":"IF($D$26=\"Concern\",\"(SS)\",IF(OR($D$26=\"Fair\",$D$26=\"Poor\"),\"SS\",\"\"))","v":""},null,null,null,null,null,null,null,null,null,null,null,null,null,null,null,null,null,null,null,null,null,null,null,null,null,null,null,null,null,null,null,null,null,null,null,null,null,null,null,null,null,null,null,null,null,null,null,null,null,null,null,null,null,null,null,null,null,null,null,null,null,null,null,null,null,null,null,null,null,null,null,null,null,null,null,null,null,null,null,null,null,null,null,null,null,null,null,null,null,null,null,null,null,null,null,null,null,null,null,null,null,null,null,null,null,null,null,null,null,null,null,null,null,null,null,null,null,null,null,null,null,null,null,null,null,null,null,null,null,null,null,null,null,null,null,null,null,null,null,null,null,null,null,null,null,null,null,null,null,null,null,null,null,null,{"$f":"$C$46","v":"Trash /Debris   D"},{"$f":"IF($D$46=\"Concern\",\"(D)\",IF(OR($D$46=\"Fair\",$D$46=\"Poor\"),\"D\",\"\"))","v":""},null,null,null,null,null,null,null,null,null,null,null,null,null,null,null,null,null,null,null,null,null,null,null,null,"Pollution  Indicators (Causes):  ",null,{"$f":"HP53&\" \"&HP54","v":" "}]
[null,null,{"$f":"\"Spec. Chem.   \"&IN44","v":"Spec. Chem.   DDT"},"NA",null,null,null,null,null,null,null,null,null,null,{"$f":"IF($C$21=\"\",\"\",$C$21)","v":""},{"$f":"IF($D$21=\"Concern\",\"(**)\",IF(OR($D$21=\"Fair\",$D$21=\"Poor\"),\"**\",\"\"))","v":""},null,null,null,null,null,null,null,null,null,null,null,null,null,null,null,null,null,null,null,null,null,null,null,null,{"$f":"IF($C$27=\"\",\"\",$C$27)","v":""},{"$f":"IF($D$27=\"Concern\",\"(**)\",IF(OR($D$27=\"Fair\",$D$27=\"Poor\"),\"**\",\"\"))","v":""},null,null,null,null,null,null,null,null,null,null,null,null,null,null,null,null,null,null,null,null,null,null,null,null,null,null,null,null,null,null,null,null,null,null,null,null,null,null,null,null,null,null,null,null,null,null,null,null,null,null,{"$f":"$B$31","v":"Toxicity"},null,null,null,null,null,null,null,null,null,null,null,null,null,null,null,null,null,null,null,null,null,null,null,null,null,null,null,null,null,null,null,null,null,null,null,null,null,null,null,null,null,null,null,null,null,null,null,null,null,null,null,null,null,null,null,null,null,null,null,null,null,null,null,null,null,null,null,null,null,null,null,null,null,null,null,null,null,null,null,null,null,null,null,null,null,null,null,null,null,null,null,null,null,null,null,null,null,null,null,null,null,null,null,{"$f":"IF($C$47=\"\",\"\",$C$47)","v":""},{"$f":"IF($D$47=\"Concern\",\"(**)\",IF(OR($D$47=\"Fair\",$D$47=\"Poor\"),\"**\",\"\"))","v":""},null,null,null,null,null,null,null,null,null,null,null,null,null,null,null,null,null,null,null,null,null,null,null,null,null,null,null,null,null,null,null,null,null,null,null,null,null,null,null,null,null,null,null,null,null,null,null,null,null,null,{"$f":"$B$50","v":"Sediment"}]
[null,null,null,null,null,null,null,null,null,null,null,null,null,null,null,null,null,null,null,null,null,null,null,null,null,null,null,null,null,null,null,null,null,null,null,null,null,null,null,null,null,null,null,null,null,null,null,null,null,null,null,null,null,null,null,null,null,null,null,null,null,null,null,null,null,null,null,null,null,null,null,null,null,null,null,null,null,null,null,null,null,null,null,null,null,null,null,null,null,null,null,null,{"$f":"$C$31","v":"Unknown   U"},{"$f":"IF($D$31=\"Concern\",\"(U)\",IF(OR($D$31=\"Fair\",$D$31=\"Poor\"),\"U\",\"\"))","v":""},null,null,null,null,null,null,null,null,null,null,null,null,null,null,null,null,null,null,null,null,null,null,null,null,null,null,null,null,null,null,null,null,null,null,null,null,null,null,null,null,null,null,null,null,null,null,null,null,null,null,null,null,null,null,null,null,null,null,null,null,null,null,null,null,null,null,null,null,null,null,null,null,null,null,null,null,null,null,null,null,null,null,null,null,null,null,null,null,null,null,null,null,null,null,null,null,null,null,null,null,null,null,null,null,null,null,null,null,null,null,null,null,null,null,null,null,null,null,null,null,null,null,null,null,null,null,null,null,{"$f":"$B$48","v":"Tissue"},null,null,null,null,null,null,null,null,null,null,null,null,null,null,null,null,null,null,null,null,null,null,null,null,null,{"$f":"$C$50","v":"Unknown   U"},{"$f":"IF($D$50=\"Concern\",\"(U)\",IF(OR($D$50=\"Fair\",$D$50=\"Poor\"),\"U\",\"\"))","v":""}]
[null,"Comments:",null,null,null,null,null,"*  Suspected Source  ",null,null,null,null,null,null,null,null,null,null,null,null,null,null,null,null,null,null,null,null,null,null,null,null,null,null,null,null,null,null,null,null,null,null,null,null,null,null,null,null,null,null,null,null,null,null,null,null,null,null,null,null,null,null,null,null,null,null,null,null,null,null,null,null,null,null,null,null,null,null,null,null,null,null,null,null,null,null,null,null,null,null,null,null,{"$f":"$C$32","v":"Spec. Chem.  Ag"},{"$f":"IF($D$32=\"Concern\",\"(\"&CN44&\")\",IF(OR($D$32=\"Fair\",$D$32=\"Poor\"),CN44,\"\"))","v":""},null,null,null,null,null,null,null,null,null,null,null,null,null,null,null,null,null,null,null,null,null,null,null,null,null,null,null,null,null,null,null,null,null,null,null,null,null,null,null,null,null,null,null,null,null,null,null,null,null,null,null,null,null,null,null,null,null,null,null,null,null,null,null,null,null,null,null,null,null,null,null,null,null,null,null,null,null,null,null,null,null,null,null,null,null,null,null,null,null,null,null,null,null,null,null,null,null,null,null,null,null,null,null,null,null,null,null,null,null,null,null,null,null,null,null,null,null,null,null,null,null,null,null,null,null,null,null,null,{"$f":"$C$48","v":"Spec. Chem.   PCB"},{"$f":"IF($D$48=\"Concern\",\"(\"&HN45&\")\",IF(OR($D$48=\"Fair\",$D$32=\"Poor\"),HN45,\"\"))","v":""},null,null,null,null,null,null,null,null,null,null,null,null,null,null,null,null,null,null,null,null,null,null,null,null,{"$f":"$C$51","v":"Spec. Chem.   DDT"},{"$f":"IF($D$51=\"Concern\",\"(\"&IN44&\")\",IF(OR($D$51=\"Fair\",$D$51=\"Poor\"),IN44,\"\"))","v":""}]
[null,null,null,null,null,null,null,"** Potential Source  ",null,null,null,null,null,null,null,null,null,null,null,null,null,null,null,null,null,null,null,null,null,null,null,null,null,null,null,null,null,null,null,null,null,null,null,null,null,null,null,null,null,null,null,null,null,null,null,null,null,null,null,null,null,null,null,null,null,null,null,null,null,null,null,null,null,null,null,null,null,null,null,null,null,null,null,null,null,null,null,null,null,null,null,null,{"$f":"IF($C$33=\"\",\"\",$C$33)","v":""},{"$f":"IF($D$33=\"Concern\",\"(**)\",IF(OR($D$33=\"Fair\",$D$33=\"Poor\"),\"**\",\"\"))","v":""},null,null,null,null,null,null,null,null,null,null,null,null,null,null,null,null,null,null,null,null,null,null,null,null,null,null,null,null,null,null,null,null,null,null,null,null,null,null,null,null,null,null,null,null,null,null,null,null,null,null,null,null,null,null,null,null,null,null,null,null,null,null,null,null,null,null,null,null,null,null,null,null,null,null,null,null,null,null,null,null,null,null,null,null,null,null,null,null,null,null,null,null,null,null,null,null,null,null,null,null,null,null,null,null,null,null,null,null,null,null,null,null,null,null,null,null,null,null,null,null,null,null,null,null,null,null,null,null,{"$f":"IF($C$49=\"\",\"\",$C$49)","v":""},{"$f":"IF($D$49=\"Concern\",\"(**)\",IF(OR($D$49=\"Fair\",$D$49=\"Poor\"),\"**\",\"\"))","v":""},null,null,null,null,null,null,null,null,null,null,null,null,null,null,null,null,null,null,null,null,null,null,null,null,{"$f":"IF($C$52=\"\",\"\",$C$52)","v":""},{"$f":"IF($D$52=\"Concern\",\"(**)\",IF(OR($D$52=\"Fair\",$D$52=\"Poor\"),\"**\",\"\"))","v":""}]
[null,null,null,null,null,null,null,"No asterisk: Known Source  "]
[null,null,null,null,null,null,null,"[Out of Segment Source ]  "]
[]
[]
[]
[null,"SegNameLong:  ","iiiiii"]
[null,"Seg Name:  ","iii"]
[null,"Seg Num:  "]
[null,"Seg Size:  "]
[null,"Seg Class:  "]
[]
[]
[]
[]
[]
[]
[]
[]
[]
[]
[]
[]
[null,null,null,{"$f":"A99","v":""}]
[null,null,null,{"$f":"B99","v":""}]
[null,null,null,{"$f":"C99","v":""}]
[null,null,null,{"$f":"D99","v":""}]
[null,null,null,{"$f":"E99","v":""}]
[null,null,null,{"$f":"F99","v":""}]
[null,null,null,{"$f":"G99","v":""}]
[null,null,null,{"$f":"H99","v":""}]
[null,null,null,{"$f":"I99","v":""}]
[]
[]
[]
[]
[]
[]
[]
[]
[]
[]
[]
[]
[]
[{"$f":"TRIM(A101&\" \"&A102&\" \"&A103&\" \"&A104&\" \"&A105&\" \"&A106)","v":""},{"$f":"TRIM(B101&\" \"&B102&\" \"&B103&\" \"&B104&\" \"&B105&\" \"&B106)","v":""},"","","","","","",""]

{"sheet":"Seg10","index":14,"n_rows":99,"n_cols":311,"rows_kept":99,"cut":false,"hidden":false,"merged":[[15,1,20,1],[15,4,20,4],[15,5,20,5],[15,6,20,6],[15,7,20,7],[13,1,14,1],[13,2,14,3],[13,4,14,4],[13,5,14,5],[14,6,14,7],[27,1,29,1],[27,4,29,4],[27,5,29,5],[27,6,29,6],[27,7,29,7],[21,1,26,1],[21,4,26,4],[21,5,26,5],[21,6,26,6],[21,7,26,7],[49,6,51,6],[49,7,51,7],[30,1,32,1],[30,4,32,4],[30,5,32,5],[30,6,32,6],[30,7,32,7],[33,1,34,1],[33,4,34,4],[33,5,34,5],[33,6,34,6],[33,7,34,7],[43,91,45,94],[35,1,38,1],[35,4,38,4],[35,5,38,5],[35,6,38,6],[35,7,38,7],[39,1,40,1],[39,4,40,4],[39,5,40,5],[39,6,40,6],[39,7,40,7],[52,1,55,1],[43,247,45,250],[44,221,46,224],[47,1,48,1],[47,4,48,4],[47,5,48,5],[47,6,48,6],[47,7,48,7],[41,1,46,1],[41,4,46,4],[41,5,46,5],[41,6,46,6],[41,7,46,7],[49,1,51,1],[49,4,51,4],[49,5,51,5]]}
[]
[]
[]
[]
[null,null,null,null,null,null,null,null,null,null,null,null,null,null,null,null,null,null,null,null,null,null,null,null,null,null,null,null,null,null,null,null,null,null,null,null,null,null,null,null,null,null,null,null,null,null,null,null,null,null,null,null,null,null,null,null,null,null,null,null,null,null,null,null,null,null,null,null,null,null,null,null,null,null,null,null,null,null,null,null,null,null,null,null,null,null,null,null,null,null,null,null,null,null,null,null,null,null,null,null,null,null,null,null,null,null,null,null,null,null,null,null,null,null,null,null,null,null,null,null,null,null,null,null,null,null,null,null,null,null,null,null,null,null,null,null,null,null,null,null,null,null,null,null,null,null,null,null,null,null,null,null,null,null,null,null,null,null,null,null,null,null,null,null,null,null,null,null,null,null,null,null,null,null,null,null,null,null,null,null,null,null,null,null,null,null,null,null,null,null,null,null,null,null,null,null,null,null,null,null,null,null,null,null,null,null,null,null,null,null,null,null,null,null,null,null,null,null,null,null,null,null,null,null,null,null,null,null,null,null,null,null,null,null,null,null,null,null,null,null,null,null,null,null,null,null,null,null,null,null,null,null,null,null,null,null,null,null,null,null,null,null,null,null,null,null,null,null,null,null,null,null,null,null,null,null,null,null,null,null,null,null,null,null,null,"List of all codes from all groups for this segment, organized by Source Type. "]
[null,null,null,null,null,null,null,null,null,null,null,null,null,null,null,null,null,null,null,null,null,null,null,null,null,null,null,null,null,null,null,null,null,null,null,null,null,null,null,null,null,null,null,null,null,null,null,null,null,null,null,null,null,null,null,null,null,null,null,null,null,null,null,null,null,null,null,null,null,null,null,null,null,null,null,null,null,null,null,null,null,null,null,null,null,null,null,null,null,null,null,null,null,null,null,null,null,null,null,null,null,null,null,null,null,null,null,null,null,null,null,null,null,null,null,null,null,null,null,null,null,null,null,null,null,null,null,null,null,null,null,null,null,null,null,null,null,null,null,null,null,null,null,null,null,null,null,null,null,null,null,null,null,null,null,null,null,null,null,null,null,null,null,null,null,null,null,null,null,null,null,null,null,null,null,null,null,null,null,null,null,null,null,null,null,null,null,null,null,null,null,null,null,null,null,null,null,null,null,null,null,null,null,null,null,null,null,null,null,null,null,null,null,null,null,null,null,null,null,null,null,null,null,null,null,null,null,null,null,null,null,null,null,null,null,null,null,null,null,null,null,null,null,null,null,null,null,null,null,null,null,null,null,null,null,null,null,null,null,null,null,null,null,null,null,null,null,null,null,null,null,null,null,null,null,null,null,null,null,null,null,null,null,null,null,"List is updated only when \"SourceRC_List\" macro is run. Macro is run manually by touching button at right or when Source report card is activated."]
[null,null,null,null,null,null,null,null,null,null,null,null,null,null,null,null,null,null,null,null,null,null,null,null,null,null,null,null,null,null,null,null,null,null,null,null,null,null,null,null,null,null,null,null,null,null,null,null,null,null,null,null,null,null,null,null,null,null,null,null,null,null,null,null,null,null,null,null,null,null,null,null,null,null,null,null,null,null,null,null,null,null,null,null,null,null,null,null,null,null,null,null,null,null,null,null,null,null,null,null,null,null,null,null,null,null,null,null,null,null,null,null,null,null,null,null,null,null,null,null,null,null,null,null,null,null,null,null,null,null,null,null,null,null,null,null,null,null,null,null,null,null,null,null,null,null,null,null,null,null,null,null,null,null,null,null,null,null,null,null,null,null,null,null,null,null,null,null,null,null,null,null,null,null,null,null,null,null,null,null,null,null,null,null,null,null,null,null,null,null,null,null,null,null,null,null,null,null,null,null,null,null,null,null,null,null,null,null,null,null,null,null,null,null,null,null,null,null,null,null,null,null,null,null,null,null,null,null,null,null,null,null,null,null,null,null,null,null,null,null,null,null,null,null,null,null,null,null,null,null,null,null,null,null,null,null,null,null,null,null,null,null,null,null,null,null,null,null,null,null,null,null,null,null,null,null,null,null,null,null,null,null,null,null,null,"Numbers indicate knowledge about the certainty of assessment: 0 = N/A, 1 = Potential Source, 2 = Suspected Source, 3 = Known Source."]
[null,null,null,null,null,null,null,null,null,null,null,null,null,null,null,null,null,null,null,null,null,null,null,null,null,null,null,null,null,null,null,null,null,null,null,null,null,null,null,null,null,null,null,null,null,null,null,null,null,null,null,null,null,null,null,null,null,null,null,null,null,null,null,null,null,null,null,null,null,null,null,null,null,null,null,null,null,null,null,null,null,null,null,null,null,null,null,null,null,null,null,null,null,null,null,null,null,null,null,null,null,null,null,null,null,null,null,null,null,null,null,null,null,null,null,null,null,null,null,null,null,null,null,null,null,null,null,null,null,null,null,null,null,null,null,null,null,null,null,null,null,null,null,null,null,null,null,null,null,null,null,null,null,null,null,null,null,null,null,null,null,null,null,null,null,null,null,null,null,null,null,null,null,null,null,null,null,null,null,null,null,null,null,null,null,null,null,null,null,null,null,null,null,null,null,null,null,null,null,null,null,null,null,null,null,null,null,null,null,null,null,null,null,null,null,null,null,null,null,null,null,null,null,null,null,null,null,null,null,null,null,null,null,null,null,null,null,null,null,null,null,null,null,null,null,null,null,null,null,null,null,null,null,null,null,null,null,null,null,null,null,null,null,null,null,null,null,null,null,null,null,null,null,null,null,null,null,null,null,null,null,null,null,null,null,"This list is then processed below to remove duplicates."]
[null,null,null,null,null,null,null,null,null,null,null,null,null,"Designate Point & Non-Point Sources",null,null,null,null,null,null,null,null,null,null,null,null,null,null,null,null,null,null,null,null,null,null,null,null,null,"Designate Point & Non-Point Sources",null,null,null,null,null,null,null,null,null,null,null,null,null,null,null,null,null,null,null,null,null,null,null,null,null,"Designate Point & Non-Point Sources",null,null,null,null,null,null,null,null,null,null,null,null,null,null,null,null,null,null,null,null,null,null,null,null,null,"Designate Point & Non-Point Sources",null,null,null,null,null,null,null,null,null,null,null,null,null,null,null,null,null,null,null,null,null,null,null,null,null,"Designate Point & Non-Point Sources",null,null,null,null,null,null,null,null,null,null,null,null,null,null,null,null,null,null,null,null,null,null,null,null,null,"Designate Point & Non-Point Sources",null,null,null,null,null,null,null,null,null,null,null,null,null,null,null,null,null,null,null,null,null,null,null,null,null,"Designate Point & Non-Point Sources",null,null,null,null,null,null,null,null,null,null,null,null,null,null,null,null,null,null,null,null,null,null,null,null,null,"Designate Point & Non-Point Sources",null,null,null,null,null,null,null,null,null,null,null,null,null,null,null,null,null,null,null,null,null,null,null,null,null,"Designate Point & Non-Point Sources",null,null,null,null,null,null,null,null,null,null,null,null,null,null,null,null,null,null,null,null,null,null,null,null,null,"Designate Point & Non-Point Sources"]
[null,null,null,null,null,null,null,null,null,null,null,null,null,null,null,null,null,null,null,null,null,null,null,"Codes selected at left are distributed according to Source Type. "]
[null,{"$f":"\"River Basin: \"&RiverBasinName","v":"River Basin: Test River Basin"},null,null,null,null,{"$f":"\"Data Year:  \"&AssessmentYear","v":"Data Year:  2011"},null,null,null,null,null,null,null,null,null,null,null,null,null,null,null,null,"Numbers indicate confidence of assessment: 0 = N/A, 1 = Potential Source, 2 = Suspected Source, 3 = Known Source.",null,null,null,null,null,null,null,null,null,null,null,null,null,null,null,null,null,null,null,null,null,null,null,null,null,null,null,null,null,null,null,null,null,null,null,null,null,null,null,null,null,null,null,null,null,null,null,null,null,null,null,null,null,null,null,null,null,null,null,null,null,null,null,null,null,null,null,null,null,null,null,null,null,null,null,null,null,null,null,null,null,null,null,null,null,null,null,null,null,null,null,null,null,null,null,null,null,null,null,null,null,null,null,null,null,null,null,null,null,null,null,null,null,null,null,null,null,null,null,null,null,null,null,null,null,null,null,null,null,null,null,null,null,null,null,null,null,null,null,null,null,null,null,null,null,null,null,null,null,null,null,null,null,null,null,null,null,null,null,null,null,null,null,null,null,null,null,null,null,null,null,null,null,null,null,null,null,null,null,null,null,null,null,null,null,null,null,null,null,null,null,null,null,null,null,null,null,null,null,null,null,null,null,null,null,null,null,null,null,null,null,null,null,null,null,null,null,null,null,null,null,null,null,null,null,null,null,null,null,null,null,null,null,null,null,null,null,null,null,null,null,null,null,null,null,null,null,null,null,null,null,null,null,null,null,null,null,null,null,null,null,null,"Municp",null,null,"Industr",null,null,"St Water",null,null,"Res Ext",null,null,"Land Dis",null,null,"Seds",null,null,"Hydro",null,null,"Other",null,null,"Unknown"]
[null,{"$f":"\"Segment Name: \"&C60","v":"Segment Name: jjjjjj"},null,null,null,null,null,null,null,null,null,null,null,null,null,null,null,null,null,null,null,null,null,"These codes are processed by \"SourceRC_List macro and transferred to Source report card."]
[null,{"$f":"\"Class: \"&C64","v":"Class: "},null,{"$f":"\"Size: \"&C63","v":"Size: "},null,null,{"$f":"\"Seg ID #: \"&C62","v":"Seg ID #: "}]
[null,"CATEGORY","INDICATOR ASSESSMENT",null,"OVERALL STATUS","DATA LEVEL","POINT","NONPOINT",null,null,null,null,null,"Point Sources",null,null,null,null,null,null,null,null,null,"Municipal",null,null,"Industrial",null,null,"Storm Water",null,null,"Resource Ext",null,null,"Land Disposal",null,null,null,"Point Sources",null,null,null,null,null,null,null,null,null,"Municipal",null,null,"Industrial",null,null,"Storm Water",null,null,"Resource Ext",null,null,"Land Disposal",null,null,null,"Point Sources",null,null,null,null,null,null,null,null,null,"Municipal",null,null,"Industrial",null,null,"Storm Water",null,null,"Resource Ext",null,null,"Land Disposal",null,null,null,"Point Sources",null,null,null,null,null,null,null,null,null,"Municipal",null,null,"Industrial",null,null,"Storm Water",null,null,"Resource Ext",null,null,"Land Disposal",null,null,null,"Point Sources",null,null,null,null,null,null,null,null,null,"Municipal",null,null,"Industrial",null,null,"Storm Water",null,null,"Resource Ext",null,null,"Land Disposal",null,null,null,"Point Sources",null,null,null,null,null,null,null,null,null,"Municipal",null,null,"Industrial",null,null,"Storm Water",null,null,"Resource Ext",null,null,"Land Disposal",null,null,null,"Point Sources",null,null,null,null,null,null,null,null,null,"Municipal",null,null,"Industrial",null,null,"Storm Water",null,null,"Resource Ext",null,null,"Land Disposal",null,null,null,"Point Sources",null,null,null,null,null,null,null,null,null,"Municipal",null,null,"Industrial",null,null,"Storm Water",null,null,"Resource Ext",null,null,"Land Disposal",null,null,null,"Point Sources",null,null,null,null,null,null,null,null,null,"Municipal",null,null,"Industrial",null,null,"Storm Water",null,null,"Resource Ext",null,null,"Land Disposal",null,null,null,"Point Sources",null,null,null,null,null,null,null,null,null,"Municipal",null,null,"Industrial",null,null,"Storm Water",null,null,"Resource Ext",null,null,"Land Disposal"]
[null,null,null,null,null,null,"Click below to select Sources"]
[null,"Biology","Plank/Peri.   A","NA","NA","NA",{"$f":"$O$15&\"  \"&$O$16&\"  \"&$O$17&\"  \"&$O$18&\"  \"&$O$19&\"  \"&$O$20","v":"          "},{"$f":"$O$28&\"  \"&$O$29&\"  \"&$O$30&\"  \"&$O$31&\"  \"&$O$32&\"  \"&$O$33","v":"          "}]
[null,null,"Macrophyton   M","NA"]
[null,null,"Invertebrates   I","NA"]
[null,null,"Fish   F","NA"]
[null,null,"Wildlife   W","NA"]
[]
[null,"Chemistry","Dis. Oxygen    DO","NA","NA","NA",{"$f":"$AO$15&\"  \"&$AO$16&\"  \"&$AO$17&\"  \"&$AO$18&\"  \"&$AO$19&\"  \"&$AO$20","v":"          "},{"$f":"$AO$28&\"  \"&$AO$29&\"  \"&$AO$30&\"  \"&$AO$31&\"  \"&$AO$32&\"  \"&$AO$33","v":"          "}]
[null,null,"pH     pH","NA"]
[null,null,"Temperature    T","NA"]
[null,null,"Ionic Strength    Z","NA"]
[null,null,"Sus. Solids    SS","NA"]
[null,null,null,null,null,null,null,null,null,null,null,null,null,"Non Point Sources",null,null,null,null,null,null,null,null,null,"Seds",null,null,"Hydromodification",null,null,"Other",null,null,"Unknown",null,null,null,null,null,null,"Non Point Sources",null,null,null,null,null,null,null,null,null,"Seds",null,null,"Hydromodification",null,null,"Other",null,null,"Unknown",null,null,null,null,null,null,"Non Point Sources",null,null,null,null,null,null,null,null,null,"Seds",null,null,"Hydromodification",null,null,"Other",null,null,"Unknown",null,null,null,null,null,null,"Non Point Sources",null,null,null,null,null,null,null,null,null,"Seds",null,null,"Hydromodification",null,null,"Other",null,null,"Unknown",null,null,null,null,null,null,"Non Point Sources",null,null,null,null,null,null,null,null,null,"Seds",null,null,"Hydromodification",null,null,"Other",null,null,"Unknown",null,null,null,null,null,null,"Non Point Sources",null,null,null,null,null,null,null,null,null,"Seds",null,null,"Hydromodification",null,null,"Other",null,null,"Unknown",null,null,null,null,null,null,"Non Point Sources",null,null,null,null,null,null,null,null,null,"Seds",null,null,"Hydromodification",null,null,"Other",null,null,"Unknown",null,null,null,null,null,null,"Non Point Sources",null,null,null,null,null,null,null,null,null,"Seds",null,null,"Hydromodification",null,null,"Other",null,null,"Unknown",null,null,null,null,null,null,"Non Point Sources",null,null,null,null,null,null,null,null,null,"Seds",null,null,"Hydromodification",null,null,"Other",null,null,"Unknown",null,null,null,null,null,null,"Non Point Sources",null,null,null,null,null,null,null,null,null,"Seds",null,null,"Hydromodification",null,null,"Other",null,null,"Unknown"]
[null,"Nutrients","Phosphorus  P","NA","NA","NA",{"$f":"$BO$15&\"  \"&$BO$16&\"  \"&$BO$17&\"  \"&$BO$18&\"  \"&$BO$19&\"  \"&$BO$20","v":"          "},{"$f":"$BO$28&\"  \"&$BO$29&\"  \"&$BO$30&\"  \"&$BO$31&\"  \"&$BO$32&\"  \"&$BO$33","v":"          "}]
[null,null,"Nitrogen   N","NA"]
[]
[null,"Toxicity","Unknown   U","NA","NA","NA",{"$f":"$CO$15&\"  \"&$CO$16&\"  \"&$CO$17&\"  \"&$CO$18&\"  \"&$CO$19&\"  \"&$CO$20","v":"          "},{"$f":"$CO$28&\"  \"&$CO$29&\"  \"&$CO$30&\"  \"&$CO$31&\"  \"&$CO$32&\"  \"&$CO$33","v":"          "}]
[null,null,{"$f":"\"Spec. Chem.  \"&CN44","v":"Spec. Chem.  Ag"},"NA"]
[null,null,null,null,null,null,null,null,null,null,null,null,null,null,null,null,null,null,null,null,null,null,null,null,null,null,null,null,null,null,null,null,null,null,null,null,null,null,null,null,null,null,null,null,null,null,null,null,null,null,null,null,null,null,null,null,null,null,null,null,null,null,null,null,null,null,null,null,null,null,null,null,null,null,null,null,null,null,null,null,null,null,null,null,null,null,null,null,null,null,null,null,null,null,null,null,null,null,null,null,null,null,null,null,null,null,null,null,null,null,null,null,null,null,null,null,null,null,null,null,null,null,null,null,null,null,null,null,null,null,null,null,null,null,null,null,null,null,null,null,null,null,null,null,null,null,null,null,null,null,null,null,null,null,null,null,null,null,null,null,null,null,null,null,null,null,null,null,null,null,null,null,null,null,null,null,null,null,null,null,null,null,null,null,null,null,null,null,null,null,null,null,null,null,null,null,null,null,null,null,null,null,null,null,null,null,null,null,null,null,null,null,null,null,null,null,null,null,null,null,null,null,null,null,null,null,null,null,null,null,null,null,null,null,null,null,null,null,null,null,null,null,null,null,null,null,null,null,null,null,null,null,null,null,null,null,null,null,null,null,null,null,null,null,null,null,null,null,null,null,null,null,null,null,null,null,null,null,null,null,null,null,null,null,null,"The colored cells below reflect this segments pollution status and are replicated on the Sources report card automatically"]
[null,"Flow","Flow  Q","NA","NA","NA",{"$f":"$DO$15&\"  \"&$DO$16&\"  \"&$DO$17&\"  \"&$DO$18&\"  \"&$DO$19&\"  \"&$DO$20","v":"          "},{"$f":"$DO$28&\"  \"&$DO$29&\"  \"&$DO$30&\"  \"&$DO$31&\"  \"&$DO$32&\"  \"&$DO$33","v":"          "},null,null,null,null,null,null,null,null,null,null,null,null,null,null,null,null,null,null,null,null,null,null,null,null,null,null,null,null,null,null,null,null,null,null,null,null,null,null,null,null,null,null,null,null,null,null,null,null,null,null,null,null,null,null,null,null,null,null,null,null,null,null,null,null,null,null,null,null,null,null,null,null,null,null,null,null,null,null,null,null,null,null,null,null,null,null,null,null,null,null,null,null,null,null,null,null,null,null,null,null,null,null,null,null,null,null,null,null,null,null,null,null,null,null,null,null,null,null,null,null,null,null,null,null,null,null,null,null,null,null,null,null,null,null,null,null,null,null,null,null,null,null,null,null,null,null,null,null,null,null,null,null,null,null,null,null,null,null,null,null,null,null,null,null,null,null,null,null,null,null,null,null,null,null,null,null,null,null,null,null,null,null,null,null,null,null,null,null,null,null,null,null,null,null,null,null,null,null,null,null,null,null,null,null,null,null,null,null,null,null,null,null,null,null,null,null,null,null,null,null,null,null,null,null,null,null,null,null,null,null,null,null,null,null,null,null,null,null,null,null,null,null,null,null,null,null,null,null,null,null,null,null,null,null,null,null,null,null,null,null,null,null,null,null,null,null,null,null,null,null,null,null,null,null,null,null,null,null,{"$f":"KA11","v":"Municp"},null,null,{"$f":"KD11","v":"Industr"},null,null,{"$f":"KG11","v":"St Water"},null,null,{"$f":"KJ11","v":"Res Ext"},null,null,{"$f":"KM11","v":"Land Dis"},null,null,{"$f":"KP11","v":"Seds"},null,null,{"$f":"KS11","v":"Hydro"},null,null,{"$f":"KV11","v":"Other"},null,null,{"$f":"KY11","v":"Unknown"}]
[null,null,null,null,null,null,null,null,null,null,null,null,null,null,null,null,null,null,null,null,null,null,null,null,null,null,null,null,null,null,null,null,null,null,null,null,null,null,null,null,null,null,null,null,null,null,null,null,null,null,null,null,null,null,null,null,null,null,null,null,null,null,null,null,null,null,null,null,null,null,null,null,null,null,null,null,null,null,null,null,null,null,null,null,null,null,null,null,null,null,null,null,null,null,null,null,null,null,null,null,null,null,null,null,null,null,null,null,null,null,null,null,null,null,null,null,null,null,null,null,null,null,null,null,null,null,null,null,null,null,null,null,null,null,null,null,null,null,null,null,null,null,null,null,null,null,null,null,null,null,null,null,null,null,null,null,null,null,null,null,null,null,null,null,null,null,null,null,null,null,null,null,null,null,null,null,null,null,null,null,null,null,null,null,null,null,null,null,null,null,null,null,null,null,null,null,null,null,null,null,null,null,null,null,null,null,null,null,null,null,null,null,null,null,null,null,null,null,null,null,null,null,null,null,null,null,null,null,null,null,null,null,null,null,null,null,null,null,null,null,null,null,null,null,null,null,null,null,null,null,null,null,null,null,null,null,null,null,null,null,null,null,null,null,null,null,null,null,null,null,null,null,null,null,null,null,null,null,null,null,null,null,null,null,null,null,{"$f":"TRIM(KA41&\" \"&KA42&\" \"&KA43&\" \"&KA44&\" \"&KA45&\" \"&KA46)","v":""},null,null,{"$f":"TRIM(KD41&\" \"&KD42&\" \"&KD43&\" \"&KD44&\" \"&KD45&\" \"&KD46)","v":""},null,null,{"$f":"TRIM(KG41&\" \"&KG42&\" \"&KG43&\" \"&KG44&\" \"&KG45&\" \"&KG46)","v":""},null,null,{"$f":"TRIM(KJ41&\" \"&KJ42&\" \"&KJ43&\" \"&KJ44&\" \"&KJ45&\" \"&KJ46)","v":""},null,null,{"$f":"TRIM(KM41&\" \"&KM42&\" \"&KM43&\" \"&KM44&\" \"&KM45&\" \"&KM46)","v":""},null,null,{"$f":"TRIM(KP41&\" \"&KP42&\" \"&KP43&\" \"&KP44&\" \"&KP45&\" \"&KP46)","v":""},null,null,{"$f":"TRIM(KS41&\" \"&KS42&\" \"&KS43&\" \"&KS44&\" \"&KS45&\" \"&KS46)","v":""},null,null,{"$f":"TRIM(KV41&\" \"&KV42&\" \"&KV43&\" \"&KV44&\" \"&KV45&\" \"&KV46)","v":""},null,null,{"$f":"TRIM(KY41&\" \"&KY42&\" \"&KY43&\" \"&KY44&\" \"&KY45&\" \"&KY46)","v":""}]
[null,"Habitat","Substrate   S","NA","NA","NA",{"$f":"$EO$15&\"  \"&$EO$16&\"  \"&$EO$17&\"  \"&$EO$18&\"  \"&$EO$19&\"  \"&$EO$20","v":"          "},{"$f":"$EO$28&\"  \"&$EO$29&\"  \"&$EO$30&\"  \"&$EO$31&\"  \"&$EO$32&\"  \"&$EO$33","v":"          "}]
[null,null,"Morphology   H","NA",null,null,null,null,null,null,null,null,null,null,null,null,null,null,null,null,null,null,null,null,null,null,null,null,null,null,null,null,null,null,null,null,null,null,null,null,null,null,null,null,null,null,null,null,null,null,null,null,null,null,null,null,null,null,null,null,null,null,null,null,null,null,null,null,null,null,null,null,null,null,null,null,null,null,null,null,null,null,null,null,null,null,null,null,null,null,null,null,null,null,null,null,null,null,null,null,null,null,null,null,null,null,null,null,null,null,null,null,null,null,null,null,null,null,null,null,null,null,null,null,null,null,null,null,null,null,null,null,null,null,null,null,null,null,null,null,null,null,null,null,null,null,null,null,null,null,null,null,null,null,null,null,null,null,null,null,null,null,null,null,null,null,null,null,null,null,null,null,null,null,null,null,null,null,null,null,null,null,null,null,null,null,null,null,null,null,null,null,null,null,null,null,null,null,null,null,null,null,null,null,null,null,null,null,null,null,null,null,null,null,null,null,null,null,null,null,null,null,null,null,null,null,null,null,null,null,null,null,null,null,null,null,null,null,null,null,null,null,null,null,null,null,null,null,null,null,null,null,null,null,null,null,null,null,null,null,null,null,null,null,null,null,null,null,null,null,null,null,null,null,null,null,null,null,null,null,null,null,null,null,null,"max confid #",{"$f":"MAX(KB11:KB31)","v":0},null,null,{"$f":"MAX(KE11:KE31)","v":0},null,null,{"$f":"MAX(KH11:KH31)","v":0},null,null,{"$f":"MAX(KK11:KK31)","v":0},null,null,{"$f":"MAX(KN11:KN31)","v":0},null,null,{"$f":"MAX(KQ11:KQ31)","v":0},null,null,{"$f":"MAX(KT11:KT31)","v":0},null,null,{"$f":"MAX(KW11:KW31)","v":0},null,null,{"$f":"MAX(KZ11:KZ31)","v":0}]
[null,null,"Riparian Zone   R","NA",null,null,null,null,null,null,null,null,null,null,null,null,null,null,null,null,null,null,null,null,null,null,null,null,null,null,null,null,null,null,null,null,null,null,null,null,null,null,null,null,null,null,null,null,null,null,null,null,null,null,null,null,null,null,null,null,null,null,null,null,null,null,null,null,null,null,null,null,null,null,null,null,null,null,null,null,null,null,null,null,null,null,null,null,null,null,null,null,null,null,null,null,null,null,null,null,null,null,null,null,null,null,null,null,null,null,null,null,null,null,null,null,null,null,null,null,null,null,null,null,null,null,null,null,null,null,null,null,null,null,null,null,null,null,null,null,null,null,null,null,null,null,null,null,null,null,null,null,null,null,null,null,null,null,null,null,null,null,null,null,null,null,null,null,null,null,null,null,null,null,null,null,null,null,null,null,null,null,null,null,null,null,null,null,null,null,null,null,null,null,null,null,null,null,null,null,null,null,null,null,null,null,null,null,null,null,null,null,null,null,null,null,null,null,null,null,null,null,null,null,null,null,null,null,null,null,null,null,null,null,null,null,null,null,null,null,null,null,null,null,null,null,null,null,null,null,null,null,null,null,null,null,null,null,null,null,null,null,null,null,null,null,null,null,null,null,null,null,null,null,null,null,null,null,null,null,null,null,null,null,null,"The lists below show unique codes in lists assembled above. Numbers are max confidence #, used to color cells for worst case. The codes are catenated in the colored boxes above for transfer to Sources RC when that sheet is activated."]
[]
[null,"Bacteria","Bacteria   B","NA","NA","NA",{"$f":"$FO$15&\"  \"&$FO$16&\"  \"&$FO$17&\"  \"&$FO$18&\"  \"&$FO$19&\"  \"&$FO$20","v":"          "},{"$f":"$FO$28&\"  \"&$FO$29&\"  \"&$FO$30&\"  \"&$FO$31&\"  \"&$FO$32&\"  \"&$FO$33","v":"          "},null,null,null,null,null,null,null,null,null,null,null,null,null,null,null,null,null,null,null,null,null,null,null,null,null,null,null,null,null,null,null,null,null,null,null,null,null,null,null,null,null,null,null,null,null,null,null,null,null,null,null,null,null,null,null,null,null,null,null,null,null,null,null,null,null,null,null,null,null,null,null,null,null,null,null,null,null,null,null,null,null,null,null,null,null,null,null,null,null,null,null,null,null,null,null,null,null,null,null,null,null,null,null,null,null,null,null,null,null,null,null,null,null,null,null,null,null,null,null,null,null,null,null,null,null,null,null,null,null,null,null,null,null,null,null,null,null,null,null,null,null,null,null,null,null,null,null,null,null,null,null,null,null,null,null,null,null,null,null,null,null,null,null,null,null,null,null,null,null,null,null,null,null,null,null,null,null,null,null,null,null,null,null,null,null,null,null,null,null,null,null,null,null,null,null,null,null,null,null,null,null,null,null,null,null,null,null,null,null,null,null,null,null,null,null,null,null,null,null,null,null,null,null,null,null,null,null,null,null,null,null,null,null,null,null,null,null,null,null,null,null,null,null,null,null,null,null,null,null,null,null,null,null,null,null,null,null,null,null,null,null,null,null,null,null,null,null,null,null,null,null,null,null,null,null,null,null,null,"Municp",null,null,"Industr",null,null,"St Water",null,null,"Res Ext",null,null,"Land Dis",null,null,"Seds",null,null,"Hydro",null,null,"Other",null,null,"Unknown"]
[]
[null,"Aesthetics","Oil & Grease   G","NA","NA","NA",{"$f":"$GO$15&\"  \"&$GO$16&\"  \"&$GO$17&\"  \"&$GO$18&\"  \"&$GO$19&\"  \"&$GO$20","v":"          "},{"$f":"$GO$28&\"  \"&$GO$29&\"  \"&$GO$30&\"  \"&$GO$31&\"  \"&$GO$32&\"  \"&$GO$33","v":"          "},null,null,null,null,null,null,null,null,null,null,null,null,null,null,null,null,null,null,null,null,null,null,null,null,null,null,null,null,null,null,null,null,null,null,null,null,null,null,null,null,null,null,null,null,null,null,null,null,null,null,null,null,null,null,null,null,null,null,null,null,null,null,null,null,null,null,null,null,null,null,null,null,null,null,null,null,null,null,null,null,null,null,null,"Identify the suspected toxic chemical substance below (e.g., Hg, PCB, etc). ",null,null,null,null,null,null,null,null,null,null,null,null,null,null,null,null,null,null,null,null,null,null,null,null,null,null,null,null,null,null,null,null,null,null,null,null,null,null,null,null,null,null,null,null,null,null,null,null,null,null,null,null,null,null,null,null,null,null,null,null,null,null,null,null,null,null,null,null,null,null,null,null,null,null,null,null,null,null,null,null,null,null,null,null,null,null,null,null,null,null,null,null,null,null,null,null,null,null,null,null,null,null,null,null,null,null,null,null,null,null,null,null,null,null,null,null,null,null,null,null,null,null,null,null,null,null,null,null,null,null,null,null,null,null,null,null,null,null,null,null,null,null,null,null,null,null,null,null,null,null,null,null,null,null,null,"Identify the suspected toxic chemical substance below (e.g., Hg, PCB, etc). "]
[null,null,"Taste & Odor   O","NA",null,null,null,null,null,null,null,null,null,null,"Pollution  Indicators (Causes):  ",null,{"$f":"P46&\" \"&P47&\" \"&P48&\" \"&P49&\" \"&P50&\" \"&P51","v":"     "},null,null,null,null,null,null,null,null,null,null,null,null,null,null,null,null,null,null,null,null,null,null,null,"Pollution  Indicators (Causes):  ",null,{"$f":"AP46&\" \"&AP47&\" \"&AP48&\" \"&AP49&\" \"&AP50&\" \"&AP51","v":"     "},null,null,null,null,null,null,null,null,null,null,null,null,null,null,null,null,null,null,null,null,null,null,null,"Pollution  Indicators (Causes):  ",null,{"$f":"BP46&\" \"&BP47&\" \"&BP48","v":"  "},null,null,null,null,null,null,null,null,null,null,null,null,null,null,null,null,null,null,null,null,null,null,null,null,null,null,null,null,null,null,null,null,null,null,null,null,null,null,null,null,null,null,null,null,null,null,null,null,null,"Pollution  Indicators (Causes):  ",null,{"$f":"DP46&\" \"&DP47","v":" "},null,null,null,null,null,null,null,null,null,null,null,null,null,null,null,null,null,null,null,null,null,null,null,"Pollution  Indicators (Causes):  ",null,{"$f":"EP46&\" \"&EP47&\" \"&EP48&\" \"&EP49","v":"   "},null,null,null,null,null,null,null,null,null,null,null,null,null,null,null,null,null,null,null,null,null,null,null,"Pollution  Indicators (Causes):  ",null,{"$f":"FP46&\" \"&FP47","v":" "},null,null,null,null,null,null,null,null,null,null,null,null,null,null,null,null,null,null,null,null,null,null,null,"Pollution  Indicators (Causes):  ",null,{"$f":"GP46&\" \"&GP47&\" \"&GP48&\" \"&GP49&\" \"&GP50&\" \"&GP51","v":"     "},null,null,null,null,null,null,null,null,null,null,null,null,null,null,null,null,null,null,null,null,null,null,"Identify the suspected toxic chemical substance below (e.g., Hg, PCB, etc). "]
[null,null,"Turb/Color   C","NA",null,null,null,null,null,null,null,null,null,null,null,null,null,null,null,null,null,null,null,null,null,null,null,null,null,null,null,null,null,null,null,null,null,null,null,null,null,null,null,null,null,null,null,null,null,null,null,null,null,null,null,null,null,null,null,null,null,null,null,null,null,null,null,null,null,null,null,null,null,null,null,null,null,null,null,null,null,null,null,null,null,null,null,null,null,null,null,"Ag",null,null,null,null,null,null,null,null,null,null,null,null,null,null,null,null,null,null,null,null,null,null,null,null,null,null,null,null,null,null,null,null,null,null,null,null,null,null,null,null,null,null,null,null,null,null,null,null,null,null,null,null,null,null,null,null,null,null,null,null,null,null,null,null,null,null,null,null,null,null,null,null,null,null,null,null,null,null,null,null,null,null,null,null,null,null,null,null,null,null,null,null,null,null,null,null,null,null,null,null,null,null,null,null,null,null,null,null,null,null,null,null,null,null,null,null,null,null,null,null,null,null,null,null,null,null,null,null,null,null,null,null,null,null,null,null,null,null,null,null,null,null,null,null,null,null,null,null,null,null,null,null,null,null,null,"DDT"]
[null,null,"Nuisance Plants   V","NA",null,null,null,null,null,null,null,null,null,null,{"$f":"$B$16","v":"Biology"},null,null,null,null,null,null,null,null,null,null,null,null,null,null,null,null,null,null,null,null,null,null,null,null,null,{"$f":"$B$22","v":"Chemistry"},null,null,null,null,null,null,null,null,null,null,null,null,null,null,null,null,null,null,null,null,null,null,null,null,null,{"$f":"$B$28","v":"Nutrients"},null,null,null,null,null,null,null,null,null,null,null,null,null,null,null,null,null,null,null,null,null,null,null,null,null,null,null,null,null,null,null,null,null,null,null,null,null,null,null,null,null,null,null,null,null,null,null,null,null,null,null,{"$f":"$B$34","v":"Flow"},null,null,null,null,null,null,null,null,null,null,null,null,null,null,null,null,null,null,null,null,null,null,null,null,null,{"$f":"$B$36","v":"Habitat"},null,null,null,null,null,null,null,null,null,null,null,null,null,null,null,null,null,null,null,null,null,null,null,null,null,{"$f":"$B$40","v":"Bacteria"},null,null,null,null,null,null,null,null,null,null,null,null,null,null,null,null,null,null,null,null,null,null,null,null,null,{"$f":"$B$42","v":"Aesthetics"},null,null,null,null,null,null,null,null,null,null,null,null,null,null,null,null,null,null,null,null,null,null,null,null,"PCB"]
[null,null,"Trash /Debris   D","NA",null,null,null,null,null,null,null,null,null,null,{"$f":"$C$16","v":"Plank/Peri.   A"},{"$f":"IF($D$16=\"Concern\",\"(A)\",IF(OR($D$16=\"Fair\",$D$16=\"Poor\"),\"A\",\"\"))","v":""},null,null,null,null,null,null,null,null,null,null,null,null,null,null,null,null,null,null,null,null,null,null,null,null,{"$f":"$C$22","v":"Dis. Oxygen    DO"},{"$f":"IF($D$22=\"Concern\",\"(DO)\",IF(OR($D$22=\"Fair\",$D$22=\"Poor\"),\"DO\",\"\"))","v":""},null,null,null,null,null,null,null,null,null,null,null,null,null,null,null,null,null,null,null,null,null,null,null,null,{"$f":"$C$28","v":"Phosphorus  P"},{"$f":"IF($D$28=\"Concern\",\"(P)\",IF(OR($D$28=\"Fair\",$D$28=\"Poor\"),\"P\",\"\"))","v":""},null,null,null,null,null,null,null,null,null,null,null,null,null,null,null,null,null,null,null,null,null,null,null,null,null,null,null,null,null,null,null,null,null,null,null,null,null,null,null,null,null,null,null,null,null,null,null,null,null,null,{"$f":"$C$34","v":"Flow  Q"},{"$f":"IF($D$34=\"Concern\",\"(O)\",IF(OR($D$34=\"Fair\",$D$34=\"Poor\"),\"O\",\"\"))","v":""},null,null,null,null,null,null,null,null,null,null,null,null,null,null,null,null,null,null,null,null,null,null,null,null,{"$f":"$C$36","v":"Substrate   S"},{"$f":"IF($D$36=\"Concern\",\"(S)\",IF(OR($D$36=\"Fair\",$D$36=\"Poor\"),\"S\",\"\"))","v":""},null,null,null,null,null,null,null,null,null,null,null,null,null,null,null,null,null,null,null,null,null,null,null,null,{"$f":"$C$40","v":"Bacteria   B"},{"$f":"IF($D$40=\"Concern\",\"(B)\",IF(OR($D$40=\"Fair\",$D$40=\"Poor\"),\"B\",\"\"))","v":""},null,null,null,null,null,null,null,null,null,null,null,null,null,null,null,null,null,null,null,null,null,null,null,null,{"$f":"$C$42","v":"Oil & Grease   G"},{"$f":"IF($D$42=\"Concern\",\"(G)\",IF(OR($D$42=\"Fair\",$D$42=\"Poor\"),\"G\",\"\"))","v":""}]
[null,null,null,null,null,null,null,null,null,null,null,null,null,null,{"$f":"$C$17","v":"Macrophyton   M"},{"$f":"IF($D$17=\"Concern\",\"(M)\",IF(OR($D$17=\"Fair\",$D$17=\"Poor\"),\"M\",\"\"))","v":""},null,null,null,null,null,null,null,null,null,null,null,null,null,null,null,null,null,null,null,null,null,null,null,null,{"$f":"$C$23","v":"pH     pH"},{"$f":"IF($D$23=\"Concern\",\"(pH)\",IF(OR($D$23=\"Fair\",$D$23=\"Poor\"),\"pH\",\"\"))","v":""},null,null,null,null,null,null,null,null,null,null,null,null,null,null,null,null,null,null,null,null,null,null,null,null,{"$f":"$C$29","v":"Nitrogen   N"},{"$f":"IF($D$29=\"Concern\",\"(N)\",IF(OR($D$29=\"Fair\",$D$29=\"Poor\"),\"N\",\"\"))","v":""},null,null,null,null,null,null,null,null,null,null,null,null,null,null,null,null,null,null,null,null,null,null,null,null,null,null,null,null,null,null,null,null,null,null,null,null,null,null,null,null,null,null,null,null,null,null,null,null,null,null,{"$f":"IF($C$41=\"\",\"\",$C$41)","v":""},{"$f":"IF($D$35=\"Concern\",\"(**)\",IF(OR($D$35=\"Fair\",$D$35=\"Poor\"),\"**\",\"\"))","v":""},null,null,null,null,null,null,null,null,null,null,null,null,null,null,null,null,null,null,null,null,null,null,null,null,{"$f":"$C$37","v":"Morphology   H"},{"$f":"IF($D$37=\"Concern\",\"(H)\",IF(OR($D$37=\"Fair\",$D$37=\"Poor\"),\"H\",\"\"))","v":""},null,null,null,null,null,null,null,null,null,null,null,null,null,null,null,null,null,null,null,null,null,null,null,null,{"$f":"IF($C$41=\"\",\"\",$C$41)","v":""},{"$f":"IF($D$41=\"Concern\",\"(**)\",IF(OR($D$41=\"Fair\",$D$41=\"Poor\"),\"**\",\"\"))","v":""},null,null,null,null,null,null,null,null,null,null,null,null,null,null,null,null,null,null,null,null,null,null,null,null,{"$f":"$C$43","v":"Taste & Odor   O"},{"$f":"IF($D$43=\"Concern\",\"(O)\",IF(OR($D$43=\"Fair\",$D$43=\"Poor\"),\"O\",\"\"))","v":""}]
[null,"Tissue",{"$f":"\"Spec. Chem.   \"&HN45","v":"Spec. Chem.   PCB"},"NA","NA","NA",{"$f":"$HO$15&\"  \"&$HO$16&\"  \"&$HO$17&\"  \"&$HO$18&\"  \"&$HO$19&\"  \"&$HO$20","v":"          "},{"$f":"$HO$28&\"  \"&$HO$29&\"  \"&$HO$30&\"  \"&$HO$31&\"  \"&$HO$32&\"  \"&$HO$33","v":"          "},null,null,null,null,null,null,{"$f":"$C$18","v":"Invertebrates   I"},{"$f":"IF($D$18=\"Concern\",\"(I)\",IF(OR($D$18=\"Fair\",$D$18=\"Poor\"),\"I\",\"\"))","v":""},null,null,null,null,null,null,null,null,null,null,null,null,null,null,null,null,null,null,null,null,null,null,null,null,{"$f":"$C$24","v":"Temperature    T"},{"$f":"IF($D$24=\"Concern\",\"(T)\",IF(OR($D$24=\"Fair\",$D$24=\"Poor\"),\"T\",\"\"))","v":""},null,null,null,null,null,null,null,null,null,null,null,null,null,null,null,null,null,null,null,null,null,null,null,null,{"$f":"IF($C$30=\"\",\"\",$C$30)","v":""},{"$f":"IF($D$30=\"Concern\",\"(**)\",IF(OR($D$30=\"Fair\",$D$30=\"Poor\"),\"**\",\"\"))","v":""},null,null,null,null,null,null,null,null,null,null,null,null,null,null,null,null,null,null,null,null,null,null,null,null,null,null,null,null,null,null,null,null,null,null,null,null,null,null,null,null,null,null,null,null,null,null,null,null,null,null,null,null,null,null,null,null,null,null,null,null,null,null,null,null,null,null,null,null,null,null,null,null,null,null,null,null,{"$f":"$C$38","v":"Riparian Zone   R"},{"$f":"IF($D$38=\"Concern\",\"(R)\",IF(OR($D$38=\"Fair\",$D$38=\"Poor\"),\"R\",\"\"))","v":""},null,null,null,null,null,null,null,null,null,null,null,null,null,null,null,null,null,null,null,null,null,null,null,null,null,null,null,null,null,null,null,null,null,null,null,null,null,null,null,null,null,null,null,null,null,null,null,null,null,null,{"$f":"$C$44","v":"Turb/Color   C"},{"$f":"IF($D$44=\"Concern\",\"(C)\",IF(OR($D$44=\"Fair\",$D$44=\"Poor\"),\"C\",\"\"))","v":""}]
[null,null,null,null,null,null,null,null,null,null,null,null,null,null,{"$f":"$C$19","v":"Fish   F"},{"$f":"IF($D$19=\"Concern\",\"(F)\",IF(OR($D$19=\"Fair\",$D$19=\"Poor\"),\"F\",\"\"))","v":""},null,null,null,null,null,null,null,null,null,null,null,null,null,null,null,null,null,null,null,null,null,null,null,null,{"$f":"$C$25","v":"Ionic Strength    Z"},{"$f":"IF($D$25=\"Concern\",\"(Z)\",IF(OR($D$25=\"Fair\",$D$25=\"Poor\"),\"Z\",\"\"))","v":""},null,null,null,null,null,null,null,null,null,null,null,null,null,null,null,null,null,null,null,null,null,null,null,null,null,null,null,null,null,null,null,null,null,null,null,null,null,null,null,null,null,null,null,null,null,null,null,null,null,null,"Pollution  Indicators (Causes):  ",null,{"$f":"CP52&\" \"&CP53&\" \"&CP54","v":"  "},null,null,null,null,null,null,null,null,null,null,null,null,null,null,null,null,null,null,null,null,null,null,null,null,null,null,null,null,null,null,null,null,null,null,null,null,null,null,null,null,null,null,null,null,null,null,null,null,null,{"$f":"IF($C$39=\"\",\"\",$C$39)","v":""},{"$f":"IF($D$39=\"Concern\",\"(**)\",IF(OR($D$39=\"Fair\",$D$39=\"Poor\"),\"**\",\"\"))","v":""},null,null,null,null,null,null,null,null,null,null,null,null,null,null,null,null,null,null,null,null,null,null,null,null,null,null,null,null,null,null,null,null,null,null,null,null,null,null,null,null,null,null,null,null,null,null,null,null,null,null,{"$f":"$C$45","v":"Nuisance Plants   V"},{"$f":"IF($D$45=\"Concern\",\"(V)\",IF(OR($D$45=\"Fair\",$D$45=\"Poor\"),\"V\",\"\"))","v":""},null,null,null,null,null,null,null,null,null,null,null,null,null,null,null,null,null,null,null,null,null,null,null,null,null,null,null,null,null,null,null,null,null,null,null,null,null,null,null,null,null,null,null,null,null,null,null,null,null,null,"Pollution  Indicators (Causes):  ",null,{"$f":"IP52&\" \"&IP53&\" \"&IP54","v":"  "}]
[null,"Sediment","Unknown   U","NA","NA","NA",{"$f":"$IO$15&\"  \"&$IO$16&\"  \"&$IO$17&\"  \"&$IO$18&\"  \"&$IO$19&\"  \"&$IO$20","v":"          "},{"$f":"$IO$28&\"  \"&$IO$29&\"  \"&$IO$30&\"  \"&$IO$31&\"  \"&$IO$32&\"  \"&$IO$33","v":"          "},null,null,null,null,null,null,{"$f":"$C$20","v":"Wildlife   W"},{"$f":"IF($D$20=\"Concern\",\"(W)\",IF(OR($D$20=\"Fair\",$D$20=\"Poor\"),\"W\",\"\"))","v":""},null,null,null,null,null,null,null,null,null,null,null,null,null,null,null,null,null,null,null,null,null,null,null,null,{"$f":"$C$26","v":"Sus. Solids    SS"},{"$f":"IF($D$26=\"Concern\",\"(SS)\",IF(OR($D$26=\"Fair\",$D$26=\"Poor\"),\"SS\",\"\"))","v":""},null,null,null,null,null,null,null,null,null,null,null,null,null,null,null,null,null,null,null,null,null,null,null,null,null,null,null,null,null,null,null,null,null,null,null,null,null,null,null,null,null,null,null,null,null,null,null,null,null,null,null,null,null,null,null,null,null,null,null,null,null,null,null,null,null,null,null,null,null,null,null,null,null,null,null,null,null,null,null,null,null,null,null,null,null,null,null,null,null,null,null,null,null,null,null,null,null,null,null,null,null,null,null,null,null,null,null,null,null,null,null,null,null,null,null,null,null,null,null,null,null,null,null,null,null,null,null,null,null,null,null,null,null,null,null,null,null,null,null,null,null,null,null,null,null,null,null,null,null,null,null,null,null,null,{"$f":"$C$46","v":"Trash /Debris   D"},{"$f":"IF($D$46=\"Concern\",\"(D)\",IF(OR($D$46=\"Fair\",$D$46=\"Poor\"),\"D\",\"\"))","v":""},null,null,null,null,null,null,null,null,null,null,null,null,null,null,null,null,null,null,null,null,null,null,null,null,"Pollution  Indicators (Causes):  ",null,{"$f":"HP53&\" \"&HP54","v":" "}]
[null,null,{"$f":"\"Spec. Chem.   \"&IN44","v":"Spec. Chem.   DDT"},"NA",null,null,null,null,null,null,null,null,null,null,{"$f":"IF($C$21=\"\",\"\",$C$21)","v":""},{"$f":"IF($D$21=\"Concern\",\"(**)\",IF(OR($D$21=\"Fair\",$D$21=\"Poor\"),\"**\",\"\"))","v":""},null,null,null,null,null,null,null,null,null,null,null,null,null,null,null,null,null,null,null,null,null,null,null,null,{"$f":"IF($C$27=\"\",\"\",$C$27)","v":""},{"$f":"IF($D$27=\"Concern\",\"(**)\",IF(OR($D$27=\"Fair\",$D$27=\"Poor\"),\"**\",\"\"))","v":""},null,null,null,null,null,null,null,null,null,null,null,null,null,null,null,null,null,null,null,null,null,null,null,null,null,null,null,null,null,null,null,null,null,null,null,null,null,null,null,null,null,null,null,null,null,null,null,null,null,null,{"$f":"$B$31","v":"Toxicity"},null,null,null,null,null,null,null,null,null,null,null,null,null,null,null,null,null,null,null,null,null,null,null,null,null,null,null,null,null,null,null,null,null,null,null,null,null,null,null,null,null,null,null,null,null,null,null,null,null,null,null,null,null,null,null,null,null,null,null,null,null,null,null,null,null,null,null,null,null,null,null,null,null,null,null,null,null,null,null,null,null,null,null,null,null,null,null,null,null,null,null,null,null,null,null,null,null,null,null,null,null,null,null,{"$f":"IF($C$47=\"\",\"\",$C$47)","v":""},{"$f":"IF($D$47=\"Concern\",\"(**)\",IF(OR($D$47=\"Fair\",$D$47=\"Poor\"),\"**\",\"\"))","v":""},null,null,null,null,null,null,null,null,null,null,null,null,null,null,null,null,null,null,null,null,null,null,null,null,null,null,null,null,null,null,null,null,null,null,null,null,null,null,null,null,null,null,null,null,null,null,null,null,null,null,{"$f":"$B$50","v":"Sediment"}]
[null,null,null,null,null,null,null,null,null,null,null,null,null,null,null,null,null,null,null,null,null,null,null,null,null,null,null,null,null,null,null,null,null,null,null,null,null,null,null,null,null,null,null,null,null,null,null,null,null,null,null,null,null,null,null,null,null,null,null,null,null,null,null,null,null,null,null,null,null,null,null,null,null,null,null,null,null,null,null,null,null,null,null,null,null,null,null,null,null,null,null,null,{"$f":"$C$31","v":"Unknown   U"},{"$f":"IF($D$31=\"Concern\",\"(U)\",IF(OR($D$31=\"Fair\",$D$31=\"Poor\"),\"U\",\"\"))","v":""},null,null,null,null,null,null,null,null,null,null,null,null,null,null,null,null,null,null,null,null,null,null,null,null,null,null,null,null,null,null,null,null,null,null,null,null,null,null,null,null,null,null,null,null,null,null,null,null,null,null,null,null,null,null,null,null,null,null,null,null,null,null,null,null,null,null,null,null,null,null,null,null,null,null,null,null,null,null,null,null,null,null,null,null,null,null,null,null,null,null,null,null,null,null,null,null,null,null,null,null,null,null,null,null,null,null,null,null,null,null,null,null,null,null,null,null,null,null,null,null,null,null,null,null,null,null,null,null,{"$f":"$B$48","v":"Tissue"},null,null,null,null,null,null,null,null,null,null,null,null,null,null,null,null,null,null,null,null,null,null,null,null,null,{"$f":"$C$50","v":"Unknown   U"},{"$f":"IF($D$50=\"Concern\",\"(U)\",IF(OR($D$50=\"Fair\",$D$50=\"Poor\"),\"U\",\"\"))","v":""}]
[null,"Comments:",null,null,null,null,null,"*  Suspected Source  ",null,null,null,null,null,null,null,null,null,null,null,null,null,null,null,null,null,null,null,null,null,null,null,null,null,null,null,null,null,null,null,null,null,null,null,null,null,null,null,null,null,null,null,null,null,null,null,null,null,null,null,null,null,null,null,null,null,null,null,null,null,null,null,null,null,null,null,null,null,null,null,null,null,null,null,null,null,null,null,null,null,null,null,null,{"$f":"$C$32","v":"Spec. Chem.  Ag"},{"$f":"IF($D$32=\"Concern\",\"(\"&CN44&\")\",IF(OR($D$32=\"Fair\",$D$32=\"Poor\"),CN44,\"\"))","v":""},null,null,null,null,null,null,null,null,null,null,null,null,null,null,null,null,null,null,null,null,null,null,null,null,null,null,null,null,null,null,null,null,null,null,null,null,null,null,null,null,null,null,null,null,null,null,null,null,null,null,null,null,null,null,null,null,null,null,null,null,null,null,null,null,null,null,null,null,null,null,null,null,null,null,null,null,null,null,null,null,null,null,null,null,null,null,null,null,null,null,null,null,null,null,null,null,null,null,null,null,null,null,null,null,null,null,null,null,null,null,null,null,null,null,null,null,null,null,null,null,null,null,null,null,null,null,null,null,{"$f":"$C$48","v":"Spec. Chem.   PCB"},{"$f":"IF($D$48=\"Concern\",\"(\"&HN45&\")\",IF(OR($D$48=\"Fair\",$D$32=\"Poor\"),HN45,\"\"))","v":""},null,null,null,null,null,null,null,null,null,null,null,null,null,null,null,null,null,null,null,null,null,null,null,null,{"$f":"$C$51","v":"Spec. Chem.   DDT"},{"$f":"IF($D$51=\"Concern\",\"(\"&IN44&\")\",IF(OR($D$51=\"Fair\",$D$51=\"Poor\"),IN44,\"\"))","v":""}]
[null,null,null,null,null,null,null,"** Potential Source  ",null,null,null,null,null,null,null,null,null,null,null,null,null,null,null,null,null,null,null,null,null,null,null,null,null,null,null,null,null,null,null,null,null,null,null,null,null,null,null,null,null,null,null,null,null,null,null,null,null,null,null,null,null,null,null,null,null,null,null,null,null,null,null,null,null,null,null,null,null,null,null,null,null,null,null,null,null,null,null,null,null,null,null,null,{"$f":"IF($C$33=\"\",\"\",$C$33)","v":""},{"$f":"IF($D$33=\"Concern\",\"(**)\",IF(OR($D$33=\"Fair\",$D$33=\"Poor\"),\"**\",\"\"))","v":""},null,null,null,null,null,null,null,null,null,null,null,null,null,null,null,null,null,null,null,null,null,null,null,null,null,null,null,null,null,null,null,null,null,null,null,null,null,null,null,null,null,null,null,null,null,null,null,null,null,null,null,null,null,null,null,null,null,null,null,null,null,null,null,null,null,null,null,null,null,null,null,null,null,null,null,null,null,null,null,null,null,null,null,null,null,null,null,null,null,null,null,null,null,null,null,null,null,null,null,null,null,null,null,null,null,null,null,null,null,null,null,null,null,null,null,null,null,null,null,null,null,null,null,null,null,null,null,null,{"$f":"IF($C$49=\"\",\"\",$C$49)","v":""},{"$f":"IF($D$49=\"Concern\",\"(**)\",IF(OR($D$49=\"Fair\",$D$49=\"Poor\"),\"**\",\"\"))","v":""},null,null,null,null,null,null,null,null,null,null,null,null,null,null,null,null,null,null,null,null,null,null,null,null,{"$f":"IF($C$52=\"\",\"\",$C$52)","v":""},{"$f":"IF($D$52=\"Concern\",\"(**)\",IF(OR($D$52=\"Fair\",$D$52=\"Poor\"),\"**\",\"\"))","v":""}]
[null,null,null,null,null,null,null,"No asterisk: Known Source  "]
[null,null,null,null,null,null,null,"[Out of Segment Source ]  "]
[]
[]
[]
[null,"SegNameLong:  ","jjjjjj"]
[null,"Seg Name:  ","jjj"]
[null,"Seg Num:  "]
[null,"Seg Size:  "]
[null,"Seg Class:  "]
[]
[]
[]
[]
[]
[]
[]
[]
[]
[]
[]
[]
[null,null,null,{"$f":"A99","v":""}]
[null,null,null,{"$f":"B99","v":""}]
[null,null,null,{"$f":"C99","v":""}]
[null,null,null,{"$f":"D99","v":""}]
[null,null,null,{"$f":"E99","v":""}]
[null,null,null,{"$f":"F99","v":""}]
[null,null,null,{"$f":"G99","v":""}]
[null,null,null,{"$f":"H99","v":""}]
[null,null,null,{"$f":"I99","v":""}]
[]
[]
[]
[]
[]
[]
[]
[]
[]
[]
[]
[]
[]
[{"$f":"TRIM(A101&\" \"&A102&\" \"&A103&\" \"&A104&\" \"&A105&\" \"&A106)","v":""},{"$f":"TRIM(B101&\" \"&B102&\" \"&B103&\" \"&B104&\" \"&B105&\" \"&B106)","v":""},"","","","","","",""]

{"sheet":"Seg11","index":15,"n_rows":99,"n_cols":311,"rows_kept":99,"cut":false,"hidden":false,"merged":[[15,1,20,1],[15,4,20,4],[15,5,20,5],[15,6,20,6],[15,7,20,7],[13,1,14,1],[13,2,14,3],[13,4,14,4],[13,5,14,5],[14,6,14,7],[27,1,29,1],[27,4,29,4],[27,5,29,5],[27,6,29,6],[27,7,29,7],[21,1,26,1],[21,4,26,4],[21,5,26,5],[21,6,26,6],[21,7,26,7],[49,6,51,6],[49,7,51,7],[30,1,32,1],[30,4,32,4],[30,5,32,5],[30,6,32,6],[30,7,32,7],[33,1,34,1],[33,4,34,4],[33,5,34,5],[33,6,34,6],[33,7,34,7],[43,91,45,94],[35,1,38,1],[35,4,38,4],[35,5,38,5],[35,6,38,6],[35,7,38,7],[39,1,40,1],[39,4,40,4],[39,5,40,5],[39,6,40,6],[39,7,40,7],[52,1,55,1],[43,247,45,250],[44,221,46,224],[47,1,48,1],[47,4,48,4],[47,5,48,5],[47,6,48,6],[47,7,48,7],[41,1,46,1],[41,4,46,4],[41,5,46,5],[41,6,46,6],[41,7,46,7],[49,1,51,1],[49,4,51,4],[49,5,51,5]]}
[]
[]
[]
[]
[null,null,null,null,null,null,null,null,null,null,null,null,null,null,null,null,null,null,null,null,null,null,null,null,null,null,null,null,null,null,null,null,null,null,null,null,null,null,null,null,null,null,null,null,null,null,null,null,null,null,null,null,null,null,null,null,null,null,null,null,null,null,null,null,null,null,null,null,null,null,null,null,null,null,null,null,null,null,null,null,null,null,null,null,null,null,null,null,null,null,null,null,null,null,null,null,null,null,null,null,null,null,null,null,null,null,null,null,null,null,null,null,null,null,null,null,null,null,null,null,null,null,null,null,null,null,null,null,null,null,null,null,null,null,null,null,null,null,null,null,null,null,null,null,null,null,null,null,null,null,null,null,null,null,null,null,null,null,null,null,null,null,null,null,null,null,null,null,null,null,null,null,null,null,null,null,null,null,null,null,null,null,null,null,null,null,null,null,null,null,null,null,null,null,null,null,null,null,null,null,null,null,null,null,null,null,null,null,null,null,null,null,null,null,null,null,null,null,null,null,null,null,null,null,null,null,null,null,null,null,null,null,null,null,null,null,null,null,null,null,null,null,null,null,null,null,null,null,null,null,null,null,null,null,null,null,null,null,null,null,null,null,null,null,null,null,null,null,null,null,null,null,null,null,null,null,null,null,null,null,null,null,null,null,null,"List of all codes from all groups for this segment, organized by Source Type. "]
[null,null,null,null,null,null,null,null,null,null,null,null,null,null,null,null,null,null,null,null,null,null,null,null,null,null,null,null,null,null,null,null,null,null,null,null,null,null,null,null,null,null,null,null,null,null,null,null,null,null,null,null,null,null,null,null,null,null,null,null,null,null,null,null,null,null,null,null,null,null,null,null,null,null,null,null,null,null,null,null,null,null,null,null,null,null,null,null,null,null,null,null,null,null,null,null,null,null,null,null,null,null,null,null,null,null,null,null,null,null,null,null,null,null,null,null,null,null,null,null,null,null,null,null,null,null,null,null,null,null,null,null,null,null,null,null,null,null,null,null,null,null,null,null,null,null,null,null,null,null,null,null,null,null,null,null,null,null,null,null,null,null,null,null,null,null,null,null,null,null,null,null,null,null,null,null,null,null,null,null,null,null,null,null,null,null,null,null,null,null,null,null,null,null,null,null,null,null,null,null,null,null,null,null,null,null,null,null,null,null,null,null,null,null,null,null,null,null,null,null,null,null,null,null,null,null,null,null,null,null,null,null,null,null,null,null,null,null,null,null,null,null,null,null,null,null,null,null,null,null,null,null,null,null,null,null,null,null,null,null,null,null,null,null,null,null,null,null,null,null,null,null,null,null,null,null,null,null,null,null,null,null,null,null,null,"List is updated only when \"SourceRC_List\" macro is run. Macro is run manually by touching button at right or when Source report card is activated."]
[null,null,null,null,null,null,null,null,null,null,null,null,null,null,null,null,null,null,null,null,null,null,null,null,null,null,null,null,null,null,null,null,null,null,null,null,null,null,null,null,null,null,null,null,null,null,null,null,null,null,null,null,null,null,null,null,null,null,null,null,null,null,null,null,null,null,null,null,null,null,null,null,null,null,null,null,null,null,null,null,null,null,null,null,null,null,null,null,null,null,null,null,null,null,null,null,null,null,null,null,null,null,null,null,null,null,null,null,null,null,null,null,null,null,null,null,null,null,null,null,null,null,null,null,null,null,null,null,null,null,null,null,null,null,null,null,null,null,null,null,null,null,null,null,null,null,null,null,null,null,null,null,null,null,null,null,null,null,null,null,null,null,null,null,null,null,null,null,null,null,null,null,null,null,null,null,null,null,null,null,null,null,null,null,null,null,null,null,null,null,null,null,null,null,null,null,null,null,null,null,null,null,null,null,null,null,null,null,null,null,null,null,null,null,null,null,null,null,null,null,null,null,null,null,null,null,null,null,null,null,null,null,null,null,null,null,null,null,null,null,null,null,null,null,null,null,null,null,null,null,null,null,null,null,null,null,null,null,null,null,null,null,null,null,null,null,null,null,null,null,null,null,null,null,null,null,null,null,null,null,null,null,null,null,null,"Numbers indicate knowledge about the certainty of assessment: 0 = N/A, 1 = Potential Source, 2 = Suspected Source, 3 = Known Source."]
[null,null,null,null,null,null,null,null,null,null,null,null,null,null,null,null,null,null,null,null,null,null,null,null,null,null,null,null,null,null,null,null,null,null,null,null,null,null,null,null,null,null,null,null,null,null,null,null,null,null,null,null,null,null,null,null,null,null,null,null,null,null,null,null,null,null,null,null,null,null,null,null,null,null,null,null,null,null,null,null,null,null,null,null,null,null,null,null,null,null,null,null,null,null,null,null,null,null,null,null,null,null,null,null,null,null,null,null,null,null,null,null,null,null,null,null,null,null,null,null,null,null,null,null,null,null,null,null,null,null,null,null,null,null,null,null,null,null,null,null,null,null,null,null,null,null,null,null,null,null,null,null,null,null,null,null,null,null,null,null,null,null,null,null,null,null,null,null,null,null,null,null,null,null,null,null,null,null,null,null,null,null,null,null,null,null,null,null,null,null,null,null,null,null,null,null,null,null,null,null,null,null,null,null,null,null,null,null,null,null,null,null,null,null,null,null,null,null,null,null,null,null,null,null,null,null,null,null,null,null,null,null,null,null,null,null,null,null,null,null,null,null,null,null,null,null,null,null,null,null,null,null,null,null,null,null,null,null,null,null,null,null,null,null,null,null,null,null,null,null,null,null,null,null,null,null,null,null,null,null,null,null,null,null,null,"This list is then processed below to remove duplicates."]
[null,null,null,null,null,null,null,null,null,null,null,null,null,"Designate Point & Non-Point Sources",null,null,null,null,null,null,null,null,null,null,null,null,null,null,null,null,null,null,null,null,null,null,null,null,null,"Designate Point & Non-Point Sources",null,null,null,null,null,null,null,null,null,null,null,null,null,null,null,null,null,null,null,null,null,null,null,null,null,"Designate Point & Non-Point Sources",null,null,null,null,null,null,null,null,null,null,null,null,null,null,null,null,null,null,null,null,null,null,null,null,null,"Designate Point & Non-Point Sources",null,null,null,null,null,null,null,null,null,null,null,null,null,null,null,null,null,null,null,null,null,null,null,null,null,"Designate Point & Non-Point Sources",null,null,null,null,null,null,null,null,null,null,null,null,null,null,null,null,null,null,null,null,null,null,null,null,null,"Designate Point & Non-Point Sources",null,null,null,null,null,null,null,null,null,null,null,null,null,null,null,null,null,null,null,null,null,null,null,null,null,"Designate Point & Non-Point Sources",null,null,null,null,null,null,null,null,null,null,null,null,null,null,null,null,null,null,null,null,null,null,null,null,null,"Designate Point & Non-Point Sources",null,null,null,null,null,null,null,null,null,null,null,null,null,null,null,null,null,null,null,null,null,null,null,null,null,"Designate Point & Non-Point Sources",null,null,null,null,null,null,null,null,null,null,null,null,null,null,null,null,null,null,null,null,null,null,null,null,null,"Designate Point & Non-Point Sources"]
[null,null,null,null,null,null,null,null,null,null,null,null,null,null,null,null,null,null,null,null,null,null,null,"Codes selected at left are distributed according to Source Type. "]
[null,{"$f":"\"River Basin: \"&RiverBasinName","v":"River Basin: Test River Basin"},null,null,null,null,{"$f":"\"Data Year:  \"&AssessmentYear","v":"Data Year:  2011"},null,null,null,null,null,null,null,null,null,null,null,null,null,null,null,null,"Numbers indicate confidence of assessment: 0 = N/A, 1 = Potential Source, 2 = Suspected Source, 3 = Known Source.",null,null,null,null,null,null,null,null,null,null,null,null,null,null,null,null,null,null,null,null,null,null,null,null,null,null,null,null,null,null,null,null,null,null,null,null,null,null,null,null,null,null,null,null,null,null,null,null,null,null,null,null,null,null,null,null,null,null,null,null,null,null,null,null,null,null,null,null,null,null,null,null,null,null,null,null,null,null,null,null,null,null,null,null,null,null,null,null,null,null,null,null,null,null,null,null,null,null,null,null,null,null,null,null,null,null,null,null,null,null,null,null,null,null,null,null,null,null,null,null,null,null,null,null,null,null,null,null,null,null,null,null,null,null,null,null,null,null,null,null,null,null,null,null,null,null,null,null,null,null,null,null,null,null,null,null,null,null,null,null,null,null,null,null,null,null,null,null,null,null,null,null,null,null,null,null,null,null,null,null,null,null,null,null,null,null,null,null,null,null,null,null,null,null,null,null,null,null,null,null,null,null,null,null,null,null,null,null,null,null,null,null,null,null,null,null,null,null,null,null,null,null,null,null,null,null,null,null,null,null,null,null,null,null,null,null,null,null,null,null,null,null,null,null,null,null,null,null,null,null,null,null,null,null,null,null,null,null,null,null,null,null,"Municp",null,null,"Industr",null,null,"St Water",null,null,"Res Ext",null,null,"Land Dis",null,null,"Seds",null,null,"Hydro",null,null,"Other",null,null,"Unknown"]
[null,{"$f":"\"Segment Name: \"&C60","v":"Segment Name: kkkkkk"},null,null,null,null,null,null,null,null,null,null,null,null,null,null,null,null,null,null,null,null,null,"These codes are processed by \"SourceRC_List macro and transferred to Source report card."]
[null,{"$f":"\"Class: \"&C64","v":"Class: "},null,{"$f":"\"Size: \"&C63","v":"Size: "},null,null,{"$f":"\"Seg ID #: \"&C62","v":"Seg ID #: "}]
[null,"CATEGORY","INDICATOR ASSESSMENT",null,"OVERALL STATUS","DATA LEVEL","POINT","NONPOINT",null,null,null,null,null,"Point Sources",null,null,null,null,null,null,null,null,null,"Municipal",null,null,"Industrial",null,null,"Storm Water",null,null,"Resource Ext",null,null,"Land Disposal",null,null,null,"Point Sources",null,null,null,null,null,null,null,null,null,"Municipal",null,null,"Industrial",null,null,"Storm Water",null,null,"Resource Ext",null,null,"Land Disposal",null,null,null,"Point Sources",null,null,null,null,null,null,null,null,null,"Municipal",null,null,"Industrial",null,null,"Storm Water",null,null,"Resource Ext",null,null,"Land Disposal",null,null,null,"Point Sources",null,null,null,null,null,null,null,null,null,"Municipal",null,null,"Industrial",null,null,"Storm Water",null,null,"Resource Ext",null,null,"Land Disposal",null,null,null,"Point Sources",null,null,null,null,null,null,null,null,null,"Municipal",null,null,"Industrial",null,null,"Storm Water",null,null,"Resource Ext",null,null,"Land Disposal",null,null,null,"Point Sources",null,null,null,null,null,null,null,null,null,"Municipal",null,null,"Industrial",null,null,"Storm Water",null,null,"Resource Ext",null,null,"Land Disposal",null,null,null,"Point Sources",null,null,null,null,null,null,null,null,null,"Municipal",null,null,"Industrial",null,null,"Storm Water",null,null,"Resource Ext",null,null,"Land Disposal",null,null,null,"Point Sources",null,null,null,null,null,null,null,null,null,"Municipal",null,null,"Industrial",null,null,"Storm Water",null,null,"Resource Ext",null,null,"Land Disposal",null,null,null,"Point Sources",null,null,null,null,null,null,null,null,null,"Municipal",null,null,"Industrial",null,null,"Storm Water",null,null,"Resource Ext",null,null,"Land Disposal",null,null,null,"Point Sources",null,null,null,null,null,null,null,null,null,"Municipal",null,null,"Industrial",null,null,"Storm Water",null,null,"Resource Ext",null,null,"Land Disposal"]
[null,null,null,null,null,null,"Click below to select Sources"]
[null,"Biology","Plank/Peri.   A","NA","NA","NA",{"$f":"$O$15&\"  \"&$O$16&\"  \"&$O$17&\"  \"&$O$18&\"  \"&$O$19&\"  \"&$O$20","v":"          "},{"$f":"$O$28&\"  \"&$O$29&\"  \"&$O$30&\"  \"&$O$31&\"  \"&$O$32&\"  \"&$O$33","v":"          "}]
[null,null,"Macrophyton   M","NA"]
[null,null,"Invertebrates   I","NA"]
[null,null,"Fish   F","NA"]
[null,null,"Wildlife   W","NA"]
[]
[null,"Chemistry","Dis. Oxygen    DO","NA","NA","NA",{"$f":"$AO$15&\"  \"&$AO$16&\"  \"&$AO$17&\"  \"&$AO$18&\"  \"&$AO$19&\"  \"&$AO$20","v":"          "},{"$f":"$AO$28&\"  \"&$AO$29&\"  \"&$AO$30&\"  \"&$AO$31&\"  \"&$AO$32&\"  \"&$AO$33","v":"          "}]
[null,null,"pH     pH","NA"]
[null,null,"Temperature    T","NA"]
[null,null,"Ionic Strength    Z","NA"]
[null,null,"Sus. Solids    SS","NA"]
[null,null,null,null,null,null,null,null,null,null,null,null,null,"Non Point Sources",null,null,null,null,null,null,null,null,null,"Seds",null,null,"Hydromodification",null,null,"Other",null,null,"Unknown",null,null,null,null,null,null,"Non Point Sources",null,null,null,null,null,null,null,null,null,"Seds",null,null,"Hydromodification",null,null,"Other",null,null,"Unknown",null,null,null,null,null,null,"Non Point Sources",null,null,null,null,null,null,null,null,null,"Seds",null,null,"Hydromodification",null,null,"Other",null,null,"Unknown",null,null,null,null,null,null,"Non Point Sources",null,null,null,null,null,null,null,null,null,"Seds",null,null,"Hydromodification",null,null,"Other",null,null,"Unknown",null,null,null,null,null,null,"Non Point Sources",null,null,null,null,null,null,null,null,null,"Seds",null,null,"Hydromodification",null,null,"Other",null,null,"Unknown",null,null,null,null,null,null,"Non Point Sources",null,null,null,null,null,null,null,null,null,"Seds",null,null,"Hydromodification",null,null,"Other",null,null,"Unknown",null,null,null,null,null,null,"Non Point Sources",null,null,null,null,null,null,null,null,null,"Seds",null,null,"Hydromodification",null,null,"Other",null,null,"Unknown",null,null,null,null,null,null,"Non Point Sources",null,null,null,null,null,null,null,null,null,"Seds",null,null,"Hydromodification",null,null,"Other",null,null,"Unknown",null,null,null,null,null,null,"Non Point Sources",null,null,null,null,null,null,null,null,null,"Seds",null,null,"Hydromodification",null,null,"Other",null,null,"Unknown",null,null,null,null,null,null,"Non Point Sources",null,null,null,null,null,null,null,null,null,"Seds",null,null,"Hydromodification",null,null,"Other",null,null,"Unknown"]
[null,"Nutrients","Phosphorus  P","NA","NA","NA",{"$f":"$BO$15&\"  \"&$BO$16&\"  \"&$BO$17&\"  \"&$BO$18&\"  \"&$BO$19&\"  \"&$BO$20","v":"          "},{"$f":"$BO$28&\"  \"&$BO$29&\"  \"&$BO$30&\"  \"&$BO$31&\"  \"&$BO$32&\"  \"&$BO$33","v":"          "}]
[null,null,"Nitrogen   N","NA"]
[]
[null,"Toxicity","Unknown   U","NA","NA","NA",{"$f":"$CO$15&\"  \"&$CO$16&\"  \"&$CO$17&\"  \"&$CO$18&\"  \"&$CO$19&\"  \"&$CO$20","v":"          "},{"$f":"$CO$28&\"  \"&$CO$29&\"  \"&$CO$30&\"  \"&$CO$31&\"  \"&$CO$32&\"  \"&$CO$33","v":"          "}]
[null,null,{"$f":"\"Spec. Chem.  \"&CN44","v":"Spec. Chem.  Ag"},"NA"]
[null,null,null,null,null,null,null,null,null,null,null,null,null,null,null,null,null,null,null,null,null,null,null,null,null,null,null,null,null,null,null,null,null,null,null,null,null,null,null,null,null,null,null,null,null,null,null,null,null,null,null,null,null,null,null,null,null,null,null,null,null,null,null,null,null,null,null,null,null,null,null,null,null,null,null,null,null,null,null,null,null,null,null,null,null,null,null,null,null,null,null,null,null,null,null,null,null,null,null,null,null,null,null,null,null,null,null,null,null,null,null,null,null,null,null,null,null,null,null,null,null,null,null,null,null,null,null,null,null,null,null,null,null,null,null,null,null,null,null,null,null,null,null,null,null,null,null,null,null,null,null,null,null,null,null,null,null,null,null,null,null,null,null,null,null,null,null,null,null,null,null,null,null,null,null,null,null,null,null,null,null,null,null,null,null,null,null,null,null,null,null,null,null,null,null,null,null,null,null,null,null,null,null,null,null,null,null,null,null,null,null,null,null,null,null,null,null,null,null,null,null,null,null,null,null,null,null,null,null,null,null,null,null,null,null,null,null,null,null,null,null,null,null,null,null,null,null,null,null,null,null,null,null,null,null,null,null,null,null,null,null,null,null,null,null,null,null,null,null,null,null,null,null,null,null,null,null,null,null,null,null,null,null,null,null,"The colored cells below reflect this segments pollution status and are replicated on the Sources report card automatically"]
[null,"Flow","Flow  Q","NA","NA","NA",{"$f":"$DO$15&\"  \"&$DO$16&\"  \"&$DO$17&\"  \"&$DO$18&\"  \"&$DO$19&\"  \"&$DO$20","v":"          "},{"$f":"$DO$28&\"  \"&$DO$29&\"  \"&$DO$30&\"  \"&$DO$31&\"  \"&$DO$32&\"  \"&$DO$33","v":"          "},null,null,null,null,null,null,null,null,null,null,null,null,null,null,null,null,null,null,null,null,null,null,null,null,null,null,null,null,null,null,null,null,null,null,null,null,null,null,null,null,null,null,null,null,null,null,null,null,null,null,null,null,null,null,null,null,null,null,null,null,null,null,null,null,null,null,null,null,null,null,null,null,null,null,null,null,null,null,null,null,null,null,null,null,null,null,null,null,null,null,null,null,null,null,null,null,null,null,null,null,null,null,null,null,null,null,null,null,null,null,null,null,null,null,null,null,null,null,null,null,null,null,null,null,null,null,null,null,null,null,null,null,null,null,null,null,null,null,null,null,null,null,null,null,null,null,null,null,null,null,null,null,null,null,null,null,null,null,null,null,null,null,null,null,null,null,null,null,null,null,null,null,null,null,null,null,null,null,null,null,null,null,null,null,null,null,null,null,null,null,null,null,null,null,null,null,null,null,null,null,null,null,null,null,null,null,null,null,null,null,null,null,null,null,null,null,null,null,null,null,null,null,null,null,null,null,null,null,null,null,null,null,null,null,null,null,null,null,null,null,null,null,null,null,null,null,null,null,null,null,null,null,null,null,null,null,null,null,null,null,null,null,null,null,null,null,null,null,null,null,null,null,null,null,null,null,null,null,{"$f":"KA11","v":"Municp"},null,null,{"$f":"KD11","v":"Industr"},null,null,{"$f":"KG11","v":"St Water"},null,null,{"$f":"KJ11","v":"Res Ext"},null,null,{"$f":"KM11","v":"Land Dis"},null,null,{"$f":"KP11","v":"Seds"},null,null,{"$f":"KS11","v":"Hydro"},null,null,{"$f":"KV11","v":"Other"},null,null,{"$f":"KY11","v":"Unknown"}]
[null,null,null,null,null,null,null,null,null,null,null,null,null,"* designates a Suspected Source",null,null,null,null,null,null,null,null,null,null,null,null,null,null,null,null,null,null,null,null,null,null,null,null,null,"* designates a Suspected Source",null,null,null,null,null,null,null,null,null,null,null,null,null,null,null,null,null,null,null,null,null,null,null,null,null,"* designates a Suspected Source",null,null,null,null,null,null,null,null,null,null,null,null,null,null,null,null,null,null,null,null,null,null,null,null,null,"* designates a Suspected Source",null,null,null,null,null,null,null,null,null,null,null,null,null,null,null,null,null,null,null,null,null,null,null,null,null,"* designates a Suspected Source",null,null,null,null,null,null,null,null,null,null,null,null,null,null,null,null,null,null,null,null,null,null,null,null,null,"* designates a Suspected Source",null,null,null,null,null,null,null,null,null,null,null,null,null,null,null,null,null,null,null,null,null,null,null,null,null,"* designates a Suspected Source",null,null,null,null,null,null,null,null,null,null,null,null,null,null,null,null,null,null,null,null,null,null,null,null,null,"* designates a Suspected Source",null,null,null,null,null,null,null,null,null,null,null,null,null,null,null,null,null,null,null,null,null,null,null,null,null,"* designates a Suspected Source",null,null,null,null,null,null,null,null,null,null,null,null,null,null,null,null,null,null,null,null,null,null,null,null,null,null,null,null,null,null,null,null,null,null,null,null,null,null,null,null,null,null,null,null,null,null,null,null,null,null,null,null,null,null,null,null,null,null,null,null,null,null,null,null,{"$f":"TRIM(KA41&\" \"&KA42&\" \"&KA43&\" \"&KA44&\" \"&KA45&\" \"&KA46)","v":""},null,null,{"$f":"TRIM(KD41&\" \"&KD42&\" \"&KD43&\" \"&KD44&\" \"&KD45&\" \"&KD46)","v":""},null,null,{"$f":"TRIM(KG41&\" \"&KG42&\" \"&KG43&\" \"&KG44&\" \"&KG45&\" \"&KG46)","v":""},null,null,{"$f":"TRIM(KJ41&\" \"&KJ42&\" \"&KJ43&\" \"&KJ44&\" \"&KJ45&\" \"&KJ46)","v":""},null,null,{"$f":"TRIM(KM41&\" \"&KM42&\" \"&KM43&\" \"&KM44&\" \"&KM45&\" \"&KM46)","v":""},null,null,{"$f":"TRIM(KP41&\" \"&KP42&\" \"&KP43&\" \"&KP44&\" \"&KP45&\" \"&KP46)","v":""},null,null,{"$f":"TRIM(KS41&\" \"&KS42&\" \"&KS43&\" \"&KS44&\" \"&KS45&\" \"&KS46)","v":""},null,null,{"$f":"TRIM(KV41&\" \"&KV42&\" \"&KV43&\" \"&KV44&\" \"&KV45&\" \"&KV46)","v":""},null,null,{"$f":"TRIM(KY41&\" \"&KY42&\" \"&KY43&\" \"&KY44&\" \"&KY45&\" \"&KY46)","v":""}]
[null,"Habitat","Substrate   S","NA","NA","NA",{"$f":"$EO$15&\"  \"&$EO$16&\"  \"&$EO$17&\"  \"&$EO$18&\"  \"&$EO$19&\"  \"&$EO$20","v":"          "},{"$f":"$EO$28&\"  \"&$EO$29&\"  \"&$EO$30&\"  \"&$EO$31&\"  \"&$EO$32&\"  \"&$EO$33","v":"          "},null,null,null,null,null,"** designates a Potential Source",null,null,null,null,null,null,null,null,null,null,null,null,null,null,null,null,null,null,null,null,null,null,null,null,null,"** designates a Potential Source",null,null,null,null,null,null,null,null,null,null,null,null,null,null,null,null,null,null,null,null,null,null,null,null,null,"** designates a Potential Source",null,null,null,null,null,null,null,null,null,null,null,null,null,null,null,null,null,null,null,null,null,null,null,null,null,"** designates a Potential Source",null,null,null,null,null,null,null,null,null,null,null,null,null,null,null,null,null,null,null,null,null,null,null,null,null,"** designates a Potential Source",null,null,null,null,null,null,null,null,null,null,null,null,null,null,null,null,null,null,null,null,null,null,null,null,null,"** designates a Potential Source",null,null,null,null,null,null,null,null,null,null,null,null,null,null,null,null,null,null,null,null,null,null,null,null,null,"** designates a Potential Source",null,null,null,null,null,null,null,null,null,null,null,null,null,null,null,null,null,null,null,null,null,null,null,null,null,"** designates a Potential Source",null,null,null,null,null,null,null,null,null,null,null,null,null,null,null,null,null,null,null,null,null,null,null,null,null,"** designates a Potential Source"]
[null,null,"Morphology   H","NA",null,null,null,null,null,null,null,null,null,"No asterisk designates a Known Source",null,null,null,null,null,null,null,null,null,null,null,null,null,null,null,null,null,null,null,null,null,null,null,null,null,"No asterisk designates a Known Source",null,null,null,null,null,null,null,null,null,null,null,null,null,null,null,null,null,null,null,null,null,null,null,null,null,"No asterisk designates a Known Source",null,null,null,null,null,null,null,null,null,null,null,null,null,null,null,null,null,null,null,null,null,null,null,null,null,"No asterisk designates a Known Source",null,null,null,null,null,null,null,null,null,null,null,null,null,null,null,null,null,null,null,null,null,null,null,null,null,"No asterisk designates a Known Source",null,null,null,null,null,null,null,null,null,null,null,null,null,null,null,null,null,null,null,null,null,null,null,null,null,"No asterisk designates a Known Source",null,null,null,null,null,null,null,null,null,null,null,null,null,null,null,null,null,null,null,null,null,null,null,null,null,"No asterisk designates a Known Source",null,null,null,null,null,null,null,null,null,null,null,null,null,null,null,null,null,null,null,null,null,null,null,null,null,"No asterisk designates a Known Source",null,null,null,null,null,null,null,null,null,null,null,null,null,null,null,null,null,null,null,null,null,null,null,null,null,"No asterisk designates a Known Source",null,null,null,null,null,null,null,null,null,null,null,null,null,null,null,null,null,null,null,null,null,null,null,null,null,null,null,null,null,null,null,null,null,null,null,null,null,null,null,null,null,null,null,null,null,null,null,null,null,null,null,null,null,null,null,null,null,null,null,null,null,null,null,"max confid #",{"$f":"MAX(KB11:KB31)","v":0},null,null,{"$f":"MAX(KE11:KE31)","v":0},null,null,{"$f":"MAX(KH11:KH31)","v":0},null,null,{"$f":"MAX(KK11:KK31)","v":0},null,null,{"$f":"MAX(KN11:KN31)","v":0},null,null,{"$f":"MAX(KQ11:KQ31)","v":0},null,null,{"$f":"MAX(KT11:KT31)","v":0},null,null,{"$f":"MAX(KW11:KW31)","v":0},null,null,{"$f":"MAX(KZ11:KZ31)","v":0}]
[null,null,"Riparian Zone   R","NA",null,null,null,null,null,null,null,null,null,"Square brackets designates an Out of Segment Source (i.e., pollutant is a source for downstream segments)",null,null,null,null,null,null,null,null,null,null,null,null,null,null,null,null,null,null,null,null,null,null,null,null,null,"Square brackets designates an Out of Segment Source (i.e., pollutant is a source for downstream segments)",null,null,null,null,null,null,null,null,null,null,null,null,null,null,null,null,null,null,null,null,null,null,null,null,null,"Square brackets designates an Out of Segment Source (i.e., pollutant is a source for downstream segments)",null,null,null,null,null,null,null,null,null,null,null,null,null,null,null,null,null,null,null,null,null,null,null,null,null,"Square brackets designates an Out of Segment Source (i.e., pollutant is a source for downstream segments)",null,null,null,null,null,null,null,null,null,null,null,null,null,null,null,null,null,null,null,null,null,null,null,null,null,"Square brackets designates an Out of Segment Source (i.e., pollutant is a source for downstream segments)",null,null,null,null,null,null,null,null,null,null,null,null,null,null,null,null,null,null,null,null,null,null,null,null,null,"Square brackets designates an Out of Segment Source (i.e., pollutant is a source for downstream segments)",null,null,null,null,null,null,null,null,null,null,null,null,null,null,null,null,null,null,null,null,null,null,null,null,null,"Square brackets designates an Out of Segment Source (i.e., pollutant is a source for downstream segments)",null,null,null,null,null,null,null,null,null,null,null,null,null,null,null,null,null,null,null,null,null,null,null,null,null,"Square brackets designates an Out of Segment Source (i.e., pollutant is a source for downstream segments)",null,null,null,null,null,null,null,null,null,null,null,null,null,null,null,null,null,null,null,null,null,null,null,null,null,"Square brackets designates an Out of Segment Source (i.e., pollutant is a source for downstream segments)",null,null,null,null,null,null,null,null,null,null,null,null,null,null,null,null,null,null,null,null,null,null,null,null,null,null,null,null,null,null,null,null,null,null,null,null,null,null,null,null,null,null,null,null,null,null,null,null,null,null,null,null,null,null,null,null,null,null,null,null,null,null,null,"The lists below show unique codes in lists assembled above. Numbers are max confidence #, used to color cells for worst case. The codes are catenated in the colored boxes above for transfer to Sources RC when that sheet is activated."]
[]
[null,"Bacteria","Bacteria   B","NA","NA","NA",{"$f":"$FO$15&\"  \"&$FO$16&\"  \"&$FO$17&\"  \"&$FO$18&\"  \"&$FO$19&\"  \"&$FO$20","v":"          "},{"$f":"$FO$28&\"  \"&$FO$29&\"  \"&$FO$30&\"  \"&$FO$31&\"  \"&$FO$32&\"  \"&$FO$33","v":"          "},null,null,null,null,null,null,null,null,null,null,null,null,null,null,null,null,null,null,null,null,null,null,null,null,null,null,null,null,null,null,null,null,null,null,null,null,null,null,null,null,null,null,null,null,null,null,null,null,null,null,null,null,null,null,null,null,null,null,null,null,null,null,null,null,null,null,null,null,null,null,null,null,null,null,null,null,null,null,null,null,null,null,null,null,null,null,null,null,null,null,null,null,null,null,null,null,null,null,null,null,null,null,null,null,null,null,null,null,null,null,null,null,null,null,null,null,null,null,null,null,null,null,null,null,null,null,null,null,null,null,null,null,null,null,null,null,null,null,null,null,null,null,null,null,null,null,null,null,null,null,null,null,null,null,null,null,null,null,null,null,null,null,null,null,null,null,null,null,null,null,null,null,null,null,null,null,null,null,null,null,null,null,null,null,null,null,null,null,null,null,null,null,null,null,null,null,null,null,null,null,null,null,null,null,null,null,null,null,null,null,null,null,null,null,null,null,null,null,null,null,null,null,null,null,null,null,null,null,null,null,null,null,null,null,null,null,null,null,null,null,null,null,null,null,null,null,null,null,null,null,null,null,null,null,null,null,null,null,null,null,null,null,null,null,null,null,null,null,null,null,null,null,null,null,null,null,null,null,"Municp",null,null,"Industr",null,null,"St Water",null,null,"Res Ext",null,null,"Land Dis",null,null,"Seds",null,null,"Hydro",null,null,"Other",null,null,"Unknown"]
[]
[null,"Aesthetics","Oil & Grease   G","NA","NA","NA",{"$f":"$GO$15&\"  \"&$GO$16&\"  \"&$GO$17&\"  \"&$GO$18&\"  \"&$GO$19&\"  \"&$GO$20","v":"          "},{"$f":"$GO$28&\"  \"&$GO$29&\"  \"&$GO$30&\"  \"&$GO$31&\"  \"&$GO$32&\"  \"&$GO$33","v":"          "},null,null,null,null,null,null,null,null,null,null,null,null,null,null,null,null,null,null,null,null,null,null,null,null,null,null,null,null,null,null,null,null,null,null,null,null,null,null,null,null,null,null,null,null,null,null,null,null,null,null,null,null,null,null,null,null,null,null,null,null,null,null,null,null,null,null,null,null,null,null,null,null,null,null,null,null,null,null,null,null,null,null,null,"Identify the suspected toxic chemical substance below (e.g., Hg, PCB, etc). ",null,null,null,null,null,null,null,null,null,null,null,null,null,null,null,null,null,null,null,null,null,null,null,null,null,null,null,null,null,null,null,null,null,null,null,null,null,null,null,null,null,null,null,null,null,null,null,null,null,null,null,null,null,null,null,null,null,null,null,null,null,null,null,null,null,null,null,null,null,null,null,null,null,null,null,null,null,null,null,null,null,null,null,null,null,null,null,null,null,null,null,null,null,null,null,null,null,null,null,null,null,null,null,null,null,null,null,null,null,null,null,null,null,null,null,null,null,null,null,null,null,null,null,null,null,null,null,null,null,null,null,null,null,null,null,null,null,null,null,null,null,null,null,null,null,null,null,null,null,null,null,null,null,null,null,"Identify the suspected toxic chemical substance below (e.g., Hg, PCB, etc). "]
[null,null,"Taste & Odor   O","NA",null,null,null,null,null,null,null,null,null,null,"Pollution  Indicators (Causes):  ",null,{"$f":"P46&\" \"&P47&\" \"&P48&\" \"&P49&\" \"&P50&\" \"&P51","v":"     "},null,null,null,null,null,null,null,null,null,null,null,null,null,null,null,null,null,null,null,null,null,null,null,"Pollution  Indicators (Causes):  ",null,{"$f":"AP46&\" \"&AP47&\" \"&AP48&\" \"&AP49&\" \"&AP50&\" \"&AP51","v":"     "},null,null,null,null,null,null,null,null,null,null,null,null,null,null,null,null,null,null,null,null,null,null,null,"Pollution  Indicators (Causes):  ",null,{"$f":"BP46&\" \"&BP47&\" \"&BP48","v":"  "},null,null,null,null,null,null,null,null,null,null,null,null,null,null,null,null,null,null,null,null,null,null,null,null,null,null,null,null,null,null,null,null,null,null,null,null,null,null,null,null,null,null,null,null,null,null,null,null,null,"Pollution  Indicators (Causes):  ",null,{"$f":"DP46&\" \"&DP47","v":" "},null,null,null,null,null,null,null,null,null,null,null,null,null,null,null,null,null,null,null,null,null,null,null,"Pollution  Indicators (Causes):  ",null,{"$f":"EP46&\" \"&EP47&\" \"&EP48&\" \"&EP49","v":"   "},null,null,null,null,null,null,null,null,null,null,null,null,null,null,null,null,null,null,null,null,null,null,null,"Pollution  Indicators (Causes):  ",null,{"$f":"FP46&\" \"&FP47","v":" "},null,null,null,null,null,null,null,null,null,null,null,null,null,null,null,null,null,null,null,null,null,null,null,"Pollution  Indicators (Causes):  ",null,{"$f":"GP46&\" \"&GP47&\" \"&GP48&\" \"&GP49&\" \"&GP50&\" \"&GP51","v":"     "},null,null,null,null,null,null,null,null,null,null,null,null,null,null,null,null,null,null,null,null,null,null,"Identify the suspected toxic chemical substance below (e.g., Hg, PCB, etc). "]
[null,null,"Turb/Color   C","NA",null,null,null,null,null,null,null,null,null,null,null,null,null,null,null,null,null,null,null,null,null,null,null,null,null,null,null,null,null,null,null,null,null,null,null,null,null,null,null,null,null,null,null,null,null,null,null,null,null,null,null,null,null,null,null,null,null,null,null,null,null,null,null,null,null,null,null,null,null,null,null,null,null,null,null,null,null,null,null,null,null,null,null,null,null,null,null,"Ag",null,null,null,null,null,null,null,null,null,null,null,null,null,null,null,null,null,null,null,null,null,null,null,null,null,null,null,null,null,null,null,null,null,null,null,null,null,null,null,null,null,null,null,null,null,null,null,null,null,null,null,null,null,null,null,null,null,null,null,null,null,null,null,null,null,null,null,null,null,null,null,null,null,null,null,null,null,null,null,null,null,null,null,null,null,null,null,null,null,null,null,null,null,null,null,null,null,null,null,null,null,null,null,null,null,null,null,null,null,null,null,null,null,null,null,null,null,null,null,null,null,null,null,null,null,null,null,null,null,null,null,null,null,null,null,null,null,null,null,null,null,null,null,null,null,null,null,null,null,null,null,null,null,null,null,"DDT"]
[null,null,"Nuisance Plants   V","NA",null,null,null,null,null,null,null,null,null,null,{"$f":"$B$16","v":"Biology"},null,null,null,null,null,null,null,null,null,null,null,null,null,null,null,null,null,null,null,null,null,null,null,null,null,{"$f":"$B$22","v":"Chemistry"},null,null,null,null,null,null,null,null,null,null,null,null,null,null,null,null,null,null,null,null,null,null,null,null,null,{"$f":"$B$28","v":"Nutrients"},null,null,null,null,null,null,null,null,null,null,null,null,null,null,null,null,null,null,null,null,null,null,null,null,null,null,null,null,null,null,null,null,null,null,null,null,null,null,null,null,null,null,null,null,null,null,null,null,null,null,null,{"$f":"$B$34","v":"Flow"},null,null,null,null,null,null,null,null,null,null,null,null,null,null,null,null,null,null,null,null,null,null,null,null,null,{"$f":"$B$36","v":"Habitat"},null,null,null,null,null,null,null,null,null,null,null,null,null,null,null,null,null,null,null,null,null,null,null,null,null,{"$f":"$B$40","v":"Bacteria"},null,null,null,null,null,null,null,null,null,null,null,null,null,null,null,null,null,null,null,null,null,null,null,null,null,{"$f":"$B$42","v":"Aesthetics"},null,null,null,null,null,null,null,null,null,null,null,null,null,null,null,null,null,null,null,null,null,null,null,null,"PCB"]
[null,null,"Trash /Debris   D","NA",null,null,null,null,null,null,null,null,null,null,{"$f":"$C$16","v":"Plank/Peri.   A"},{"$f":"IF($D$16=\"Concern\",\"(A)\",IF(OR($D$16=\"Fair\",$D$16=\"Poor\"),\"A\",\"\"))","v":""},null,null,null,null,null,null,null,null,null,null,null,null,null,null,null,null,null,null,null,null,null,null,null,null,{"$f":"$C$22","v":"Dis. Oxygen    DO"},{"$f":"IF($D$22=\"Concern\",\"(DO)\",IF(OR($D$22=\"Fair\",$D$22=\"Poor\"),\"DO\",\"\"))","v":""},null,null,null,null,null,null,null,null,null,null,null,null,null,null,null,null,null,null,null,null,null,null,null,null,{"$f":"$C$28","v":"Phosphorus  P"},{"$f":"IF($D$28=\"Concern\",\"(P)\",IF(OR($D$28=\"Fair\",$D$28=\"Poor\"),\"P\",\"\"))","v":""},null,null,null,null,null,null,null,null,null,null,null,null,null,null,null,null,null,null,null,null,null,null,null,null,null,null,null,null,null,null,null,null,null,null,null,null,null,null,null,null,null,null,null,null,null,null,null,null,null,null,{"$f":"$C$34","v":"Flow  Q"},{"$f":"IF($D$34=\"Concern\",\"(O)\",IF(OR($D$34=\"Fair\",$D$34=\"Poor\"),\"O\",\"\"))","v":""},null,null,null,null,null,null,null,null,null,null,null,null,null,null,null,null,null,null,null,null,null,null,null,null,{"$f":"$C$36","v":"Substrate   S"},{"$f":"IF($D$36=\"Concern\",\"(S)\",IF(OR($D$36=\"Fair\",$D$36=\"Poor\"),\"S\",\"\"))","v":""},null,null,null,null,null,null,null,null,null,null,null,null,null,null,null,null,null,null,null,null,null,null,null,null,{"$f":"$C$40","v":"Bacteria   B"},{"$f":"IF($D$40=\"Concern\",\"(B)\",IF(OR($D$40=\"Fair\",$D$40=\"Poor\"),\"B\",\"\"))","v":""},null,null,null,null,null,null,null,null,null,null,null,null,null,null,null,null,null,null,null,null,null,null,null,null,{"$f":"$C$42","v":"Oil & Grease   G"},{"$f":"IF($D$42=\"Concern\",\"(G)\",IF(OR($D$42=\"Fair\",$D$42=\"Poor\"),\"G\",\"\"))","v":""}]
[null,null,null,null,null,null,null,null,null,null,null,null,null,null,{"$f":"$C$17","v":"Macrophyton   M"},{"$f":"IF($D$17=\"Concern\",\"(M)\",IF(OR($D$17=\"Fair\",$D$17=\"Poor\"),\"M\",\"\"))","v":""},null,null,null,null,null,null,null,null,null,null,null,null,null,null,null,null,null,null,null,null,null,null,null,null,{"$f":"$C$23","v":"pH     pH"},{"$f":"IF($D$23=\"Concern\",\"(pH)\",IF(OR($D$23=\"Fair\",$D$23=\"Poor\"),\"pH\",\"\"))","v":""},null,null,null,null,null,null,null,null,null,null,null,null,null,null,null,null,null,null,null,null,null,null,null,null,{"$f":"$C$29","v":"Nitrogen   N"},{"$f":"IF($D$29=\"Concern\",\"(N)\",IF(OR($D$29=\"Fair\",$D$29=\"Poor\"),\"N\",\"\"))","v":""},null,null,null,null,null,null,null,null,null,null,null,null,null,null,null,null,null,null,null,null,null,null,null,null,null,null,null,null,null,null,null,null,null,null,null,null,null,null,null,null,null,null,null,null,null,null,null,null,null,null,{"$f":"IF($C$41=\"\",\"\",$C$41)","v":""},{"$f":"IF($D$35=\"Concern\",\"(**)\",IF(OR($D$35=\"Fair\",$D$35=\"Poor\"),\"**\",\"\"))","v":""},null,null,null,null,null,null,null,null,null,null,null,null,null,null,null,null,null,null,null,null,null,null,null,null,{"$f":"$C$37","v":"Morphology   H"},{"$f":"IF($D$37=\"Concern\",\"(H)\",IF(OR($D$37=\"Fair\",$D$37=\"Poor\"),\"H\",\"\"))","v":""},null,null,null,null,null,null,null,null,null,null,null,null,null,null,null,null,null,null,null,null,null,null,null,null,{"$f":"IF($C$41=\"\",\"\",$C$41)","v":""},{"$f":"IF($D$41=\"Concern\",\"(**)\",IF(OR($D$41=\"Fair\",$D$41=\"Poor\"),\"**\",\"\"))","v":""},null,null,null,null,null,null,null,null,null,null,null,null,null,null,null,null,null,null,null,null,null,null,null,null,{"$f":"$C$43","v":"Taste & Odor   O"},{"$f":"IF($D$43=\"Concern\",\"(O)\",IF(OR($D$43=\"Fair\",$D$43=\"Poor\"),\"O\",\"\"))","v":""}]
[null,"Tissue",{"$f":"\"Spec. Chem.   \"&HN45","v":"Spec. Chem.   PCB"},"NA","NA","NA",{"$f":"$HO$15&\"  \"&$HO$16&\"  \"&$HO$17&\"  \"&$HO$18&\"  \"&$HO$19&\"  \"&$HO$20","v":"          "},{"$f":"$HO$28&\"  \"&$HO$29&\"  \"&$HO$30&\"  \"&$HO$31&\"  \"&$HO$32&\"  \"&$HO$33","v":"          "},null,null,null,null,null,null,{"$f":"$C$18","v":"Invertebrates   I"},{"$f":"IF($D$18=\"Concern\",\"(I)\",IF(OR($D$18=\"Fair\",$D$18=\"Poor\"),\"I\",\"\"))","v":""},null,null,null,null,null,null,null,null,null,null,null,null,null,null,null,null,null,null,null,null,null,null,null,null,{"$f":"$C$24","v":"Temperature    T"},{"$f":"IF($D$24=\"Concern\",\"(T)\",IF(OR($D$24=\"Fair\",$D$24=\"Poor\"),\"T\",\"\"))","v":""},null,null,null,null,null,null,null,null,null,null,null,null,null,null,null,null,null,null,null,null,null,null,null,null,{"$f":"IF($C$30=\"\",\"\",$C$30)","v":""},{"$f":"IF($D$30=\"Concern\",\"(**)\",IF(OR($D$30=\"Fair\",$D$30=\"Poor\"),\"**\",\"\"))","v":""},null,null,null,null,null,null,null,null,null,null,null,null,null,null,null,null,null,null,null,null,null,null,null,null,null,null,null,null,null,null,null,null,null,null,null,null,null,null,null,null,null,null,null,null,null,null,null,null,null,null,null,null,null,null,null,null,null,null,null,null,null,null,null,null,null,null,null,null,null,null,null,null,null,null,null,null,{"$f":"$C$38","v":"Riparian Zone   R"},{"$f":"IF($D$38=\"Concern\",\"(R)\",IF(OR($D$38=\"Fair\",$D$38=\"Poor\"),\"R\",\"\"))","v":""},null,null,null,null,null,null,null,null,null,null,null,null,null,null,null,null,null,null,null,null,null,null,null,null,null,null,null,null,null,null,null,null,null,null,null,null,null,null,null,null,null,null,null,null,null,null,null,null,null,null,{"$f":"$C$44","v":"Turb/Color   C"},{"$f":"IF($D$44=\"Concern\",\"(C)\",IF(OR($D$44=\"Fair\",$D$44=\"Poor\"),\"C\",\"\"))","v":""}]
[null,null,null,null,null,null,null,null,null,null,null,null,null,null,{"$f":"$C$19","v":"Fish   F"},{"$f":"IF($D$19=\"Concern\",\"(F)\",IF(OR($D$19=\"Fair\",$D$19=\"Poor\"),\"F\",\"\"))","v":""},null,null,null,null,null,null,null,null,null,null,null,null,null,null,null,null,null,null,null,null,null,null,null,null,{"$f":"$C$25","v":"Ionic Strength    Z"},{"$f":"IF($D$25=\"Concern\",\"(Z)\",IF(OR($D$25=\"Fair\",$D$25=\"Poor\"),\"Z\",\"\"))","v":""},null,null,null,null,null,null,null,null,null,null,null,null,null,null,null,null,null,null,null,null,null,null,null,null,null,null,null,null,null,null,null,null,null,null,null,null,null,null,null,null,null,null,null,null,null,null,null,null,null,null,"Pollution  Indicators (Causes):  ",null,{"$f":"CP52&\" \"&CP53&\" \"&CP54","v":"  "},null,null,null,null,null,null,null,null,null,null,null,null,null,null,null,null,null,null,null,null,null,null,null,null,null,null,null,null,null,null,null,null,null,null,null,null,null,null,null,null,null,null,null,null,null,null,null,null,null,{"$f":"IF($C$39=\"\",\"\",$C$39)","v":""},{"$f":"IF($D$39=\"Concern\",\"(**)\",IF(OR($D$39=\"Fair\",$D$39=\"Poor\"),\"**\",\"\"))","v":""},null,null,null,null,null,null,null,null,null,null,null,null,null,null,null,null,null,null,null,null,null,null,null,null,null,null,null,null,null,null,null,null,null,null,null,null,null,null,null,null,null,null,null,null,null,null,null,null,null,null,{"$f":"$C$45","v":"Nuisance Plants   V"},{"$f":"IF($D$45=\"Concern\",\"(V)\",IF(OR($D$45=\"Fair\",$D$45=\"Poor\"),\"V\",\"\"))","v":""},null,null,null,null,null,null,null,null,null,null,null,null,null,null,null,null,null,null,null,null,null,null,null,null,null,null,null,null,null,null,null,null,null,null,null,null,null,null,null,null,null,null,null,null,null,null,null,null,null,null,"Pollution  Indicators (Causes):  ",null,{"$f":"IP52&\" \"&IP53&\" \"&IP54","v":"  "}]
[null,"Sediment","Unknown   U","NA","NA","NA",{"$f":"$IO$15&\"  \"&$IO$16&\"  \"&$IO$17&\"  \"&$IO$18&\"  \"&$IO$19&\"  \"&$IO$20","v":"          "},{"$f":"$IO$28&\"  \"&$IO$29&\"  \"&$IO$30&\"  \"&$IO$31&\"  \"&$IO$32&\"  \"&$IO$33","v":"          "},null,null,null,null,null,null,{"$f":"$C$20","v":"Wildlife   W"},{"$f":"IF($D$20=\"Concern\",\"(W)\",IF(OR($D$20=\"Fair\",$D$20=\"Poor\"),\"W\",\"\"))","v":""},null,null,null,null,null,null,null,null,null,null,null,null,null,null,null,null,null,null,null,null,null,null,null,null,{"$f":"$C$26","v":"Sus. Solids    SS"},{"$f":"IF($D$26=\"Concern\",\"(SS)\",IF(OR($D$26=\"Fair\",$D$26=\"Poor\"),\"SS\",\"\"))","v":""},null,null,null,null,null,null,null,null,null,null,null,null,null,null,null,null,null,null,null,null,null,null,null,null,null,null,null,null,null,null,null,null,null,null,null,null,null,null,null,null,null,null,null,null,null,null,null,null,null,null,null,null,null,null,null,null,null,null,null,null,null,null,null,null,null,null,null,null,null,null,null,null,null,null,null,null,null,null,null,null,null,null,null,null,null,null,null,null,null,null,null,null,null,null,null,null,null,null,null,null,null,null,null,null,null,null,null,null,null,null,null,null,null,null,null,null,null,null,null,null,null,null,null,null,null,null,null,null,null,null,null,null,null,null,null,null,null,null,null,null,null,null,null,null,null,null,null,null,null,null,null,null,null,null,{"$f":"$C$46","v":"Trash /Debris   D"},{"$f":"IF($D$46=\"Concern\",\"(D)\",IF(OR($D$46=\"Fair\",$D$46=\"Poor\"),\"D\",\"\"))","v":""},null,null,null,null,null,null,null,null,null,null,null,null,null,null,null,null,null,null,null,null,null,null,null,null,"Pollution  Indicators (Causes):  ",null,{"$f":"HP53&\" \"&HP54","v":" "}]
[null,null,{"$f":"\"Spec. Chem.   \"&IN44","v":"Spec. Chem.   DDT"},"NA",null,null,null,null,null,null,null,null,null,null,{"$f":"IF($C$21=\"\",\"\",$C$21)","v":""},{"$f":"IF($D$21=\"Concern\",\"(**)\",IF(OR($D$21=\"Fair\",$D$21=\"Poor\"),\"**\",\"\"))","v":""},null,null,null,null,null,null,null,null,null,null,null,null,null,null,null,null,null,null,null,null,null,null,null,null,{"$f":"IF($C$27=\"\",\"\",$C$27)","v":""},{"$f":"IF($D$27=\"Concern\",\"(**)\",IF(OR($D$27=\"Fair\",$D$27=\"Poor\"),\"**\",\"\"))","v":""},null,null,null,null,null,null,null,null,null,null,null,null,null,null,null,null,null,null,null,null,null,null,null,null,null,null,null,null,null,null,null,null,null,null,null,null,null,null,null,null,null,null,null,null,null,null,null,null,null,null,{"$f":"$B$31","v":"Toxicity"},null,null,null,null,null,null,null,null,null,null,null,null,null,null,null,null,null,null,null,null,null,null,null,null,null,null,null,null,null,null,null,null,null,null,null,null,null,null,null,null,null,null,null,null,null,null,null,null,null,null,null,null,null,null,null,null,null,null,null,null,null,null,null,null,null,null,null,null,null,null,null,null,null,null,null,null,null,null,null,null,null,null,null,null,null,null,null,null,null,null,null,null,null,null,null,null,null,null,null,null,null,null,null,{"$f":"IF($C$47=\"\",\"\",$C$47)","v":""},{"$f":"IF($D$47=\"Concern\",\"(**)\",IF(OR($D$47=\"Fair\",$D$47=\"Poor\"),\"**\",\"\"))","v":""},null,null,null,null,null,null,null,null,null,null,null,null,null,null,null,null,null,null,null,null,null,null,null,null,null,null,null,null,null,null,null,null,null,null,null,null,null,null,null,null,null,null,null,null,null,null,null,null,null,null,{"$f":"$B$50","v":"Sediment"}]
[null,null,null,null,null,null,null,null,null,null,null,null,null,null,null,null,null,null,null,null,null,null,null,null,null,null,null,null,null,null,null,null,null,null,null,null,null,null,null,null,null,null,null,null,null,null,null,null,null,null,null,null,null,null,null,null,null,null,null,null,null,null,null,null,null,null,null,null,null,null,null,null,null,null,null,null,null,null,null,null,null,null,null,null,null,null,null,null,null,null,null,null,{"$f":"$C$31","v":"Unknown   U"},{"$f":"IF($D$31=\"Concern\",\"(U)\",IF(OR($D$31=\"Fair\",$D$31=\"Poor\"),\"U\",\"\"))","v":""},null,null,null,null,null,null,null,null,null,null,null,null,null,null,null,null,null,null,null,null,null,null,null,null,null,null,null,null,null,null,null,null,null,null,null,null,null,null,null,null,null,null,null,null,null,null,null,null,null,null,null,null,null,null,null,null,null,null,null,null,null,null,null,null,null,null,null,null,null,null,null,null,null,null,null,null,null,null,null,null,null,null,null,null,null,null,null,null,null,null,null,null,null,null,null,null,null,null,null,null,null,null,null,null,null,null,null,null,null,null,null,null,null,null,null,null,null,null,null,null,null,null,null,null,null,null,null,null,{"$f":"$B$48","v":"Tissue"},null,null,null,null,null,null,null,null,null,null,null,null,null,null,null,null,null,null,null,null,null,null,null,null,null,{"$f":"$C$50","v":"Unknown   U"},{"$f":"IF($D$50=\"Concern\",\"(U)\",IF(OR($D$50=\"Fair\",$D$50=\"Poor\"),\"U\",\"\"))","v":""}]
[null,"Comments:",null,null,null,null,null,"*  Suspected Source  ",null,null,null,null,null,null,null,null,null,null,null,null,null,null,null,null,null,null,null,null,null,null,null,null,null,null,null,null,null,null,null,null,null,null,null,null,null,null,null,null,null,null,null,null,null,null,null,null,null,null,null,null,null,null,null,null,null,null,null,null,null,null,null,null,null,null,null,null,null,null,null,null,null,null,null,null,null,null,null,null,null,null,null,null,{"$f":"$C$32","v":"Spec. Chem.  Ag"},{"$f":"IF($D$32=\"Concern\",\"(\"&CN44&\")\",IF(OR($D$32=\"Fair\",$D$32=\"Poor\"),CN44,\"\"))","v":""},null,null,null,null,null,null,null,null,null,null,null,null,null,null,null,null,null,null,null,null,null,null,null,null,null,null,null,null,null,null,null,null,null,null,null,null,null,null,null,null,null,null,null,null,null,null,null,null,null,null,null,null,null,null,null,null,null,null,null,null,null,null,null,null,null,null,null,null,null,null,null,null,null,null,null,null,null,null,null,null,null,null,null,null,null,null,null,null,null,null,null,null,null,null,null,null,null,null,null,null,null,null,null,null,null,null,null,null,null,null,null,null,null,null,null,null,null,null,null,null,null,null,null,null,null,null,null,null,{"$f":"$C$48","v":"Spec. Chem.   PCB"},{"$f":"IF($D$48=\"Concern\",\"(\"&HN45&\")\",IF(OR($D$48=\"Fair\",$D$32=\"Poor\"),HN45,\"\"))","v":""},null,null,null,null,null,null,null,null,null,null,null,null,null,null,null,null,null,null,null,null,null,null,null,null,{"$f":"$C$51","v":"Spec. Chem.   DDT"},{"$f":"IF($D$51=\"Concern\",\"(\"&IN44&\")\",IF(OR($D$51=\"Fair\",$D$51=\"Poor\"),IN44,\"\"))","v":""}]
[null,null,null,null,null,null,null,"** Potential Source  ",null,null,null,null,null,null,null,null,null,null,null,null,null,null,null,null,null,null,null,null,null,null,null,null,null,null,null,null,null,null,null,null,null,null,null,null,null,null,null,null,null,null,null,null,null,null,null,null,null,null,null,null,null,null,null,null,null,null,null,null,null,null,null,null,null,null,null,null,null,null,null,null,null,null,null,null,null,null,null,null,null,null,null,null,{"$f":"IF($C$33=\"\",\"\",$C$33)","v":""},{"$f":"IF($D$33=\"Concern\",\"(**)\",IF(OR($D$33=\"Fair\",$D$33=\"Poor\"),\"**\",\"\"))","v":""},null,null,null,null,null,null,null,null,null,null,null,null,null,null,null,null,null,null,null,null,null,null,null,null,null,null,null,null,null,null,null,null,null,null,null,null,null,null,null,null,null,null,null,null,null,null,null,null,null,null,null,null,null,null,null,null,null,null,null,null,null,null,null,null,null,null,null,null,null,null,null,null,null,null,null,null,null,null,null,null,null,null,null,null,null,null,null,null,null,null,null,null,null,null,null,null,null,null,null,null,null,null,null,null,null,null,null,null,null,null,null,null,null,null,null,null,null,null,null,null,null,null,null,null,null,null,null,null,{"$f":"IF($C$49=\"\",\"\",$C$49)","v":""},{"$f":"IF($D$49=\"Concern\",\"(**)\",IF(OR($D$49=\"Fair\",$D$49=\"Poor\"),\"**\",\"\"))","v":""},null,null,null,null,null,null,null,null,null,null,null,null,null,null,null,null,null,null,null,null,null,null,null,null,{"$f":"IF($C$52=\"\",\"\",$C$52)","v":""},{"$f":"IF($D$52=\"Concern\",\"(**)\",IF(OR($D$52=\"Fair\",$D$52=\"Poor\"),\"**\",\"\"))","v":""}]
[null,null,null,null,null,null,null,"No asterisk: Known Source  "]
[null,null,null,null,null,null,null,"[Out of Segment Source ]  "]
[]
[]
[]
[null,"SegNameLong:  ","kkkkkk"]
[null,"Seg Name:  ","kkk"]
[null,"Seg Num:  "]
[null,"Seg Size:  "]
[null,"Seg Class:  "]
[]
[]
[]
[]
[]
[]
[]
[]
[]
[]
[]
[]
[null,null,null,{"$f":"A99","v":""}]
[null,null,null,{"$f":"B99","v":""}]
[null,null,null,{"$f":"C99","v":""}]
[null,null,null,{"$f":"D99","v":""}]
[null,null,null,{"$f":"E99","v":""}]
[null,null,null,{"$f":"F99","v":""}]
[null,null,null,{"$f":"G99","v":""}]
[null,null,null,{"$f":"H99","v":""}]
[null,null,null,{"$f":"I99","v":""}]
[]
[]
[]
[]
[]
[]
[]
[]
[]
[]
[]
[]
[]
[{"$f":"TRIM(A101&\" \"&A102&\" \"&A103&\" \"&A104&\" \"&A105&\" \"&A106)","v":""},{"$f":"TRIM(B101&\" \"&B102&\" \"&B103&\" \"&B104&\" \"&B105&\" \"&B106)","v":""},"","","","","","",""]

{"sheet":"Seg12","index":16,"n_rows":99,"n_cols":311,"rows_kept":99,"cut":false,"hidden":false,"merged":[[15,1,20,1],[15,4,20,4],[15,5,20,5],[15,6,20,6],[15,7,20,7],[13,1,14,1],[13,2,14,3],[13,4,14,4],[13,5,14,5],[14,6,14,7],[27,1,29,1],[27,4,29,4],[27,5,29,5],[27,6,29,6],[27,7,29,7],[21,1,26,1],[21,4,26,4],[21,5,26,5],[21,6,26,6],[21,7,26,7],[49,6,51,6],[49,7,51,7],[30,1,32,1],[30,4,32,4],[30,5,32,5],[30,6,32,6],[30,7,32,7],[33,1,34,1],[33,4,34,4],[33,5,34,5],[33,6,34,6],[33,7,34,7],[43,91,45,94],[35,1,38,1],[35,4,38,4],[35,5,38,5],[35,6,38,6],[35,7,38,7],[39,1,40,1],[39,4,40,4],[39,5,40,5],[39,6,40,6],[39,7,40,7],[52,1,55,1],[43,247,45,250],[44,221,46,224],[47,1,48,1],[47,4,48,4],[47,5,48,5],[47,6,48,6],[47,7,48,7],[41,1,46,1],[41,4,46,4],[41,5,46,5],[41,6,46,6],[41,7,46,7],[49,1,51,1],[49,4,51,4],[49,5,51,5]]}
[]
[]
[]
[]
[null,null,null,null,null,null,null,null,null,null,null,null,null,null,null,null,null,null,null,null,null,null,null,null,null,null,null,null,null,null,null,null,null,null,null,null,null,null,null,null,null,null,null,null,null,null,null,null,null,null,null,null,null,null,null,null,null,null,null,null,null,null,null,null,null,null,null,null,null,null,null,null,null,null,null,null,null,null,null,null,null,null,null,null,null,null,null,null,null,null,null,null,null,null,null,null,null,null,null,null,null,null,null,null,null,null,null,null,null,null,null,null,null,null,null,null,null,null,null,null,null,null,null,null,null,null,null,null,null,null,null,null,null,null,null,null,null,null,null,null,null,null,null,null,null,null,null,null,null,null,null,null,null,null,null,null,null,null,null,null,null,null,null,null,null,null,null,null,null,null,null,null,null,null,null,null,null,null,null,null,null,null,null,null,null,null,null,null,null,null,null,null,null,null,null,null,null,null,null,null,null,null,null,null,null,null,null,null,null,null,null,null,null,null,null,null,null,null,null,null,null,null,null,null,null,null,null,null,null,null,null,null,null,null,null,null,null,null,null,null,null,null,null,null,null,null,null,null,null,null,null,null,null,null,null,null,null,null,null,null,null,null,null,null,null,null,null,null,null,null,null,null,null,null,null,null,null,null,null,null,null,null,null,null,null,"List of all codes from all groups for this segment, organized by Source Type. "]
[null,null,null,null,null,null,null,null,null,null,null,null,null,null,null,null,null,null,null,null,null,null,null,null,null,null,null,null,null,null,null,null,null,null,null,null,null,null,null,null,null,null,null,null,null,null,null,null,null,null,null,null,null,null,null,null,null,null,null,null,null,null,null,null,null,null,null,null,null,null,null,null,null,null,null,null,null,null,null,null,null,null,null,null,null,null,null,null,null,null,null,null,null,null,null,null,null,null,null,null,null,null,null,null,null,null,null,null,null,null,null,null,null,null,null,null,null,null,null,null,null,null,null,null,null,null,null,null,null,null,null,null,null,null,null,null,null,null,null,null,null,null,null,null,null,null,null,null,null,null,null,null,null,null,null,null,null,null,null,null,null,null,null,null,null,null,null,null,null,null,null,null,null,null,null,null,null,null,null,null,null,null,null,null,null,null,null,null,null,null,null,null,null,null,null,null,null,null,null,null,null,null,null,null,null,null,null,null,null,null,null,null,null,null,null,null,null,null,null,null,null,null,null,null,null,null,null,null,null,null,null,null,null,null,null,null,null,null,null,null,null,null,null,null,null,null,null,null,null,null,null,null,null,null,null,null,null,null,null,null,null,null,null,null,null,null,null,null,null,null,null,null,null,null,null,null,null,null,null,null,null,null,null,null,null,"List is updated only when \"SourceRC_List\" macro is run. Macro is run manually by touching button at right or when Source report card is activated."]
[null,null,null,null,null,null,null,null,null,null,null,null,null,null,null,null,null,null,null,null,null,null,null,null,null,null,null,null,null,null,null,null,null,null,null,null,null,null,null,null,null,null,null,null,null,null,null,null,null,null,null,null,null,null,null,null,null,null,null,null,null,null,null,null,null,null,null,null,null,null,null,null,null,null,null,null,null,null,null,null,null,null,null,null,null,null,null,null,null,null,null,null,null,null,null,null,null,null,null,null,null,null,null,null,null,null,null,null,null,null,null,null,null,null,null,null,null,null,null,null,null,null,null,null,null,null,null,null,null,null,null,null,null,null,null,null,null,null,null,null,null,null,null,null,null,null,null,null,null,null,null,null,null,null,null,null,null,null,null,null,null,null,null,null,null,null,null,null,null,null,null,null,null,null,null,null,null,null,null,null,null,null,null,null,null,null,null,null,null,null,null,null,null,null,null,null,null,null,null,null,null,null,null,null,null,null,null,null,null,null,null,null,null,null,null,null,null,null,null,null,null,null,null,null,null,null,null,null,null,null,null,null,null,null,null,null,null,null,null,null,null,null,null,null,null,null,null,null,null,null,null,null,null,null,null,null,null,null,null,null,null,null,null,null,null,null,null,null,null,null,null,null,null,null,null,null,null,null,null,null,null,null,null,null,null,"Numbers indicate knowledge about the certainty of assessment: 0 = N/A, 1 = Potential Source, 2 = Suspected Source, 3 = Known Source."]
[null,null,null,null,null,null,null,null,null,null,null,null,null,null,null,null,null,null,null,null,null,null,null,null,null,null,null,null,null,null,null,null,null,null,null,null,null,null,null,null,null,null,null,null,null,null,null,null,null,null,null,null,null,null,null,null,null,null,null,null,null,null,null,null,null,null,null,null,null,null,null,null,null,null,null,null,null,null,null,null,null,null,null,null,null,null,null,null,null,null,null,null,null,null,null,null,null,null,null,null,null,null,null,null,null,null,null,null,null,null,null,null,null,null,null,null,null,null,null,null,null,null,null,null,null,null,null,null,null,null,null,null,null,null,null,null,null,null,null,null,null,null,null,null,null,null,null,null,null,null,null,null,null,null,null,null,null,null,null,null,null,null,null,null,null,null,null,null,null,null,null,null,null,null,null,null,null,null,null,null,null,null,null,null,null,null,null,null,null,null,null,null,null,null,null,null,null,null,null,null,null,null,null,null,null,null,null,null,null,null,null,null,null,null,null,null,null,null,null,null,null,null,null,null,null,null,null,null,null,null,null,null,null,null,null,null,null,null,null,null,null,null,null,null,null,null,null,null,null,null,null,null,null,null,null,null,null,null,null,null,null,null,null,null,null,null,null,null,null,null,null,null,null,null,null,null,null,null,null,null,null,null,null,null,null,"This list is then processed below to remove duplicates."]
[null,null,null,null,null,null,null,null,null,null,null,null,null,"Designate Point & Non-Point Sources",null,null,null,null,null,null,null,null,null,null,null,null,null,null,null,null,null,null,null,null,null,null,null,null,null,"Designate Point & Non-Point Sources",null,null,null,null,null,null,null,null,null,null,null,null,null,null,null,null,null,null,null,null,null,null,null,null,null,"Designate Point & Non-Point Sources",null,null,null,null,null,null,null,null,null,null,null,null,null,null,null,null,null,null,null,null,null,null,null,null,null,"Designate Point & Non-Point Sources",null,null,null,null,null,null,null,null,null,null,null,null,null,null,null,null,null,null,null,null,null,null,null,null,null,"Designate Point & Non-Point Sources",null,null,null,null,null,null,null,null,null,null,null,null,null,null,null,null,null,null,null,null,null,null,null,null,null,"Designate Point & Non-Point Sources",null,null,null,null,null,null,null,null,null,null,null,null,null,null,null,null,null,null,null,null,null,null,null,null,null,"Designate Point & Non-Point Sources",null,null,null,null,null,null,null,null,null,null,null,null,null,null,null,null,null,null,null,null,null,null,null,null,null,"Designate Point & Non-Point Sources",null,null,null,null,null,null,null,null,null,null,null,null,null,null,null,null,null,null,null,null,null,null,null,null,null,"Designate Point & Non-Point Sources",null,null,null,null,null,null,null,null,null,null,null,null,null,null,null,null,null,null,null,null,null,null,null,null,null,"Designate Point & Non-Point Sources"]
[null,null,null,null,null,null,null,null,null,null,null,null,null,null,null,null,null,null,null,null,null,null,null,"Codes selected at left are distributed according to Source Type. "]
[null,{"$f":"\"River Basin: \"&RiverBasinName","v":"River Basin: Test River Basin"},null,null,null,null,{"$f":"\"Data Year:  \"&AssessmentYear","v":"Data Year:  2011"},null,null,null,null,null,null,null,null,null,null,null,null,null,null,null,null,"Numbers indicate confidence of assessment: 0 = N/A, 1 = Potential Source, 2 = Suspected Source, 3 = Known Source.",null,null,null,null,null,null,null,null,null,null,null,null,null,null,null,null,null,null,null,null,null,null,null,null,null,null,null,null,null,null,null,null,null,null,null,null,null,null,null,null,null,null,null,null,null,null,null,null,null,null,null,null,null,null,null,null,null,null,null,null,null,null,null,null,null,null,null,null,null,null,null,null,null,null,null,null,null,null,null,null,null,null,null,null,null,null,null,null,null,null,null,null,null,null,null,null,null,null,null,null,null,null,null,null,null,null,null,null,null,null,null,null,null,null,null,null,null,null,null,null,null,null,null,null,null,null,null,null,null,null,null,null,null,null,null,null,null,null,null,null,null,null,null,null,null,null,null,null,null,null,null,null,null,null,null,null,null,null,null,null,null,null,null,null,null,null,null,null,null,null,null,null,null,null,null,null,null,null,null,null,null,null,null,null,null,null,null,null,null,null,null,null,null,null,null,null,null,null,null,null,null,null,null,null,null,null,null,null,null,null,null,null,null,null,null,null,null,null,null,null,null,null,null,null,null,null,null,null,null,null,null,null,null,null,null,null,null,null,null,null,null,null,null,null,null,null,null,null,null,null,null,null,null,null,null,null,null,null,null,null,null,null,"Municp",null,null,"Industr",null,null,"St Water",null,null,"Res Ext",null,null,"Land Dis",null,null,"Seds",null,null,"Hydro",null,null,"Other",null,null,"Unknown"]
[null,{"$f":"\"Segment Name: \"&C60","v":"Segment Name: llllll"},null,null,null,null,null,null,null,null,null,null,null,null,null,null,null,null,null,null,null,null,null,"These codes are processed by \"SourceRC_List macro and transferred to Source report card."]
[null,{"$f":"\"Class: \"&C64","v":"Class: "},null,{"$f":"\"Size: \"&C63","v":"Size: "},null,null,{"$f":"\"Seg ID #: \"&C62","v":"Seg ID #: "}]
[null,"CATEGORY","INDICATOR ASSESSMENT",null,"OVERALL STATUS","DATA LEVEL","POINT","NONPOINT",null,null,null,null,null,"Point Sources",null,null,null,null,null,null,null,null,null,"Municipal",null,null,"Industrial",null,null,"Storm Water",null,null,"Resource Ext",null,null,"Land Disposal",null,null,null,"Point Sources",null,null,null,null,null,null,null,null,null,"Municipal",null,null,"Industrial",null,null,"Storm Water",null,null,"Resource Ext",null,null,"Land Disposal",null,null,null,"Point Sources",null,null,null,null,null,null,null,null,null,"Municipal",null,null,"Industrial",null,null,"Storm Water",null,null,"Resource Ext",null,null,"Land Disposal",null,null,null,"Point Sources",null,null,null,null,null,null,null,null,null,"Municipal",null,null,"Industrial",null,null,"Storm Water",null,null,"Resource Ext",null,null,"Land Disposal",null,null,null,"Point Sources",null,null,null,null,null,null,null,null,null,"Municipal",null,null,"Industrial",null,null,"Storm Water",null,null,"Resource Ext",null,null,"Land Disposal",null,null,null,"Point Sources",null,null,null,null,null,null,null,null,null,"Municipal",null,null,"Industrial",null,null,"Storm Water",null,null,"Resource Ext",null,null,"Land Disposal",null,null,null,"Point Sources",null,null,null,null,null,null,null,null,null,"Municipal",null,null,"Industrial",null,null,"Storm Water",null,null,"Resource Ext",null,null,"Land Disposal",null,null,null,"Point Sources",null,null,null,null,null,null,null,null,null,"Municipal",null,null,"Industrial",null,null,"Storm Water",null,null,"Resource Ext",null,null,"Land Disposal",null,null,null,"Point Sources",null,null,null,null,null,null,null,null,null,"Municipal",null,null,"Industrial",null,null,"Storm Water",null,null,"Resource Ext",null,null,"Land Disposal",null,null,null,"Point Sources",null,null,null,null,null,null,null,null,null,"Municipal",null,null,"Industrial",null,null,"Storm Water",null,null,"Resource Ext",null,null,"Land Disposal"]
[null,null,null,null,null,null,"Click below to select Sources"]
[null,"Biology","Plank/Peri.   A","NA","NA","NA",{"$f":"$O$15&\"  \"&$O$16&\"  \"&$O$17&\"  \"&$O$18&\"  \"&$O$19&\"  \"&$O$20","v":"          "},{"$f":"$O$28&\"  \"&$O$29&\"  \"&$O$30&\"  \"&$O$31&\"  \"&$O$32&\"  \"&$O$33","v":"          "}]
[null,null,"Macrophyton   M","NA"]
[null,null,"Invertebrates   I","NA"]
[null,null,"Fish   F","NA"]
[null,null,"Wildlife   W","NA"]
[]
[null,"Chemistry","Dis. Oxygen    DO","NA","NA","NA",{"$f":"$AO$15&\"  \"&$AO$16&\"  \"&$AO$17&\"  \"&$AO$18&\"  \"&$AO$19&\"  \"&$AO$20","v":"          "},{"$f":"$AO$28&\"  \"&$AO$29&\"  \"&$AO$30&\"  \"&$AO$31&\"  \"&$AO$32&\"  \"&$AO$33","v":"          "}]
[null,null,"pH     pH","NA"]
[null,null,"Temperature    T","NA"]
[null,null,"Ionic Strength    Z","NA"]
[null,null,"Sus. Solids    SS","NA"]
[null,null,null,null,null,null,null,null,null,null,null,null,null,"Non Point Sources",null,null,null,null,null,null,null,null,null,"Seds",null,null,"Hydromodification",null,null,"Other",null,null,"Unknown",null,null,null,null,null,null,"Non Point Sources",null,null,null,null,null,null,null,null,null,"Seds",null,null,"Hydromodification",null,null,"Other",null,null,"Unknown",null,null,null,null,null,null,"Non Point Sources",null,null,null,null,null,null,null,null,null,"Seds",null,null,"Hydromodification",null,null,"Other",null,null,"Unknown",null,null,null,null,null,null,"Non Point Sources",null,null,null,null,null,null,null,null,null,"Seds",null,null,"Hydromodification",null,null,"Other",null,null,"Unknown",null,null,null,null,null,null,"Non Point Sources",null,null,null,null,null,null,null,null,null,"Seds",null,null,"Hydromodification",null,null,"Other",null,null,"Unknown",null,null,null,null,null,null,"Non Point Sources",null,null,null,null,null,null,null,null,null,"Seds",null,null,"Hydromodification",null,null,"Other",null,null,"Unknown",null,null,null,null,null,null,"Non Point Sources",null,null,null,null,null,null,null,null,null,"Seds",null,null,"Hydromodification",null,null,"Other",null,null,"Unknown",null,null,null,null,null,null,"Non Point Sources",null,null,null,null,null,null,null,null,null,"Seds",null,null,"Hydromodification",null,null,"Other",null,null,"Unknown",null,null,null,null,null,null,"Non Point Sources",null,null,null,null,null,null,null,null,null,"Seds",null,null,"Hydromodification",null,null,"Other",null,null,"Unknown",null,null,null,null,null,null,"Non Point Sources",null,null,null,null,null,null,null,null,null,"Seds",null,null,"Hydromodification",null,null,"Other",null,null,"Unknown"]
[null,"Nutrients","Phosphorus  P","NA","NA","NA",{"$f":"$BO$15&\"  \"&$BO$16&\"  \"&$BO$17&\"  \"&$BO$18&\"  \"&$BO$19&\"  \"&$BO$20","v":"          "},{"$f":"$BO$28&\"  \"&$BO$29&\"  \"&$BO$30&\"  \"&$BO$31&\"  \"&$BO$32&\"  \"&$BO$33","v":"          "}]
[null,null,"Nitrogen   N","NA"]
[]
[null,"Toxicity","Unknown   U","NA","NA","NA",{"$f":"$CO$15&\"  \"&$CO$16&\"  \"&$CO$17&\"  \"&$CO$18&\"  \"&$CO$19&\"  \"&$CO$20","v":"          "},{"$f":"$CO$28&\"  \"&$CO$29&\"  \"&$CO$30&\"  \"&$CO$31&\"  \"&$CO$32&\"  \"&$CO$33","v":"          "}]
[null,null,{"$f":"\"Spec. Chem.  \"&CN44","v":"Spec. Chem.  Ag"},"NA"]
[null,null,null,null,null,null,null,null,null,null,null,null,null,null,null,null,null,null,null,null,null,null,null,null,null,null,null,null,null,null,null,null,null,null,null,null,null,null,null,null,null,null,null,null,null,null,null,null,null,null,null,null,null,null,null,null,null,null,null,null,null,null,null,null,null,null,null,null,null,null,null,null,null,null,null,null,null,null,null,null,null,null,null,null,null,null,null,null,null,null,null,null,null,null,null,null,null,null,null,null,null,null,null,null,null,null,null,null,null,null,null,null,null,null,null,null,null,null,null,null,null,null,null,null,null,null,null,null,null,null,null,null,null,null,null,null,null,null,null,null,null,null,null,null,null,null,null,null,null,null,null,null,null,null,null,null,null,null,null,null,null,null,null,null,null,null,null,null,null,null,null,null,null,null,null,null,null,null,null,null,null,null,null,null,null,null,null,null,null,null,null,null,null,null,null,null,null,null,null,null,null,null,null,null,null,null,null,null,null,null,null,null,null,null,null,null,null,null,null,null,null,null,null,null,null,null,null,null,null,null,null,null,null,null,null,null,null,null,null,null,null,null,null,null,null,null,null,null,null,null,null,null,null,null,null,null,null,null,null,null,null,null,null,null,null,null,null,null,null,null,null,null,null,null,null,null,null,null,null,null,null,null,null,null,null,"The colored cells below reflect this segments pollution status and are replicated on the Sources report card automatically"]
[null,"Flow","Flow  Q","NA","NA","NA",{"$f":"$DO$15&\"  \"&$DO$16&\"  \"&$DO$17&\"  \"&$DO$18&\"  \"&$DO$19&\"  \"&$DO$20","v":"          "},{"$f":"$DO$28&\"  \"&$DO$29&\"  \"&$DO$30&\"  \"&$DO$31&\"  \"&$DO$32&\"  \"&$DO$33","v":"          "},null,null,null,null,null,null,null,null,null,null,null,null,null,null,null,null,null,null,null,null,null,null,null,null,null,null,null,null,null,null,null,null,null,null,null,null,null,null,null,null,null,null,null,null,null,null,null,null,null,null,null,null,null,null,null,null,null,null,null,null,null,null,null,null,null,null,null,null,null,null,null,null,null,null,null,null,null,null,null,null,null,null,null,null,null,null,null,null,null,null,null,null,null,null,null,null,null,null,null,null,null,null,null,null,null,null,null,null,null,null,null,null,null,null,null,null,null,null,null,null,null,null,null,null,null,null,null,null,null,null,null,null,null,null,null,null,null,null,null,null,null,null,null,null,null,null,null,null,null,null,null,null,null,null,null,null,null,null,null,null,null,null,null,null,null,null,null,null,null,null,null,null,null,null,null,null,null,null,null,null,null,null,null,null,null,null,null,null,null,null,null,null,null,null,null,null,null,null,null,null,null,null,null,null,null,null,null,null,null,null,null,null,null,null,null,null,null,null,null,null,null,null,null,null,null,null,null,null,null,null,null,null,null,null,null,null,null,null,null,null,null,null,null,null,null,null,null,null,null,null,null,null,null,null,null,null,null,null,null,null,null,null,null,null,null,null,null,null,null,null,null,null,null,null,null,null,null,null,{"$f":"KA11","v":"Municp"},null,null,{"$f":"KD11","v":"Industr"},null,null,{"$f":"KG11","v":"St Water"},null,null,{"$f":"KJ11","v":"Res Ext"},null,null,{"$f":"KM11","v":"Land Dis"},null,null,{"$f":"KP11","v":"Seds"},null,null,{"$f":"KS11","v":"Hydro"},null,null,{"$f":"KV11","v":"Other"},null,null,{"$f":"KY11","v":"Unknown"}]
[null,null,null,null,null,null,null,null,null,null,null,null,null,"* designates a Suspected Source",null,null,null,null,null,null,null,null,null,null,null,null,null,null,null,null,null,null,null,null,null,null,null,null,null,"* designates a Suspected Source",null,null,null,null,null,null,null,null,null,null,null,null,null,null,null,null,null,null,null,null,null,null,null,null,null,"* designates a Suspected Source",null,null,null,null,null,null,null,null,null,null,null,null,null,null,null,null,null,null,null,null,null,null,null,null,null,"* designates a Suspected Source",null,null,null,null,null,null,null,null,null,null,null,null,null,null,null,null,null,null,null,null,null,null,null,null,null,"* designates a Suspected Source",null,null,null,null,null,null,null,null,null,null,null,null,null,null,null,null,null,null,null,null,null,null,null,null,null,"* designates a Suspected Source",null,null,null,null,null,null,null,null,null,null,null,null,null,null,null,null,null,null,null,null,null,null,null,null,null,"* designates a Suspected Source",null,null,null,null,null,null,null,null,null,null,null,null,null,null,null,null,null,null,null,null,null,null,null,null,null,"* designates a Suspected Source",null,null,null,null,null,null,null,null,null,null,null,null,null,null,null,null,null,null,null,null,null,null,null,null,null,"* designates a Suspected Source",null,null,null,null,null,null,null,null,null,null,null,null,null,null,null,null,null,null,null,null,null,null,null,null,null,null,null,null,null,null,null,null,null,null,null,null,null,null,null,null,null,null,null,null,null,null,null,null,null,null,null,null,null,null,null,null,null,null,null,null,null,null,null,null,{"$f":"TRIM(KA41&\" \"&KA42&\" \"&KA43&\" \"&KA44&\" \"&KA45&\" \"&KA46)","v":""},null,null,{"$f":"TRIM(KD41&\" \"&KD42&\" \"&KD43&\" \"&KD44&\" \"&KD45&\" \"&KD46)","v":""},null,null,{"$f":"TRIM(KG41&\" \"&KG42&\" \"&KG43&\" \"&KG44&\" \"&KG45&\" \"&KG46)","v":""},null,null,{"$f":"TRIM(KJ41&\" \"&KJ42&\" \"&KJ43&\" \"&KJ44&\" \"&KJ45&\" \"&KJ46)","v":""},null,null,{"$f":"TRIM(KM41&\" \"&KM42&\" \"&KM43&\" \"&KM44&\" \"&KM45&\" \"&KM46)","v":""},null,null,{"$f":"TRIM(KP41&\" \"&KP42&\" \"&KP43&\" \"&KP44&\" \"&KP45&\" \"&KP46)","v":""},null,null,{"$f":"TRIM(KS41&\" \"&KS42&\" \"&KS43&\" \"&KS44&\" \"&KS45&\" \"&KS46)","v":""},null,null,{"$f":"TRIM(KV41&\" \"&KV42&\" \"&KV43&\" \"&KV44&\" \"&KV45&\" \"&KV46)","v":""},null,null,{"$f":"TRIM(KY41&\" \"&KY42&\" \"&KY43&\" \"&KY44&\" \"&KY45&\" \"&KY46)","v":""}]
[null,"Habitat","Substrate   S","NA","NA","NA",{"$f":"$EO$15&\"  \"&$EO$16&\"  \"&$EO$17&\"  \"&$EO$18&\"  \"&$EO$19&\"  \"&$EO$20","v":"          "},{"$f":"$EO$28&\"  \"&$EO$29&\"  \"&$EO$30&\"  \"&$EO$31&\"  \"&$EO$32&\"  \"&$EO$33","v":"          "},null,null,null,null,null,"** designates a Potential Source",null,null,null,null,null,null,null,null,null,null,null,null,null,null,null,null,null,null,null,null,null,null,null,null,null,"** designates a Potential Source",null,null,null,null,null,null,null,null,null,null,null,null,null,null,null,null,null,null,null,null,null,null,null,null,null,"** designates a Potential Source",null,null,null,null,null,null,null,null,null,null,null,null,null,null,null,null,null,null,null,null,null,null,null,null,null,"** designates a Potential Source",null,null,null,null,null,null,null,null,null,null,null,null,null,null,null,null,null,null,null,null,null,null,null,null,null,"** designates a Potential Source",null,null,null,null,null,null,null,null,null,null,null,null,null,null,null,null,null,null,null,null,null,null,null,null,null,"** designates a Potential Source",null,null,null,null,null,null,null,null,null,null,null,null,null,null,null,null,null,null,null,null,null,null,null,null,null,"** designates a Potential Source",null,null,null,null,null,null,null,null,null,null,null,null,null,null,null,null,null,null,null,null,null,null,null,null,null,"** designates a Potential Source",null,null,null,null,null,null,null,null,null,null,null,null,null,null,null,null,null,null,null,null,null,null,null,null,null,"** designates a Potential Source"]
[null,null,"Morphology   H","NA",null,null,null,null,null,null,null,null,null,"No asterisk designates a Known Source",null,null,null,null,null,null,null,null,null,null,null,null,null,null,null,null,null,null,null,null,null,null,null,null,null,"No asterisk designates a Known Source",null,null,null,null,null,null,null,null,null,null,null,null,null,null,null,null,null,null,null,null,null,null,null,null,null,"No asterisk designates a Known Source",null,null,null,null,null,null,null,null,null,null,null,null,null,null,null,null,null,null,null,null,null,null,null,null,null,"No asterisk designates a Known Source",null,null,null,null,null,null,null,null,null,null,null,null,null,null,null,null,null,null,null,null,null,null,null,null,null,"No asterisk designates a Known Source",null,null,null,null,null,null,null,null,null,null,null,null,null,null,null,null,null,null,null,null,null,null,null,null,null,"No asterisk designates a Known Source",null,null,null,null,null,null,null,null,null,null,null,null,null,null,null,null,null,null,null,null,null,null,null,null,null,"No asterisk designates a Known Source",null,null,null,null,null,null,null,null,null,null,null,null,null,null,null,null,null,null,null,null,null,null,null,null,null,"No asterisk designates a Known Source",null,null,null,null,null,null,null,null,null,null,null,null,null,null,null,null,null,null,null,null,null,null,null,null,null,"No asterisk designates a Known Source",null,null,null,null,null,null,null,null,null,null,null,null,null,null,null,null,null,null,null,null,null,null,null,null,null,null,null,null,null,null,null,null,null,null,null,null,null,null,null,null,null,null,null,null,null,null,null,null,null,null,null,null,null,null,null,null,null,null,null,null,null,null,null,"max confid #",{"$f":"MAX(KB11:KB31)","v":0},null,null,{"$f":"MAX(KE11:KE31)","v":0},null,null,{"$f":"MAX(KH11:KH31)","v":0},null,null,{"$f":"MAX(KK11:KK31)","v":0},null,null,{"$f":"MAX(KN11:KN31)","v":0},null,null,{"$f":"MAX(KQ11:KQ31)","v":0},null,null,{"$f":"MAX(KT11:KT31)","v":0},null,null,{"$f":"MAX(KW11:KW31)","v":0},null,null,{"$f":"MAX(KZ11:KZ31)","v":0}]
[null,null,"Riparian Zone   R","NA",null,null,null,null,null,null,null,null,null,"Square brackets designates an Out of Segment Source (i.e., pollutant is a source for downstream segments)",null,null,null,null,null,null,null,null,null,null,null,null,null,null,null,null,null,null,null,null,null,null,null,null,null,"Square brackets designates an Out of Segment Source (i.e., pollutant is a source for downstream segments)",null,null,null,null,null,null,null,null,null,null,null,null,null,null,null,null,null,null,null,null,null,null,null,null,null,"Square brackets designates an Out of Segment Source (i.e., pollutant is a source for downstream segments)",null,null,null,null,null,null,null,null,null,null,null,null,null,null,null,null,null,null,null,null,null,null,null,null,null,"Square brackets designates an Out of Segment Source (i.e., pollutant is a source for downstream segments)",null,null,null,null,null,null,null,null,null,null,null,null,null,null,null,null,null,null,null,null,null,null,null,null,null,"Square brackets designates an Out of Segment Source (i.e., pollutant is a source for downstream segments)",null,null,null,null,null,null,null,null,null,null,null,null,null,null,null,null,null,null,null,null,null,null,null,null,null,"Square brackets designates an Out of Segment Source (i.e., pollutant is a source for downstream segments)",null,null,null,null,null,null,null,null,null,null,null,null,null,null,null,null,null,null,null,null,null,null,null,null,null,"Square brackets designates an Out of Segment Source (i.e., pollutant is a source for downstream segments)",null,null,null,null,null,null,null,null,null,null,null,null,null,null,null,null,null,null,null,null,null,null,null,null,null,"Square brackets designates an Out of Segment Source (i.e., pollutant is a source for downstream segments)",null,null,null,null,null,null,null,null,null,null,null,null,null,null,null,null,null,null,null,null,null,null,null,null,null,"Square brackets designates an Out of Segment Source (i.e., pollutant is a source for downstream segments)",null,null,null,null,null,null,null,null,null,null,null,null,null,null,null,null,null,null,null,null,null,null,null,null,null,null,null,null,null,null,null,null,null,null,null,null,null,null,null,null,null,null,null,null,null,null,null,null,null,null,null,null,null,null,null,null,null,null,null,null,null,null,null,"The lists below show unique codes in lists assembled above. Numbers are max confidence #, used to color cells for worst case. The codes are catenated in the colored boxes above for transfer to Sources RC when that sheet is activated."]
[]
[null,"Bacteria","Bacteria   B","NA","NA","NA",{"$f":"$FO$15&\"  \"&$FO$16&\"  \"&$FO$17&\"  \"&$FO$18&\"  \"&$FO$19&\"  \"&$FO$20","v":"          "},{"$f":"$FO$28&\"  \"&$FO$29&\"  \"&$FO$30&\"  \"&$FO$31&\"  \"&$FO$32&\"  \"&$FO$33","v":"          "},null,null,null,null,null,null,null,null,null,null,null,null,null,null,null,null,null,null,null,null,null,null,null,null,null,null,null,null,null,null,null,null,null,null,null,null,null,null,null,null,null,null,null,null,null,null,null,null,null,null,null,null,null,null,null,null,null,null,null,null,null,null,null,null,null,null,null,null,null,null,null,null,null,null,null,null,null,null,null,null,null,null,null,null,null,null,null,null,null,null,null,null,null,null,null,null,null,null,null,null,null,null,null,null,null,null,null,null,null,null,null,null,null,null,null,null,null,null,null,null,null,null,null,null,null,null,null,null,null,null,null,null,null,null,null,null,null,null,null,null,null,null,null,null,null,null,null,null,null,null,null,null,null,null,null,null,null,null,null,null,null,null,null,null,null,null,null,null,null,null,null,null,null,null,null,null,null,null,null,null,null,null,null,null,null,null,null,null,null,null,null,null,null,null,null,null,null,null,null,null,null,null,null,null,null,null,null,null,null,null,null,null,null,null,null,null,null,null,null,null,null,null,null,null,null,null,null,null,null,null,null,null,null,null,null,null,null,null,null,null,null,null,null,null,null,null,null,null,null,null,null,null,null,null,null,null,null,null,null,null,null,null,null,null,null,null,null,null,null,null,null,null,null,null,null,null,null,null,"Municp",null,null,"Industr",null,null,"St Water",null,null,"Res Ext",null,null,"Land Dis",null,null,"Seds",null,null,"Hydro",null,null,"Other",null,null,"Unknown"]
[]
[null,"Aesthetics","Oil & Grease   G","NA","NA","NA",{"$f":"$GO$15&\"  \"&$GO$16&\"  \"&$GO$17&\"  \"&$GO$18&\"  \"&$GO$19&\"  \"&$GO$20","v":"          "},{"$f":"$GO$28&\"  \"&$GO$29&\"  \"&$GO$30&\"  \"&$GO$31&\"  \"&$GO$32&\"  \"&$GO$33","v":"          "},null,null,null,null,null,null,null,null,null,null,null,null,null,null,null,null,null,null,null,null,null,null,null,null,null,null,null,null,null,null,null,null,null,null,null,null,null,null,null,null,null,null,null,null,null,null,null,null,null,null,null,null,null,null,null,null,null,null,null,null,null,null,null,null,null,null,null,null,null,null,null,null,null,null,null,null,null,null,null,null,null,null,null,"Identify the suspected toxic chemical substance below (e.g., Hg, PCB, etc). ",null,null,null,null,null,null,null,null,null,null,null,null,null,null,null,null,null,null,null,null,null,null,null,null,null,null,null,null,null,null,null,null,null,null,null,null,null,null,null,null,null,null,null,null,null,null,null,null,null,null,null,null,null,null,null,null,null,null,null,null,null,null,null,null,null,null,null,null,null,null,null,null,null,null,null,null,null,null,null,null,null,null,null,null,null,null,null,null,null,null,null,null,null,null,null,null,null,null,null,null,null,null,null,null,null,null,null,null,null,null,null,null,null,null,null,null,null,null,null,null,null,null,null,null,null,null,null,null,null,null,null,null,null,null,null,null,null,null,null,null,null,null,null,null,null,null,null,null,null,null,null,null,null,null,null,"Identify the suspected toxic chemical substance below (e.g., Hg, PCB, etc). "]
[null,null,"Taste & Odor   O","NA",null,null,null,null,null,null,null,null,null,null,"Pollution  Indicators (Causes):  ",null,{"$f":"P46&\" \"&P47&\" \"&P48&\" \"&P49&\" \"&P50&\" \"&P51","v":"     "},null,null,null,null,null,null,null,null,null,null,null,null,null,null,null,null,null,null,null,null,null,null,null,"Pollution  Indicators (Causes):  ",null,{"$f":"AP46&\" \"&AP47&\" \"&AP48&\" \"&AP49&\" \"&AP50&\" \"&AP51","v":"     "},null,null,null,null,null,null,null,null,null,null,null,null,null,null,null,null,null,null,null,null,null,null,null,"Pollution  Indicators (Causes):  ",null,{"$f":"BP46&\" \"&BP47&\" \"&BP48","v":"  "},null,null,null,null,null,null,null,null,null,null,null,null,null,null,null,null,null,null,null,null,null,null,null,null,null,null,null,null,null,null,null,null,null,null,null,null,null,null,null,null,null,null,null,null,null,null,null,null,null,"Pollution  Indicators (Causes):  ",null,{"$f":"DP46&\" \"&DP47","v":" "},null,null,null,null,null,null,null,null,null,null,null,null,null,null,null,null,null,null,null,null,null,null,null,"Pollution  Indicators (Causes):  ",null,{"$f":"EP46&\" \"&EP47&\" \"&EP48&\" \"&EP49","v":"   "},null,null,null,null,null,null,null,null,null,null,null,null,null,null,null,null,null,null,null,null,null,null,null,"Pollution  Indicators (Causes):  ",null,{"$f":"FP46&\" \"&FP47","v":" "},null,null,null,null,null,null,null,null,null,null,null,null,null,null,null,null,null,null,null,null,null,null,null,"Pollution  Indicators (Causes):  ",null,{"$f":"GP46&\" \"&GP47&\" \"&GP48&\" \"&GP49&\" \"&GP50&\" \"&GP51","v":"     "},null,null,null,null,null,null,null,null,null,null,null,null,null,null,null,null,null,null,null,null,null,null,"Identify the suspected toxic chemical substance below (e.g., Hg, PCB, etc). "]
[null,null,"Turb/Color   C","NA",null,null,null,null,null,null,null,null,null,null,null,null,null,null,null,null,null,null,null,null,null,null,null,null,null,null,null,null,null,null,null,null,null,null,null,null,null,null,null,null,null,null,null,null,null,null,null,null,null,null,null,null,null,null,null,null,null,null,null,null,null,null,null,null,null,null,null,null,null,null,null,null,null,null,null,null,null,null,null,null,null,null,null,null,null,null,null,"Ag",null,null,null,null,null,null,null,null,null,null,null,null,null,null,null,null,null,null,null,null,null,null,null,null,null,null,null,null,null,null,null,null,null,null,null,null,null,null,null,null,null,null,null,null,null,null,null,null,null,null,null,null,null,null,null,null,null,null,null,null,null,null,null,null,null,null,null,null,null,null,null,null,null,null,null,null,null,null,null,null,null,null,null,null,null,null,null,null,null,null,null,null,null,null,null,null,null,null,null,null,null,null,null,null,null,null,null,null,null,null,null,null,null,null,null,null,null,null,null,null,null,null,null,null,null,null,null,null,null,null,null,null,null,null,null,null,null,null,null,null,null,null,null,null,null,null,null,null,null,null,null,null,null,null,null,"DDT"]
[null,null,"Nuisance Plants   V","NA",null,null,null,null,null,null,null,null,null,null,{"$f":"$B$16","v":"Biology"},null,null,null,null,null,null,null,null,null,null,null,null,null,null,null,null,null,null,null,null,null,null,null,null,null,{"$f":"$B$22","v":"Chemistry"},null,null,null,null,null,null,null,null,null,null,null,null,null,null,null,null,null,null,null,null,null,null,null,null,null,{"$f":"$B$28","v":"Nutrients"},null,null,null,null,null,null,null,null,null,null,null,null,null,null,null,null,null,null,null,null,null,null,null,null,null,null,null,null,null,null,null,null,null,null,null,null,null,null,null,null,null,null,null,null,null,null,null,null,null,null,null,{"$f":"$B$34","v":"Flow"},null,null,null,null,null,null,null,null,null,null,null,null,null,null,null,null,null,null,null,null,null,null,null,null,null,{"$f":"$B$36","v":"Habitat"},null,null,null,null,null,null,null,null,null,null,null,null,null,null,null,null,null,null,null,null,null,null,null,null,null,{"$f":"$B$40","v":"Bacteria"},null,null,null,null,null,null,null,null,null,null,null,null,null,null,null,null,null,null,null,null,null,null,null,null,null,{"$f":"$B$42","v":"Aesthetics"},null,null,null,null,null,null,null,null,null,null,null,null,null,null,null,null,null,null,null,null,null,null,null,null,"PCB"]
[null,null,"Trash /Debris   D","NA",null,null,null,null,null,null,null,null,null,null,{"$f":"$C$16","v":"Plank/Peri.   A"},{"$f":"IF($D$16=\"Concern\",\"(A)\",IF(OR($D$16=\"Fair\",$D$16=\"Poor\"),\"A\",\"\"))","v":""},null,null,null,null,null,null,null,null,null,null,null,null,null,null,null,null,null,null,null,null,null,null,null,null,{"$f":"$C$22","v":"Dis. Oxygen    DO"},{"$f":"IF($D$22=\"Concern\",\"(DO)\",IF(OR($D$22=\"Fair\",$D$22=\"Poor\"),\"DO\",\"\"))","v":""},null,null,null,null,null,null,null,null,null,null,null,null,null,null,null,null,null,null,null,null,null,null,null,null,{"$f":"$C$28","v":"Phosphorus  P"},{"$f":"IF($D$28=\"Concern\",\"(P)\",IF(OR($D$28=\"Fair\",$D$28=\"Poor\"),\"P\",\"\"))","v":""},null,null,null,null,null,null,null,null,null,null,null,null,null,null,null,null,null,null,null,null,null,null,null,null,null,null,null,null,null,null,null,null,null,null,null,null,null,null,null,null,null,null,null,null,null,null,null,null,null,null,{"$f":"$C$34","v":"Flow  Q"},{"$f":"IF($D$34=\"Concern\",\"(O)\",IF(OR($D$34=\"Fair\",$D$34=\"Poor\"),\"O\",\"\"))","v":""},null,null,null,null,null,null,null,null,null,null,null,null,null,null,null,null,null,null,null,null,null,null,null,null,{"$f":"$C$36","v":"Substrate   S"},{"$f":"IF($D$36=\"Concern\",\"(S)\",IF(OR($D$36=\"Fair\",$D$36=\"Poor\"),\"S\",\"\"))","v":""},null,null,null,null,null,null,null,null,null,null,null,null,null,null,null,null,null,null,null,null,null,null,null,null,{"$f":"$C$40","v":"Bacteria   B"},{"$f":"IF($D$40=\"Concern\",\"(B)\",IF(OR($D$40=\"Fair\",$D$40=\"Poor\"),\"B\",\"\"))","v":""},null,null,null,null,null,null,null,null,null,null,null,null,null,null,null,null,null,null,null,null,null,null,null,null,{"$f":"$C$42","v":"Oil & Grease   G"},{"$f":"IF($D$42=\"Concern\",\"(G)\",IF(OR($D$42=\"Fair\",$D$42=\"Poor\"),\"G\",\"\"))","v":""}]
[null,null,null,null,null,null,null,null,null,null,null,null,null,null,{"$f":"$C$17","v":"Macrophyton   M"},{"$f":"IF($D$17=\"Concern\",\"(M)\",IF(OR($D$17=\"Fair\",$D$17=\"Poor\"),\"M\",\"\"))","v":""},null,null,null,null,null,null,null,null,null,null,null,null,null,null,null,null,null,null,null,null,null,null,null,null,{"$f":"$C$23","v":"pH     pH"},{"$f":"IF($D$23=\"Concern\",\"(pH)\",IF(OR($D$23=\"Fair\",$D$23=\"Poor\"),\"pH\",\"\"))","v":""},null,null,null,null,null,null,null,null,null,null,null,null,null,null,null,null,null,null,null,null,null,null,null,null,{"$f":"$C$29","v":"Nitrogen   N"},{"$f":"IF($D$29=\"Concern\",\"(N)\",IF(OR($D$29=\"Fair\",$D$29=\"Poor\"),\"N\",\"\"))","v":""},null,null,null,null,null,null,null,null,null,null,null,null,null,null,null,null,null,null,null,null,null,null,null,null,null,null,null,null,null,null,null,null,null,null,null,null,null,null,null,null,null,null,null,null,null,null,null,null,null,null,{"$f":"IF($C$41=\"\",\"\",$C$41)","v":""},{"$f":"IF($D$35=\"Concern\",\"(**)\",IF(OR($D$35=\"Fair\",$D$35=\"Poor\"),\"**\",\"\"))","v":""},null,null,null,null,null,null,null,null,null,null,null,null,null,null,null,null,null,null,null,null,null,null,null,null,{"$f":"$C$37","v":"Morphology   H"},{"$f":"IF($D$37=\"Concern\",\"(H)\",IF(OR($D$37=\"Fair\",$D$37=\"Poor\"),\"H\",\"\"))","v":""},null,null,null,null,null,null,null,null,null,null,null,null,null,null,null,null,null,null,null,null,null,null,null,null,{"$f":"IF($C$41=\"\",\"\",$C$41)","v":""},{"$f":"IF($D$41=\"Concern\",\"(**)\",IF(OR($D$41=\"Fair\",$D$41=\"Poor\"),\"**\",\"\"))","v":""},null,null,null,null,null,null,null,null,null,null,null,null,null,null,null,null,null,null,null,null,null,null,null,null,{"$f":"$C$43","v":"Taste & Odor   O"},{"$f":"IF($D$43=\"Concern\",\"(O)\",IF(OR($D$43=\"Fair\",$D$43=\"Poor\"),\"O\",\"\"))","v":""}]
[null,"Tissue",{"$f":"\"Spec. Chem.   \"&HN45","v":"Spec. Chem.   PCB"},"NA","NA","NA",{"$f":"$HO$15&\"  \"&$HO$16&\"  \"&$HO$17&\"  \"&$HO$18&\"  \"&$HO$19&\"  \"&$HO$20","v":"          "},{"$f":"$HO$28&\"  \"&$HO$29&\"  \"&$HO$30&\"  \"&$HO$31&\"  \"&$HO$32&\"  \"&$HO$33","v":"          "},null,null,null,null,null,null,{"$f":"$C$18","v":"Invertebrates   I"},{"$f":"IF($D$18=\"Concern\",\"(I)\",IF(OR($D$18=\"Fair\",$D$18=\"Poor\"),\"I\",\"\"))","v":""},null,null,null,null,null,null,null,null,null,null,null,null,null,null,null,null,null,null,null,null,null,null,null,null,{"$f":"$C$24","v":"Temperature    T"},{"$f":"IF($D$24=\"Concern\",\"(T)\",IF(OR($D$24=\"Fair\",$D$24=\"Poor\"),\"T\",\"\"))","v":""},null,null,null,null,null,null,null,null,null,null,null,null,null,null,null,null,null,null,null,null,null,null,null,null,{"$f":"IF($C$30=\"\",\"\",$C$30)","v":""},{"$f":"IF($D$30=\"Concern\",\"(**)\",IF(OR($D$30=\"Fair\",$D$30=\"Poor\"),\"**\",\"\"))","v":""},null,null,null,null,null,null,null,null,null,null,null,null,null,null,null,null,null,null,null,null,null,null,null,null,null,null,null,null,null,null,null,null,null,null,null,null,null,null,null,null,null,null,null,null,null,null,null,null,null,null,null,null,null,null,null,null,null,null,null,null,null,null,null,null,null,null,null,null,null,null,null,null,null,null,null,null,{"$f":"$C$38","v":"Riparian Zone   R"},{"$f":"IF($D$38=\"Concern\",\"(R)\",IF(OR($D$38=\"Fair\",$D$38=\"Poor\"),\"R\",\"\"))","v":""},null,null,null,null,null,null,null,null,null,null,null,null,null,null,null,null,null,null,null,null,null,null,null,null,null,null,null,null,null,null,null,null,null,null,null,null,null,null,null,null,null,null,null,null,null,null,null,null,null,null,{"$f":"$C$44","v":"Turb/Color   C"},{"$f":"IF($D$44=\"Concern\",\"(C)\",IF(OR($D$44=\"Fair\",$D$44=\"Poor\"),\"C\",\"\"))","v":""}]
[null,null,null,null,null,null,null,null,null,null,null,null,null,null,{"$f":"$C$19","v":"Fish   F"},{"$f":"IF($D$19=\"Concern\",\"(F)\",IF(OR($D$19=\"Fair\",$D$19=\"Poor\"),\"F\",\"\"))","v":""},null,null,null,null,null,null,null,null,null,null,null,null,null,null,null,null,null,null,null,null,null,null,null,null,{"$f":"$C$25","v":"Ionic Strength    Z"},{"$f":"IF($D$25=\"Concern\",\"(Z)\",IF(OR($D$25=\"Fair\",$D$25=\"Poor\"),\"Z\",\"\"))","v":""},null,null,null,null,null,null,null,null,null,null,null,null,null,null,null,null,null,null,null,null,null,null,null,null,null,null,null,null,null,null,null,null,null,null,null,null,null,null,null,null,null,null,null,null,null,null,null,null,null,null,"Pollution  Indicators (Causes):  ",null,{"$f":"CP52&\" \"&CP53&\" \"&CP54","v":"  "},null,null,null,null,null,null,null,null,null,null,null,null,null,null,null,null,null,null,null,null,null,null,null,null,null,null,null,null,null,null,null,null,null,null,null,null,null,null,null,null,null,null,null,null,null,null,null,null,null,{"$f":"IF($C$39=\"\",\"\",$C$39)","v":""},{"$f":"IF($D$39=\"Concern\",\"(**)\",IF(OR($D$39=\"Fair\",$D$39=\"Poor\"),\"**\",\"\"))","v":""},null,null,null,null,null,null,null,null,null,null,null,null,null,null,null,null,null,null,null,null,null,null,null,null,null,null,null,null,null,null,null,null,null,null,null,null,null,null,null,null,null,null,null,null,null,null,null,null,null,null,{"$f":"$C$45","v":"Nuisance Plants   V"},{"$f":"IF($D$45=\"Concern\",\"(V)\",IF(OR($D$45=\"Fair\",$D$45=\"Poor\"),\"V\",\"\"))","v":""},null,null,null,null,null,null,null,null,null,null,null,null,null,null,null,null,null,null,null,null,null,null,null,null,null,null,null,null,null,null,null,null,null,null,null,null,null,null,null,null,null,null,null,null,null,null,null,null,null,null,"Pollution  Indicators (Causes):  ",null,{"$f":"IP52&\" \"&IP53&\" \"&IP54","v":"  "}]
[null,"Sediment","Unknown   U","NA","NA","NA",{"$f":"$IO$15&\"  \"&$IO$16&\"  \"&$IO$17&\"  \"&$IO$18&\"  \"&$IO$19&\"  \"&$IO$20","v":"          "},{"$f":"$IO$28&\"  \"&$IO$29&\"  \"&$IO$30&\"  \"&$IO$31&\"  \"&$IO$32&\"  \"&$IO$33","v":"          "},null,null,null,null,null,null,{"$f":"$C$20","v":"Wildlife   W"},{"$f":"IF($D$20=\"Concern\",\"(W)\",IF(OR($D$20=\"Fair\",$D$20=\"Poor\"),\"W\",\"\"))","v":""},null,null,null,null,null,null,null,null,null,null,null,null,null,null,null,null,null,null,null,null,null,null,null,null,{"$f":"$C$26","v":"Sus. Solids    SS"},{"$f":"IF($D$26=\"Concern\",\"(SS)\",IF(OR($D$26=\"Fair\",$D$26=\"Poor\"),\"SS\",\"\"))","v":""},null,null,null,null,null,null,null,null,null,null,null,null,null,null,null,null,null,null,null,null,null,null,null,null,null,null,null,null,null,null,null,null,null,null,null,null,null,null,null,null,null,null,null,null,null,null,null,null,null,null,null,null,null,null,null,null,null,null,null,null,null,null,null,null,null,null,null,null,null,null,null,null,null,null,null,null,null,null,null,null,null,null,null,null,null,null,null,null,null,null,null,null,null,null,null,null,null,null,null,null,null,null,null,null,null,null,null,null,null,null,null,null,null,null,null,null,null,null,null,null,null,null,null,null,null,null,null,null,null,null,null,null,null,null,null,null,null,null,null,null,null,null,null,null,null,null,null,null,null,null,null,null,null,null,{"$f":"$C$46","v":"Trash /Debris   D"},{"$f":"IF($D$46=\"Concern\",\"(D)\",IF(OR($D$46=\"Fair\",$D$46=\"Poor\"),\"D\",\"\"))","v":""},null,null,null,null,null,null,null,null,null,null,null,null,null,null,null,null,null,null,null,null,null,null,null,null,"Pollution  Indicators (Causes):  ",null,{"$f":"HP53&\" \"&HP54","v":" "}]
[null,null,{"$f":"\"Spec. Chem.   \"&IN44","v":"Spec. Chem.   DDT"},"NA",null,null,null,null,null,null,null,null,null,null,{"$f":"IF($C$21=\"\",\"\",$C$21)","v":""},{"$f":"IF($D$21=\"Concern\",\"(**)\",IF(OR($D$21=\"Fair\",$D$21=\"Poor\"),\"**\",\"\"))","v":""},null,null,null,null,null,null,null,null,null,null,null,null,null,null,null,null,null,null,null,null,null,null,null,null,{"$f":"IF($C$27=\"\",\"\",$C$27)","v":""},{"$f":"IF($D$27=\"Concern\",\"(**)\",IF(OR($D$27=\"Fair\",$D$27=\"Poor\"),\"**\",\"\"))","v":""},null,null,null,null,null,null,null,null,null,null,null,null,null,null,null,null,null,null,null,null,null,null,null,null,null,null,null,null,null,null,null,null,null,null,null,null,null,null,null,null,null,null,null,null,null,null,null,null,null,null,{"$f":"$B$31","v":"Toxicity"},null,null,null,null,null,null,null,null,null,null,null,null,null,null,null,null,null,null,null,null,null,null,null,null,null,null,null,null,null,null,null,null,null,null,null,null,null,null,null,null,null,null,null,null,null,null,null,null,null,null,null,null,null,null,null,null,null,null,null,null,null,null,null,null,null,null,null,null,null,null,null,null,null,null,null,null,null,null,null,null,null,null,null,null,null,null,null,null,null,null,null,null,null,null,null,null,null,null,null,null,null,null,null,{"$f":"IF($C$47=\"\",\"\",$C$47)","v":""},{"$f":"IF($D$47=\"Concern\",\"(**)\",IF(OR($D$47=\"Fair\",$D$47=\"Poor\"),\"**\",\"\"))","v":""},null,null,null,null,null,null,null,null,null,null,null,null,null,null,null,null,null,null,null,null,null,null,null,null,null,null,null,null,null,null,null,null,null,null,null,null,null,null,null,null,null,null,null,null,null,null,null,null,null,null,{"$f":"$B$50","v":"Sediment"}]
[null,null,null,null,null,null,null,null,null,null,null,null,null,null,null,null,null,null,null,null,null,null,null,null,null,null,null,null,null,null,null,null,null,null,null,null,null,null,null,null,null,null,null,null,null,null,null,null,null,null,null,null,null,null,null,null,null,null,null,null,null,null,null,null,null,null,null,null,null,null,null,null,null,null,null,null,null,null,null,null,null,null,null,null,null,null,null,null,null,null,null,null,{"$f":"$C$31","v":"Unknown   U"},{"$f":"IF($D$31=\"Concern\",\"(U)\",IF(OR($D$31=\"Fair\",$D$31=\"Poor\"),\"U\",\"\"))","v":""},null,null,null,null,null,null,null,null,null,null,null,null,null,null,null,null,null,null,null,null,null,null,null,null,null,null,null,null,null,null,null,null,null,null,null,null,null,null,null,null,null,null,null,null,null,null,null,null,null,null,null,null,null,null,null,null,null,null,null,null,null,null,null,null,null,null,null,null,null,null,null,null,null,null,null,null,null,null,null,null,null,null,null,null,null,null,null,null,null,null,null,null,null,null,null,null,null,null,null,null,null,null,null,null,null,null,null,null,null,null,null,null,null,null,null,null,null,null,null,null,null,null,null,null,null,null,null,null,{"$f":"$B$48","v":"Tissue"},null,null,null,null,null,null,null,null,null,null,null,null,null,null,null,null,null,null,null,null,null,null,null,null,null,{"$f":"$C$50","v":"Unknown   U"},{"$f":"IF($D$50=\"Concern\",\"(U)\",IF(OR($D$50=\"Fair\",$D$50=\"Poor\"),\"U\",\"\"))","v":""}]
[null,"Comments:",null,null,null,null,null,"*  Suspected Source  ",null,null,null,null,null,null,null,null,null,null,null,null,null,null,null,null,null,null,null,null,null,null,null,null,null,null,null,null,null,null,null,null,null,null,null,null,null,null,null,null,null,null,null,null,null,null,null,null,null,null,null,null,null,null,null,null,null,null,null,null,null,null,null,null,null,null,null,null,null,null,null,null,null,null,null,null,null,null,null,null,null,null,null,null,{"$f":"$C$32","v":"Spec. Chem.  Ag"},{"$f":"IF($D$32=\"Concern\",\"(\"&CN44&\")\",IF(OR($D$32=\"Fair\",$D$32=\"Poor\"),CN44,\"\"))","v":""},null,null,null,null,null,null,null,null,null,null,null,null,null,null,null,null,null,null,null,null,null,null,null,null,null,null,null,null,null,null,null,null,null,null,null,null,null,null,null,null,null,null,null,null,null,null,null,null,null,null,null,null,null,null,null,null,null,null,null,null,null,null,null,null,null,null,null,null,null,null,null,null,null,null,null,null,null,null,null,null,null,null,null,null,null,null,null,null,null,null,null,null,null,null,null,null,null,null,null,null,null,null,null,null,null,null,null,null,null,null,null,null,null,null,null,null,null,null,null,null,null,null,null,null,null,null,null,null,{"$f":"$C$48","v":"Spec. Chem.   PCB"},{"$f":"IF($D$48=\"Concern\",\"(\"&HN45&\")\",IF(OR($D$48=\"Fair\",$D$32=\"Poor\"),HN45,\"\"))","v":""},null,null,null,null,null,null,null,null,null,null,null,null,null,null,null,null,null,null,null,null,null,null,null,null,{"$f":"$C$51","v":"Spec. Chem.   DDT"},{"$f":"IF($D$51=\"Concern\",\"(\"&IN44&\")\",IF(OR($D$51=\"Fair\",$D$51=\"Poor\"),IN44,\"\"))","v":""}]
[null,null,null,null,null,null,null,"** Potential Source  ",null,null,null,null,null,null,null,null,null,null,null,null,null,null,null,null,null,null,null,null,null,null,null,null,null,null,null,null,null,null,null,null,null,null,null,null,null,null,null,null,null,null,null,null,null,null,null,null,null,null,null,null,null,null,null,null,null,null,null,null,null,null,null,null,null,null,null,null,null,null,null,null,null,null,null,null,null,null,null,null,null,null,null,null,{"$f":"IF($C$33=\"\",\"\",$C$33)","v":""},{"$f":"IF($D$33=\"Concern\",\"(**)\",IF(OR($D$33=\"Fair\",$D$33=\"Poor\"),\"**\",\"\"))","v":""},null,null,null,null,null,null,null,null,null,null,null,null,null,null,null,null,null,null,null,null,null,null,null,null,null,null,null,null,null,null,null,null,null,null,null,null,null,null,null,null,null,null,null,null,null,null,null,null,null,null,null,null,null,null,null,null,null,null,null,null,null,null,null,null,null,null,null,null,null,null,null,null,null,null,null,null,null,null,null,null,null,null,null,null,null,null,null,null,null,null,null,null,null,null,null,null,null,null,null,null,null,null,null,null,null,null,null,null,null,null,null,null,null,null,null,null,null,null,null,null,null,null,null,null,null,null,null,null,{"$f":"IF($C$49=\"\",\"\",$C$49)","v":""},{"$f":"IF($D$49=\"Concern\",\"(**)\",IF(OR($D$49=\"Fair\",$D$49=\"Poor\"),\"**\",\"\"))","v":""},null,null,null,null,null,null,null,null,null,null,null,null,null,null,null,null,null,null,null,null,null,null,null,null,{"$f":"IF($C$52=\"\",\"\",$C$52)","v":""},{"$f":"IF($D$52=\"Concern\",\"(**)\",IF(OR($D$52=\"Fair\",$D$52=\"Poor\"),\"**\",\"\"))","v":""}]
[null,null,null,null,null,null,null,"No asterisk: Known Source  "]
[null,null,null,null,null,null,null,"[Out of Segment Source ]  "]
[]
[]
[]
[null,"SegNameLong:  ","llllll"]
[null,"Seg Name:  ","lll"]
[null,"Seg Num:  "]
[null,"Seg Size:  "]
[null,"Seg Class:  "]
[]
[]
[]
[]
[]
[]
[]
[]
[]
[]
[]
[]
[null,null,null,{"$f":"A99","v":""}]
[null,null,null,{"$f":"B99","v":""}]
[null,null,null,{"$f":"C99","v":""}]
[null,null,null,{"$f":"D99","v":""}]
[null,null,null,{"$f":"E99","v":""}]
[null,null,null,{"$f":"F99","v":""}]
[null,null,null,{"$f":"G99","v":""}]
[null,null,null,{"$f":"H99","v":""}]
[null,null,null,{"$f":"I99","v":""}]
[]
[]
[]
[]
[]
[]
[]
[]
[]
[]
[]
[]
[]
[{"$f":"TRIM(A101&\" \"&A102&\" \"&A103&\" \"&A104&\" \"&A105&\" \"&A106)","v":""},{"$f":"TRIM(B101&\" \"&B102&\" \"&B103&\" \"&B104&\" \"&B105&\" \"&B106)","v":""},"","","","","","",""]

{"sheet":"Seg13","index":17,"n_rows":99,"n_cols":311,"rows_kept":99,"cut":false,"hidden":false,"merged":[[15,1,20,1],[15,4,20,4],[15,5,20,5],[15,6,20,6],[15,7,20,7],[13,1,14,1],[13,2,14,3],[13,4,14,4],[13,5,14,5],[14,6,14,7],[27,1,29,1],[27,4,29,4],[27,5,29,5],[27,6,29,6],[27,7,29,7],[21,1,26,1],[21,4,26,4],[21,5,26,5],[21,6,26,6],[21,7,26,7],[49,6,51,6],[49,7,51,7],[30,1,32,1],[30,4,32,4],[30,5,32,5],[30,6,32,6],[30,7,32,7],[33,1,34,1],[33,4,34,4],[33,5,34,5],[33,6,34,6],[33,7,34,7],[43,91,45,94],[35,1,38,1],[35,4,38,4],[35,5,38,5],[35,6,38,6],[35,7,38,7],[39,1,40,1],[39,4,40,4],[39,5,40,5],[39,6,40,6],[39,7,40,7],[52,1,55,1],[43,247,45,250],[44,221,46,224],[47,1,48,1],[47,4,48,4],[47,5,48,5],[47,6,48,6],[47,7,48,7],[41,1,46,1],[41,4,46,4],[41,5,46,5],[41,6,46,6],[41,7,46,7],[49,1,51,1],[49,4,51,4],[49,5,51,5]]}
[]
[]
[]
[]
[null,null,null,null,null,null,null,null,null,null,null,null,null,null,null,null,null,null,null,null,null,null,null,null,null,null,null,null,null,null,null,null,null,null,null,null,null,null,null,null,null,null,null,null,null,null,null,null,null,null,null,null,null,null,null,null,null,null,null,null,null,null,null,null,null,null,null,null,null,null,null,null,null,null,null,null,null,null,null,null,null,null,null,null,null,null,null,null,null,null,null,null,null,null,null,null,null,null,null,null,null,null,null,null,null,null,null,null,null,null,null,null,null,null,null,null,null,null,null,null,null,null,null,null,null,null,null,null,null,null,null,null,null,null,null,null,null,null,null,null,null,null,null,null,null,null,null,null,null,null,null,null,null,null,null,null,null,null,null,null,null,null,null,null,null,null,null,null,null,null,null,null,null,null,null,null,null,null,null,null,null,null,null,null,null,null,null,null,null,null,null,null,null,null,null,null,null,null,null,null,null,null,null,null,null,null,null,null,null,null,null,null,null,null,null,null,null,null,null,null,null,null,null,null,null,null,null,null,null,null,null,null,null,null,null,null,null,null,null,null,null,null,null,null,null,null,null,null,null,null,null,null,null,null,null,null,null,null,null,null,null,null,null,null,null,null,null,null,null,null,null,null,null,null,null,null,null,null,null,null,null,null,null,null,null,"List of all codes from all groups for this segment, organized by Source Type. "]
[null,null,null,null,null,null,null,null,null,null,null,null,null,null,null,null,null,null,null,null,null,null,null,null,null,null,null,null,null,null,null,null,null,null,null,null,null,null,null,null,null,null,null,null,null,null,null,null,null,null,null,null,null,null,null,null,null,null,null,null,null,null,null,null,null,null,null,null,null,null,null,null,null,null,null,null,null,null,null,null,null,null,null,null,null,null,null,null,null,null,null,null,null,null,null,null,null,null,null,null,null,null,null,null,null,null,null,null,null,null,null,null,null,null,null,null,null,null,null,null,null,null,null,null,null,null,null,null,null,null,null,null,null,null,null,null,null,null,null,null,null,null,null,null,null,null,null,null,null,null,null,null,null,null,null,null,null,null,null,null,null,null,null,null,null,null,null,null,null,null,null,null,null,null,null,null,null,null,null,null,null,null,null,null,null,null,null,null,null,null,null,null,null,null,null,null,null,null,null,null,null,null,null,null,null,null,null,null,null,null,null,null,null,null,null,null,null,null,null,null,null,null,null,null,null,null,null,null,null,null,null,null,null,null,null,null,null,null,null,null,null,null,null,null,null,null,null,null,null,null,null,null,null,null,null,null,null,null,null,null,null,null,null,null,null,null,null,null,null,null,null,null,null,null,null,null,null,null,null,null,null,null,null,null,null,"List is updated only when \"SourceRC_List\" macro is run. Macro is run manually by touching button at right or when Source report card is activated."]
[null,null,null,null,null,null,null,null,null,null,null,null,null,null,null,null,null,null,null,null,null,null,null,null,null,null,null,null,null,null,null,null,null,null,null,null,null,null,null,null,null,null,null,null,null,null,null,null,null,null,null,null,null,null,null,null,null,null,null,null,null,null,null,null,null,null,null,null,null,null,null,null,null,null,null,null,null,null,null,null,null,null,null,null,null,null,null,null,null,null,null,null,null,null,null,null,null,null,null,null,null,null,null,null,null,null,null,null,null,null,null,null,null,null,null,null,null,null,null,null,null,null,null,null,null,null,null,null,null,null,null,null,null,null,null,null,null,null,null,null,null,null,null,null,null,null,null,null,null,null,null,null,null,null,null,null,null,null,null,null,null,null,null,null,null,null,null,null,null,null,null,null,null,null,null,null,null,null,null,null,null,null,null,null,null,null,null,null,null,null,null,null,null,null,null,null,null,null,null,null,null,null,null,null,null,null,null,null,null,null,null,null,null,null,null,null,null,null,null,null,null,null,null,null,null,null,null,null,null,null,null,null,null,null,null,null,null,null,null,null,null,null,null,null,null,null,null,null,null,null,null,null,null,null,null,null,null,null,null,null,null,null,null,null,null,null,null,null,null,null,null,null,null,null,null,null,null,null,null,null,null,null,null,null,null,"Numbers indicate knowledge about the certainty of assessment: 0 = N/A, 1 = Potential Source, 2 = Suspected Source, 3 = Known Source."]
[null,null,null,null,null,null,null,null,null,null,null,null,null,null,null,null,null,null,null,null,null,null,null,null,null,null,null,null,null,null,null,null,null,null,null,null,null,null,null,null,null,null,null,null,null,null,null,null,null,null,null,null,null,null,null,null,null,null,null,null,null,null,null,null,null,null,null,null,null,null,null,null,null,null,null,null,null,null,null,null,null,null,null,null,null,null,null,null,null,null,null,null,null,null,null,null,null,null,null,null,null,null,null,null,null,null,null,null,null,null,null,null,null,null,null,null,null,null,null,null,null,null,null,null,null,null,null,null,null,null,null,null,null,null,null,null,null,null,null,null,null,null,null,null,null,null,null,null,null,null,null,null,null,null,null,null,null,null,null,null,null,null,null,null,null,null,null,null,null,null,null,null,null,null,null,null,null,null,null,null,null,null,null,null,null,null,null,null,null,null,null,null,null,null,null,null,null,null,null,null,null,null,null,null,null,null,null,null,null,null,null,null,null,null,null,null,null,null,null,null,null,null,null,null,null,null,null,null,null,null,null,null,null,null,null,null,null,null,null,null,null,null,null,null,null,null,null,null,null,null,null,null,null,null,null,null,null,null,null,null,null,null,null,null,null,null,null,null,null,null,null,null,null,null,null,null,null,null,null,null,null,null,null,null,null,"This list is then processed below to remove duplicates."]
[null,null,null,null,null,null,null,null,null,null,null,null,null,"Designate Point & Non-Point Sources",null,null,null,null,null,null,null,null,null,null,null,null,null,null,null,null,null,null,null,null,null,null,null,null,null,"Designate Point & Non-Point Sources",null,null,null,null,null,null,null,null,null,null,null,null,null,null,null,null,null,null,null,null,null,null,null,null,null,"Designate Point & Non-Point Sources",null,null,null,null,null,null,null,null,null,null,null,null,null,null,null,null,null,null,null,null,null,null,null,null,null,"Designate Point & Non-Point Sources",null,null,null,null,null,null,null,null,null,null,null,null,null,null,null,null,null,null,null,null,null,null,null,null,null,"Designate Point & Non-Point Sources",null,null,null,null,null,null,null,null,null,null,null,null,null,null,null,null,null,null,null,null,null,null,null,null,null,"Designate Point & Non-Point Sources",null,null,null,null,null,null,null,null,null,null,null,null,null,null,null,null,null,null,null,null,null,null,null,null,null,"Designate Point & Non-Point Sources",null,null,null,null,null,null,null,null,null,null,null,null,null,null,null,null,null,null,null,null,null,null,null,null,null,"Designate Point & Non-Point Sources",null,null,null,null,null,null,null,null,null,null,null,null,null,null,null,null,null,null,null,null,null,null,null,null,null,"Designate Point & Non-Point Sources",null,null,null,null,null,null,null,null,null,null,null,null,null,null,null,null,null,null,null,null,null,null,null,null,null,"Designate Point & Non-Point Sources"]
[null,null,null,null,null,null,null,null,null,null,null,null,null,null,null,null,null,null,null,null,null,null,null,"Codes selected at left are distributed according to Source Type. "]
[null,{"$f":"\"River Basin: \"&RiverBasinName","v":"River Basin: Test River Basin"},null,null,null,null,{"$f":"\"Data Year:  \"&AssessmentYear","v":"Data Year:  2011"},null,null,null,null,null,null,null,null,null,null,null,null,null,null,null,null,"Numbers indicate confidence of assessment: 0 = N/A, 1 = Potential Source, 2 = Suspected Source, 3 = Known Source.",null,null,null,null,null,null,null,null,null,null,null,null,null,null,null,null,null,null,null,null,null,null,null,null,null,null,null,null,null,null,null,null,null,null,null,null,null,null,null,null,null,null,null,null,null,null,null,null,null,null,null,null,null,null,null,null,null,null,null,null,null,null,null,null,null,null,null,null,null,null,null,null,null,null,null,null,null,null,null,null,null,null,null,null,null,null,null,null,null,null,null,null,null,null,null,null,null,null,null,null,null,null,null,null,null,null,null,null,null,null,null,null,null,null,null,null,null,null,null,null,null,null,null,null,null,null,null,null,null,null,null,null,null,null,null,null,null,null,null,null,null,null,null,null,null,null,null,null,null,null,null,null,null,null,null,null,null,null,null,null,null,null,null,null,null,null,null,null,null,null,null,null,null,null,null,null,null,null,null,null,null,null,null,null,null,null,null,null,null,null,null,null,null,null,null,null,null,null,null,null,null,null,null,null,null,null,null,null,null,null,null,null,null,null,null,null,null,null,null,null,null,null,null,null,null,null,null,null,null,null,null,null,null,null,null,null,null,null,null,null,null,null,null,null,null,null,null,null,null,null,null,null,null,null,null,null,null,null,null,null,null,null,"Municp",null,null,"Industr",null,null,"St Water",null,null,"Res Ext",null,null,"Land Dis",null,null,"Seds",null,null,"Hydro",null,null,"Other",null,null,"Unknown"]
[null,{"$f":"\"Segment Name: \"&C60","v":"Segment Name: mmmmmm"},null,null,null,null,null,null,null,null,null,null,null,null,null,null,null,null,null,null,null,null,null,"These codes are processed by \"SourceRC_List macro and transferred to Source report card."]
[null,{"$f":"\"Class: \"&C64","v":"Class: "},null,{"$f":"\"Size: \"&C63","v":"Size: "},null,null,{"$f":"\"Seg ID #: \"&C62","v":"Seg ID #: "}]
[null,"CATEGORY","INDICATOR ASSESSMENT",null,"OVERALL STATUS","DATA LEVEL","POINT","NONPOINT",null,null,null,null,null,"Point Sources",null,null,null,null,null,null,null,null,null,"Municipal",null,null,"Industrial",null,null,"Storm Water",null,null,"Resource Ext",null,null,"Land Disposal",null,null,null,"Point Sources",null,null,null,null,null,null,null,null,null,"Municipal",null,null,"Industrial",null,null,"Storm Water",null,null,"Resource Ext",null,null,"Land Disposal",null,null,null,"Point Sources",null,null,null,null,null,null,null,null,null,"Municipal",null,null,"Industrial",null,null,"Storm Water",null,null,"Resource Ext",null,null,"Land Disposal",null,null,null,"Point Sources",null,null,null,null,null,null,null,null,null,"Municipal",null,null,"Industrial",null,null,"Storm Water",null,null,"Resource Ext",null,null,"Land Disposal",null,null,null,"Point Sources",null,null,null,null,null,null,null,null,null,"Municipal",null,null,"Industrial",null,null,"Storm Water",null,null,"Resource Ext",null,null,"Land Disposal",null,null,null,"Point Sources",null,null,null,null,null,null,null,null,null,"Municipal",null,null,"Industrial",null,null,"Storm Water",null,null,"Resource Ext",null,null,"Land Disposal",null,null,null,"Point Sources",null,null,null,null,null,null,null,null,null,"Municipal",null,null,"Industrial",null,null,"Storm Water",null,null,"Resource Ext",null,null,"Land Disposal",null,null,null,"Point Sources",null,null,null,null,null,null,null,null,null,"Municipal",null,null,"Industrial",null,null,"Storm Water",null,null,"Resource Ext",null,null,"Land Disposal",null,null,null,"Point Sources",null,null,null,null,null,null,null,null,null,"Municipal",null,null,"Industrial",null,null,"Storm Water",null,null,"Resource Ext",null,null,"Land Disposal",null,null,null,"Point Sources",null,null,null,null,null,null,null,null,null,"Municipal",null,null,"Industrial",null,null,"Storm Water",null,null,"Resource Ext",null,null,"Land Disposal"]
[null,null,null,null,null,null,"Click below to select Sources"]
[null,"Biology","Plank/Peri.   A","NA","NA","NA",{"$f":"$O$15&\"  \"&$O$16&\"  \"&$O$17&\"  \"&$O$18&\"  \"&$O$19&\"  \"&$O$20","v":"          "},{"$f":"$O$28&\"  \"&$O$29&\"  \"&$O$30&\"  \"&$O$31&\"  \"&$O$32&\"  \"&$O$33","v":"          "}]
[null,null,"Macrophyton   M","NA"]
[null,null,"Invertebrates   I","NA"]
[null,null,"Fish   F","NA"]
[null,null,"Wildlife   W","NA"]
[]
[null,"Chemistry","Dis. Oxygen    DO","NA","NA","NA",{"$f":"$AO$15&\"  \"&$AO$16&\"  \"&$AO$17&\"  \"&$AO$18&\"  \"&$AO$19&\"  \"&$AO$20","v":"          "},{"$f":"$AO$28&\"  \"&$AO$29&\"  \"&$AO$30&\"  \"&$AO$31&\"  \"&$AO$32&\"  \"&$AO$33","v":"          "}]
[null,null,"pH     pH","NA"]
[null,null,"Temperature    T","NA"]
[null,null,"Ionic Strength    Z","NA"]
[null,null,"Sus. Solids    SS","NA"]
[null,null,null,null,null,null,null,null,null,null,null,null,null,"Non Point Sources",null,null,null,null,null,null,null,null,null,"Seds",null,null,"Hydromodification",null,null,"Other",null,null,"Unknown",null,null,null,null,null,null,"Non Point Sources",null,null,null,null,null,null,null,null,null,"Seds",null,null,"Hydromodification",null,null,"Other",null,null,"Unknown",null,null,null,null,null,null,"Non Point Sources",null,null,null,null,null,null,null,null,null,"Seds",null,null,"Hydromodification",null,null,"Other",null,null,"Unknown",null,null,null,null,null,null,"Non Point Sources",null,null,null,null,null,null,null,null,null,"Seds",null,null,"Hydromodification",null,null,"Other",null,null,"Unknown",null,null,null,null,null,null,"Non Point Sources",null,null,null,null,null,null,null,null,null,"Seds",null,null,"Hydromodification",null,null,"Other",null,null,"Unknown",null,null,null,null,null,null,"Non Point Sources",null,null,null,null,null,null,null,null,null,"Seds",null,null,"Hydromodification",null,null,"Other",null,null,"Unknown",null,null,null,null,null,null,"Non Point Sources",null,null,null,null,null,null,null,null,null,"Seds",null,null,"Hydromodification",null,null,"Other",null,null,"Unknown",null,null,null,null,null,null,"Non Point Sources",null,null,null,null,null,null,null,null,null,"Seds",null,null,"Hydromodification",null,null,"Other",null,null,"Unknown",null,null,null,null,null,null,"Non Point Sources",null,null,null,null,null,null,null,null,null,"Seds",null,null,"Hydromodification",null,null,"Other",null,null,"Unknown",null,null,null,null,null,null,"Non Point Sources",null,null,null,null,null,null,null,null,null,"Seds",null,null,"Hydromodification",null,null,"Other",null,null,"Unknown"]
[null,"Nutrients","Phosphorus  P","NA","NA","NA",{"$f":"$BO$15&\"  \"&$BO$16&\"  \"&$BO$17&\"  \"&$BO$18&\"  \"&$BO$19&\"  \"&$BO$20","v":"          "},{"$f":"$BO$28&\"  \"&$BO$29&\"  \"&$BO$30&\"  \"&$BO$31&\"  \"&$BO$32&\"  \"&$BO$33","v":"          "}]
[null,null,"Nitrogen   N","NA"]
[]
[null,"Toxicity","Unknown   U","NA","NA","NA",{"$f":"$CO$15&\"  \"&$CO$16&\"  \"&$CO$17&\"  \"&$CO$18&\"  \"&$CO$19&\"  \"&$CO$20","v":"          "},{"$f":"$CO$28&\"  \"&$CO$29&\"  \"&$CO$30&\"  \"&$CO$31&\"  \"&$CO$32&\"  \"&$CO$33","v":"          "}]
[null,null,{"$f":"\"Spec. Chem.  \"&CN44","v":"Spec. Chem.  Ag"},"NA"]
[null,null,null,null,null,null,null,null,null,null,null,null,null,null,null,null,null,null,null,null,null,null,null,null,null,null,null,null,null,null,null,null,null,null,null,null,null,null,null,null,null,null,null,null,null,null,null,null,null,null,null,null,null,null,null,null,null,null,null,null,null,null,null,null,null,null,null,null,null,null,null,null,null,null,null,null,null,null,null,null,null,null,null,null,null,null,null,null,null,null,null,null,null,null,null,null,null,null,null,null,null,null,null,null,null,null,null,null,null,null,null,null,null,null,null,null,null,null,null,null,null,null,null,null,null,null,null,null,null,null,null,null,null,null,null,null,null,null,null,null,null,null,null,null,null,null,null,null,null,null,null,null,null,null,null,null,null,null,null,null,null,null,null,null,null,null,null,null,null,null,null,null,null,null,null,null,null,null,null,null,null,null,null,null,null,null,null,null,null,null,null,null,null,null,null,null,null,null,null,null,null,null,null,null,null,null,null,null,null,null,null,null,null,null,null,null,null,null,null,null,null,null,null,null,null,null,null,null,null,null,null,null,null,null,null,null,null,null,null,null,null,null,null,null,null,null,null,null,null,null,null,null,null,null,null,null,null,null,null,null,null,null,null,null,null,null,null,null,null,null,null,null,null,null,null,null,null,null,null,null,null,null,null,null,null,"The colored cells below reflect this segments pollution status and are replicated on the Sources report card automatically"]
[null,"Flow","Flow  Q","NA","NA","NA",{"$f":"$DO$15&\"  \"&$DO$16&\"  \"&$DO$17&\"  \"&$DO$18&\"  \"&$DO$19&\"  \"&$DO$20","v":"          "},{"$f":"$DO$28&\"  \"&$DO$29&\"  \"&$DO$30&\"  \"&$DO$31&\"  \"&$DO$32&\"  \"&$DO$33","v":"          "},null,null,null,null,null,null,null,null,null,null,null,null,null,null,null,null,null,null,null,null,null,null,null,null,null,null,null,null,null,null,null,null,null,null,null,null,null,null,null,null,null,null,null,null,null,null,null,null,null,null,null,null,null,null,null,null,null,null,null,null,null,null,null,null,null,null,null,null,null,null,null,null,null,null,null,null,null,null,null,null,null,null,null,null,null,null,null,null,null,null,null,null,null,null,null,null,null,null,null,null,null,null,null,null,null,null,null,null,null,null,null,null,null,null,null,null,null,null,null,null,null,null,null,null,null,null,null,null,null,null,null,null,null,null,null,null,null,null,null,null,null,null,null,null,null,null,null,null,null,null,null,null,null,null,null,null,null,null,null,null,null,null,null,null,null,null,null,null,null,null,null,null,null,null,null,null,null,null,null,null,null,null,null,null,null,null,null,null,null,null,null,null,null,null,null,null,null,null,null,null,null,null,null,null,null,null,null,null,null,null,null,null,null,null,null,null,null,null,null,null,null,null,null,null,null,null,null,null,null,null,null,null,null,null,null,null,null,null,null,null,null,null,null,null,null,null,null,null,null,null,null,null,null,null,null,null,null,null,null,null,null,null,null,null,null,null,null,null,null,null,null,null,null,null,null,null,null,null,{"$f":"KA11","v":"Municp"},null,null,{"$f":"KD11","v":"Industr"},null,null,{"$f":"KG11","v":"St Water"},null,null,{"$f":"KJ11","v":"Res Ext"},null,null,{"$f":"KM11","v":"Land Dis"},null,null,{"$f":"KP11","v":"Seds"},null,null,{"$f":"KS11","v":"Hydro"},null,null,{"$f":"KV11","v":"Other"},null,null,{"$f":"KY11","v":"Unknown"}]
[null,null,null,null,null,null,null,null,null,null,null,null,null,"* designates a Suspected Source",null,null,null,null,null,null,null,null,null,null,null,null,null,null,null,null,null,null,null,null,null,null,null,null,null,"* designates a Suspected Source",null,null,null,null,null,null,null,null,null,null,null,null,null,null,null,null,null,null,null,null,null,null,null,null,null,"* designates a Suspected Source",null,null,null,null,null,null,null,null,null,null,null,null,null,null,null,null,null,null,null,null,null,null,null,null,null,"* designates a Suspected Source",null,null,null,null,null,null,null,null,null,null,null,null,null,null,null,null,null,null,null,null,null,null,null,null,null,"* designates a Suspected Source",null,null,null,null,null,null,null,null,null,null,null,null,null,null,null,null,null,null,null,null,null,null,null,null,null,"* designates a Suspected Source",null,null,null,null,null,null,null,null,null,null,null,null,null,null,null,null,null,null,null,null,null,null,null,null,null,"* designates a Suspected Source",null,null,null,null,null,null,null,null,null,null,null,null,null,null,null,null,null,null,null,null,null,null,null,null,null,"* designates a Suspected Source",null,null,null,null,null,null,null,null,null,null,null,null,null,null,null,null,null,null,null,null,null,null,null,null,null,"* designates a Suspected Source",null,null,null,null,null,null,null,null,null,null,null,null,null,null,null,null,null,null,null,null,null,null,null,null,null,null,null,null,null,null,null,null,null,null,null,null,null,null,null,null,null,null,null,null,null,null,null,null,null,null,null,null,null,null,null,null,null,null,null,null,null,null,null,null,{"$f":"TRIM(KA41&\" \"&KA42&\" \"&KA43&\" \"&KA44&\" \"&KA45&\" \"&KA46)","v":""},null,null,{"$f":"TRIM(KD41&\" \"&KD42&\" \"&KD43&\" \"&KD44&\" \"&KD45&\" \"&KD46)","v":""},null,null,{"$f":"TRIM(KG41&\" \"&KG42&\" \"&KG43&\" \"&KG44&\" \"&KG45&\" \"&KG46)","v":""},null,null,{"$f":"TRIM(KJ41&\" \"&KJ42&\" \"&KJ43&\" \"&KJ44&\" \"&KJ45&\" \"&KJ46)","v":""},null,null,{"$f":"TRIM(KM41&\" \"&KM42&\" \"&KM43&\" \"&KM44&\" \"&KM45&\" \"&KM46)","v":""},null,null,{"$f":"TRIM(KP41&\" \"&KP42&\" \"&KP43&\" \"&KP44&\" \"&KP45&\" \"&KP46)","v":""},null,null,{"$f":"TRIM(KS41&\" \"&KS42&\" \"&KS43&\" \"&KS44&\" \"&KS45&\" \"&KS46)","v":""},null,null,{"$f":"TRIM(KV41&\" \"&KV42&\" \"&KV43&\" \"&KV44&\" \"&KV45&\" \"&KV46)","v":""},null,null,{"$f":"TRIM(KY41&\" \"&KY42&\" \"&KY43&\" \"&KY44&\" \"&KY45&\" \"&KY46)","v":""}]
[null,"Habitat","Substrate   S","NA","NA","NA",{"$f":"$EO$15&\"  \"&$EO$16&\"  \"&$EO$17&\"  \"&$EO$18&\"  \"&$EO$19&\"  \"&$EO$20","v":"          "},{"$f":"$EO$28&\"  \"&$EO$29&\"  \"&$EO$30&\"  \"&$EO$31&\"  \"&$EO$32&\"  \"&$EO$33","v":"          "},null,null,null,null,null,"** designates a Potential Source",null,null,null,null,null,null,null,null,null,null,null,null,null,null,null,null,null,null,null,null,null,null,null,null,null,"** designates a Potential Source",null,null,null,null,null,null,null,null,null,null,null,null,null,null,null,null,null,null,null,null,null,null,null,null,null,"** designates a Potential Source",null,null,null,null,null,null,null,null,null,null,null,null,null,null,null,null,null,null,null,null,null,null,null,null,null,"** designates a Potential Source",null,null,null,null,null,null,null,null,null,null,null,null,null,null,null,null,null,null,null,null,null,null,null,null,null,"** designates a Potential Source",null,null,null,null,null,null,null,null,null,null,null,null,null,null,null,null,null,null,null,null,null,null,null,null,null,"** designates a Potential Source",null,null,null,null,null,null,null,null,null,null,null,null,null,null,null,null,null,null,null,null,null,null,null,null,null,"** designates a Potential Source",null,null,null,null,null,null,null,null,null,null,null,null,null,null,null,null,null,null,null,null,null,null,null,null,null,"** designates a Potential Source",null,null,null,null,null,null,null,null,null,null,null,null,null,null,null,null,null,null,null,null,null,null,null,null,null,"** designates a Potential Source"]
[null,null,"Morphology   H","NA",null,null,null,null,null,null,null,null,null,"No asterisk designates a Known Source",null,null,null,null,null,null,null,null,null,null,null,null,null,null,null,null,null,null,null,null,null,null,null,null,null,"No asterisk designates a Known Source",null,null,null,null,null,null,null,null,null,null,null,null,null,null,null,null,null,null,null,null,null,null,null,null,null,"No asterisk designates a Known Source",null,null,null,null,null,null,null,null,null,null,null,null,null,null,null,null,null,null,null,null,null,null,null,null,null,"No asterisk designates a Known Source",null,null,null,null,null,null,null,null,null,null,null,null,null,null,null,null,null,null,null,null,null,null,null,null,null,"No asterisk designates a Known Source",null,null,null,null,null,null,null,null,null,null,null,null,null,null,null,null,null,null,null,null,null,null,null,null,null,"No asterisk designates a Known Source",null,null,null,null,null,null,null,null,null,null,null,null,null,null,null,null,null,null,null,null,null,null,null,null,null,"No asterisk designates a Known Source",null,null,null,null,null,null,null,null,null,null,null,null,null,null,null,null,null,null,null,null,null,null,null,null,null,"No asterisk designates a Known Source",null,null,null,null,null,null,null,null,null,null,null,null,null,null,null,null,null,null,null,null,null,null,null,null,null,"No asterisk designates a Known Source",null,null,null,null,null,null,null,null,null,null,null,null,null,null,null,null,null,null,null,null,null,null,null,null,null,null,null,null,null,null,null,null,null,null,null,null,null,null,null,null,null,null,null,null,null,null,null,null,null,null,null,null,null,null,null,null,null,null,null,null,null,null,null,"max confid #",{"$f":"MAX(KB11:KB31)","v":0},null,null,{"$f":"MAX(KE11:KE31)","v":0},null,null,{"$f":"MAX(KH11:KH31)","v":0},null,null,{"$f":"MAX(KK11:KK31)","v":0},null,null,{"$f":"MAX(KN11:KN31)","v":0},null,null,{"$f":"MAX(KQ11:KQ31)","v":0},null,null,{"$f":"MAX(KT11:KT31)","v":0},null,null,{"$f":"MAX(KW11:KW31)","v":0},null,null,{"$f":"MAX(KZ11:KZ31)","v":0}]
[null,null,"Riparian Zone   R","NA",null,null,null,null,null,null,null,null,null,"Square brackets designates an Out of Segment Source (i.e., pollutant is a source for downstream segments)",null,null,null,null,null,null,null,null,null,null,null,null,null,null,null,null,null,null,null,null,null,null,null,null,null,"Square brackets designates an Out of Segment Source (i.e., pollutant is a source for downstream segments)",null,null,null,null,null,null,null,null,null,null,null,null,null,null,null,null,null,null,null,null,null,null,null,null,null,"Square brackets designates an Out of Segment Source (i.e., pollutant is a source for downstream segments)",null,null,null,null,null,null,null,null,null,null,null,null,null,null,null,null,null,null,null,null,null,null,null,null,null,"Square brackets designates an Out of Segment Source (i.e., pollutant is a source for downstream segments)",null,null,null,null,null,null,null,null,null,null,null,null,null,null,null,null,null,null,null,null,null,null,null,null,null,"Square brackets designates an Out of Segment Source (i.e., pollutant is a source for downstream segments)",null,null,null,null,null,null,null,null,null,null,null,null,null,null,null,null,null,null,null,null,null,null,null,null,null,"Square brackets designates an Out of Segment Source (i.e., pollutant is a source for downstream segments)",null,null,null,null,null,null,null,null,null,null,null,null,null,null,null,null,null,null,null,null,null,null,null,null,null,"Square brackets designates an Out of Segment Source (i.e., pollutant is a source for downstream segments)",null,null,null,null,null,null,null,null,null,null,null,null,null,null,null,null,null,null,null,null,null,null,null,null,null,"Square brackets designates an Out of Segment Source (i.e., pollutant is a source for downstream segments)",null,null,null,null,null,null,null,null,null,null,null,null,null,null,null,null,null,null,null,null,null,null,null,null,null,"Square brackets designates an Out of Segment Source (i.e., pollutant is a source for downstream segments)",null,null,null,null,null,null,null,null,null,null,null,null,null,null,null,null,null,null,null,null,null,null,null,null,null,null,null,null,null,null,null,null,null,null,null,null,null,null,null,null,null,null,null,null,null,null,null,null,null,null,null,null,null,null,null,null,null,null,null,null,null,null,null,"The lists below show unique codes in lists assembled above. Numbers are max confidence #, used to color cells for worst case. The codes are catenated in the colored boxes above for transfer to Sources RC when that sheet is activated."]
[]
[null,"Bacteria","Bacteria   B","NA","NA","NA",{"$f":"$FO$15&\"  \"&$FO$16&\"  \"&$FO$17&\"  \"&$FO$18&\"  \"&$FO$19&\"  \"&$FO$20","v":"          "},{"$f":"$FO$28&\"  \"&$FO$29&\"  \"&$FO$30&\"  \"&$FO$31&\"  \"&$FO$32&\"  \"&$FO$33","v":"          "},null,null,null,null,null,null,null,null,null,null,null,null,null,null,null,null,null,null,null,null,null,null,null,null,null,null,null,null,null,null,null,null,null,null,null,null,null,null,null,null,null,null,null,null,null,null,null,null,null,null,null,null,null,null,null,null,null,null,null,null,null,null,null,null,null,null,null,null,null,null,null,null,null,null,null,null,null,null,null,null,null,null,null,null,null,null,null,null,null,null,null,null,null,null,null,null,null,null,null,null,null,null,null,null,null,null,null,null,null,null,null,null,null,null,null,null,null,null,null,null,null,null,null,null,null,null,null,null,null,null,null,null,null,null,null,null,null,null,null,null,null,null,null,null,null,null,null,null,null,null,null,null,null,null,null,null,null,null,null,null,null,null,null,null,null,null,null,null,null,null,null,null,null,null,null,null,null,null,null,null,null,null,null,null,null,null,null,null,null,null,null,null,null,null,null,null,null,null,null,null,null,null,null,null,null,null,null,null,null,null,null,null,null,null,null,null,null,null,null,null,null,null,null,null,null,null,null,null,null,null,null,null,null,null,null,null,null,null,null,null,null,null,null,null,null,null,null,null,null,null,null,null,null,null,null,null,null,null,null,null,null,null,null,null,null,null,null,null,null,null,null,null,null,null,null,null,null,null,"Municp",null,null,"Industr",null,null,"St Water",null,null,"Res Ext",null,null,"Land Dis",null,null,"Seds",null,null,"Hydro",null,null,"Other",null,null,"Unknown"]
[]
[null,"Aesthetics","Oil & Grease   G","NA","NA","NA",{"$f":"$GO$15&\"  \"&$GO$16&\"  \"&$GO$17&\"  \"&$GO$18&\"  \"&$GO$19&\"  \"&$GO$20","v":"          "},{"$f":"$GO$28&\"  \"&$GO$29&\"  \"&$GO$30&\"  \"&$GO$31&\"  \"&$GO$32&\"  \"&$GO$33","v":"          "},null,null,null,null,null,null,null,null,null,null,null,null,null,null,null,null,null,null,null,null,null,null,null,null,null,null,null,null,null,null,null,null,null,null,null,null,null,null,null,null,null,null,null,null,null,null,null,null,null,null,null,null,null,null,null,null,null,null,null,null,null,null,null,null,null,null,null,null,null,null,null,null,null,null,null,null,null,null,null,null,null,null,null,"Identify the suspected toxic chemical substance below (e.g., Hg, PCB, etc). ",null,null,null,null,null,null,null,null,null,null,null,null,null,null,null,null,null,null,null,null,null,null,null,null,null,null,null,null,null,null,null,null,null,null,null,null,null,null,null,null,null,null,null,null,null,null,null,null,null,null,null,null,null,null,null,null,null,null,null,null,null,null,null,null,null,null,null,null,null,null,null,null,null,null,null,null,null,null,null,null,null,null,null,null,null,null,null,null,null,null,null,null,null,null,null,null,null,null,null,null,null,null,null,null,null,null,null,null,null,null,null,null,null,null,null,null,null,null,null,null,null,null,null,null,null,null,null,null,null,null,null,null,null,null,null,null,null,null,null,null,null,null,null,null,null,null,null,null,null,null,null,null,null,null,null,"Identify the suspected toxic chemical substance below (e.g., Hg, PCB, etc). "]
[null,null,"Taste & Odor   O","NA",null,null,null,null,null,null,null,null,null,null,"Pollution  Indicators (Causes):  ",null,{"$f":"P46&\" \"&P47&\" \"&P48&\" \"&P49&\" \"&P50&\" \"&P51","v":"     "},null,null,null,null,null,null,null,null,null,null,null,null,null,null,null,null,null,null,null,null,null,null,null,"Pollution  Indicators (Causes):  ",null,{"$f":"AP46&\" \"&AP47&\" \"&AP48&\" \"&AP49&\" \"&AP50&\" \"&AP51","v":"     "},null,null,null,null,null,null,null,null,null,null,null,null,null,null,null,null,null,null,null,null,null,null,null,"Pollution  Indicators (Causes):  ",null,{"$f":"BP46&\" \"&BP47&\" \"&BP48","v":"  "},null,null,null,null,null,null,null,null,null,null,null,null,null,null,null,null,null,null,null,null,null,null,null,null,null,null,null,null,null,null,null,null,null,null,null,null,null,null,null,null,null,null,null,null,null,null,null,null,null,"Pollution  Indicators (Causes):  ",null,{"$f":"DP46&\" \"&DP47","v":" "},null,null,null,null,null,null,null,null,null,null,null,null,null,null,null,null,null,null,null,null,null,null,null,"Pollution  Indicators (Causes):  ",null,{"$f":"EP46&\" \"&EP47&\" \"&EP48&\" \"&EP49","v":"   "},null,null,null,null,null,null,null,null,null,null,null,null,null,null,null,null,null,null,null,null,null,null,null,"Pollution  Indicators (Causes):  ",null,{"$f":"FP46&\" \"&FP47","v":" "},null,null,null,null,null,null,null,null,null,null,null,null,null,null,null,null,null,null,null,null,null,null,null,"Pollution  Indicators (Causes):  ",null,{"$f":"GP46&\" \"&GP47&\" \"&GP48&\" \"&GP49&\" \"&GP50&\" \"&GP51","v":"     "},null,null,null,null,null,null,null,null,null,null,null,null,null,null,null,null,null,null,null,null,null,null,"Identify the suspected toxic chemical substance below (e.g., Hg, PCB, etc). "]
[null,null,"Turb/Color   C","NA",null,null,null,null,null,null,null,null,null,null,null,null,null,null,null,null,null,null,null,null,null,null,null,null,null,null,null,null,null,null,null,null,null,null,null,null,null,null,null,null,null,null,null,null,null,null,null,null,null,null,null,null,null,null,null,null,null,null,null,null,null,null,null,null,null,null,null,null,null,null,null,null,null,null,null,null,null,null,null,null,null,null,null,null,null,null,null,"Ag",null,null,null,null,null,null,null,null,null,null,null,null,null,null,null,null,null,null,null,null,null,null,null,null,null,null,null,null,null,null,null,null,null,null,null,null,null,null,null,null,null,null,null,null,null,null,null,null,null,null,null,null,null,null,null,null,null,null,null,null,null,null,null,null,null,null,null,null,null,null,null,null,null,null,null,null,null,null,null,null,null,null,null,null,null,null,null,null,null,null,null,null,null,null,null,null,null,null,null,null,null,null,null,null,null,null,null,null,null,null,null,null,null,null,null,null,null,null,null,null,null,null,null,null,null,null,null,null,null,null,null,null,null,null,null,null,null,null,null,null,null,null,null,null,null,null,null,null,null,null,null,null,null,null,null,"DDT"]
[null,null,"Nuisance Plants   V","NA",null,null,null,null,null,null,null,null,null,null,{"$f":"$B$16","v":"Biology"},null,null,null,null,null,null,null,null,null,null,null,null,null,null,null,null,null,null,null,null,null,null,null,null,null,{"$f":"$B$22","v":"Chemistry"},null,null,null,null,null,null,null,null,null,null,null,null,null,null,null,null,null,null,null,null,null,null,null,null,null,{"$f":"$B$28","v":"Nutrients"},null,null,null,null,null,null,null,null,null,null,null,null,null,null,null,null,null,null,null,null,null,null,null,null,null,null,null,null,null,null,null,null,null,null,null,null,null,null,null,null,null,null,null,null,null,null,null,null,null,null,null,{"$f":"$B$34","v":"Flow"},null,null,null,null,null,null,null,null,null,null,null,null,null,null,null,null,null,null,null,null,null,null,null,null,null,{"$f":"$B$36","v":"Habitat"},null,null,null,null,null,null,null,null,null,null,null,null,null,null,null,null,null,null,null,null,null,null,null,null,null,{"$f":"$B$40","v":"Bacteria"},null,null,null,null,null,null,null,null,null,null,null,null,null,null,null,null,null,null,null,null,null,null,null,null,null,{"$f":"$B$42","v":"Aesthetics"},null,null,null,null,null,null,null,null,null,null,null,null,null,null,null,null,null,null,null,null,null,null,null,null,"PCB"]
[null,null,"Trash /Debris   D","NA",null,null,null,null,null,null,null,null,null,null,{"$f":"$C$16","v":"Plank/Peri.   A"},{"$f":"IF($D$16=\"Concern\",\"(A)\",IF(OR($D$16=\"Fair\",$D$16=\"Poor\"),\"A\",\"\"))","v":""},null,null,null,null,null,null,null,null,null,null,null,null,null,null,null,null,null,null,null,null,null,null,null,null,{"$f":"$C$22","v":"Dis. Oxygen    DO"},{"$f":"IF($D$22=\"Concern\",\"(DO)\",IF(OR($D$22=\"Fair\",$D$22=\"Poor\"),\"DO\",\"\"))","v":""},null,null,null,null,null,null,null,null,null,null,null,null,null,null,null,null,null,null,null,null,null,null,null,null,{"$f":"$C$28","v":"Phosphorus  P"},{"$f":"IF($D$28=\"Concern\",\"(P)\",IF(OR($D$28=\"Fair\",$D$28=\"Poor\"),\"P\",\"\"))","v":""},null,null,null,null,null,null,null,null,null,null,null,null,null,null,null,null,null,null,null,null,null,null,null,null,null,null,null,null,null,null,null,null,null,null,null,null,null,null,null,null,null,null,null,null,null,null,null,null,null,null,{"$f":"$C$34","v":"Flow  Q"},{"$f":"IF($D$34=\"Concern\",\"(O)\",IF(OR($D$34=\"Fair\",$D$34=\"Poor\"),\"O\",\"\"))","v":""},null,null,null,null,null,null,null,null,null,null,null,null,null,null,null,null,null,null,null,null,null,null,null,null,{"$f":"$C$36","v":"Substrate   S"},{"$f":"IF($D$36=\"Concern\",\"(S)\",IF(OR($D$36=\"Fair\",$D$36=\"Poor\"),\"S\",\"\"))","v":""},null,null,null,null,null,null,null,null,null,null,null,null,null,null,null,null,null,null,null,null,null,null,null,null,{"$f":"$C$40","v":"Bacteria   B"},{"$f":"IF($D$40=\"Concern\",\"(B)\",IF(OR($D$40=\"Fair\",$D$40=\"Poor\"),\"B\",\"\"))","v":""},null,null,null,null,null,null,null,null,null,null,null,null,null,null,null,null,null,null,null,null,null,null,null,null,{"$f":"$C$42","v":"Oil & Grease   G"},{"$f":"IF($D$42=\"Concern\",\"(G)\",IF(OR($D$42=\"Fair\",$D$42=\"Poor\"),\"G\",\"\"))","v":""}]
[null,null,null,null,null,null,null,null,null,null,null,null,null,null,{"$f":"$C$17","v":"Macrophyton   M"},{"$f":"IF($D$17=\"Concern\",\"(M)\",IF(OR($D$17=\"Fair\",$D$17=\"Poor\"),\"M\",\"\"))","v":""},null,null,null,null,null,null,null,null,null,null,null,null,null,null,null,null,null,null,null,null,null,null,null,null,{"$f":"$C$23","v":"pH     pH"},{"$f":"IF($D$23=\"Concern\",\"(pH)\",IF(OR($D$23=\"Fair\",$D$23=\"Poor\"),\"pH\",\"\"))","v":""},null,null,null,null,null,null,null,null,null,null,null,null,null,null,null,null,null,null,null,null,null,null,null,null,{"$f":"$C$29","v":"Nitrogen   N"},{"$f":"IF($D$29=\"Concern\",\"(N)\",IF(OR($D$29=\"Fair\",$D$29=\"Poor\"),\"N\",\"\"))","v":""},null,null,null,null,null,null,null,null,null,null,null,null,null,null,null,null,null,null,null,null,null,null,null,null,null,null,null,null,null,null,null,null,null,null,null,null,null,null,null,null,null,null,null,null,null,null,null,null,null,null,{"$f":"IF($C$41=\"\",\"\",$C$41)","v":""},{"$f":"IF($D$35=\"Concern\",\"(**)\",IF(OR($D$35=\"Fair\",$D$35=\"Poor\"),\"**\",\"\"))","v":""},null,null,null,null,null,null,null,null,null,null,null,null,null,null,null,null,null,null,null,null,null,null,null,null,{"$f":"$C$37","v":"Morphology   H"},{"$f":"IF($D$37=\"Concern\",\"(H)\",IF(OR($D$37=\"Fair\",$D$37=\"Poor\"),\"H\",\"\"))","v":""},null,null,null,null,null,null,null,null,null,null,null,null,null,null,null,null,null,null,null,null,null,null,null,null,{"$f":"IF($C$41=\"\",\"\",$C$41)","v":""},{"$f":"IF($D$41=\"Concern\",\"(**)\",IF(OR($D$41=\"Fair\",$D$41=\"Poor\"),\"**\",\"\"))","v":""},null,null,null,null,null,null,null,null,null,null,null,null,null,null,null,null,null,null,null,null,null,null,null,null,{"$f":"$C$43","v":"Taste & Odor   O"},{"$f":"IF($D$43=\"Concern\",\"(O)\",IF(OR($D$43=\"Fair\",$D$43=\"Poor\"),\"O\",\"\"))","v":""}]
[null,"Tissue",{"$f":"\"Spec. Chem.   \"&HN45","v":"Spec. Chem.   PCB"},"NA","NA","NA",{"$f":"$HO$15&\"  \"&$HO$16&\"  \"&$HO$17&\"  \"&$HO$18&\"  \"&$HO$19&\"  \"&$HO$20","v":"          "},{"$f":"$HO$28&\"  \"&$HO$29&\"  \"&$HO$30&\"  \"&$HO$31&\"  \"&$HO$32&\"  \"&$HO$33","v":"          "},null,null,null,null,null,null,{"$f":"$C$18","v":"Invertebrates   I"},{"$f":"IF($D$18=\"Concern\",\"(I)\",IF(OR($D$18=\"Fair\",$D$18=\"Poor\"),\"I\",\"\"))","v":""},null,null,null,null,null,null,null,null,null,null,null,null,null,null,null,null,null,null,null,null,null,null,null,null,{"$f":"$C$24","v":"Temperature    T"},{"$f":"IF($D$24=\"Concern\",\"(T)\",IF(OR($D$24=\"Fair\",$D$24=\"Poor\"),\"T\",\"\"))","v":""},null,null,null,null,null,null,null,null,null,null,null,null,null,null,null,null,null,null,null,null,null,null,null,null,{"$f":"IF($C$30=\"\",\"\",$C$30)","v":""},{"$f":"IF($D$30=\"Concern\",\"(**)\",IF(OR($D$30=\"Fair\",$D$30=\"Poor\"),\"**\",\"\"))","v":""},null,null,null,null,null,null,null,null,null,null,null,null,null,null,null,null,null,null,null,null,null,null,null,null,null,null,null,null,null,null,null,null,null,null,null,null,null,null,null,null,null,null,null,null,null,null,null,null,null,null,null,null,null,null,null,null,null,null,null,null,null,null,null,null,null,null,null,null,null,null,null,null,null,null,null,null,{"$f":"$C$38","v":"Riparian Zone   R"},{"$f":"IF($D$38=\"Concern\",\"(R)\",IF(OR($D$38=\"Fair\",$D$38=\"Poor\"),\"R\",\"\"))","v":""},null,null,null,null,null,null,null,null,null,null,null,null,null,null,null,null,null,null,null,null,null,null,null,null,null,null,null,null,null,null,null,null,null,null,null,null,null,null,null,null,null,null,null,null,null,null,null,null,null,null,{"$f":"$C$44","v":"Turb/Color   C"},{"$f":"IF($D$44=\"Concern\",\"(C)\",IF(OR($D$44=\"Fair\",$D$44=\"Poor\"),\"C\",\"\"))","v":""}]
[null,null,null,null,null,null,null,null,null,null,null,null,null,null,{"$f":"$C$19","v":"Fish   F"},{"$f":"IF($D$19=\"Concern\",\"(F)\",IF(OR($D$19=\"Fair\",$D$19=\"Poor\"),\"F\",\"\"))","v":""},null,null,null,null,null,null,null,null,null,null,null,null,null,null,null,null,null,null,null,null,null,null,null,null,{"$f":"$C$25","v":"Ionic Strength    Z"},{"$f":"IF($D$25=\"Concern\",\"(Z)\",IF(OR($D$25=\"Fair\",$D$25=\"Poor\"),\"Z\",\"\"))","v":""},null,null,null,null,null,null,null,null,null,null,null,null,null,null,null,null,null,null,null,null,null,null,null,null,null,null,null,null,null,null,null,null,null,null,null,null,null,null,null,null,null,null,null,null,null,null,null,null,null,null,"Pollution  Indicators (Causes):  ",null,{"$f":"CP52&\" \"&CP53&\" \"&CP54","v":"  "},null,null,null,null,null,null,null,null,null,null,null,null,null,null,null,null,null,null,null,null,null,null,null,null,null,null,null,null,null,null,null,null,null,null,null,null,null,null,null,null,null,null,null,null,null,null,null,null,null,{"$f":"IF($C$39=\"\",\"\",$C$39)","v":""},{"$f":"IF($D$39=\"Concern\",\"(**)\",IF(OR($D$39=\"Fair\",$D$39=\"Poor\"),\"**\",\"\"))","v":""},null,null,null,null,null,null,null,null,null,null,null,null,null,null,null,null,null,null,null,null,null,null,null,null,null,null,null,null,null,null,null,null,null,null,null,null,null,null,null,null,null,null,null,null,null,null,null,null,null,null,{"$f":"$C$45","v":"Nuisance Plants   V"},{"$f":"IF($D$45=\"Concern\",\"(V)\",IF(OR($D$45=\"Fair\",$D$45=\"Poor\"),\"V\",\"\"))","v":""},null,null,null,null,null,null,null,null,null,null,null,null,null,null,null,null,null,null,null,null,null,null,null,null,null,null,null,null,null,null,null,null,null,null,null,null,null,null,null,null,null,null,null,null,null,null,null,null,null,null,"Pollution  Indicators (Causes):  ",null,{"$f":"IP52&\" \"&IP53&\" \"&IP54","v":"  "}]
[null,"Sediment","Unknown   U","NA","NA","NA",{"$f":"$IO$15&\"  \"&$IO$16&\"  \"&$IO$17&\"  \"&$IO$18&\"  \"&$IO$19&\"  \"&$IO$20","v":"          "},{"$f":"$IO$28&\"  \"&$IO$29&\"  \"&$IO$30&\"  \"&$IO$31&\"  \"&$IO$32&\"  \"&$IO$33","v":"          "},null,null,null,null,null,null,{"$f":"$C$20","v":"Wildlife   W"},{"$f":"IF($D$20=\"Concern\",\"(W)\",IF(OR($D$20=\"Fair\",$D$20=\"Poor\"),\"W\",\"\"))","v":""},null,null,null,null,null,null,null,null,null,null,null,null,null,null,null,null,null,null,null,null,null,null,null,null,{"$f":"$C$26","v":"Sus. Solids    SS"},{"$f":"IF($D$26=\"Concern\",\"(SS)\",IF(OR($D$26=\"Fair\",$D$26=\"Poor\"),\"SS\",\"\"))","v":""},null,null,null,null,null,null,null,null,null,null,null,null,null,null,null,null,null,null,null,null,null,null,null,null,null,null,null,null,null,null,null,null,null,null,null,null,null,null,null,null,null,null,null,null,null,null,null,null,null,null,null,null,null,null,null,null,null,null,null,null,null,null,null,null,null,null,null,null,null,null,null,null,null,null,null,null,null,null,null,null,null,null,null,null,null,null,null,null,null,null,null,null,null,null,null,null,null,null,null,null,null,null,null,null,null,null,null,null,null,null,null,null,null,null,null,null,null,null,null,null,null,null,null,null,null,null,null,null,null,null,null,null,null,null,null,null,null,null,null,null,null,null,null,null,null,null,null,null,null,null,null,null,null,null,{"$f":"$C$46","v":"Trash /Debris   D"},{"$f":"IF($D$46=\"Concern\",\"(D)\",IF(OR($D$46=\"Fair\",$D$46=\"Poor\"),\"D\",\"\"))","v":""},null,null,null,null,null,null,null,null,null,null,null,null,null,null,null,null,null,null,null,null,null,null,null,null,"Pollution  Indicators (Causes):  ",null,{"$f":"HP53&\" \"&HP54","v":" "}]
[null,null,{"$f":"\"Spec. Chem.   \"&IN44","v":"Spec. Chem.   DDT"},"NA",null,null,null,null,null,null,null,null,null,null,{"$f":"IF($C$21=\"\",\"\",$C$21)","v":""},{"$f":"IF($D$21=\"Concern\",\"(**)\",IF(OR($D$21=\"Fair\",$D$21=\"Poor\"),\"**\",\"\"))","v":""},null,null,null,null,null,null,null,null,null,null,null,null,null,null,null,null,null,null,null,null,null,null,null,null,{"$f":"IF($C$27=\"\",\"\",$C$27)","v":""},{"$f":"IF($D$27=\"Concern\",\"(**)\",IF(OR($D$27=\"Fair\",$D$27=\"Poor\"),\"**\",\"\"))","v":""},null,null,null,null,null,null,null,null,null,null,null,null,null,null,null,null,null,null,null,null,null,null,null,null,null,null,null,null,null,null,null,null,null,null,null,null,null,null,null,null,null,null,null,null,null,null,null,null,null,null,{"$f":"$B$31","v":"Toxicity"},null,null,null,null,null,null,null,null,null,null,null,null,null,null,null,null,null,null,null,null,null,null,null,null,null,null,null,null,null,null,null,null,null,null,null,null,null,null,null,null,null,null,null,null,null,null,null,null,null,null,null,null,null,null,null,null,null,null,null,null,null,null,null,null,null,null,null,null,null,null,null,null,null,null,null,null,null,null,null,null,null,null,null,null,null,null,null,null,null,null,null,null,null,null,null,null,null,null,null,null,null,null,null,{"$f":"IF($C$47=\"\",\"\",$C$47)","v":""},{"$f":"IF($D$47=\"Concern\",\"(**)\",IF(OR($D$47=\"Fair\",$D$47=\"Poor\"),\"**\",\"\"))","v":""},null,null,null,null,null,null,null,null,null,null,null,null,null,null,null,null,null,null,null,null,null,null,null,null,null,null,null,null,null,null,null,null,null,null,null,null,null,null,null,null,null,null,null,null,null,null,null,null,null,null,{"$f":"$B$50","v":"Sediment"}]
[null,null,null,null,null,null,null,null,null,null,null,null,null,null,null,null,null,null,null,null,null,null,null,null,null,null,null,null,null,null,null,null,null,null,null,null,null,null,null,null,null,null,null,null,null,null,null,null,null,null,null,null,null,null,null,null,null,null,null,null,null,null,null,null,null,null,null,null,null,null,null,null,null,null,null,null,null,null,null,null,null,null,null,null,null,null,null,null,null,null,null,null,{"$f":"$C$31","v":"Unknown   U"},{"$f":"IF($D$31=\"Concern\",\"(U)\",IF(OR($D$31=\"Fair\",$D$31=\"Poor\"),\"U\",\"\"))","v":""},null,null,null,null,null,null,null,null,null,null,null,null,null,null,null,null,null,null,null,null,null,null,null,null,null,null,null,null,null,null,null,null,null,null,null,null,null,null,null,null,null,null,null,null,null,null,null,null,null,null,null,null,null,null,null,null,null,null,null,null,null,null,null,null,null,null,null,null,null,null,null,null,null,null,null,null,null,null,null,null,null,null,null,null,null,null,null,null,null,null,null,null,null,null,null,null,null,null,null,null,null,null,null,null,null,null,null,null,null,null,null,null,null,null,null,null,null,null,null,null,null,null,null,null,null,null,null,null,{"$f":"$B$48","v":"Tissue"},null,null,null,null,null,null,null,null,null,null,null,null,null,null,null,null,null,null,null,null,null,null,null,null,null,{"$f":"$C$50","v":"Unknown   U"},{"$f":"IF($D$50=\"Concern\",\"(U)\",IF(OR($D$50=\"Fair\",$D$50=\"Poor\"),\"U\",\"\"))","v":""}]
[null,"Comments:",null,null,null,null,null,"*  Suspected Source  ",null,null,null,null,null,null,null,null,null,null,null,null,null,null,null,null,null,null,null,null,null,null,null,null,null,null,null,null,null,null,null,null,null,null,null,null,null,null,null,null,null,null,null,null,null,null,null,null,null,null,null,null,null,null,null,null,null,null,null,null,null,null,null,null,null,null,null,null,null,null,null,null,null,null,null,null,null,null,null,null,null,null,null,null,{"$f":"$C$32","v":"Spec. Chem.  Ag"},{"$f":"IF($D$32=\"Concern\",\"(\"&CN44&\")\",IF(OR($D$32=\"Fair\",$D$32=\"Poor\"),CN44,\"\"))","v":""},null,null,null,null,null,null,null,null,null,null,null,null,null,null,null,null,null,null,null,null,null,null,null,null,null,null,null,null,null,null,null,null,null,null,null,null,null,null,null,null,null,null,null,null,null,null,null,null,null,null,null,null,null,null,null,null,null,null,null,null,null,null,null,null,null,null,null,null,null,null,null,null,null,null,null,null,null,null,null,null,null,null,null,null,null,null,null,null,null,null,null,null,null,null,null,null,null,null,null,null,null,null,null,null,null,null,null,null,null,null,null,null,null,null,null,null,null,null,null,null,null,null,null,null,null,null,null,null,{"$f":"$C$48","v":"Spec. Chem.   PCB"},{"$f":"IF($D$48=\"Concern\",\"(\"&HN45&\")\",IF(OR($D$48=\"Fair\",$D$32=\"Poor\"),HN45,\"\"))","v":""},null,null,null,null,null,null,null,null,null,null,null,null,null,null,null,null,null,null,null,null,null,null,null,null,{"$f":"$C$51","v":"Spec. Chem.   DDT"},{"$f":"IF($D$51=\"Concern\",\"(\"&IN44&\")\",IF(OR($D$51=\"Fair\",$D$51=\"Poor\"),IN44,\"\"))","v":""}]
[null,null,null,null,null,null,null,"** Potential Source  ",null,null,null,null,null,null,null,null,null,null,null,null,null,null,null,null,null,null,null,null,null,null,null,null,null,null,null,null,null,null,null,null,null,null,null,null,null,null,null,null,null,null,null,null,null,null,null,null,null,null,null,null,null,null,null,null,null,null,null,null,null,null,null,null,null,null,null,null,null,null,null,null,null,null,null,null,null,null,null,null,null,null,null,null,{"$f":"IF($C$33=\"\",\"\",$C$33)","v":""},{"$f":"IF($D$33=\"Concern\",\"(**)\",IF(OR($D$33=\"Fair\",$D$33=\"Poor\"),\"**\",\"\"))","v":""},null,null,null,null,null,null,null,null,null,null,null,null,null,null,null,null,null,null,null,null,null,null,null,null,null,null,null,null,null,null,null,null,null,null,null,null,null,null,null,null,null,null,null,null,null,null,null,null,null,null,null,null,null,null,null,null,null,null,null,null,null,null,null,null,null,null,null,null,null,null,null,null,null,null,null,null,null,null,null,null,null,null,null,null,null,null,null,null,null,null,null,null,null,null,null,null,null,null,null,null,null,null,null,null,null,null,null,null,null,null,null,null,null,null,null,null,null,null,null,null,null,null,null,null,null,null,null,null,{"$f":"IF($C$49=\"\",\"\",$C$49)","v":""},{"$f":"IF($D$49=\"Concern\",\"(**)\",IF(OR($D$49=\"Fair\",$D$49=\"Poor\"),\"**\",\"\"))","v":""},null,null,null,null,null,null,null,null,null,null,null,null,null,null,null,null,null,null,null,null,null,null,null,null,{"$f":"IF($C$52=\"\",\"\",$C$52)","v":""},{"$f":"IF($D$52=\"Concern\",\"(**)\",IF(OR($D$52=\"Fair\",$D$52=\"Poor\"),\"**\",\"\"))","v":""}]
[null,null,null,null,null,null,null,"No asterisk: Known Source  "]
[null,null,null,null,null,null,null,"[Out of Segment Source ]  "]
[]
[]
[]
[null,"SegNameLong:  ","mmmmmm"]
[null,"Seg Name:  ","mmm"]
[null,"Seg Num:  "]
[null,"Seg Size:  "]
[null,"Seg Class:  "]
[]
[]
[]
[]
[]
[]
[]
[]
[]
[]
[]
[]
[null,null,null,{"$f":"A99","v":""}]
[null,null,null,{"$f":"B99","v":""}]
[null,null,null,{"$f":"C99","v":""}]
[null,null,null,{"$f":"D99","v":""}]
[null,null,null,{"$f":"E99","v":""}]
[null,null,null,{"$f":"F99","v":""}]
[null,null,null,{"$f":"G99","v":""}]
[null,null,null,{"$f":"H99","v":""}]
[null,null,null,{"$f":"I99","v":""}]
[]
[]
[]
[]
[]
[]
[]
[]
[]
[]
[]
[]
[]
[{"$f":"TRIM(A101&\" \"&A102&\" \"&A103&\" \"&A104&\" \"&A105&\" \"&A106)","v":""},{"$f":"TRIM(B101&\" \"&B102&\" \"&B103&\" \"&B104&\" \"&B105&\" \"&B106)","v":""},"","","","","","",""]

{"sheet":"Seg14","index":18,"n_rows":99,"n_cols":311,"rows_kept":99,"cut":false,"hidden":false,"merged":[[15,1,20,1],[15,4,20,4],[15,5,20,5],[15,6,20,6],[15,7,20,7],[13,1,14,1],[13,2,14,3],[13,4,14,4],[13,5,14,5],[14,6,14,7],[27,1,29,1],[27,4,29,4],[27,5,29,5],[27,6,29,6],[27,7,29,7],[21,1,26,1],[21,4,26,4],[21,5,26,5],[21,6,26,6],[21,7,26,7],[49,6,51,6],[49,7,51,7],[30,1,32,1],[30,4,32,4],[30,5,32,5],[30,6,32,6],[30,7,32,7],[33,1,34,1],[33,4,34,4],[33,5,34,5],[33,6,34,6],[33,7,34,7],[43,91,45,94],[35,1,38,1],[35,4,38,4],[35,5,38,5],[35,6,38,6],[35,7,38,7],[39,1,40,1],[39,4,40,4],[39,5,40,5],[39,6,40,6],[39,7,40,7],[52,1,55,1],[43,247,45,250],[44,221,46,224],[47,1,48,1],[47,4,48,4],[47,5,48,5],[47,6,48,6],[47,7,48,7],[41,1,46,1],[41,4,46,4],[41,5,46,5],[41,6,46,6],[41,7,46,7],[49,1,51,1],[49,4,51,4],[49,5,51,5]]}
[]
[]
[]
[]
[null,null,null,null,null,null,null,null,null,null,null,null,null,null,null,null,null,null,null,null,null,null,null,null,null,null,null,null,null,null,null,null,null,null,null,null,null,null,null,null,null,null,null,null,null,null,null,null,null,null,null,null,null,null,null,null,null,null,null,null,null,null,null,null,null,null,null,null,null,null,null,null,null,null,null,null,null,null,null,null,null,null,null,null,null,null,null,null,null,null,null,null,null,null,null,null,null,null,null,null,null,null,null,null,null,null,null,null,null,null,null,null,null,null,null,null,null,null,null,null,null,null,null,null,null,null,null,null,null,null,null,null,null,null,null,null,null,null,null,null,null,null,null,null,null,null,null,null,null,null,null,null,null,null,null,null,null,null,null,null,null,null,null,null,null,null,null,null,null,null,null,null,null,null,null,null,null,null,null,null,null,null,null,null,null,null,null,null,null,null,null,null,null,null,null,null,null,null,null,null,null,null,null,null,null,null,null,null,null,null,null,null,null,null,null,null,null,null,null,null,null,null,null,null,null,null,null,null,null,null,null,null,null,null,null,null,null,null,null,null,null,null,null,null,null,null,null,null,null,null,null,null,null,null,null,null,null,null,null,null,null,null,null,null,null,null,null,null,null,null,null,null,null,null,null,null,null,null,null,null,null,null,null,null,null,"List of all codes from all groups for this segment, organized by Source Type. "]
[null,null,null,null,null,null,null,null,null,null,null,null,null,null,null,null,null,null,null,null,null,null,null,null,null,null,null,null,null,null,null,null,null,null,null,null,null,null,null,null,null,null,null,null,null,null,null,null,null,null,null,null,null,null,null,null,null,null,null,null,null,null,null,null,null,null,null,null,null,null,null,null,null,null,null,null,null,null,null,null,null,null,null,null,null,null,null,null,null,null,null,null,null,null,null,null,null,null,null,null,null,null,null,null,null,null,null,null,null,null,null,null,null,null,null,null,null,null,null,null,null,null,null,null,null,null,null,null,null,null,null,null,null,null,null,null,null,null,null,null,null,null,null,null,null,null,null,null,null,null,null,null,null,null,null,null,null,null,null,null,null,null,null,null,null,null,null,null,null,null,null,null,null,null,null,null,null,null,null,null,null,null,null,null,null,null,null,null,null,null,null,null,null,null,null,null,null,null,null,null,null,null,null,null,null,null,null,null,null,null,null,null,null,null,null,null,null,null,null,null,null,null,null,null,null,null,null,null,null,null,null,null,null,null,null,null,null,null,null,null,null,null,null,null,null,null,null,null,null,null,null,null,null,null,null,null,null,null,null,null,null,null,null,null,null,null,null,null,null,null,null,null,null,null,null,null,null,null,null,null,null,null,null,null,null,"List is updated only when \"SourceRC_List\" macro is run. Macro is run manually by touching button at right or when Source report card is activated."]
[null,null,null,null,null,null,null,null,null,null,null,null,null,null,null,null,null,null,null,null,null,null,null,null,null,null,null,null,null,null,null,null,null,null,null,null,null,null,null,null,null,null,null,null,null,null,null,null,null,null,null,null,null,null,null,null,null,null,null,null,null,null,null,null,null,null,null,null,null,null,null,null,null,null,null,null,null,null,null,null,null,null,null,null,null,null,null,null,null,null,null,null,null,null,null,null,null,null,null,null,null,null,null,null,null,null,null,null,null,null,null,null,null,null,null,null,null,null,null,null,null,null,null,null,null,null,null,null,null,null,null,null,null,null,null,null,null,null,null,null,null,null,null,null,null,null,null,null,null,null,null,null,null,null,null,null,null,null,null,null,null,null,null,null,null,null,null,null,null,null,null,null,null,null,null,null,null,null,null,null,null,null,null,null,null,null,null,null,null,null,null,null,null,null,null,null,null,null,null,null,null,null,null,null,null,null,null,null,null,null,null,null,null,null,null,null,null,null,null,null,null,null,null,null,null,null,null,null,null,null,null,null,null,null,null,null,null,null,null,null,null,null,null,null,null,null,null,null,null,null,null,null,null,null,null,null,null,null,null,null,null,null,null,null,null,null,null,null,null,null,null,null,null,null,null,null,null,null,null,null,null,null,null,null,null,"Numbers indicate knowledge about the certainty of assessment: 0 = N/A, 1 = Potential Source, 2 = Suspected Source, 3 = Known Source."]
[null,null,null,null,null,null,null,null,null,null,null,null,null,null,null,null,null,null,null,null,null,null,null,null,null,null,null,null,null,null,null,null,null,null,null,null,null,null,null,null,null,null,null,null,null,null,null,null,null,null,null,null,null,null,null,null,null,null,null,null,null,null,null,null,null,null,null,null,null,null,null,null,null,null,null,null,null,null,null,null,null,null,null,null,null,null,null,null,null,null,null,null,null,null,null,null,null,null,null,null,null,null,null,null,null,null,null,null,null,null,null,null,null,null,null,null,null,null,null,null,null,null,null,null,null,null,null,null,null,null,null,null,null,null,null,null,null,null,null,null,null,null,null,null,null,null,null,null,null,null,null,null,null,null,null,null,null,null,null,null,null,null,null,null,null,null,null,null,null,null,null,null,null,null,null,null,null,null,null,null,null,null,null,null,null,null,null,null,null,null,null,null,null,null,null,null,null,null,null,null,null,null,null,null,null,null,null,null,null,null,null,null,null,null,null,null,null,null,null,null,null,null,null,null,null,null,null,null,null,null,null,null,null,null,null,null,null,null,null,null,null,null,null,null,null,null,null,null,null,null,null,null,null,null,null,null,null,null,null,null,null,null,null,null,null,null,null,null,null,null,null,null,null,null,null,null,null,null,null,null,null,null,null,null,null,"This list is then processed below to remove duplicates."]
[null,null,null,null,null,null,null,null,null,null,null,null,null,"Designate Point & Non-Point Sources",null,null,null,null,null,null,null,null,null,null,null,null,null,null,null,null,null,null,null,null,null,null,null,null,null,"Designate Point & Non-Point Sources",null,null,null,null,null,null,null,null,null,null,null,null,null,null,null,null,null,null,null,null,null,null,null,null,null,"Designate Point & Non-Point Sources",null,null,null,null,null,null,null,null,null,null,null,null,null,null,null,null,null,null,null,null,null,null,null,null,null,"Designate Point & Non-Point Sources",null,null,null,null,null,null,null,null,null,null,null,null,null,null,null,null,null,null,null,null,null,null,null,null,null,"Designate Point & Non-Point Sources",null,null,null,null,null,null,null,null,null,null,null,null,null,null,null,null,null,null,null,null,null,null,null,null,null,"Designate Point & Non-Point Sources",null,null,null,null,null,null,null,null,null,null,null,null,null,null,null,null,null,null,null,null,null,null,null,null,null,"Designate Point & Non-Point Sources",null,null,null,null,null,null,null,null,null,null,null,null,null,null,null,null,null,null,null,null,null,null,null,null,null,"Designate Point & Non-Point Sources",null,null,null,null,null,null,null,null,null,null,null,null,null,null,null,null,null,null,null,null,null,null,null,null,null,"Designate Point & Non-Point Sources",null,null,null,null,null,null,null,null,null,null,null,null,null,null,null,null,null,null,null,null,null,null,null,null,null,"Designate Point & Non-Point Sources"]
[null,null,null,null,null,null,null,null,null,null,null,null,null,null,null,null,null,null,null,null,null,null,null,"Codes selected at left are distributed according to Source Type. "]
[null,{"$f":"\"River Basin: \"&RiverBasinName","v":"River Basin: Test River Basin"},null,null,null,null,{"$f":"\"Data Year:  \"&AssessmentYear","v":"Data Year:  2011"},null,null,null,null,null,null,null,null,null,null,null,null,null,null,null,null,"Numbers indicate confidence of assessment: 0 = N/A, 1 = Potential Source, 2 = Suspected Source, 3 = Known Source.",null,null,null,null,null,null,null,null,null,null,null,null,null,null,null,null,null,null,null,null,null,null,null,null,null,null,null,null,null,null,null,null,null,null,null,null,null,null,null,null,null,null,null,null,null,null,null,null,null,null,null,null,null,null,null,null,null,null,null,null,null,null,null,null,null,null,null,null,null,null,null,null,null,null,null,null,null,null,null,null,null,null,null,null,null,null,null,null,null,null,null,null,null,null,null,null,null,null,null,null,null,null,null,null,null,null,null,null,null,null,null,null,null,null,null,null,null,null,null,null,null,null,null,null,null,null,null,null,null,null,null,null,null,null,null,null,null,null,null,null,null,null,null,null,null,null,null,null,null,null,null,null,null,null,null,null,null,null,null,null,null,null,null,null,null,null,null,null,null,null,null,null,null,null,null,null,null,null,null,null,null,null,null,null,null,null,null,null,null,null,null,null,null,null,null,null,null,null,null,null,null,null,null,null,null,null,null,null,null,null,null,null,null,null,null,null,null,null,null,null,null,null,null,null,null,null,null,null,null,null,null,null,null,null,null,null,null,null,null,null,null,null,null,null,null,null,null,null,null,null,null,null,null,null,null,null,null,null,null,null,null,null,"Municp",null,null,"Industr",null,null,"St Water",null,null,"Res Ext",null,null,"Land Dis",null,null,"Seds",null,null,"Hydro",null,null,"Other",null,null,"Unknown"]
[null,{"$f":"\"Segment Name: \"&C60","v":"Segment Name: nnnnnn"},null,null,null,null,null,null,null,null,null,null,null,null,null,null,null,null,null,null,null,null,null,"These codes are processed by \"SourceRC_List macro and transferred to Source report card."]
[null,{"$f":"\"Class: \"&C64","v":"Class: "},null,{"$f":"\"Size: \"&C63","v":"Size: "},null,null,{"$f":"\"Seg ID #: \"&C62","v":"Seg ID #: "}]
[null,"CATEGORY","INDICATOR ASSESSMENT",null,"OVERALL STATUS","DATA LEVEL","POINT","NONPOINT",null,null,null,null,null,"Point Sources",null,null,null,null,null,null,null,null,null,"Municipal",null,null,"Industrial",null,null,"Storm Water",null,null,"Resource Ext",null,null,"Land Disposal",null,null,null,"Point Sources",null,null,null,null,null,null,null,null,null,"Municipal",null,null,"Industrial",null,null,"Storm Water",null,null,"Resource Ext",null,null,"Land Disposal",null,null,null,"Point Sources",null,null,null,null,null,null,null,null,null,"Municipal",null,null,"Industrial",null,null,"Storm Water",null,null,"Resource Ext",null,null,"Land Disposal",null,null,null,"Point Sources",null,null,null,null,null,null,null,null,null,"Municipal",null,null,"Industrial",null,null,"Storm Water",null,null,"Resource Ext",null,null,"Land Disposal",null,null,null,"Point Sources",null,null,null,null,null,null,null,null,null,"Municipal",null,null,"Industrial",null,null,"Storm Water",null,null,"Resource Ext",null,null,"Land Disposal",null,null,null,"Point Sources",null,null,null,null,null,null,null,null,null,"Municipal",null,null,"Industrial",null,null,"Storm Water",null,null,"Resource Ext",null,null,"Land Disposal",null,null,null,"Point Sources",null,null,null,null,null,null,null,null,null,"Municipal",null,null,"Industrial",null,null,"Storm Water",null,null,"Resource Ext",null,null,"Land Disposal",null,null,null,"Point Sources",null,null,null,null,null,null,null,null,null,"Municipal",null,null,"Industrial",null,null,"Storm Water",null,null,"Resource Ext",null,null,"Land Disposal",null,null,null,"Point Sources",null,null,null,null,null,null,null,null,null,"Municipal",null,null,"Industrial",null,null,"Storm Water",null,null,"Resource Ext",null,null,"Land Disposal",null,null,null,"Point Sources",null,null,null,null,null,null,null,null,null,"Municipal",null,null,"Industrial",null,null,"Storm Water",null,null,"Resource Ext",null,null,"Land Disposal"]
[null,null,null,null,null,null,"Click below to select Sources"]
[null,"Biology","Plank/Peri.   A","NA","NA","NA",{"$f":"$O$15&\"  \"&$O$16&\"  \"&$O$17&\"  \"&$O$18&\"  \"&$O$19&\"  \"&$O$20","v":"          "},{"$f":"$O$28&\"  \"&$O$29&\"  \"&$O$30&\"  \"&$O$31&\"  \"&$O$32&\"  \"&$O$33","v":"          "}]
[null,null,"Macrophyton   M","NA"]
[null,null,"Invertebrates   I","NA"]
[null,null,"Fish   F","NA"]
[null,null,"Wildlife   W","NA"]
[]
[null,"Chemistry","Dis. Oxygen    DO","NA","NA","NA",{"$f":"$AO$15&\"  \"&$AO$16&\"  \"&$AO$17&\"  \"&$AO$18&\"  \"&$AO$19&\"  \"&$AO$20","v":"          "},{"$f":"$AO$28&\"  \"&$AO$29&\"  \"&$AO$30&\"  \"&$AO$31&\"  \"&$AO$32&\"  \"&$AO$33","v":"          "}]
[null,null,"pH     pH","NA"]
[null,null,"Temperature    T","NA"]
[null,null,"Ionic Strength    Z","NA"]
[null,null,"Sus. Solids    SS","NA"]
[null,null,null,null,null,null,null,null,null,null,null,null,null,"Non Point Sources",null,null,null,null,null,null,null,null,null,"Seds",null,null,"Hydromodification",null,null,"Other",null,null,"Unknown",null,null,null,null,null,null,"Non Point Sources",null,null,null,null,null,null,null,null,null,"Seds",null,null,"Hydromodification",null,null,"Other",null,null,"Unknown",null,null,null,null,null,null,"Non Point Sources",null,null,null,null,null,null,null,null,null,"Seds",null,null,"Hydromodification",null,null,"Other",null,null,"Unknown",null,null,null,null,null,null,"Non Point Sources",null,null,null,null,null,null,null,null,null,"Seds",null,null,"Hydromodification",null,null,"Other",null,null,"Unknown",null,null,null,null,null,null,"Non Point Sources",null,null,null,null,null,null,null,null,null,"Seds",null,null,"Hydromodification",null,null,"Other",null,null,"Unknown",null,null,null,null,null,null,"Non Point Sources",null,null,null,null,null,null,null,null,null,"Seds",null,null,"Hydromodification",null,null,"Other",null,null,"Unknown",null,null,null,null,null,null,"Non Point Sources",null,null,null,null,null,null,null,null,null,"Seds",null,null,"Hydromodification",null,null,"Other",null,null,"Unknown",null,null,null,null,null,null,"Non Point Sources",null,null,null,null,null,null,null,null,null,"Seds",null,null,"Hydromodification",null,null,"Other",null,null,"Unknown",null,null,null,null,null,null,"Non Point Sources",null,null,null,null,null,null,null,null,null,"Seds",null,null,"Hydromodification",null,null,"Other",null,null,"Unknown",null,null,null,null,null,null,"Non Point Sources",null,null,null,null,null,null,null,null,null,"Seds",null,null,"Hydromodification",null,null,"Other",null,null,"Unknown"]
[null,"Nutrients","Phosphorus  P","NA","NA","NA",{"$f":"$BO$15&\"  \"&$BO$16&\"  \"&$BO$17&\"  \"&$BO$18&\"  \"&$BO$19&\"  \"&$BO$20","v":"          "},{"$f":"$BO$28&\"  \"&$BO$29&\"  \"&$BO$30&\"  \"&$BO$31&\"  \"&$BO$32&\"  \"&$BO$33","v":"          "}]
[null,null,"Nitrogen   N","NA"]
[]
[null,"Toxicity","Unknown   U","NA","NA","NA",{"$f":"$CO$15&\"  \"&$CO$16&\"  \"&$CO$17&\"  \"&$CO$18&\"  \"&$CO$19&\"  \"&$CO$20","v":"          "},{"$f":"$CO$28&\"  \"&$CO$29&\"  \"&$CO$30&\"  \"&$CO$31&\"  \"&$CO$32&\"  \"&$CO$33","v":"          "}]
[null,null,{"$f":"\"Spec. Chem.  \"&CN44","v":"Spec. Chem.  Ag"},"NA"]
[null,null,null,null,null,null,null,null,null,null,null,null,null,null,null,null,null,null,null,null,null,null,null,null,null,null,null,null,null,null,null,null,null,null,null,null,null,null,null,null,null,null,null,null,null,null,null,null,null,null,null,null,null,null,null,null,null,null,null,null,null,null,null,null,null,null,null,null,null,null,null,null,null,null,null,null,null,null,null,null,null,null,null,null,null,null,null,null,null,null,null,null,null,null,null,null,null,null,null,null,null,null,null,null,null,null,null,null,null,null,null,null,null,null,null,null,null,null,null,null,null,null,null,null,null,null,null,null,null,null,null,null,null,null,null,null,null,null,null,null,null,null,null,null,null,null,null,null,null,null,null,null,null,null,null,null,null,null,null,null,null,null,null,null,null,null,null,null,null,null,null,null,null,null,null,null,null,null,null,null,null,null,null,null,null,null,null,null,null,null,null,null,null,null,null,null,null,null,null,null,null,null,null,null,null,null,null,null,null,null,null,null,null,null,null,null,null,null,null,null,null,null,null,null,null,null,null,null,null,null,null,null,null,null,null,null,null,null,null,null,null,null,null,null,null,null,null,null,null,null,null,null,null,null,null,null,null,null,null,null,null,null,null,null,null,null,null,null,null,null,null,null,null,null,null,null,null,null,null,null,null,null,null,null,null,"The colored cells below reflect this segments pollution status and are replicated on the Sources report card automatically"]
[null,"Flow","Flow  Q","NA","NA","NA",{"$f":"$DO$15&\"  \"&$DO$16&\"  \"&$DO$17&\"  \"&$DO$18&\"  \"&$DO$19&\"  \"&$DO$20","v":"          "},{"$f":"$DO$28&\"  \"&$DO$29&\"  \"&$DO$30&\"  \"&$DO$31&\"  \"&$DO$32&\"  \"&$DO$33","v":"          "},null,null,null,null,null,null,null,null,null,null,null,null,null,null,null,null,null,null,null,null,null,null,null,null,null,null,null,null,null,null,null,null,null,null,null,null,null,null,null,null,null,null,null,null,null,null,null,null,null,null,null,null,null,null,null,null,null,null,null,null,null,null,null,null,null,null,null,null,null,null,null,null,null,null,null,null,null,null,null,null,null,null,null,null,null,null,null,null,null,null,null,null,null,null,null,null,null,null,null,null,null,null,null,null,null,null,null,null,null,null,null,null,null,null,null,null,null,null,null,null,null,null,null,null,null,null,null,null,null,null,null,null,null,null,null,null,null,null,null,null,null,null,null,null,null,null,null,null,null,null,null,null,null,null,null,null,null,null,null,null,null,null,null,null,null,null,null,null,null,null,null,null,null,null,null,null,null,null,null,null,null,null,null,null,null,null,null,null,null,null,null,null,null,null,null,null,null,null,null,null,null,null,null,null,null,null,null,null,null,null,null,null,null,null,null,null,null,null,null,null,null,null,null,null,null,null,null,null,null,null,null,null,null,null,null,null,null,null,null,null,null,null,null,null,null,null,null,null,null,null,null,null,null,null,null,null,null,null,null,null,null,null,null,null,null,null,null,null,null,null,null,null,null,null,null,null,null,null,{"$f":"KA11","v":"Municp"},null,null,{"$f":"KD11","v":"Industr"},null,null,{"$f":"KG11","v":"St Water"},null,null,{"$f":"KJ11","v":"Res Ext"},null,null,{"$f":"KM11","v":"Land Dis"},null,null,{"$f":"KP11","v":"Seds"},null,null,{"$f":"KS11","v":"Hydro"},null,null,{"$f":"KV11","v":"Other"},null,null,{"$f":"KY11","v":"Unknown"}]
[null,null,null,null,null,null,null,null,null,null,null,null,null,"* designates a Suspected Source",null,null,null,null,null,null,null,null,null,null,null,null,null,null,null,null,null,null,null,null,null,null,null,null,null,"* designates a Suspected Source",null,null,null,null,null,null,null,null,null,null,null,null,null,null,null,null,null,null,null,null,null,null,null,null,null,"* designates a Suspected Source",null,null,null,null,null,null,null,null,null,null,null,null,null,null,null,null,null,null,null,null,null,null,null,null,null,"* designates a Suspected Source",null,null,null,null,null,null,null,null,null,null,null,null,null,null,null,null,null,null,null,null,null,null,null,null,null,"* designates a Suspected Source",null,null,null,null,null,null,null,null,null,null,null,null,null,null,null,null,null,null,null,null,null,null,null,null,null,"* designates a Suspected Source",null,null,null,null,null,null,null,null,null,null,null,null,null,null,null,null,null,null,null,null,null,null,null,null,null,"* designates a Suspected Source",null,null,null,null,null,null,null,null,null,null,null,null,null,null,null,null,null,null,null,null,null,null,null,null,null,"* designates a Suspected Source",null,null,null,null,null,null,null,null,null,null,null,null,null,null,null,null,null,null,null,null,null,null,null,null,null,"* designates a Suspected Source",null,null,null,null,null,null,null,null,null,null,null,null,null,null,null,null,null,null,null,null,null,null,null,null,null,null,null,null,null,null,null,null,null,null,null,null,null,null,null,null,null,null,null,null,null,null,null,null,null,null,null,null,null,null,null,null,null,null,null,null,null,null,null,null,{"$f":"TRIM(KA41&\" \"&KA42&\" \"&KA43&\" \"&KA44&\" \"&KA45&\" \"&KA46)","v":""},null,null,{"$f":"TRIM(KD41&\" \"&KD42&\" \"&KD43&\" \"&KD44&\" \"&KD45&\" \"&KD46)","v":""},null,null,{"$f":"TRIM(KG41&\" \"&KG42&\" \"&KG43&\" \"&KG44&\" \"&KG45&\" \"&KG46)","v":""},null,null,{"$f":"TRIM(KJ41&\" \"&KJ42&\" \"&KJ43&\" \"&KJ44&\" \"&KJ45&\" \"&KJ46)","v":""},null,null,{"$f":"TRIM(KM41&\" \"&KM42&\" \"&KM43&\" \"&KM44&\" \"&KM45&\" \"&KM46)","v":""},null,null,{"$f":"TRIM(KP41&\" \"&KP42&\" \"&KP43&\" \"&KP44&\" \"&KP45&\" \"&KP46)","v":""},null,null,{"$f":"TRIM(KS41&\" \"&KS42&\" \"&KS43&\" \"&KS44&\" \"&KS45&\" \"&KS46)","v":""},null,null,{"$f":"TRIM(KV41&\" \"&KV42&\" \"&KV43&\" \"&KV44&\" \"&KV45&\" \"&KV46)","v":""},null,null,{"$f":"TRIM(KY41&\" \"&KY42&\" \"&KY43&\" \"&KY44&\" \"&KY45&\" \"&KY46)","v":""}]
[null,"Habitat","Substrate   S","NA","NA","NA",{"$f":"$EO$15&\"  \"&$EO$16&\"  \"&$EO$17&\"  \"&$EO$18&\"  \"&$EO$19&\"  \"&$EO$20","v":"          "},{"$f":"$EO$28&\"  \"&$EO$29&\"  \"&$EO$30&\"  \"&$EO$31&\"  \"&$EO$32&\"  \"&$EO$33","v":"          "},null,null,null,null,null,"** designates a Potential Source",null,null,null,null,null,null,null,null,null,null,null,null,null,null,null,null,null,null,null,null,null,null,null,null,null,"** designates a Potential Source",null,null,null,null,null,null,null,null,null,null,null,null,null,null,null,null,null,null,null,null,null,null,null,null,null,"** designates a Potential Source",null,null,null,null,null,null,null,null,null,null,null,null,null,null,null,null,null,null,null,null,null,null,null,null,null,"** designates a Potential Source",null,null,null,null,null,null,null,null,null,null,null,null,null,null,null,null,null,null,null,null,null,null,null,null,null,"** designates a Potential Source",null,null,null,null,null,null,null,null,null,null,null,null,null,null,null,null,null,null,null,null,null,null,null,null,null,"** designates a Potential Source",null,null,null,null,null,null,null,null,null,null,null,null,null,null,null,null,null,null,null,null,null,null,null,null,null,"** designates a Potential Source",null,null,null,null,null,null,null,null,null,null,null,null,null,null,null,null,null,null,null,null,null,null,null,null,null,"** designates a Potential Source",null,null,null,null,null,null,null,null,null,null,null,null,null,null,null,null,null,null,null,null,null,null,null,null,null,"** designates a Potential Source"]
[null,null,"Morphology   H","NA",null,null,null,null,null,null,null,null,null,"No asterisk designates a Known Source",null,null,null,null,null,null,null,null,null,null,null,null,null,null,null,null,null,null,null,null,null,null,null,null,null,"No asterisk designates a Known Source",null,null,null,null,null,null,null,null,null,null,null,null,null,null,null,null,null,null,null,null,null,null,null,null,null,"No asterisk designates a Known Source",null,null,null,null,null,null,null,null,null,null,null,null,null,null,null,null,null,null,null,null,null,null,null,null,null,"No asterisk designates a Known Source",null,null,null,null,null,null,null,null,null,null,null,null,null,null,null,null,null,null,null,null,null,null,null,null,null,"No asterisk designates a Known Source",null,null,null,null,null,null,null,null,null,null,null,null,null,null,null,null,null,null,null,null,null,null,null,null,null,"No asterisk designates a Known Source",null,null,null,null,null,null,null,null,null,null,null,null,null,null,null,null,null,null,null,null,null,null,null,null,null,"No asterisk designates a Known Source",null,null,null,null,null,null,null,null,null,null,null,null,null,null,null,null,null,null,null,null,null,null,null,null,null,"No asterisk designates a Known Source",null,null,null,null,null,null,null,null,null,null,null,null,null,null,null,null,null,null,null,null,null,null,null,null,null,"No asterisk designates a Known Source",null,null,null,null,null,null,null,null,null,null,null,null,null,null,null,null,null,null,null,null,null,null,null,null,null,null,null,null,null,null,null,null,null,null,null,null,null,null,null,null,null,null,null,null,null,null,null,null,null,null,null,null,null,null,null,null,null,null,null,null,null,null,null,"max confid #",{"$f":"MAX(KB11:KB31)","v":0},null,null,{"$f":"MAX(KE11:KE31)","v":0},null,null,{"$f":"MAX(KH11:KH31)","v":0},null,null,{"$f":"MAX(KK11:KK31)","v":0},null,null,{"$f":"MAX(KN11:KN31)","v":0},null,null,{"$f":"MAX(KQ11:KQ31)","v":0},null,null,{"$f":"MAX(KT11:KT31)","v":0},null,null,{"$f":"MAX(KW11:KW31)","v":0},null,null,{"$f":"MAX(KZ11:KZ31)","v":0}]
[null,null,"Riparian Zone   R","NA",null,null,null,null,null,null,null,null,null,"Square brackets designates an Out of Segment Source (i.e., pollutant is a source for downstream segments)",null,null,null,null,null,null,null,null,null,null,null,null,null,null,null,null,null,null,null,null,null,null,null,null,null,"Square brackets designates an Out of Segment Source (i.e., pollutant is a source for downstream segments)",null,null,null,null,null,null,null,null,null,null,null,null,null,null,null,null,null,null,null,null,null,null,null,null,null,"Square brackets designates an Out of Segment Source (i.e., pollutant is a source for downstream segments)",null,null,null,null,null,null,null,null,null,null,null,null,null,null,null,null,null,null,null,null,null,null,null,null,null,"Square brackets designates an Out of Segment Source (i.e., pollutant is a source for downstream segments)",null,null,null,null,null,null,null,null,null,null,null,null,null,null,null,null,null,null,null,null,null,null,null,null,null,"Square brackets designates an Out of Segment Source (i.e., pollutant is a source for downstream segments)",null,null,null,null,null,null,null,null,null,null,null,null,null,null,null,null,null,null,null,null,null,null,null,null,null,"Square brackets designates an Out of Segment Source (i.e., pollutant is a source for downstream segments)",null,null,null,null,null,null,null,null,null,null,null,null,null,null,null,null,null,null,null,null,null,null,null,null,null,"Square brackets designates an Out of Segment Source (i.e., pollutant is a source for downstream segments)",null,null,null,null,null,null,null,null,null,null,null,null,null,null,null,null,null,null,null,null,null,null,null,null,null,"Square brackets designates an Out of Segment Source (i.e., pollutant is a source for downstream segments)",null,null,null,null,null,null,null,null,null,null,null,null,null,null,null,null,null,null,null,null,null,null,null,null,null,"Square brackets designates an Out of Segment Source (i.e., pollutant is a source for downstream segments)",null,null,null,null,null,null,null,null,null,null,null,null,null,null,null,null,null,null,null,null,null,null,null,null,null,null,null,null,null,null,null,null,null,null,null,null,null,null,null,null,null,null,null,null,null,null,null,null,null,null,null,null,null,null,null,null,null,null,null,null,null,null,null,"The lists below show unique codes in lists assembled above. Numbers are max confidence #, used to color cells for worst case. The codes are catenated in the colored boxes above for transfer to Sources RC when that sheet is activated."]
[]
[null,"Bacteria","Bacteria   B","NA","NA","NA",{"$f":"$FO$15&\"  \"&$FO$16&\"  \"&$FO$17&\"  \"&$FO$18&\"  \"&$FO$19&\"  \"&$FO$20","v":"          "},{"$f":"$FO$28&\"  \"&$FO$29&\"  \"&$FO$30&\"  \"&$FO$31&\"  \"&$FO$32&\"  \"&$FO$33","v":"          "},null,null,null,null,null,null,null,null,null,null,null,null,null,null,null,null,null,null,null,null,null,null,null,null,null,null,null,null,null,null,null,null,null,null,null,null,null,null,null,null,null,null,null,null,null,null,null,null,null,null,null,null,null,null,null,null,null,null,null,null,null,null,null,null,null,null,null,null,null,null,null,null,null,null,null,null,null,null,null,null,null,null,null,null,null,null,null,null,null,null,null,null,null,null,null,null,null,null,null,null,null,null,null,null,null,null,null,null,null,null,null,null,null,null,null,null,null,null,null,null,null,null,null,null,null,null,null,null,null,null,null,null,null,null,null,null,null,null,null,null,null,null,null,null,null,null,null,null,null,null,null,null,null,null,null,null,null,null,null,null,null,null,null,null,null,null,null,null,null,null,null,null,null,null,null,null,null,null,null,null,null,null,null,null,null,null,null,null,null,null,null,null,null,null,null,null,null,null,null,null,null,null,null,null,null,null,null,null,null,null,null,null,null,null,null,null,null,null,null,null,null,null,null,null,null,null,null,null,null,null,null,null,null,null,null,null,null,null,null,null,null,null,null,null,null,null,null,null,null,null,null,null,null,null,null,null,null,null,null,null,null,null,null,null,null,null,null,null,null,null,null,null,null,null,null,null,null,null,"Municp",null,null,"Industr",null,null,"St Water",null,null,"Res Ext",null,null,"Land Dis",null,null,"Seds",null,null,"Hydro",null,null,"Other",null,null,"Unknown"]
[]
[null,"Aesthetics","Oil & Grease   G","NA","NA","NA",{"$f":"$GO$15&\"  \"&$GO$16&\"  \"&$GO$17&\"  \"&$GO$18&\"  \"&$GO$19&\"  \"&$GO$20","v":"          "},{"$f":"$GO$28&\"  \"&$GO$29&\"  \"&$GO$30&\"  \"&$GO$31&\"  \"&$GO$32&\"  \"&$GO$33","v":"          "},null,null,null,null,null,null,null,null,null,null,null,null,null,null,null,null,null,null,null,null,null,null,null,null,null,null,null,null,null,null,null,null,null,null,null,null,null,null,null,null,null,null,null,null,null,null,null,null,null,null,null,null,null,null,null,null,null,null,null,null,null,null,null,null,null,null,null,null,null,null,null,null,null,null,null,null,null,null,null,null,null,null,null,"Identify the suspected toxic chemical substance below (e.g., Hg, PCB, etc). ",null,null,null,null,null,null,null,null,null,null,null,null,null,null,null,null,null,null,null,null,null,null,null,null,null,null,null,null,null,null,null,null,null,null,null,null,null,null,null,null,null,null,null,null,null,null,null,null,null,null,null,null,null,null,null,null,null,null,null,null,null,null,null,null,null,null,null,null,null,null,null,null,null,null,null,null,null,null,null,null,null,null,null,null,null,null,null,null,null,null,null,null,null,null,null,null,null,null,null,null,null,null,null,null,null,null,null,null,null,null,null,null,null,null,null,null,null,null,null,null,null,null,null,null,null,null,null,null,null,null,null,null,null,null,null,null,null,null,null,null,null,null,null,null,null,null,null,null,null,null,null,null,null,null,null,"Identify the suspected toxic chemical substance below (e.g., Hg, PCB, etc). "]
[null,null,"Taste & Odor   O","NA",null,null,null,null,null,null,null,null,null,null,"Pollution  Indicators (Causes):  ",null,{"$f":"P46&\" \"&P47&\" \"&P48&\" \"&P49&\" \"&P50&\" \"&P51","v":"     "},null,null,null,null,null,null,null,null,null,null,null,null,null,null,null,null,null,null,null,null,null,null,null,"Pollution  Indicators (Causes):  ",null,{"$f":"AP46&\" \"&AP47&\" \"&AP48&\" \"&AP49&\" \"&AP50&\" \"&AP51","v":"     "},null,null,null,null,null,null,null,null,null,null,null,null,null,null,null,null,null,null,null,null,null,null,null,"Pollution  Indicators (Causes):  ",null,{"$f":"BP46&\" \"&BP47&\" \"&BP48","v":"  "},null,null,null,null,null,null,null,null,null,null,null,null,null,null,null,null,null,null,null,null,null,null,null,null,null,null,null,null,null,null,null,null,null,null,null,null,null,null,null,null,null,null,null,null,null,null,null,null,null,"Pollution  Indicators (Causes):  ",null,{"$f":"DP46&\" \"&DP47","v":" "},null,null,null,null,null,null,null,null,null,null,null,null,null,null,null,null,null,null,null,null,null,null,null,"Pollution  Indicators (Causes):  ",null,{"$f":"EP46&\" \"&EP47&\" \"&EP48&\" \"&EP49","v":"   "},null,null,null,null,null,null,null,null,null,null,null,null,null,null,null,null,null,null,null,null,null,null,null,"Pollution  Indicators (Causes):  ",null,{"$f":"FP46&\" \"&FP47","v":" "},null,null,null,null,null,null,null,null,null,null,null,null,null,null,null,null,null,null,null,null,null,null,null,"Pollution  Indicators (Causes):  ",null,{"$f":"GP46&\" \"&GP47&\" \"&GP48&\" \"&GP49&\" \"&GP50&\" \"&GP51","v":"     "},null,null,null,null,null,null,null,null,null,null,null,null,null,null,null,null,null,null,null,null,null,null,"Identify the suspected toxic chemical substance below (e.g., Hg, PCB, etc). "]
[null,null,"Turb/Color   C","NA",null,null,null,null,null,null,null,null,null,null,null,null,null,null,null,null,null,null,null,null,null,null,null,null,null,null,null,null,null,null,null,null,null,null,null,null,null,null,null,null,null,null,null,null,null,null,null,null,null,null,null,null,null,null,null,null,null,null,null,null,null,null,null,null,null,null,null,null,null,null,null,null,null,null,null,null,null,null,null,null,null,null,null,null,null,null,null,"Ag",null,null,null,null,null,null,null,null,null,null,null,null,null,null,null,null,null,null,null,null,null,null,null,null,null,null,null,null,null,null,null,null,null,null,null,null,null,null,null,null,null,null,null,null,null,null,null,null,null,null,null,null,null,null,null,null,null,null,null,null,null,null,null,null,null,null,null,null,null,null,null,null,null,null,null,null,null,null,null,null,null,null,null,null,null,null,null,null,null,null,null,null,null,null,null,null,null,null,null,null,null,null,null,null,null,null,null,null,null,null,null,null,null,null,null,null,null,null,null,null,null,null,null,null,null,null,null,null,null,null,null,null,null,null,null,null,null,null,null,null,null,null,null,null,null,null,null,null,null,null,null,null,null,null,null,"DDT"]
[null,null,"Nuisance Plants   V","NA",null,null,null,null,null,null,null,null,null,null,{"$f":"$B$16","v":"Biology"},null,null,null,null,null,null,null,null,null,null,null,null,null,null,null,null,null,null,null,null,null,null,null,null,null,{"$f":"$B$22","v":"Chemistry"},null,null,null,null,null,null,null,null,null,null,null,null,null,null,null,null,null,null,null,null,null,null,null,null,null,{"$f":"$B$28","v":"Nutrients"},null,null,null,null,null,null,null,null,null,null,null,null,null,null,null,null,null,null,null,null,null,null,null,null,null,null,null,null,null,null,null,null,null,null,null,null,null,null,null,null,null,null,null,null,null,null,null,null,null,null,null,{"$f":"$B$34","v":"Flow"},null,null,null,null,null,null,null,null,null,null,null,null,null,null,null,null,null,null,null,null,null,null,null,null,null,{"$f":"$B$36","v":"Habitat"},null,null,null,null,null,null,null,null,null,null,null,null,null,null,null,null,null,null,null,null,null,null,null,null,null,{"$f":"$B$40","v":"Bacteria"},null,null,null,null,null,null,null,null,null,null,null,null,null,null,null,null,null,null,null,null,null,null,null,null,null,{"$f":"$B$42","v":"Aesthetics"},null,null,null,null,null,null,null,null,null,null,null,null,null,null,null,null,null,null,null,null,null,null,null,null,"PCB"]
[null,null,"Trash /Debris   D","NA",null,null,null,null,null,null,null,null,null,null,{"$f":"$C$16","v":"Plank/Peri.   A"},{"$f":"IF($D$16=\"Concern\",\"(A)\",IF(OR($D$16=\"Fair\",$D$16=\"Poor\"),\"A\",\"\"))","v":""},null,null,null,null,null,null,null,null,null,null,null,null,null,null,null,null,null,null,null,null,null,null,null,null,{"$f":"$C$22","v":"Dis. Oxygen    DO"},{"$f":"IF($D$22=\"Concern\",\"(DO)\",IF(OR($D$22=\"Fair\",$D$22=\"Poor\"),\"DO\",\"\"))","v":""},null,null,null,null,null,null,null,null,null,null,null,null,null,null,null,null,null,null,null,null,null,null,null,null,{"$f":"$C$28","v":"Phosphorus  P"},{"$f":"IF($D$28=\"Concern\",\"(P)\",IF(OR($D$28=\"Fair\",$D$28=\"Poor\"),\"P\",\"\"))","v":""},null,null,null,null,null,null,null,null,null,null,null,null,null,null,null,null,null,null,null,null,null,null,null,null,null,null,null,null,null,null,null,null,null,null,null,null,null,null,null,null,null,null,null,null,null,null,null,null,null,null,{"$f":"$C$34","v":"Flow  Q"},{"$f":"IF($D$34=\"Concern\",\"(O)\",IF(OR($D$34=\"Fair\",$D$34=\"Poor\"),\"O\",\"\"))","v":""},null,null,null,null,null,null,null,null,null,null,null,null,null,null,null,null,null,null,null,null,null,null,null,null,{"$f":"$C$36","v":"Substrate   S"},{"$f":"IF($D$36=\"Concern\",\"(S)\",IF(OR($D$36=\"Fair\",$D$36=\"Poor\"),\"S\",\"\"))","v":""},null,null,null,null,null,null,null,null,null,null,null,null,null,null,null,null,null,null,null,null,null,null,null,null,{"$f":"$C$40","v":"Bacteria   B"},{"$f":"IF($D$40=\"Concern\",\"(B)\",IF(OR($D$40=\"Fair\",$D$40=\"Poor\"),\"B\",\"\"))","v":""},null,null,null,null,null,null,null,null,null,null,null,null,null,null,null,null,null,null,null,null,null,null,null,null,{"$f":"$C$42","v":"Oil & Grease   G"},{"$f":"IF($D$42=\"Concern\",\"(G)\",IF(OR($D$42=\"Fair\",$D$42=\"Poor\"),\"G\",\"\"))","v":""}]
[null,null,null,null,null,null,null,null,null,null,null,null,null,null,{"$f":"$C$17","v":"Macrophyton   M"},{"$f":"IF($D$17=\"Concern\",\"(M)\",IF(OR($D$17=\"Fair\",$D$17=\"Poor\"),\"M\",\"\"))","v":""},null,null,null,null,null,null,null,null,null,null,null,null,null,null,null,null,null,null,null,null,null,null,null,null,{"$f":"$C$23","v":"pH     pH"},{"$f":"IF($D$23=\"Concern\",\"(pH)\",IF(OR($D$23=\"Fair\",$D$23=\"Poor\"),\"pH\",\"\"))","v":""},null,null,null,null,null,null,null,null,null,null,null,null,null,null,null,null,null,null,null,null,null,null,null,null,{"$f":"$C$29","v":"Nitrogen   N"},{"$f":"IF($D$29=\"Concern\",\"(N)\",IF(OR($D$29=\"Fair\",$D$29=\"Poor\"),\"N\",\"\"))","v":""},null,null,null,null,null,null,null,null,null,null,null,null,null,null,null,null,null,null,null,null,null,null,null,null,null,null,null,null,null,null,null,null,null,null,null,null,null,null,null,null,null,null,null,null,null,null,null,null,null,null,{"$f":"IF($C$41=\"\",\"\",$C$41)","v":""},{"$f":"IF($D$35=\"Concern\",\"(**)\",IF(OR($D$35=\"Fair\",$D$35=\"Poor\"),\"**\",\"\"))","v":""},null,null,null,null,null,null,null,null,null,null,null,null,null,null,null,null,null,null,null,null,null,null,null,null,{"$f":"$C$37","v":"Morphology   H"},{"$f":"IF($D$37=\"Concern\",\"(H)\",IF(OR($D$37=\"Fair\",$D$37=\"Poor\"),\"H\",\"\"))","v":""},null,null,null,null,null,null,null,null,null,null,null,null,null,null,null,null,null,null,null,null,null,null,null,null,{"$f":"IF($C$41=\"\",\"\",$C$41)","v":""},{"$f":"IF($D$41=\"Concern\",\"(**)\",IF(OR($D$41=\"Fair\",$D$41=\"Poor\"),\"**\",\"\"))","v":""},null,null,null,null,null,null,null,null,null,null,null,null,null,null,null,null,null,null,null,null,null,null,null,null,{"$f":"$C$43","v":"Taste & Odor   O"},{"$f":"IF($D$43=\"Concern\",\"(O)\",IF(OR($D$43=\"Fair\",$D$43=\"Poor\"),\"O\",\"\"))","v":""}]
[null,"Tissue",{"$f":"\"Spec. Chem.   \"&HN45","v":"Spec. Chem.   PCB"},"NA","NA","NA",{"$f":"$HO$15&\"  \"&$HO$16&\"  \"&$HO$17&\"  \"&$HO$18&\"  \"&$HO$19&\"  \"&$HO$20","v":"          "},{"$f":"$HO$28&\"  \"&$HO$29&\"  \"&$HO$30&\"  \"&$HO$31&\"  \"&$HO$32&\"  \"&$HO$33","v":"          "},null,null,null,null,null,null,{"$f":"$C$18","v":"Invertebrates   I"},{"$f":"IF($D$18=\"Concern\",\"(I)\",IF(OR($D$18=\"Fair\",$D$18=\"Poor\"),\"I\",\"\"))","v":""},null,null,null,null,null,null,null,null,null,null,null,null,null,null,null,null,null,null,null,null,null,null,null,null,{"$f":"$C$24","v":"Temperature    T"},{"$f":"IF($D$24=\"Concern\",\"(T)\",IF(OR($D$24=\"Fair\",$D$24=\"Poor\"),\"T\",\"\"))","v":""},null,null,null,null,null,null,null,null,null,null,null,null,null,null,null,null,null,null,null,null,null,null,null,null,{"$f":"IF($C$30=\"\",\"\",$C$30)","v":""},{"$f":"IF($D$30=\"Concern\",\"(**)\",IF(OR($D$30=\"Fair\",$D$30=\"Poor\"),\"**\",\"\"))","v":""},null,null,null,null,null,null,null,null,null,null,null,null,null,null,null,null,null,null,null,null,null,null,null,null,null,null,null,null,null,null,null,null,null,null,null,null,null,null,null,null,null,null,null,null,null,null,null,null,null,null,null,null,null,null,null,null,null,null,null,null,null,null,null,null,null,null,null,null,null,null,null,null,null,null,null,null,{"$f":"$C$38","v":"Riparian Zone   R"},{"$f":"IF($D$38=\"Concern\",\"(R)\",IF(OR($D$38=\"Fair\",$D$38=\"Poor\"),\"R\",\"\"))","v":""},null,null,null,null,null,null,null,null,null,null,null,null,null,null,null,null,null,null,null,null,null,null,null,null,null,null,null,null,null,null,null,null,null,null,null,null,null,null,null,null,null,null,null,null,null,null,null,null,null,null,{"$f":"$C$44","v":"Turb/Color   C"},{"$f":"IF($D$44=\"Concern\",\"(C)\",IF(OR($D$44=\"Fair\",$D$44=\"Poor\"),\"C\",\"\"))","v":""}]
[null,null,null,null,null,null,null,null,null,null,null,null,null,null,{"$f":"$C$19","v":"Fish   F"},{"$f":"IF($D$19=\"Concern\",\"(F)\",IF(OR($D$19=\"Fair\",$D$19=\"Poor\"),\"F\",\"\"))","v":""},null,null,null,null,null,null,null,null,null,null,null,null,null,null,null,null,null,null,null,null,null,null,null,null,{"$f":"$C$25","v":"Ionic Strength    Z"},{"$f":"IF($D$25=\"Concern\",\"(Z)\",IF(OR($D$25=\"Fair\",$D$25=\"Poor\"),\"Z\",\"\"))","v":""},null,null,null,null,null,null,null,null,null,null,null,null,null,null,null,null,null,null,null,null,null,null,null,null,null,null,null,null,null,null,null,null,null,null,null,null,null,null,null,null,null,null,null,null,null,null,null,null,null,null,"Pollution  Indicators (Causes):  ",null,{"$f":"CP52&\" \"&CP53&\" \"&CP54","v":"  "},null,null,null,null,null,null,null,null,null,null,null,null,null,null,null,null,null,null,null,null,null,null,null,null,null,null,null,null,null,null,null,null,null,null,null,null,null,null,null,null,null,null,null,null,null,null,null,null,null,{"$f":"IF($C$39=\"\",\"\",$C$39)","v":""},{"$f":"IF($D$39=\"Concern\",\"(**)\",IF(OR($D$39=\"Fair\",$D$39=\"Poor\"),\"**\",\"\"))","v":""},null,null,null,null,null,null,null,null,null,null,null,null,null,null,null,null,null,null,null,null,null,null,null,null,null,null,null,null,null,null,null,null,null,null,null,null,null,null,null,null,null,null,null,null,null,null,null,null,null,null,{"$f":"$C$45","v":"Nuisance Plants   V"},{"$f":"IF($D$45=\"Concern\",\"(V)\",IF(OR($D$45=\"Fair\",$D$45=\"Poor\"),\"V\",\"\"))","v":""},null,null,null,null,null,null,null,null,null,null,null,null,null,null,null,null,null,null,null,null,null,null,null,null,null,null,null,null,null,null,null,null,null,null,null,null,null,null,null,null,null,null,null,null,null,null,null,null,null,null,"Pollution  Indicators (Causes):  ",null,{"$f":"IP52&\" \"&IP53&\" \"&IP54","v":"  "}]
[null,"Sediment","Unknown   U","NA","NA","NA",{"$f":"$IO$15&\"  \"&$IO$16&\"  \"&$IO$17&\"  \"&$IO$18&\"  \"&$IO$19&\"  \"&$IO$20","v":"          "},{"$f":"$IO$28&\"  \"&$IO$29&\"  \"&$IO$30&\"  \"&$IO$31&\"  \"&$IO$32&\"  \"&$IO$33","v":"          "},null,null,null,null,null,null,{"$f":"$C$20","v":"Wildlife   W"},{"$f":"IF($D$20=\"Concern\",\"(W)\",IF(OR($D$20=\"Fair\",$D$20=\"Poor\"),\"W\",\"\"))","v":""},null,null,null,null,null,null,null,null,null,null,null,null,null,null,null,null,null,null,null,null,null,null,null,null,{"$f":"$C$26","v":"Sus. Solids    SS"},{"$f":"IF($D$26=\"Concern\",\"(SS)\",IF(OR($D$26=\"Fair\",$D$26=\"Poor\"),\"SS\",\"\"))","v":""},null,null,null,null,null,null,null,null,null,null,null,null,null,null,null,null,null,null,null,null,null,null,null,null,null,null,null,null,null,null,null,null,null,null,null,null,null,null,null,null,null,null,null,null,null,null,null,null,null,null,null,null,null,null,null,null,null,null,null,null,null,null,null,null,null,null,null,null,null,null,null,null,null,null,null,null,null,null,null,null,null,null,null,null,null,null,null,null,null,null,null,null,null,null,null,null,null,null,null,null,null,null,null,null,null,null,null,null,null,null,null,null,null,null,null,null,null,null,null,null,null,null,null,null,null,null,null,null,null,null,null,null,null,null,null,null,null,null,null,null,null,null,null,null,null,null,null,null,null,null,null,null,null,null,{"$f":"$C$46","v":"Trash /Debris   D"},{"$f":"IF($D$46=\"Concern\",\"(D)\",IF(OR($D$46=\"Fair\",$D$46=\"Poor\"),\"D\",\"\"))","v":""},null,null,null,null,null,null,null,null,null,null,null,null,null,null,null,null,null,null,null,null,null,null,null,null,"Pollution  Indicators (Causes):  ",null,{"$f":"HP53&\" \"&HP54","v":" "}]
[null,null,{"$f":"\"Spec. Chem.   \"&IN44","v":"Spec. Chem.   DDT"},"NA",null,null,null,null,null,null,null,null,null,null,{"$f":"IF($C$21=\"\",\"\",$C$21)","v":""},{"$f":"IF($D$21=\"Concern\",\"(**)\",IF(OR($D$21=\"Fair\",$D$21=\"Poor\"),\"**\",\"\"))","v":""},null,null,null,null,null,null,null,null,null,null,null,null,null,null,null,null,null,null,null,null,null,null,null,null,{"$f":"IF($C$27=\"\",\"\",$C$27)","v":""},{"$f":"IF($D$27=\"Concern\",\"(**)\",IF(OR($D$27=\"Fair\",$D$27=\"Poor\"),\"**\",\"\"))","v":""},null,null,null,null,null,null,null,null,null,null,null,null,null,null,null,null,null,null,null,null,null,null,null,null,null,null,null,null,null,null,null,null,null,null,null,null,null,null,null,null,null,null,null,null,null,null,null,null,null,null,{"$f":"$B$31","v":"Toxicity"},null,null,null,null,null,null,null,null,null,null,null,null,null,null,null,null,null,null,null,null,null,null,null,null,null,null,null,null,null,null,null,null,null,null,null,null,null,null,null,null,null,null,null,null,null,null,null,null,null,null,null,null,null,null,null,null,null,null,null,null,null,null,null,null,null,null,null,null,null,null,null,null,null,null,null,null,null,null,null,null,null,null,null,null,null,null,null,null,null,null,null,null,null,null,null,null,null,null,null,null,null,null,null,{"$f":"IF($C$47=\"\",\"\",$C$47)","v":""},{"$f":"IF($D$47=\"Concern\",\"(**)\",IF(OR($D$47=\"Fair\",$D$47=\"Poor\"),\"**\",\"\"))","v":""},null,null,null,null,null,null,null,null,null,null,null,null,null,null,null,null,null,null,null,null,null,null,null,null,null,null,null,null,null,null,null,null,null,null,null,null,null,null,null,null,null,null,null,null,null,null,null,null,null,null,{"$f":"$B$50","v":"Sediment"}]
[null,null,null,null,null,null,null,null,null,null,null,null,null,null,null,null,null,null,null,null,null,null,null,null,null,null,null,null,null,null,null,null,null,null,null,null,null,null,null,null,null,null,null,null,null,null,null,null,null,null,null,null,null,null,null,null,null,null,null,null,null,null,null,null,null,null,null,null,null,null,null,null,null,null,null,null,null,null,null,null,null,null,null,null,null,null,null,null,null,null,null,null,{"$f":"$C$31","v":"Unknown   U"},{"$f":"IF($D$31=\"Concern\",\"(U)\",IF(OR($D$31=\"Fair\",$D$31=\"Poor\"),\"U\",\"\"))","v":""},null,null,null,null,null,null,null,null,null,null,null,null,null,null,null,null,null,null,null,null,null,null,null,null,null,null,null,null,null,null,null,null,null,null,null,null,null,null,null,null,null,null,null,null,null,null,null,null,null,null,null,null,null,null,null,null,null,null,null,null,null,null,null,null,null,null,null,null,null,null,null,null,null,null,null,null,null,null,null,null,null,null,null,null,null,null,null,null,null,null,null,null,null,null,null,null,null,null,null,null,null,null,null,null,null,null,null,null,null,null,null,null,null,null,null,null,null,null,null,null,null,null,null,null,null,null,null,null,{"$f":"$B$48","v":"Tissue"},null,null,null,null,null,null,null,null,null,null,null,null,null,null,null,null,null,null,null,null,null,null,null,null,null,{"$f":"$C$50","v":"Unknown   U"},{"$f":"IF($D$50=\"Concern\",\"(U)\",IF(OR($D$50=\"Fair\",$D$50=\"Poor\"),\"U\",\"\"))","v":""}]
[null,"Comments:",null,null,null,null,null,"*  Suspected Source  ",null,null,null,null,null,null,null,null,null,null,null,null,null,null,null,null,null,null,null,null,null,null,null,null,null,null,null,null,null,null,null,null,null,null,null,null,null,null,null,null,null,null,null,null,null,null,null,null,null,null,null,null,null,null,null,null,null,null,null,null,null,null,null,null,null,null,null,null,null,null,null,null,null,null,null,null,null,null,null,null,null,null,null,null,{"$f":"$C$32","v":"Spec. Chem.  Ag"},{"$f":"IF($D$32=\"Concern\",\"(\"&CN44&\")\",IF(OR($D$32=\"Fair\",$D$32=\"Poor\"),CN44,\"\"))","v":""},null,null,null,null,null,null,null,null,null,null,null,null,null,null,null,null,null,null,null,null,null,null,null,null,null,null,null,null,null,null,null,null,null,null,null,null,null,null,null,null,null,null,null,null,null,null,null,null,null,null,null,null,null,null,null,null,null,null,null,null,null,null,null,null,null,null,null,null,null,null,null,null,null,null,null,null,null,null,null,null,null,null,null,null,null,null,null,null,null,null,null,null,null,null,null,null,null,null,null,null,null,null,null,null,null,null,null,null,null,null,null,null,null,null,null,null,null,null,null,null,null,null,null,null,null,null,null,null,{"$f":"$C$48","v":"Spec. Chem.   PCB"},{"$f":"IF($D$48=\"Concern\",\"(\"&HN45&\")\",IF(OR($D$48=\"Fair\",$D$32=\"Poor\"),HN45,\"\"))","v":""},null,null,null,null,null,null,null,null,null,null,null,null,null,null,null,null,null,null,null,null,null,null,null,null,{"$f":"$C$51","v":"Spec. Chem.   DDT"},{"$f":"IF($D$51=\"Concern\",\"(\"&IN44&\")\",IF(OR($D$51=\"Fair\",$D$51=\"Poor\"),IN44,\"\"))","v":""}]
[null,null,null,null,null,null,null,"** Potential Source  ",null,null,null,null,null,null,null,null,null,null,null,null,null,null,null,null,null,null,null,null,null,null,null,null,null,null,null,null,null,null,null,null,null,null,null,null,null,null,null,null,null,null,null,null,null,null,null,null,null,null,null,null,null,null,null,null,null,null,null,null,null,null,null,null,null,null,null,null,null,null,null,null,null,null,null,null,null,null,null,null,null,null,null,null,{"$f":"IF($C$33=\"\",\"\",$C$33)","v":""},{"$f":"IF($D$33=\"Concern\",\"(**)\",IF(OR($D$33=\"Fair\",$D$33=\"Poor\"),\"**\",\"\"))","v":""},null,null,null,null,null,null,null,null,null,null,null,null,null,null,null,null,null,null,null,null,null,null,null,null,null,null,null,null,null,null,null,null,null,null,null,null,null,null,null,null,null,null,null,null,null,null,null,null,null,null,null,null,null,null,null,null,null,null,null,null,null,null,null,null,null,null,null,null,null,null,null,null,null,null,null,null,null,null,null,null,null,null,null,null,null,null,null,null,null,null,null,null,null,null,null,null,null,null,null,null,null,null,null,null,null,null,null,null,null,null,null,null,null,null,null,null,null,null,null,null,null,null,null,null,null,null,null,null,{"$f":"IF($C$49=\"\",\"\",$C$49)","v":""},{"$f":"IF($D$49=\"Concern\",\"(**)\",IF(OR($D$49=\"Fair\",$D$49=\"Poor\"),\"**\",\"\"))","v":""},null,null,null,null,null,null,null,null,null,null,null,null,null,null,null,null,null,null,null,null,null,null,null,null,{"$f":"IF($C$52=\"\",\"\",$C$52)","v":""},{"$f":"IF($D$52=\"Concern\",\"(**)\",IF(OR($D$52=\"Fair\",$D$52=\"Poor\"),\"**\",\"\"))","v":""}]
[null,null,null,null,null,null,null,"No asterisk: Known Source  "]
[null,null,null,null,null,null,null,"[Out of Segment Source ]  "]
[]
[]
[]
[null,"SegNameLong:  ","nnnnnn"]
[null,"Seg Name:  ","nnn"]
[null,"Seg Num:  "]
[null,"Seg Size:  "]
[null,"Seg Class:  "]
[]
[]
[]
[]
[]
[]
[]
[]
[]
[]
[]
[]
[null,null,null,{"$f":"A99","v":""}]
[null,null,null,{"$f":"B99","v":""}]
[null,null,null,{"$f":"C99","v":""}]
[null,null,null,{"$f":"D99","v":""}]
[null,null,null,{"$f":"E99","v":""}]
[null,null,null,{"$f":"F99","v":""}]
[null,null,null,{"$f":"G99","v":""}]
[null,null,null,{"$f":"H99","v":""}]
[null,null,null,{"$f":"I99","v":""}]
[]
[]
[]
[]
[]
[]
[]
[]
[]
[]
[]
[]
[]
[{"$f":"TRIM(A101&\" \"&A102&\" \"&A103&\" \"&A104&\" \"&A105&\" \"&A106)","v":""},{"$f":"TRIM(B101&\" \"&B102&\" \"&B103&\" \"&B104&\" \"&B105&\" \"&B106)","v":""},"","","","","","",""]

{"sheet":"Seg15","index":19,"n_rows":99,"n_cols":311,"rows_kept":99,"cut":false,"hidden":false,"merged":[[15,1,20,1],[15,4,20,4],[15,5,20,5],[15,6,20,6],[15,7,20,7],[13,1,14,1],[13,2,14,3],[13,4,14,4],[13,5,14,5],[14,6,14,7],[27,1,29,1],[27,4,29,4],[27,5,29,5],[27,6,29,6],[27,7,29,7],[21,1,26,1],[21,4,26,4],[21,5,26,5],[21,6,26,6],[21,7,26,7],[49,6,51,6],[49,7,51,7],[30,1,32,1],[30,4,32,4],[30,5,32,5],[30,6,32,6],[30,7,32,7],[33,1,34,1],[33,4,34,4],[33,5,34,5],[33,6,34,6],[33,7,34,7],[43,91,45,94],[35,1,38,1],[35,4,38,4],[35,5,38,5],[35,6,38,6],[35,7,38,7],[39,1,40,1],[39,4,40,4],[39,5,40,5],[39,6,40,6],[39,7,40,7],[52,1,55,1],[43,247,45,250],[44,221,46,224],[47,1,48,1],[47,4,48,4],[47,5,48,5],[47,6,48,6],[47,7,48,7],[41,1,46,1],[41,4,46,4],[41,5,46,5],[41,6,46,6],[41,7,46,7],[49,1,51,1],[49,4,51,4],[49,5,51,5]]}
[]
[]
[]
[]
[null,null,null,null,null,null,null,null,null,null,null,null,null,null,null,null,null,null,null,null,null,null,null,null,null,null,null,null,null,null,null,null,null,null,null,null,null,null,null,null,null,null,null,null,null,null,null,null,null,null,null,null,null,null,null,null,null,null,null,null,null,null,null,null,null,null,null,null,null,null,null,null,null,null,null,null,null,null,null,null,null,null,null,null,null,null,null,null,null,null,null,null,null,null,null,null,null,null,null,null,null,null,null,null,null,null,null,null,null,null,null,null,null,null,null,null,null,null,null,null,null,null,null,null,null,null,null,null,null,null,null,null,null,null,null,null,null,null,null,null,null,null,null,null,null,null,null,null,null,null,null,null,null,null,null,null,null,null,null,null,null,null,null,null,null,null,null,null,null,null,null,null,null,null,null,null,null,null,null,null,null,null,null,null,null,null,null,null,null,null,null,null,null,null,null,null,null,null,null,null,null,null,null,null,null,null,null,null,null,null,null,null,null,null,null,null,null,null,null,null,null,null,null,null,null,null,null,null,null,null,null,null,null,null,null,null,null,null,null,null,null,null,null,null,null,null,null,null,null,null,null,null,null,null,null,null,null,null,null,null,null,null,null,null,null,null,null,null,null,null,null,null,null,null,null,null,null,null,null,null,null,null,null,null,null,"List of all codes from all groups for this segment, organized by Source Type. "]
[null,null,null,null,null,null,null,null,null,null,null,null,null,null,null,null,null,null,null,null,null,null,null,null,null,null,null,null,null,null,null,null,null,null,null,null,null,null,null,null,null,null,null,null,null,null,null,null,null,null,null,null,null,null,null,null,null,null,null,null,null,null,null,null,null,null,null,null,null,null,null,null,null,null,null,null,null,null,null,null,null,null,null,null,null,null,null,null,null,null,null,null,null,null,null,null,null,null,null,null,null,null,null,null,null,null,null,null,null,null,null,null,null,null,null,null,null,null,null,null,null,null,null,null,null,null,null,null,null,null,null,null,null,null,null,null,null,null,null,null,null,null,null,null,null,null,null,null,null,null,null,null,null,null,null,null,null,null,null,null,null,null,null,null,null,null,null,null,null,null,null,null,null,null,null,null,null,null,null,null,null,null,null,null,null,null,null,null,null,null,null,null,null,null,null,null,null,null,null,null,null,null,null,null,null,null,null,null,null,null,null,null,null,null,null,null,null,null,null,null,null,null,null,null,null,null,null,null,null,null,null,null,null,null,null,null,null,null,null,null,null,null,null,null,null,null,null,null,null,null,null,null,null,null,null,null,null,null,null,null,null,null,null,null,null,null,null,null,null,null,null,null,null,null,null,null,null,null,null,null,null,null,null,null,null,"List is updated only when \"SourceRC_List\" macro is run. Macro is run manually by touching button at right or when Source report card is activated."]
[null,null,null,null,null,null,null,null,null,null,null,null,null,null,null,null,null,null,null,null,null,null,null,null,null,null,null,null,null,null,null,null,null,null,null,null,null,null,null,null,null,null,null,null,null,null,null,null,null,null,null,null,null,null,null,null,null,null,null,null,null,null,null,null,null,null,null,null,null,null,null,null,null,null,null,null,null,null,null,null,null,null,null,null,null,null,null,null,null,null,null,null,null,null,null,null,null,null,null,null,null,null,null,null,null,null,null,null,null,null,null,null,null,null,null,null,null,null,null,null,null,null,null,null,null,null,null,null,null,null,null,null,null,null,null,null,null,null,null,null,null,null,null,null,null,null,null,null,null,null,null,null,null,null,null,null,null,null,null,null,null,null,null,null,null,null,null,null,null,null,null,null,null,null,null,null,null,null,null,null,null,null,null,null,null,null,null,null,null,null,null,null,null,null,null,null,null,null,null,null,null,null,null,null,null,null,null,null,null,null,null,null,null,null,null,null,null,null,null,null,null,null,null,null,null,null,null,null,null,null,null,null,null,null,null,null,null,null,null,null,null,null,null,null,null,null,null,null,null,null,null,null,null,null,null,null,null,null,null,null,null,null,null,null,null,null,null,null,null,null,null,null,null,null,null,null,null,null,null,null,null,null,null,null,null,"Numbers indicate knowledge about the certainty of assessment: 0 = N/A, 1 = Potential Source, 2 = Suspected Source, 3 = Known Source."]
[null,null,null,null,null,null,null,null,null,null,null,null,null,null,null,null,null,null,null,null,null,null,null,null,null,null,null,null,null,null,null,null,null,null,null,null,null,null,null,null,null,null,null,null,null,null,null,null,null,null,null,null,null,null,null,null,null,null,null,null,null,null,null,null,null,null,null,null,null,null,null,null,null,null,null,null,null,null,null,null,null,null,null,null,null,null,null,null,null,null,null,null,null,null,null,null,null,null,null,null,null,null,null,null,null,null,null,null,null,null,null,null,null,null,null,null,null,null,null,null,null,null,null,null,null,null,null,null,null,null,null,null,null,null,null,null,null,null,null,null,null,null,null,null,null,null,null,null,null,null,null,null,null,null,null,null,null,null,null,null,null,null,null,null,null,null,null,null,null,null,null,null,null,null,null,null,null,null,null,null,null,null,null,null,null,null,null,null,null,null,null,null,null,null,null,null,null,null,null,null,null,null,null,null,null,null,null,null,null,null,null,null,null,null,null,null,null,null,null,null,null,null,null,null,null,null,null,null,null,null,null,null,null,null,null,null,null,null,null,null,null,null,null,null,null,null,null,null,null,null,null,null,null,null,null,null,null,null,null,null,null,null,null,null,null,null,null,null,null,null,null,null,null,null,null,null,null,null,null,null,null,null,null,null,null,"This list is then processed below to remove duplicates."]
[null,null,null,null,null,null,null,null,null,null,null,null,null,"Designate Point & Non-Point Sources",null,null,null,null,null,null,null,null,null,null,null,null,null,null,null,null,null,null,null,null,null,null,null,null,null,"Designate Point & Non-Point Sources",null,null,null,null,null,null,null,null,null,null,null,null,null,null,null,null,null,null,null,null,null,null,null,null,null,"Designate Point & Non-Point Sources",null,null,null,null,null,null,null,null,null,null,null,null,null,null,null,null,null,null,null,null,null,null,null,null,null,"Designate Point & Non-Point Sources",null,null,null,null,null,null,null,null,null,null,null,null,null,null,null,null,null,null,null,null,null,null,null,null,null,"Designate Point & Non-Point Sources",null,null,null,null,null,null,null,null,null,null,null,null,null,null,null,null,null,null,null,null,null,null,null,null,null,"Designate Point & Non-Point Sources",null,null,null,null,null,null,null,null,null,null,null,null,null,null,null,null,null,null,null,null,null,null,null,null,null,"Designate Point & Non-Point Sources",null,null,null,null,null,null,null,null,null,null,null,null,null,null,null,null,null,null,null,null,null,null,null,null,null,"Designate Point & Non-Point Sources",null,null,null,null,null,null,null,null,null,null,null,null,null,null,null,null,null,null,null,null,null,null,null,null,null,"Designate Point & Non-Point Sources",null,null,null,null,null,null,null,null,null,null,null,null,null,null,null,null,null,null,null,null,null,null,null,null,null,"Designate Point & Non-Point Sources"]
[null,null,null,null,null,null,null,null,null,null,null,null,null,null,null,null,null,null,null,null,null,null,null,"Codes selected at left are distributed according to Source Type. "]
[null,{"$f":"\"River Basin: \"&RiverBasinName","v":"River Basin: Test River Basin"},null,null,null,null,{"$f":"\"Data Year:  \"&AssessmentYear","v":"Data Year:  2011"},null,null,null,null,null,null,null,null,null,null,null,null,null,null,null,null,"Numbers indicate confidence of assessment: 0 = N/A, 1 = Potential Source, 2 = Suspected Source, 3 = Known Source.",null,null,null,null,null,null,null,null,null,null,null,null,null,null,null,null,null,null,null,null,null,null,null,null,null,null,null,null,null,null,null,null,null,null,null,null,null,null,null,null,null,null,null,null,null,null,null,null,null,null,null,null,null,null,null,null,null,null,null,null,null,null,null,null,null,null,null,null,null,null,null,null,null,null,null,null,null,null,null,null,null,null,null,null,null,null,null,null,null,null,null,null,null,null,null,null,null,null,null,null,null,null,null,null,null,null,null,null,null,null,null,null,null,null,null,null,null,null,null,null,null,null,null,null,null,null,null,null,null,null,null,null,null,null,null,null,null,null,null,null,null,null,null,null,null,null,null,null,null,null,null,null,null,null,null,null,null,null,null,null,null,null,null,null,null,null,null,null,null,null,null,null,null,null,null,null,null,null,null,null,null,null,null,null,null,null,null,null,null,null,null,null,null,null,null,null,null,null,null,null,null,null,null,null,null,null,null,null,null,null,null,null,null,null,null,null,null,null,null,null,null,null,null,null,null,null,null,null,null,null,null,null,null,null,null,null,null,null,null,null,null,null,null,null,null,null,null,null,null,null,null,null,null,null,null,null,null,null,null,null,null,null,"Municp",null,null,"Industr",null,null,"St Water",null,null,"Res Ext",null,null,"Land Dis",null,null,"Seds",null,null,"Hydro",null,null,"Other",null,null,"Unknown"]
[null,{"$f":"\"Segment Name: \"&C60","v":"Segment Name: oooooo"},null,null,null,null,null,null,null,null,null,null,null,null,null,null,null,null,null,null,null,null,null,"These codes are processed by \"SourceRC_List macro and transferred to Source report card."]
[null,{"$f":"\"Class: \"&C64","v":"Class: "},null,{"$f":"\"Size: \"&C63","v":"Size: "},null,null,{"$f":"\"Seg ID #: \"&C62","v":"Seg ID #: "}]
[null,"CATEGORY","INDICATOR ASSESSMENT",null,"OVERALL STATUS","DATA LEVEL","POINT","NONPOINT",null,null,null,null,null,"Point Sources",null,null,null,null,null,null,null,null,null,"Municipal",null,null,"Industrial",null,null,"Storm Water",null,null,"Resource Ext",null,null,"Land Disposal",null,null,null,"Point Sources",null,null,null,null,null,null,null,null,null,"Municipal",null,null,"Industrial",null,null,"Storm Water",null,null,"Resource Ext",null,null,"Land Disposal",null,null,null,"Point Sources",null,null,null,null,null,null,null,null,null,"Municipal",null,null,"Industrial",null,null,"Storm Water",null,null,"Resource Ext",null,null,"Land Disposal",null,null,null,"Point Sources",null,null,null,null,null,null,null,null,null,"Municipal",null,null,"Industrial",null,null,"Storm Water",null,null,"Resource Ext",null,null,"Land Disposal",null,null,null,"Point Sources",null,null,null,null,null,null,null,null,null,"Municipal",null,null,"Industrial",null,null,"Storm Water",null,null,"Resource Ext",null,null,"Land Disposal",null,null,null,"Point Sources",null,null,null,null,null,null,null,null,null,"Municipal",null,null,"Industrial",null,null,"Storm Water",null,null,"Resource Ext",null,null,"Land Disposal",null,null,null,"Point Sources",null,null,null,null,null,null,null,null,null,"Municipal",null,null,"Industrial",null,null,"Storm Water",null,null,"Resource Ext",null,null,"Land Disposal",null,null,null,"Point Sources",null,null,null,null,null,null,null,null,null,"Municipal",null,null,"Industrial",null,null,"Storm Water",null,null,"Resource Ext",null,null,"Land Disposal",null,null,null,"Point Sources",null,null,null,null,null,null,null,null,null,"Municipal",null,null,"Industrial",null,null,"Storm Water",null,null,"Resource Ext",null,null,"Land Disposal",null,null,null,"Point Sources",null,null,null,null,null,null,null,null,null,"Municipal",null,null,"Industrial",null,null,"Storm Water",null,null,"Resource Ext",null,null,"Land Disposal"]
[null,null,null,null,null,null,"Click below to select Sources"]
[null,"Biology","Plank/Peri.   A","NA","NA","NA",{"$f":"$O$15&\"  \"&$O$16&\"  \"&$O$17&\"  \"&$O$18&\"  \"&$O$19&\"  \"&$O$20","v":"          "},{"$f":"$O$28&\"  \"&$O$29&\"  \"&$O$30&\"  \"&$O$31&\"  \"&$O$32&\"  \"&$O$33","v":"          "}]
[null,null,"Macrophyton   M","NA"]
[null,null,"Invertebrates   I","NA"]
[null,null,"Fish   F","NA"]
[null,null,"Wildlife   W","NA"]
[]
[null,"Chemistry","Dis. Oxygen    DO","NA","NA","NA",{"$f":"$AO$15&\"  \"&$AO$16&\"  \"&$AO$17&\"  \"&$AO$18&\"  \"&$AO$19&\"  \"&$AO$20","v":"          "},{"$f":"$AO$28&\"  \"&$AO$29&\"  \"&$AO$30&\"  \"&$AO$31&\"  \"&$AO$32&\"  \"&$AO$33","v":"          "}]
[null,null,"pH     pH","NA"]
[null,null,"Temperature    T","NA"]
[null,null,"Ionic Strength    Z","NA"]
[null,null,"Sus. Solids    SS","NA"]
[null,null,null,null,null,null,null,null,null,null,null,null,null,"Non Point Sources",null,null,null,null,null,null,null,null,null,"Seds",null,null,"Hydromodification",null,null,"Other",null,null,"Unknown",null,null,null,null,null,null,"Non Point Sources",null,null,null,null,null,null,null,null,null,"Seds",null,null,"Hydromodification",null,null,"Other",null,null,"Unknown",null,null,null,null,null,null,"Non Point Sources",null,null,null,null,null,null,null,null,null,"Seds",null,null,"Hydromodification",null,null,"Other",null,null,"Unknown",null,null,null,null,null,null,"Non Point Sources",null,null,null,null,null,null,null,null,null,"Seds",null,null,"Hydromodification",null,null,"Other",null,null,"Unknown",null,null,null,null,null,null,"Non Point Sources",null,null,null,null,null,null,null,null,null,"Seds",null,null,"Hydromodification",null,null,"Other",null,null,"Unknown",null,null,null,null,null,null,"Non Point Sources",null,null,null,null,null,null,null,null,null,"Seds",null,null,"Hydromodification",null,null,"Other",null,null,"Unknown",null,null,null,null,null,null,"Non Point Sources",null,null,null,null,null,null,null,null,null,"Seds",null,null,"Hydromodification",null,null,"Other",null,null,"Unknown",null,null,null,null,null,null,"Non Point Sources",null,null,null,null,null,null,null,null,null,"Seds",null,null,"Hydromodification",null,null,"Other",null,null,"Unknown",null,null,null,null,null,null,"Non Point Sources",null,null,null,null,null,null,null,null,null,"Seds",null,null,"Hydromodification",null,null,"Other",null,null,"Unknown",null,null,null,null,null,null,"Non Point Sources",null,null,null,null,null,null,null,null,null,"Seds",null,null,"Hydromodification",null,null,"Other",null,null,"Unknown"]
[null,"Nutrients","Phosphorus  P","NA","NA","NA",{"$f":"$BO$15&\"  \"&$BO$16&\"  \"&$BO$17&\"  \"&$BO$18&\"  \"&$BO$19&\"  \"&$BO$20","v":"          "},{"$f":"$BO$28&\"  \"&$BO$29&\"  \"&$BO$30&\"  \"&$BO$31&\"  \"&$BO$32&\"  \"&$BO$33","v":"          "}]
[null,null,"Nitrogen   N","NA"]
[]
[null,"Toxicity","Unknown   U","NA","NA","NA",{"$f":"$CO$15&\"  \"&$CO$16&\"  \"&$CO$17&\"  \"&$CO$18&\"  \"&$CO$19&\"  \"&$CO$20","v":"          "},{"$f":"$CO$28&\"  \"&$CO$29&\"  \"&$CO$30&\"  \"&$CO$31&\"  \"&$CO$32&\"  \"&$CO$33","v":"          "}]
[null,null,{"$f":"\"Spec. Chem.  \"&CN44","v":"Spec. Chem.  Ag"},"NA"]
[null,null,null,null,null,null,null,null,null,null,null,null,null,null,null,null,null,null,null,null,null,null,null,null,null,null,null,null,null,null,null,null,null,null,null,null,null,null,null,null,null,null,null,null,null,null,null,null,null,null,null,null,null,null,null,null,null,null,null,null,null,null,null,null,null,null,null,null,null,null,null,null,null,null,null,null,null,null,null,null,null,null,null,null,null,null,null,null,null,null,null,null,null,null,null,null,null,null,null,null,null,null,null,null,null,null,null,null,null,null,null,null,null,null,null,null,null,null,null,null,null,null,null,null,null,null,null,null,null,null,null,null,null,null,null,null,null,null,null,null,null,null,null,null,null,null,null,null,null,null,null,null,null,null,null,null,null,null,null,null,null,null,null,null,null,null,null,null,null,null,null,null,null,null,null,null,null,null,null,null,null,null,null,null,null,null,null,null,null,null,null,null,null,null,null,null,null,null,null,null,null,null,null,null,null,null,null,null,null,null,null,null,null,null,null,null,null,null,null,null,null,null,null,null,null,null,null,null,null,null,null,null,null,null,null,null,null,null,null,null,null,null,null,null,null,null,null,null,null,null,null,null,null,null,null,null,null,null,null,null,null,null,null,null,null,null,null,null,null,null,null,null,null,null,null,null,null,null,null,null,null,null,null,null,null,"The colored cells below reflect this segments pollution status and are replicated on the Sources report card automatically"]
[null,"Flow","Flow  Q","NA","NA","NA",{"$f":"$DO$15&\"  \"&$DO$16&\"  \"&$DO$17&\"  \"&$DO$18&\"  \"&$DO$19&\"  \"&$DO$20","v":"          "},{"$f":"$DO$28&\"  \"&$DO$29&\"  \"&$DO$30&\"  \"&$DO$31&\"  \"&$DO$32&\"  \"&$DO$33","v":"          "},null,null,null,null,null,null,null,null,null,null,null,null,null,null,null,null,null,null,null,null,null,null,null,null,null,null,null,null,null,null,null,null,null,null,null,null,null,null,null,null,null,null,null,null,null,null,null,null,null,null,null,null,null,null,null,null,null,null,null,null,null,null,null,null,null,null,null,null,null,null,null,null,null,null,null,null,null,null,null,null,null,null,null,null,null,null,null,null,null,null,null,null,null,null,null,null,null,null,null,null,null,null,null,null,null,null,null,null,null,null,null,null,null,null,null,null,null,null,null,null,null,null,null,null,null,null,null,null,null,null,null,null,null,null,null,null,null,null,null,null,null,null,null,null,null,null,null,null,null,null,null,null,null,null,null,null,null,null,null,null,null,null,null,null,null,null,null,null,null,null,null,null,null,null,null,null,null,null,null,null,null,null,null,null,null,null,null,null,null,null,null,null,null,null,null,null,null,null,null,null,null,null,null,null,null,null,null,null,null,null,null,null,null,null,null,null,null,null,null,null,null,null,null,null,null,null,null,null,null,null,null,null,null,null,null,null,null,null,null,null,null,null,null,null,null,null,null,null,null,null,null,null,null,null,null,null,null,null,null,null,null,null,null,null,null,null,null,null,null,null,null,null,null,null,null,null,null,null,{"$f":"KA11","v":"Municp"},null,null,{"$f":"KD11","v":"Industr"},null,null,{"$f":"KG11","v":"St Water"},null,null,{"$f":"KJ11","v":"Res Ext"},null,null,{"$f":"KM11","v":"Land Dis"},null,null,{"$f":"KP11","v":"Seds"},null,null,{"$f":"KS11","v":"Hydro"},null,null,{"$f":"KV11","v":"Other"},null,null,{"$f":"KY11","v":"Unknown"}]
[null,null,null,null,null,null,null,null,null,null,null,null,null,"* designates a Suspected Source",null,null,null,null,null,null,null,null,null,null,null,null,null,null,null,null,null,null,null,null,null,null,null,null,null,"* designates a Suspected Source",null,null,null,null,null,null,null,null,null,null,null,null,null,null,null,null,null,null,null,null,null,null,null,null,null,"* designates a Suspected Source",null,null,null,null,null,null,null,null,null,null,null,null,null,null,null,null,null,null,null,null,null,null,null,null,null,"* designates a Suspected Source",null,null,null,null,null,null,null,null,null,null,null,null,null,null,null,null,null,null,null,null,null,null,null,null,null,"* designates a Suspected Source",null,null,null,null,null,null,null,null,null,null,null,null,null,null,null,null,null,null,null,null,null,null,null,null,null,"* designates a Suspected Source",null,null,null,null,null,null,null,null,null,null,null,null,null,null,null,null,null,null,null,null,null,null,null,null,null,"* designates a Suspected Source",null,null,null,null,null,null,null,null,null,null,null,null,null,null,null,null,null,null,null,null,null,null,null,null,null,"* designates a Suspected Source",null,null,null,null,null,null,null,null,null,null,null,null,null,null,null,null,null,null,null,null,null,null,null,null,null,"* designates a Suspected Source",null,null,null,null,null,null,null,null,null,null,null,null,null,null,null,null,null,null,null,null,null,null,null,null,null,null,null,null,null,null,null,null,null,null,null,null,null,null,null,null,null,null,null,null,null,null,null,null,null,null,null,null,null,null,null,null,null,null,null,null,null,null,null,null,{"$f":"TRIM(KA41&\" \"&KA42&\" \"&KA43&\" \"&KA44&\" \"&KA45&\" \"&KA46)","v":""},null,null,{"$f":"TRIM(KD41&\" \"&KD42&\" \"&KD43&\" \"&KD44&\" \"&KD45&\" \"&KD46)","v":""},null,null,{"$f":"TRIM(KG41&\" \"&KG42&\" \"&KG43&\" \"&KG44&\" \"&KG45&\" \"&KG46)","v":""},null,null,{"$f":"TRIM(KJ41&\" \"&KJ42&\" \"&KJ43&\" \"&KJ44&\" \"&KJ45&\" \"&KJ46)","v":""},null,null,{"$f":"TRIM(KM41&\" \"&KM42&\" \"&KM43&\" \"&KM44&\" \"&KM45&\" \"&KM46)","v":""},null,null,{"$f":"TRIM(KP41&\" \"&KP42&\" \"&KP43&\" \"&KP44&\" \"&KP45&\" \"&KP46)","v":""},null,null,{"$f":"TRIM(KS41&\" \"&KS42&\" \"&KS43&\" \"&KS44&\" \"&KS45&\" \"&KS46)","v":""},null,null,{"$f":"TRIM(KV41&\" \"&KV42&\" \"&KV43&\" \"&KV44&\" \"&KV45&\" \"&KV46)","v":""},null,null,{"$f":"TRIM(KY41&\" \"&KY42&\" \"&KY43&\" \"&KY44&\" \"&KY45&\" \"&KY46)","v":""}]
[null,"Habitat","Substrate   S","NA","NA","NA",{"$f":"$EO$15&\"  \"&$EO$16&\"  \"&$EO$17&\"  \"&$EO$18&\"  \"&$EO$19&\"  \"&$EO$20","v":"          "},{"$f":"$EO$28&\"  \"&$EO$29&\"  \"&$EO$30&\"  \"&$EO$31&\"  \"&$EO$32&\"  \"&$EO$33","v":"          "},null,null,null,null,null,"** designates a Potential Source",null,null,null,null,null,null,null,null,null,null,null,null,null,null,null,null,null,null,null,null,null,null,null,null,null,"** designates a Potential Source",null,null,null,null,null,null,null,null,null,null,null,null,null,null,null,null,null,null,null,null,null,null,null,null,null,"** designates a Potential Source",null,null,null,null,null,null,null,null,null,null,null,null,null,null,null,null,null,null,null,null,null,null,null,null,null,"** designates a Potential Source",null,null,null,null,null,null,null,null,null,null,null,null,null,null,null,null,null,null,null,null,null,null,null,null,null,"** designates a Potential Source",null,null,null,null,null,null,null,null,null,null,null,null,null,null,null,null,null,null,null,null,null,null,null,null,null,"** designates a Potential Source",null,null,null,null,null,null,null,null,null,null,null,null,null,null,null,null,null,null,null,null,null,null,null,null,null,"** designates a Potential Source",null,null,null,null,null,null,null,null,null,null,null,null,null,null,null,null,null,null,null,null,null,null,null,null,null,"** designates a Potential Source",null,null,null,null,null,null,null,null,null,null,null,null,null,null,null,null,null,null,null,null,null,null,null,null,null,"** designates a Potential Source"]
[null,null,"Morphology   H","NA",null,null,null,null,null,null,null,null,null,"No asterisk designates a Known Source",null,null,null,null,null,null,null,null,null,null,null,null,null,null,null,null,null,null,null,null,null,null,null,null,null,"No asterisk designates a Known Source",null,null,null,null,null,null,null,null,null,null,null,null,null,null,null,null,null,null,null,null,null,null,null,null,null,"No asterisk designates a Known Source",null,null,null,null,null,null,null,null,null,null,null,null,null,null,null,null,null,null,null,null,null,null,null,null,null,"No asterisk designates a Known Source",null,null,null,null,null,null,null,null,null,null,null,null,null,null,null,null,null,null,null,null,null,null,null,null,null,"No asterisk designates a Known Source",null,null,null,null,null,null,null,null,null,null,null,null,null,null,null,null,null,null,null,null,null,null,null,null,null,"No asterisk designates a Known Source",null,null,null,null,null,null,null,null,null,null,null,null,null,null,null,null,null,null,null,null,null,null,null,null,null,"No asterisk designates a Known Source",null,null,null,null,null,null,null,null,null,null,null,null,null,null,null,null,null,null,null,null,null,null,null,null,null,"No asterisk designates a Known Source",null,null,null,null,null,null,null,null,null,null,null,null,null,null,null,null,null,null,null,null,null,null,null,null,null,"No asterisk designates a Known Source",null,null,null,null,null,null,null,null,null,null,null,null,null,null,null,null,null,null,null,null,null,null,null,null,null,null,null,null,null,null,null,null,null,null,null,null,null,null,null,null,null,null,null,null,null,null,null,null,null,null,null,null,null,null,null,null,null,null,null,null,null,null,null,"max confid #",{"$f":"MAX(KB11:KB31)","v":0},null,null,{"$f":"MAX(KE11:KE31)","v":0},null,null,{"$f":"MAX(KH11:KH31)","v":0},null,null,{"$f":"MAX(KK11:KK31)","v":0},null,null,{"$f":"MAX(KN11:KN31)","v":0},null,null,{"$f":"MAX(KQ11:KQ31)","v":0},null,null,{"$f":"MAX(KT11:KT31)","v":0},null,null,{"$f":"MAX(KW11:KW31)","v":0},null,null,{"$f":"MAX(KZ11:KZ31)","v":0}]
[null,null,"Riparian Zone   R","NA",null,null,null,null,null,null,null,null,null,"Square brackets designates an Out of Segment Source (i.e., pollutant is a source for downstream segments)",null,null,null,null,null,null,null,null,null,null,null,null,null,null,null,null,null,null,null,null,null,null,null,null,null,"Square brackets designates an Out of Segment Source (i.e., pollutant is a source for downstream segments)",null,null,null,null,null,null,null,null,null,null,null,null,null,null,null,null,null,null,null,null,null,null,null,null,null,"Square brackets designates an Out of Segment Source (i.e., pollutant is a source for downstream segments)",null,null,null,null,null,null,null,null,null,null,null,null,null,null,null,null,null,null,null,null,null,null,null,null,null,"Square brackets designates an Out of Segment Source (i.e., pollutant is a source for downstream segments)",null,null,null,null,null,null,null,null,null,null,null,null,null,null,null,null,null,null,null,null,null,null,null,null,null,"Square brackets designates an Out of Segment Source (i.e., pollutant is a source for downstream segments)",null,null,null,null,null,null,null,null,null,null,null,null,null,null,null,null,null,null,null,null,null,null,null,null,null,"Square brackets designates an Out of Segment Source (i.e., pollutant is a source for downstream segments)",null,null,null,null,null,null,null,null,null,null,null,null,null,null,null,null,null,null,null,null,null,null,null,null,null,"Square brackets designates an Out of Segment Source (i.e., pollutant is a source for downstream segments)",null,null,null,null,null,null,null,null,null,null,null,null,null,null,null,null,null,null,null,null,null,null,null,null,null,"Square brackets designates an Out of Segment Source (i.e., pollutant is a source for downstream segments)",null,null,null,null,null,null,null,null,null,null,null,null,null,null,null,null,null,null,null,null,null,null,null,null,null,"Square brackets designates an Out of Segment Source (i.e., pollutant is a source for downstream segments)",null,null,null,null,null,null,null,null,null,null,null,null,null,null,null,null,null,null,null,null,null,null,null,null,null,null,null,null,null,null,null,null,null,null,null,null,null,null,null,null,null,null,null,null,null,null,null,null,null,null,null,null,null,null,null,null,null,null,null,null,null,null,null,"The lists below show unique codes in lists assembled above. Numbers are max confidence #, used to color cells for worst case. The codes are catenated in the colored boxes above for transfer to Sources RC when that sheet is activated."]
[]
[null,"Bacteria","Bacteria   B","NA","NA","NA",{"$f":"$FO$15&\"  \"&$FO$16&\"  \"&$FO$17&\"  \"&$FO$18&\"  \"&$FO$19&\"  \"&$FO$20","v":"          "},{"$f":"$FO$28&\"  \"&$FO$29&\"  \"&$FO$30&\"  \"&$FO$31&\"  \"&$FO$32&\"  \"&$FO$33","v":"          "},null,null,null,null,null,null,null,null,null,null,null,null,null,null,null,null,null,null,null,null,null,null,null,null,null,null,null,null,null,null,null,null,null,null,null,null,null,null,null,null,null,null,null,null,null,null,null,null,null,null,null,null,null,null,null,null,null,null,null,null,null,null,null,null,null,null,null,null,null,null,null,null,null,null,null,null,null,null,null,null,null,null,null,null,null,null,null,null,null,null,null,null,null,null,null,null,null,null,null,null,null,null,null,null,null,null,null,null,null,null,null,null,null,null,null,null,null,null,null,null,null,null,null,null,null,null,null,null,null,null,null,null,null,null,null,null,null,null,null,null,null,null,null,null,null,null,null,null,null,null,null,null,null,null,null,null,null,null,null,null,null,null,null,null,null,null,null,null,null,null,null,null,null,null,null,null,null,null,null,null,null,null,null,null,null,null,null,null,null,null,null,null,null,null,null,null,null,null,null,null,null,null,null,null,null,null,null,null,null,null,null,null,null,null,null,null,null,null,null,null,null,null,null,null,null,null,null,null,null,null,null,null,null,null,null,null,null,null,null,null,null,null,null,null,null,null,null,null,null,null,null,null,null,null,null,null,null,null,null,null,null,null,null,null,null,null,null,null,null,null,null,null,null,null,null,null,null,null,"Municp",null,null,"Industr",null,null,"St Water",null,null,"Res Ext",null,null,"Land Dis",null,null,"Seds",null,null,"Hydro",null,null,"Other",null,null,"Unknown"]
[]
[null,"Aesthetics","Oil & Grease   G","NA","NA","NA",{"$f":"$GO$15&\"  \"&$GO$16&\"  \"&$GO$17&\"  \"&$GO$18&\"  \"&$GO$19&\"  \"&$GO$20","v":"          "},{"$f":"$GO$28&\"  \"&$GO$29&\"  \"&$GO$30&\"  \"&$GO$31&\"  \"&$GO$32&\"  \"&$GO$33","v":"          "},null,null,null,null,null,null,null,null,null,null,null,null,null,null,null,null,null,null,null,null,null,null,null,null,null,null,null,null,null,null,null,null,null,null,null,null,null,null,null,null,null,null,null,null,null,null,null,null,null,null,null,null,null,null,null,null,null,null,null,null,null,null,null,null,null,null,null,null,null,null,null,null,null,null,null,null,null,null,null,null,null,null,null,"Identify the suspected toxic chemical substance below (e.g., Hg, PCB, etc). ",null,null,null,null,null,null,null,null,null,null,null,null,null,null,null,null,null,null,null,null,null,null,null,null,null,null,null,null,null,null,null,null,null,null,null,null,null,null,null,null,null,null,null,null,null,null,null,null,null,null,null,null,null,null,null,null,null,null,null,null,null,null,null,null,null,null,null,null,null,null,null,null,null,null,null,null,null,null,null,null,null,null,null,null,null,null,null,null,null,null,null,null,null,null,null,null,null,null,null,null,null,null,null,null,null,null,null,null,null,null,null,null,null,null,null,null,null,null,null,null,null,null,null,null,null,null,null,null,null,null,null,null,null,null,null,null,null,null,null,null,null,null,null,null,null,null,null,null,null,null,null,null,null,null,null,"Identify the suspected toxic chemical substance below (e.g., Hg, PCB, etc). "]
[null,null,"Taste & Odor   O","NA",null,null,null,null,null,null,null,null,null,null,"Pollution  Indicators (Causes):  ",null,{"$f":"P46&\" \"&P47&\" \"&P48&\" \"&P49&\" \"&P50&\" \"&P51","v":"     "},null,null,null,null,null,null,null,null,null,null,null,null,null,null,null,null,null,null,null,null,null,null,null,"Pollution  Indicators (Causes):  ",null,{"$f":"AP46&\" \"&AP47&\" \"&AP48&\" \"&AP49&\" \"&AP50&\" \"&AP51","v":"     "},null,null,null,null,null,null,null,null,null,null,null,null,null,null,null,null,null,null,null,null,null,null,null,"Pollution  Indicators (Causes):  ",null,{"$f":"BP46&\" \"&BP47&\" \"&BP48","v":"  "},null,null,null,null,null,null,null,null,null,null,null,null,null,null,null,null,null,null,null,null,null,null,null,null,null,null,null,null,null,null,null,null,null,null,null,null,null,null,null,null,null,null,null,null,null,null,null,null,null,"Pollution  Indicators (Causes):  ",null,{"$f":"DP46&\" \"&DP47","v":" "},null,null,null,null,null,null,null,null,null,null,null,null,null,null,null,null,null,null,null,null,null,null,null,"Pollution  Indicators (Causes):  ",null,{"$f":"EP46&\" \"&EP47&\" \"&EP48&\" \"&EP49","v":"   "},null,null,null,null,null,null,null,null,null,null,null,null,null,null,null,null,null,null,null,null,null,null,null,"Pollution  Indicators (Causes):  ",null,{"$f":"FP46&\" \"&FP47","v":" "},null,null,null,null,null,null,null,null,null,null,null,null,null,null,null,null,null,null,null,null,null,null,null,"Pollution  Indicators (Causes):  ",null,{"$f":"GP46&\" \"&GP47&\" \"&GP48&\" \"&GP49&\" \"&GP50&\" \"&GP51","v":"     "},null,null,null,null,null,null,null,null,null,null,null,null,null,null,null,null,null,null,null,null,null,null,"Identify the suspected toxic chemical substance below (e.g., Hg, PCB, etc). "]
[null,null,"Turb/Color   C","NA",null,null,null,null,null,null,null,null,null,null,null,null,null,null,null,null,null,null,null,null,null,null,null,null,null,null,null,null,null,null,null,null,null,null,null,null,null,null,null,null,null,null,null,null,null,null,null,null,null,null,null,null,null,null,null,null,null,null,null,null,null,null,null,null,null,null,null,null,null,null,null,null,null,null,null,null,null,null,null,null,null,null,null,null,null,null,null,"Ag",null,null,null,null,null,null,null,null,null,null,null,null,null,null,null,null,null,null,null,null,null,null,null,null,null,null,null,null,null,null,null,null,null,null,null,null,null,null,null,null,null,null,null,null,null,null,null,null,null,null,null,null,null,null,null,null,null,null,null,null,null,null,null,null,null,null,null,null,null,null,null,null,null,null,null,null,null,null,null,null,null,null,null,null,null,null,null,null,null,null,null,null,null,null,null,null,null,null,null,null,null,null,null,null,null,null,null,null,null,null,null,null,null,null,null,null,null,null,null,null,null,null,null,null,null,null,null,null,null,null,null,null,null,null,null,null,null,null,null,null,null,null,null,null,null,null,null,null,null,null,null,null,null,null,null,"DDT"]
[null,null,"Nuisance Plants   V","NA",null,null,null,null,null,null,null,null,null,null,{"$f":"$B$16","v":"Biology"},null,null,null,null,null,null,null,null,null,null,null,null,null,null,null,null,null,null,null,null,null,null,null,null,null,{"$f":"$B$22","v":"Chemistry"},null,null,null,null,null,null,null,null,null,null,null,null,null,null,null,null,null,null,null,null,null,null,null,null,null,{"$f":"$B$28","v":"Nutrients"},null,null,null,null,null,null,null,null,null,null,null,null,null,null,null,null,null,null,null,null,null,null,null,null,null,null,null,null,null,null,null,null,null,null,null,null,null,null,null,null,null,null,null,null,null,null,null,null,null,null,null,{"$f":"$B$34","v":"Flow"},null,null,null,null,null,null,null,null,null,null,null,null,null,null,null,null,null,null,null,null,null,null,null,null,null,{"$f":"$B$36","v":"Habitat"},null,null,null,null,null,null,null,null,null,null,null,null,null,null,null,null,null,null,null,null,null,null,null,null,null,{"$f":"$B$40","v":"Bacteria"},null,null,null,null,null,null,null,null,null,null,null,null,null,null,null,null,null,null,null,null,null,null,null,null,null,{"$f":"$B$42","v":"Aesthetics"},null,null,null,null,null,null,null,null,null,null,null,null,null,null,null,null,null,null,null,null,null,null,null,null,"PCB"]
[null,null,"Trash /Debris   D","NA",null,null,null,null,null,null,null,null,null,null,{"$f":"$C$16","v":"Plank/Peri.   A"},{"$f":"IF($D$16=\"Concern\",\"(A)\",IF(OR($D$16=\"Fair\",$D$16=\"Poor\"),\"A\",\"\"))","v":""},null,null,null,null,null,null,null,null,null,null,null,null,null,null,null,null,null,null,null,null,null,null,null,null,{"$f":"$C$22","v":"Dis. Oxygen    DO"},{"$f":"IF($D$22=\"Concern\",\"(DO)\",IF(OR($D$22=\"Fair\",$D$22=\"Poor\"),\"DO\",\"\"))","v":""},null,null,null,null,null,null,null,null,null,null,null,null,null,null,null,null,null,null,null,null,null,null,null,null,{"$f":"$C$28","v":"Phosphorus  P"},{"$f":"IF($D$28=\"Concern\",\"(P)\",IF(OR($D$28=\"Fair\",$D$28=\"Poor\"),\"P\",\"\"))","v":""},null,null,null,null,null,null,null,null,null,null,null,null,null,null,null,null,null,null,null,null,null,null,null,null,null,null,null,null,null,null,null,null,null,null,null,null,null,null,null,null,null,null,null,null,null,null,null,null,null,null,{"$f":"$C$34","v":"Flow  Q"},{"$f":"IF($D$34=\"Concern\",\"(O)\",IF(OR($D$34=\"Fair\",$D$34=\"Poor\"),\"O\",\"\"))","v":""},null,null,null,null,null,null,null,null,null,null,null,null,null,null,null,null,null,null,null,null,null,null,null,null,{"$f":"$C$36","v":"Substrate   S"},{"$f":"IF($D$36=\"Concern\",\"(S)\",IF(OR($D$36=\"Fair\",$D$36=\"Poor\"),\"S\",\"\"))","v":""},null,null,null,null,null,null,null,null,null,null,null,null,null,null,null,null,null,null,null,null,null,null,null,null,{"$f":"$C$40","v":"Bacteria   B"},{"$f":"IF($D$40=\"Concern\",\"(B)\",IF(OR($D$40=\"Fair\",$D$40=\"Poor\"),\"B\",\"\"))","v":""},null,null,null,null,null,null,null,null,null,null,null,null,null,null,null,null,null,null,null,null,null,null,null,null,{"$f":"$C$42","v":"Oil & Grease   G"},{"$f":"IF($D$42=\"Concern\",\"(G)\",IF(OR($D$42=\"Fair\",$D$42=\"Poor\"),\"G\",\"\"))","v":""}]
[null,null,null,null,null,null,null,null,null,null,null,null,null,null,{"$f":"$C$17","v":"Macrophyton   M"},{"$f":"IF($D$17=\"Concern\",\"(M)\",IF(OR($D$17=\"Fair\",$D$17=\"Poor\"),\"M\",\"\"))","v":""},null,null,null,null,null,null,null,null,null,null,null,null,null,null,null,null,null,null,null,null,null,null,null,null,{"$f":"$C$23","v":"pH     pH"},{"$f":"IF($D$23=\"Concern\",\"(pH)\",IF(OR($D$23=\"Fair\",$D$23=\"Poor\"),\"pH\",\"\"))","v":""},null,null,null,null,null,null,null,null,null,null,null,null,null,null,null,null,null,null,null,null,null,null,null,null,{"$f":"$C$29","v":"Nitrogen   N"},{"$f":"IF($D$29=\"Concern\",\"(N)\",IF(OR($D$29=\"Fair\",$D$29=\"Poor\"),\"N\",\"\"))","v":""},null,null,null,null,null,null,null,null,null,null,null,null,null,null,null,null,null,null,null,null,null,null,null,null,null,null,null,null,null,null,null,null,null,null,null,null,null,null,null,null,null,null,null,null,null,null,null,null,null,null,{"$f":"IF($C$41=\"\",\"\",$C$41)","v":""},{"$f":"IF($D$35=\"Concern\",\"(**)\",IF(OR($D$35=\"Fair\",$D$35=\"Poor\"),\"**\",\"\"))","v":""},null,null,null,null,null,null,null,null,null,null,null,null,null,null,null,null,null,null,null,null,null,null,null,null,{"$f":"$C$37","v":"Morphology   H"},{"$f":"IF($D$37=\"Concern\",\"(H)\",IF(OR($D$37=\"Fair\",$D$37=\"Poor\"),\"H\",\"\"))","v":""},null,null,null,null,null,null,null,null,null,null,null,null,null,null,null,null,null,null,null,null,null,null,null,null,{"$f":"IF($C$41=\"\",\"\",$C$41)","v":""},{"$f":"IF($D$41=\"Concern\",\"(**)\",IF(OR($D$41=\"Fair\",$D$41=\"Poor\"),\"**\",\"\"))","v":""},null,null,null,null,null,null,null,null,null,null,null,null,null,null,null,null,null,null,null,null,null,null,null,null,{"$f":"$C$43","v":"Taste & Odor   O"},{"$f":"IF($D$43=\"Concern\",\"(O)\",IF(OR($D$43=\"Fair\",$D$43=\"Poor\"),\"O\",\"\"))","v":""}]
[null,"Tissue",{"$f":"\"Spec. Chem.   \"&HN45","v":"Spec. Chem.   PCB"},"NA","NA","NA",{"$f":"$HO$15&\"  \"&$HO$16&\"  \"&$HO$17&\"  \"&$HO$18&\"  \"&$HO$19&\"  \"&$HO$20","v":"          "},{"$f":"$HO$28&\"  \"&$HO$29&\"  \"&$HO$30&\"  \"&$HO$31&\"  \"&$HO$32&\"  \"&$HO$33","v":"          "},null,null,null,null,null,null,{"$f":"$C$18","v":"Invertebrates   I"},{"$f":"IF($D$18=\"Concern\",\"(I)\",IF(OR($D$18=\"Fair\",$D$18=\"Poor\"),\"I\",\"\"))","v":""},null,null,null,null,null,null,null,null,null,null,null,null,null,null,null,null,null,null,null,null,null,null,null,null,{"$f":"$C$24","v":"Temperature    T"},{"$f":"IF($D$24=\"Concern\",\"(T)\",IF(OR($D$24=\"Fair\",$D$24=\"Poor\"),\"T\",\"\"))","v":""},null,null,null,null,null,null,null,null,null,null,null,null,null,null,null,null,null,null,null,null,null,null,null,null,{"$f":"IF($C$30=\"\",\"\",$C$30)","v":""},{"$f":"IF($D$30=\"Concern\",\"(**)\",IF(OR($D$30=\"Fair\",$D$30=\"Poor\"),\"**\",\"\"))","v":""},null,null,null,null,null,null,null,null,null,null,null,null,null,null,null,null,null,null,null,null,null,null,null,null,null,null,null,null,null,null,null,null,null,null,null,null,null,null,null,null,null,null,null,null,null,null,null,null,null,null,null,null,null,null,null,null,null,null,null,null,null,null,null,null,null,null,null,null,null,null,null,null,null,null,null,null,{"$f":"$C$38","v":"Riparian Zone   R"},{"$f":"IF($D$38=\"Concern\",\"(R)\",IF(OR($D$38=\"Fair\",$D$38=\"Poor\"),\"R\",\"\"))","v":""},null,null,null,null,null,null,null,null,null,null,null,null,null,null,null,null,null,null,null,null,null,null,null,null,null,null,null,null,null,null,null,null,null,null,null,null,null,null,null,null,null,null,null,null,null,null,null,null,null,null,{"$f":"$C$44","v":"Turb/Color   C"},{"$f":"IF($D$44=\"Concern\",\"(C)\",IF(OR($D$44=\"Fair\",$D$44=\"Poor\"),\"C\",\"\"))","v":""}]
[null,null,null,null,null,null,null,null,null,null,null,null,null,null,{"$f":"$C$19","v":"Fish   F"},{"$f":"IF($D$19=\"Concern\",\"(F)\",IF(OR($D$19=\"Fair\",$D$19=\"Poor\"),\"F\",\"\"))","v":""},null,null,null,null,null,null,null,null,null,null,null,null,null,null,null,null,null,null,null,null,null,null,null,null,{"$f":"$C$25","v":"Ionic Strength    Z"},{"$f":"IF($D$25=\"Concern\",\"(Z)\",IF(OR($D$25=\"Fair\",$D$25=\"Poor\"),\"Z\",\"\"))","v":""},null,null,null,null,null,null,null,null,null,null,null,null,null,null,null,null,null,null,null,null,null,null,null,null,null,null,null,null,null,null,null,null,null,null,null,null,null,null,null,null,null,null,null,null,null,null,null,null,null,null,"Pollution  Indicators (Causes):  ",null,{"$f":"CP52&\" \"&CP53&\" \"&CP54","v":"  "},null,null,null,null,null,null,null,null,null,null,null,null,null,null,null,null,null,null,null,null,null,null,null,null,null,null,null,null,null,null,null,null,null,null,null,null,null,null,null,null,null,null,null,null,null,null,null,null,null,{"$f":"IF($C$39=\"\",\"\",$C$39)","v":""},{"$f":"IF($D$39=\"Concern\",\"(**)\",IF(OR($D$39=\"Fair\",$D$39=\"Poor\"),\"**\",\"\"))","v":""},null,null,null,null,null,null,null,null,null,null,null,null,null,null,null,null,null,null,null,null,null,null,null,null,null,null,null,null,null,null,null,null,null,null,null,null,null,null,null,null,null,null,null,null,null,null,null,null,null,null,{"$f":"$C$45","v":"Nuisance Plants   V"},{"$f":"IF($D$45=\"Concern\",\"(V)\",IF(OR($D$45=\"Fair\",$D$45=\"Poor\"),\"V\",\"\"))","v":""},null,null,null,null,null,null,null,null,null,null,null,null,null,null,null,null,null,null,null,null,null,null,null,null,null,null,null,null,null,null,null,null,null,null,null,null,null,null,null,null,null,null,null,null,null,null,null,null,null,null,"Pollution  Indicators (Causes):  ",null,{"$f":"IP52&\" \"&IP53&\" \"&IP54","v":"  "}]
[null,"Sediment","Unknown   U","NA","NA","NA",{"$f":"$IO$15&\"  \"&$IO$16&\"  \"&$IO$17&\"  \"&$IO$18&\"  \"&$IO$19&\"  \"&$IO$20","v":"          "},{"$f":"$IO$28&\"  \"&$IO$29&\"  \"&$IO$30&\"  \"&$IO$31&\"  \"&$IO$32&\"  \"&$IO$33","v":"          "},null,null,null,null,null,null,{"$f":"$C$20","v":"Wildlife   W"},{"$f":"IF($D$20=\"Concern\",\"(W)\",IF(OR($D$20=\"Fair\",$D$20=\"Poor\"),\"W\",\"\"))","v":""},null,null,null,null,null,null,null,null,null,null,null,null,null,null,null,null,null,null,null,null,null,null,null,null,{"$f":"$C$26","v":"Sus. Solids    SS"},{"$f":"IF($D$26=\"Concern\",\"(SS)\",IF(OR($D$26=\"Fair\",$D$26=\"Poor\"),\"SS\",\"\"))","v":""},null,null,null,null,null,null,null,null,null,null,null,null,null,null,null,null,null,null,null,null,null,null,null,null,null,null,null,null,null,null,null,null,null,null,null,null,null,null,null,null,null,null,null,null,null,null,null,null,null,null,null,null,null,null,null,null,null,null,null,null,null,null,null,null,null,null,null,null,null,null,null,null,null,null,null,null,null,null,null,null,null,null,null,null,null,null,null,null,null,null,null,null,null,null,null,null,null,null,null,null,null,null,null,null,null,null,null,null,null,null,null,null,null,null,null,null,null,null,null,null,null,null,null,null,null,null,null,null,null,null,null,null,null,null,null,null,null,null,null,null,null,null,null,null,null,null,null,null,null,null,null,null,null,null,{"$f":"$C$46","v":"Trash /Debris   D"},{"$f":"IF($D$46=\"Concern\",\"(D)\",IF(OR($D$46=\"Fair\",$D$46=\"Poor\"),\"D\",\"\"))","v":""},null,null,null,null,null,null,null,null,null,null,null,null,null,null,null,null,null,null,null,null,null,null,null,null,"Pollution  Indicators (Causes):  ",null,{"$f":"HP53&\" \"&HP54","v":" "}]
[null,null,{"$f":"\"Spec. Chem.   \"&IN44","v":"Spec. Chem.   DDT"},"NA",null,null,null,null,null,null,null,null,null,null,{"$f":"IF($C$21=\"\",\"\",$C$21)","v":""},{"$f":"IF($D$21=\"Concern\",\"(**)\",IF(OR($D$21=\"Fair\",$D$21=\"Poor\"),\"**\",\"\"))","v":""},null,null,null,null,null,null,null,null,null,null,null,null,null,null,null,null,null,null,null,null,null,null,null,null,{"$f":"IF($C$27=\"\",\"\",$C$27)","v":""},{"$f":"IF($D$27=\"Concern\",\"(**)\",IF(OR($D$27=\"Fair\",$D$27=\"Poor\"),\"**\",\"\"))","v":""},null,null,null,null,null,null,null,null,null,null,null,null,null,null,null,null,null,null,null,null,null,null,null,null,null,null,null,null,null,null,null,null,null,null,null,null,null,null,null,null,null,null,null,null,null,null,null,null,null,null,{"$f":"$B$31","v":"Toxicity"},null,null,null,null,null,null,null,null,null,null,null,null,null,null,null,null,null,null,null,null,null,null,null,null,null,null,null,null,null,null,null,null,null,null,null,null,null,null,null,null,null,null,null,null,null,null,null,null,null,null,null,null,null,null,null,null,null,null,null,null,null,null,null,null,null,null,null,null,null,null,null,null,null,null,null,null,null,null,null,null,null,null,null,null,null,null,null,null,null,null,null,null,null,null,null,null,null,null,null,null,null,null,null,{"$f":"IF($C$47=\"\",\"\",$C$47)","v":""},{"$f":"IF($D$47=\"Concern\",\"(**)\",IF(OR($D$47=\"Fair\",$D$47=\"Poor\"),\"**\",\"\"))","v":""},null,null,null,null,null,null,null,null,null,null,null,null,null,null,null,null,null,null,null,null,null,null,null,null,null,null,null,null,null,null,null,null,null,null,null,null,null,null,null,null,null,null,null,null,null,null,null,null,null,null,{"$f":"$B$50","v":"Sediment"}]
[null,null,null,null,null,null,null,null,null,null,null,null,null,null,null,null,null,null,null,null,null,null,null,null,null,null,null,null,null,null,null,null,null,null,null,null,null,null,null,null,null,null,null,null,null,null,null,null,null,null,null,null,null,null,null,null,null,null,null,null,null,null,null,null,null,null,null,null,null,null,null,null,null,null,null,null,null,null,null,null,null,null,null,null,null,null,null,null,null,null,null,null,{"$f":"$C$31","v":"Unknown   U"},{"$f":"IF($D$31=\"Concern\",\"(U)\",IF(OR($D$31=\"Fair\",$D$31=\"Poor\"),\"U\",\"\"))","v":""},null,null,null,null,null,null,null,null,null,null,null,null,null,null,null,null,null,null,null,null,null,null,null,null,null,null,null,null,null,null,null,null,null,null,null,null,null,null,null,null,null,null,null,null,null,null,null,null,null,null,null,null,null,null,null,null,null,null,null,null,null,null,null,null,null,null,null,null,null,null,null,null,null,null,null,null,null,null,null,null,null,null,null,null,null,null,null,null,null,null,null,null,null,null,null,null,null,null,null,null,null,null,null,null,null,null,null,null,null,null,null,null,null,null,null,null,null,null,null,null,null,null,null,null,null,null,null,null,{"$f":"$B$48","v":"Tissue"},null,null,null,null,null,null,null,null,null,null,null,null,null,null,null,null,null,null,null,null,null,null,null,null,null,{"$f":"$C$50","v":"Unknown   U"},{"$f":"IF($D$50=\"Concern\",\"(U)\",IF(OR($D$50=\"Fair\",$D$50=\"Poor\"),\"U\",\"\"))","v":""}]
[null,"Comments:",null,null,null,null,null,"*  Suspected Source  ",null,null,null,null,null,null,null,null,null,null,null,null,null,null,null,null,null,null,null,null,null,null,null,null,null,null,null,null,null,null,null,null,null,null,null,null,null,null,null,null,null,null,null,null,null,null,null,null,null,null,null,null,null,null,null,null,null,null,null,null,null,null,null,null,null,null,null,null,null,null,null,null,null,null,null,null,null,null,null,null,null,null,null,null,{"$f":"$C$32","v":"Spec. Chem.  Ag"},{"$f":"IF($D$32=\"Concern\",\"(\"&CN44&\")\",IF(OR($D$32=\"Fair\",$D$32=\"Poor\"),CN44,\"\"))","v":""},null,null,null,null,null,null,null,null,null,null,null,null,null,null,null,null,null,null,null,null,null,null,null,null,null,null,null,null,null,null,null,null,null,null,null,null,null,null,null,null,null,null,null,null,null,null,null,null,null,null,null,null,null,null,null,null,null,null,null,null,null,null,null,null,null,null,null,null,null,null,null,null,null,null,null,null,null,null,null,null,null,null,null,null,null,null,null,null,null,null,null,null,null,null,null,null,null,null,null,null,null,null,null,null,null,null,null,null,null,null,null,null,null,null,null,null,null,null,null,null,null,null,null,null,null,null,null,null,{"$f":"$C$48","v":"Spec. Chem.   PCB"},{"$f":"IF($D$48=\"Concern\",\"(\"&HN45&\")\",IF(OR($D$48=\"Fair\",$D$32=\"Poor\"),HN45,\"\"))","v":""},null,null,null,null,null,null,null,null,null,null,null,null,null,null,null,null,null,null,null,null,null,null,null,null,{"$f":"$C$51","v":"Spec. Chem.   DDT"},{"$f":"IF($D$51=\"Concern\",\"(\"&IN44&\")\",IF(OR($D$51=\"Fair\",$D$51=\"Poor\"),IN44,\"\"))","v":""}]
[null,null,null,null,null,null,null,"** Potential Source  ",null,null,null,null,null,null,null,null,null,null,null,null,null,null,null,null,null,null,null,null,null,null,null,null,null,null,null,null,null,null,null,null,null,null,null,null,null,null,null,null,null,null,null,null,null,null,null,null,null,null,null,null,null,null,null,null,null,null,null,null,null,null,null,null,null,null,null,null,null,null,null,null,null,null,null,null,null,null,null,null,null,null,null,null,{"$f":"IF($C$33=\"\",\"\",$C$33)","v":""},{"$f":"IF($D$33=\"Concern\",\"(**)\",IF(OR($D$33=\"Fair\",$D$33=\"Poor\"),\"**\",\"\"))","v":""},null,null,null,null,null,null,null,null,null,null,null,null,null,null,null,null,null,null,null,null,null,null,null,null,null,null,null,null,null,null,null,null,null,null,null,null,null,null,null,null,null,null,null,null,null,null,null,null,null,null,null,null,null,null,null,null,null,null,null,null,null,null,null,null,null,null,null,null,null,null,null,null,null,null,null,null,null,null,null,null,null,null,null,null,null,null,null,null,null,null,null,null,null,null,null,null,null,null,null,null,null,null,null,null,null,null,null,null,null,null,null,null,null,null,null,null,null,null,null,null,null,null,null,null,null,null,null,null,{"$f":"IF($C$49=\"\",\"\",$C$49)","v":""},{"$f":"IF($D$49=\"Concern\",\"(**)\",IF(OR($D$49=\"Fair\",$D$49=\"Poor\"),\"**\",\"\"))","v":""},null,null,null,null,null,null,null,null,null,null,null,null,null,null,null,null,null,null,null,null,null,null,null,null,{"$f":"IF($C$52=\"\",\"\",$C$52)","v":""},{"$f":"IF($D$52=\"Concern\",\"(**)\",IF(OR($D$52=\"Fair\",$D$52=\"Poor\"),\"**\",\"\"))","v":""}]
[null,null,null,null,null,null,null,"No asterisk: Known Source  "]
[null,null,null,null,null,null,null,"[Out of Segment Source ]  "]
[]
[]
[]
[null,"SegNameLong:  ","oooooo"]
[null,"Seg Name:  ","ooo"]
[null,"Seg Num:  "]
[null,"Seg Size:  "]
[null,"Seg Class:  "]
[]
[]
[]
[]
[]
[]
[]
[]
[]
[]
[]
[]
[null,null,null,{"$f":"A99","v":""}]
[null,null,null,{"$f":"B99","v":""}]
[null,null,null,{"$f":"C99","v":""}]
[null,null,null,{"$f":"D99","v":""}]
[null,null,null,{"$f":"E99","v":""}]
[null,null,null,{"$f":"F99","v":""}]
[null,null,null,{"$f":"G99","v":""}]
[null,null,null,{"$f":"H99","v":""}]
[null,null,null,{"$f":"I99","v":""}]
[]
[]
[]
[]
[]
[]
[]
[]
[]
[]
[]
[]
[]
[{"$f":"TRIM(A101&\" \"&A102&\" \"&A103&\" \"&A104&\" \"&A105&\" \"&A106)","v":""},{"$f":"TRIM(B101&\" \"&B102&\" \"&B103&\" \"&B104&\" \"&B105&\" \"&B106)","v":""},"","","","","","",""]

{"sheet":"Seg16","index":20,"n_rows":99,"n_cols":311,"rows_kept":99,"cut":false,"hidden":false,"merged":[[15,1,20,1],[15,4,20,4],[15,5,20,5],[15,6,20,6],[15,7,20,7],[13,1,14,1],[13,2,14,3],[13,4,14,4],[13,5,14,5],[14,6,14,7],[27,1,29,1],[27,4,29,4],[27,5,29,5],[27,6,29,6],[27,7,29,7],[21,1,26,1],[21,4,26,4],[21,5,26,5],[21,6,26,6],[21,7,26,7],[49,6,51,6],[49,7,51,7],[30,1,32,1],[30,4,32,4],[30,5,32,5],[30,6,32,6],[30,7,32,7],[33,1,34,1],[33,4,34,4],[33,5,34,5],[33,6,34,6],[33,7,34,7],[43,91,45,94],[35,1,38,1],[35,4,38,4],[35,5,38,5],[35,6,38,6],[35,7,38,7],[39,1,40,1],[39,4,40,4],[39,5,40,5],[39,6,40,6],[39,7,40,7],[52,1,55,1],[43,247,45,250],[44,221,46,224],[47,1,48,1],[47,4,48,4],[47,5,48,5],[47,6,48,6],[47,7,48,7],[41,1,46,1],[41,4,46,4],[41,5,46,5],[41,6,46,6],[41,7,46,7],[49,1,51,1],[49,4,51,4],[49,5,51,5]]}
[]
[]
[]
[]
[null,null,null,null,null,null,null,null,null,null,null,null,null,null,null,null,null,null,null,null,null,null,null,null,null,null,null,null,null,null,null,null,null,null,null,null,null,null,null,null,null,null,null,null,null,null,null,null,null,null,null,null,null,null,null,null,null,null,null,null,null,null,null,null,null,null,null,null,null,null,null,null,null,null,null,null,null,null,null,null,null,null,null,null,null,null,null,null,null,null,null,null,null,null,null,null,null,null,null,null,null,null,null,null,null,null,null,null,null,null,null,null,null,null,null,null,null,null,null,null,null,null,null,null,null,null,null,null,null,null,null,null,null,null,null,null,null,null,null,null,null,null,null,null,null,null,null,null,null,null,null,null,null,null,null,null,null,null,null,null,null,null,null,null,null,null,null,null,null,null,null,null,null,null,null,null,null,null,null,null,null,null,null,null,null,null,null,null,null,null,null,null,null,null,null,null,null,null,null,null,null,null,null,null,null,null,null,null,null,null,null,null,null,null,null,null,null,null,null,null,null,null,null,null,null,null,null,null,null,null,null,null,null,null,null,null,null,null,null,null,null,null,null,null,null,null,null,null,null,null,null,null,null,null,null,null,null,null,null,null,null,null,null,null,null,null,null,null,null,null,null,null,null,null,null,null,null,null,null,null,null,null,null,null,null,"List of all codes from all groups for this segment, organized by Source Type. "]
[null,null,null,null,null,null,null,null,null,null,null,null,null,null,null,null,null,null,null,null,null,null,null,null,null,null,null,null,null,null,null,null,null,null,null,null,null,null,null,null,null,null,null,null,null,null,null,null,null,null,null,null,null,null,null,null,null,null,null,null,null,null,null,null,null,null,null,null,null,null,null,null,null,null,null,null,null,null,null,null,null,null,null,null,null,null,null,null,null,null,null,null,null,null,null,null,null,null,null,null,null,null,null,null,null,null,null,null,null,null,null,null,null,null,null,null,null,null,null,null,null,null,null,null,null,null,null,null,null,null,null,null,null,null,null,null,null,null,null,null,null,null,null,null,null,null,null,null,null,null,null,null,null,null,null,null,null,null,null,null,null,null,null,null,null,null,null,null,null,null,null,null,null,null,null,null,null,null,null,null,null,null,null,null,null,null,null,null,null,null,null,null,null,null,null,null,null,null,null,null,null,null,null,null,null,null,null,null,null,null,null,null,null,null,null,null,null,null,null,null,null,null,null,null,null,null,null,null,null,null,null,null,null,null,null,null,null,null,null,null,null,null,null,null,null,null,null,null,null,null,null,null,null,null,null,null,null,null,null,null,null,null,null,null,null,null,null,null,null,null,null,null,null,null,null,null,null,null,null,null,null,null,null,null,null,"List is updated only when \"SourceRC_List\" macro is run. Macro is run manually by touching button at right or when Source report card is activated."]
[null,null,null,null,null,null,null,null,null,null,null,null,null,null,null,null,null,null,null,null,null,null,null,null,null,null,null,null,null,null,null,null,null,null,null,null,null,null,null,null,null,null,null,null,null,null,null,null,null,null,null,null,null,null,null,null,null,null,null,null,null,null,null,null,null,null,null,null,null,null,null,null,null,null,null,null,null,null,null,null,null,null,null,null,null,null,null,null,null,null,null,null,null,null,null,null,null,null,null,null,null,null,null,null,null,null,null,null,null,null,null,null,null,null,null,null,null,null,null,null,null,null,null,null,null,null,null,null,null,null,null,null,null,null,null,null,null,null,null,null,null,null,null,null,null,null,null,null,null,null,null,null,null,null,null,null,null,null,null,null,null,null,null,null,null,null,null,null,null,null,null,null,null,null,null,null,null,null,null,null,null,null,null,null,null,null,null,null,null,null,null,null,null,null,null,null,null,null,null,null,null,null,null,null,null,null,null,null,null,null,null,null,null,null,null,null,null,null,null,null,null,null,null,null,null,null,null,null,null,null,null,null,null,null,null,null,null,null,null,null,null,null,null,null,null,null,null,null,null,null,null,null,null,null,null,null,null,null,null,null,null,null,null,null,null,null,null,null,null,null,null,null,null,null,null,null,null,null,null,null,null,null,null,null,null,"Numbers indicate knowledge about the certainty of assessment: 0 = N/A, 1 = Potential Source, 2 = Suspected Source, 3 = Known Source."]
[null,null,null,null,null,null,null,null,null,null,null,null,null,null,null,null,null,null,null,null,null,null,null,null,null,null,null,null,null,null,null,null,null,null,null,null,null,null,null,null,null,null,null,null,null,null,null,null,null,null,null,null,null,null,null,null,null,null,null,null,null,null,null,null,null,null,null,null,null,null,null,null,null,null,null,null,null,null,null,null,null,null,null,null,null,null,null,null,null,null,null,null,null,null,null,null,null,null,null,null,null,null,null,null,null,null,null,null,null,null,null,null,null,null,null,null,null,null,null,null,null,null,null,null,null,null,null,null,null,null,null,null,null,null,null,null,null,null,null,null,null,null,null,null,null,null,null,null,null,null,null,null,null,null,null,null,null,null,null,null,null,null,null,null,null,null,null,null,null,null,null,null,null,null,null,null,null,null,null,null,null,null,null,null,null,null,null,null,null,null,null,null,null,null,null,null,null,null,null,null,null,null,null,null,null,null,null,null,null,null,null,null,null,null,null,null,null,null,null,null,null,null,null,null,null,null,null,null,null,null,null,null,null,null,null,null,null,null,null,null,null,null,null,null,null,null,null,null,null,null,null,null,null,null,null,null,null,null,null,null,null,null,null,null,null,null,null,null,null,null,null,null,null,null,null,null,null,null,null,null,null,null,null,null,null,"This list is then processed below to remove duplicates."]
[null,null,null,null,null,null,null,null,null,null,null,null,null,"Designate Point & Non-Point Sources",null,null,null,null,null,null,null,null,null,null,null,null,null,null,null,null,null,null,null,null,null,null,null,null,null,"Designate Point & Non-Point Sources",null,null,null,null,null,null,null,null,null,null,null,null,null,null,null,null,null,null,null,null,null,null,null,null,null,"Designate Point & Non-Point Sources",null,null,null,null,null,null,null,null,null,null,null,null,null,null,null,null,null,null,null,null,null,null,null,null,null,"Designate Point & Non-Point Sources",null,null,null,null,null,null,null,null,null,null,null,null,null,null,null,null,null,null,null,null,null,null,null,null,null,"Designate Point & Non-Point Sources",null,null,null,null,null,null,null,null,null,null,null,null,null,null,null,null,null,null,null,null,null,null,null,null,null,"Designate Point & Non-Point Sources",null,null,null,null,null,null,null,null,null,null,null,null,null,null,null,null,null,null,null,null,null,null,null,null,null,"Designate Point & Non-Point Sources",null,null,null,null,null,null,null,null,null,null,null,null,null,null,null,null,null,null,null,null,null,null,null,null,null,"Designate Point & Non-Point Sources",null,null,null,null,null,null,null,null,null,null,null,null,null,null,null,null,null,null,null,null,null,null,null,null,null,"Designate Point & Non-Point Sources",null,null,null,null,null,null,null,null,null,null,null,null,null,null,null,null,null,null,null,null,null,null,null,null,null,"Designate Point & Non-Point Sources"]
[null,null,null,null,null,null,null,null,null,null,null,null,null,null,null,null,null,null,null,null,null,null,null,"Codes selected at left are distributed according to Source Type. "]
[null,{"$f":"\"River Basin: \"&RiverBasinName","v":"River Basin: Test River Basin"},null,null,null,null,{"$f":"\"Data Year:  \"&AssessmentYear","v":"Data Year:  2011"},null,null,null,null,null,null,null,null,null,null,null,null,null,null,null,null,"Numbers indicate confidence of assessment: 0 = N/A, 1 = Potential Source, 2 = Suspected Source, 3 = Known Source.",null,null,null,null,null,null,null,null,null,null,null,null,null,null,null,null,null,null,null,null,null,null,null,null,null,null,null,null,null,null,null,null,null,null,null,null,null,null,null,null,null,null,null,null,null,null,null,null,null,null,null,null,null,null,null,null,null,null,null,null,null,null,null,null,null,null,null,null,null,null,null,null,null,null,null,null,null,null,null,null,null,null,null,null,null,null,null,null,null,null,null,null,null,null,null,null,null,null,null,null,null,null,null,null,null,null,null,null,null,null,null,null,null,null,null,null,null,null,null,null,null,null,null,null,null,null,null,null,null,null,null,null,null,null,null,null,null,null,null,null,null,null,null,null,null,null,null,null,null,null,null,null,null,null,null,null,null,null,null,null,null,null,null,null,null,null,null,null,null,null,null,null,null,null,null,null,null,null,null,null,null,null,null,null,null,null,null,null,null,null,null,null,null,null,null,null,null,null,null,null,null,null,null,null,null,null,null,null,null,null,null,null,null,null,null,null,null,null,null,null,null,null,null,null,null,null,null,null,null,null,null,null,null,null,null,null,null,null,null,null,null,null,null,null,null,null,null,null,null,null,null,null,null,null,null,null,null,null,null,null,null,null,"Municp",null,null,"Industr",null,null,"St Water",null,null,"Res Ext",null,null,"Land Dis",null,null,"Seds",null,null,"Hydro",null,null,"Other",null,null,"Unknown"]
[null,{"$f":"\"Segment Name: \"&C60","v":"Segment Name: pppppp"},null,null,null,null,null,null,null,null,null,null,null,null,null,null,null,null,null,null,null,null,null,"These codes are processed by \"SourceRC_List macro and transferred to Source report card."]
[null,{"$f":"\"Class: \"&C64","v":"Class: "},null,{"$f":"\"Size: \"&C63","v":"Size: "},null,null,{"$f":"\"Seg ID #: \"&C62","v":"Seg ID #: "}]
[null,"CATEGORY","INDICATOR ASSESSMENT",null,"OVERALL STATUS","DATA LEVEL","POINT","NONPOINT",null,null,null,null,null,"Point Sources",null,null,null,null,null,null,null,null,null,"Municipal",null,null,"Industrial",null,null,"Storm Water",null,null,"Resource Ext",null,null,"Land Disposal",null,null,null,"Point Sources",null,null,null,null,null,null,null,null,null,"Municipal",null,null,"Industrial",null,null,"Storm Water",null,null,"Resource Ext",null,null,"Land Disposal",null,null,null,"Point Sources",null,null,null,null,null,null,null,null,null,"Municipal",null,null,"Industrial",null,null,"Storm Water",null,null,"Resource Ext",null,null,"Land Disposal",null,null,null,"Point Sources",null,null,null,null,null,null,null,null,null,"Municipal",null,null,"Industrial",null,null,"Storm Water",null,null,"Resource Ext",null,null,"Land Disposal",null,null,null,"Point Sources",null,null,null,null,null,null,null,null,null,"Municipal",null,null,"Industrial",null,null,"Storm Water",null,null,"Resource Ext",null,null,"Land Disposal",null,null,null,"Point Sources",null,null,null,null,null,null,null,null,null,"Municipal",null,null,"Industrial",null,null,"Storm Water",null,null,"Resource Ext",null,null,"Land Disposal",null,null,null,"Point Sources",null,null,null,null,null,null,null,null,null,"Municipal",null,null,"Industrial",null,null,"Storm Water",null,null,"Resource Ext",null,null,"Land Disposal",null,null,null,"Point Sources",null,null,null,null,null,null,null,null,null,"Municipal",null,null,"Industrial",null,null,"Storm Water",null,null,"Resource Ext",null,null,"Land Disposal",null,null,null,"Point Sources",null,null,null,null,null,null,null,null,null,"Municipal",null,null,"Industrial",null,null,"Storm Water",null,null,"Resource Ext",null,null,"Land Disposal",null,null,null,"Point Sources",null,null,null,null,null,null,null,null,null,"Municipal",null,null,"Industrial",null,null,"Storm Water",null,null,"Resource Ext",null,null,"Land Disposal"]
[null,null,null,null,null,null,"Click below to select Sources"]
[null,"Biology","Plank/Peri.   A","NA","NA","NA",{"$f":"$O$15&\"  \"&$O$16&\"  \"&$O$17&\"  \"&$O$18&\"  \"&$O$19&\"  \"&$O$20","v":"          "},{"$f":"$O$28&\"  \"&$O$29&\"  \"&$O$30&\"  \"&$O$31&\"  \"&$O$32&\"  \"&$O$33","v":"          "}]
[null,null,"Macrophyton   M","NA"]
[null,null,"Invertebrates   I","NA"]
[null,null,"Fish   F","NA"]
[null,null,"Wildlife   W","NA"]
[]
[null,"Chemistry","Dis. Oxygen    DO","NA","NA","NA",{"$f":"$AO$15&\"  \"&$AO$16&\"  \"&$AO$17&\"  \"&$AO$18&\"  \"&$AO$19&\"  \"&$AO$20","v":"          "},{"$f":"$AO$28&\"  \"&$AO$29&\"  \"&$AO$30&\"  \"&$AO$31&\"  \"&$AO$32&\"  \"&$AO$33","v":"          "}]
[null,null,"pH     pH","NA"]
[null,null,"Temperature    T","NA"]
[null,null,"Ionic Strength    Z","NA"]
[null,null,"Sus. Solids    SS","NA"]
[null,null,null,null,null,null,null,null,null,null,null,null,null,"Non Point Sources",null,null,null,null,null,null,null,null,null,"Seds",null,null,"Hydromodification",null,null,"Other",null,null,"Unknown",null,null,null,null,null,null,"Non Point Sources",null,null,null,null,null,null,null,null,null,"Seds",null,null,"Hydromodification",null,null,"Other",null,null,"Unknown",null,null,null,null,null,null,"Non Point Sources",null,null,null,null,null,null,null,null,null,"Seds",null,null,"Hydromodification",null,null,"Other",null,null,"Unknown",null,null,null,null,null,null,"Non Point Sources",null,null,null,null,null,null,null,null,null,"Seds",null,null,"Hydromodification",null,null,"Other",null,null,"Unknown",null,null,null,null,null,null,"Non Point Sources",null,null,null,null,null,null,null,null,null,"Seds",null,null,"Hydromodification",null,null,"Other",null,null,"Unknown",null,null,null,null,null,null,"Non Point Sources",null,null,null,null,null,null,null,null,null,"Seds",null,null,"Hydromodification",null,null,"Other",null,null,"Unknown",null,null,null,null,null,null,"Non Point Sources",null,null,null,null,null,null,null,null,null,"Seds",null,null,"Hydromodification",null,null,"Other",null,null,"Unknown",null,null,null,null,null,null,"Non Point Sources",null,null,null,null,null,null,null,null,null,"Seds",null,null,"Hydromodification",null,null,"Other",null,null,"Unknown",null,null,null,null,null,null,"Non Point Sources",null,null,null,null,null,null,null,null,null,"Seds",null,null,"Hydromodification",null,null,"Other",null,null,"Unknown",null,null,null,null,null,null,"Non Point Sources",null,null,null,null,null,null,null,null,null,"Seds",null,null,"Hydromodification",null,null,"Other",null,null,"Unknown"]
[null,"Nutrients","Phosphorus  P","NA","NA","NA",{"$f":"$BO$15&\"  \"&$BO$16&\"  \"&$BO$17&\"  \"&$BO$18&\"  \"&$BO$19&\"  \"&$BO$20","v":"          "},{"$f":"$BO$28&\"  \"&$BO$29&\"  \"&$BO$30&\"  \"&$BO$31&\"  \"&$BO$32&\"  \"&$BO$33","v":"          "}]
[null,null,"Nitrogen   N","NA"]
[]
[null,"Toxicity","Unknown   U","NA","NA","NA",{"$f":"$CO$15&\"  \"&$CO$16&\"  \"&$CO$17&\"  \"&$CO$18&\"  \"&$CO$19&\"  \"&$CO$20","v":"          "},{"$f":"$CO$28&\"  \"&$CO$29&\"  \"&$CO$30&\"  \"&$CO$31&\"  \"&$CO$32&\"  \"&$CO$33","v":"          "}]
[null,null,{"$f":"\"Spec. Chem.  \"&CN44","v":"Spec. Chem.  Ag"},"NA"]
[null,null,null,null,null,null,null,null,null,null,null,null,null,null,null,null,null,null,null,null,null,null,null,null,null,null,null,null,null,null,null,null,null,null,null,null,null,null,null,null,null,null,null,null,null,null,null,null,null,null,null,null,null,null,null,null,null,null,null,null,null,null,null,null,null,null,null,null,null,null,null,null,null,null,null,null,null,null,null,null,null,null,null,null,null,null,null,null,null,null,null,null,null,null,null,null,null,null,null,null,null,null,null,null,null,null,null,null,null,null,null,null,null,null,null,null,null,null,null,null,null,null,null,null,null,null,null,null,null,null,null,null,null,null,null,null,null,null,null,null,null,null,null,null,null,null,null,null,null,null,null,null,null,null,null,null,null,null,null,null,null,null,null,null,null,null,null,null,null,null,null,null,null,null,null,null,null,null,null,null,null,null,null,null,null,null,null,null,null,null,null,null,null,null,null,null,null,null,null,null,null,null,null,null,null,null,null,null,null,null,null,null,null,null,null,null,null,null,null,null,null,null,null,null,null,null,null,null,null,null,null,null,null,null,null,null,null,null,null,null,null,null,null,null,null,null,null,null,null,null,null,null,null,null,null,null,null,null,null,null,null,null,null,null,null,null,null,null,null,null,null,null,null,null,null,null,null,null,null,null,null,null,null,null,null,"The colored cells below reflect this segments pollution status and are replicated on the Sources report card automatically"]
[null,"Flow","Flow  Q","NA","NA","NA",{"$f":"$DO$15&\"  \"&$DO$16&\"  \"&$DO$17&\"  \"&$DO$18&\"  \"&$DO$19&\"  \"&$DO$20","v":"          "},{"$f":"$DO$28&\"  \"&$DO$29&\"  \"&$DO$30&\"  \"&$DO$31&\"  \"&$DO$32&\"  \"&$DO$33","v":"          "},null,null,null,null,null,null,null,null,null,null,null,null,null,null,null,null,null,null,null,null,null,null,null,null,null,null,null,null,null,null,null,null,null,null,null,null,null,null,null,null,null,null,null,null,null,null,null,null,null,null,null,null,null,null,null,null,null,null,null,null,null,null,null,null,null,null,null,null,null,null,null,null,null,null,null,null,null,null,null,null,null,null,null,null,null,null,null,null,null,null,null,null,null,null,null,null,null,null,null,null,null,null,null,null,null,null,null,null,null,null,null,null,null,null,null,null,null,null,null,null,null,null,null,null,null,null,null,null,null,null,null,null,null,null,null,null,null,null,null,null,null,null,null,null,null,null,null,null,null,null,null,null,null,null,null,null,null,null,null,null,null,null,null,null,null,null,null,null,null,null,null,null,null,null,null,null,null,null,null,null,null,null,null,null,null,null,null,null,null,null,null,null,null,null,null,null,null,null,null,null,null,null,null,null,null,null,null,null,null,null,null,null,null,null,null,null,null,null,null,null,null,null,null,null,null,null,null,null,null,null,null,null,null,null,null,null,null,null,null,null,null,null,null,null,null,null,null,null,null,null,null,null,null,null,null,null,null,null,null,null,null,null,null,null,null,null,null,null,null,null,null,null,null,null,null,null,null,null,{"$f":"KA11","v":"Municp"},null,null,{"$f":"KD11","v":"Industr"},null,null,{"$f":"KG11","v":"St Water"},null,null,{"$f":"KJ11","v":"Res Ext"},null,null,{"$f":"KM11","v":"Land Dis"},null,null,{"$f":"KP11","v":"Seds"},null,null,{"$f":"KS11","v":"Hydro"},null,null,{"$f":"KV11","v":"Other"},null,null,{"$f":"KY11","v":"Unknown"}]
[null,null,null,null,null,null,null,null,null,null,null,null,null,"* designates a Suspected Source",null,null,null,null,null,null,null,null,null,null,null,null,null,null,null,null,null,null,null,null,null,null,null,null,null,"* designates a Suspected Source",null,null,null,null,null,null,null,null,null,null,null,null,null,null,null,null,null,null,null,null,null,null,null,null,null,"* designates a Suspected Source",null,null,null,null,null,null,null,null,null,null,null,null,null,null,null,null,null,null,null,null,null,null,null,null,null,"* designates a Suspected Source",null,null,null,null,null,null,null,null,null,null,null,null,null,null,null,null,null,null,null,null,null,null,null,null,null,"* designates a Suspected Source",null,null,null,null,null,null,null,null,null,null,null,null,null,null,null,null,null,null,null,null,null,null,null,null,null,"* designates a Suspected Source",null,null,null,null,null,null,null,null,null,null,null,null,null,null,null,null,null,null,null,null,null,null,null,null,null,"* designates a Suspected Source",null,null,null,null,null,null,null,null,null,null,null,null,null,null,null,null,null,null,null,null,null,null,null,null,null,"* designates a Suspected Source",null,null,null,null,null,null,null,null,null,null,null,null,null,null,null,null,null,null,null,null,null,null,null,null,null,"* designates a Suspected Source",null,null,null,null,null,null,null,null,null,null,null,null,null,null,null,null,null,null,null,null,null,null,null,null,null,null,null,null,null,null,null,null,null,null,null,null,null,null,null,null,null,null,null,null,null,null,null,null,null,null,null,null,null,null,null,null,null,null,null,null,null,null,null,null,{"$f":"TRIM(KA41&\" \"&KA42&\" \"&KA43&\" \"&KA44&\" \"&KA45&\" \"&KA46)","v":""},null,null,{"$f":"TRIM(KD41&\" \"&KD42&\" \"&KD43&\" \"&KD44&\" \"&KD45&\" \"&KD46)","v":""},null,null,{"$f":"TRIM(KG41&\" \"&KG42&\" \"&KG43&\" \"&KG44&\" \"&KG45&\" \"&KG46)","v":""},null,null,{"$f":"TRIM(KJ41&\" \"&KJ42&\" \"&KJ43&\" \"&KJ44&\" \"&KJ45&\" \"&KJ46)","v":""},null,null,{"$f":"TRIM(KM41&\" \"&KM42&\" \"&KM43&\" \"&KM44&\" \"&KM45&\" \"&KM46)","v":""},null,null,{"$f":"TRIM(KP41&\" \"&KP42&\" \"&KP43&\" \"&KP44&\" \"&KP45&\" \"&KP46)","v":""},null,null,{"$f":"TRIM(KS41&\" \"&KS42&\" \"&KS43&\" \"&KS44&\" \"&KS45&\" \"&KS46)","v":""},null,null,{"$f":"TRIM(KV41&\" \"&KV42&\" \"&KV43&\" \"&KV44&\" \"&KV45&\" \"&KV46)","v":""},null,null,{"$f":"TRIM(KY41&\" \"&KY42&\" \"&KY43&\" \"&KY44&\" \"&KY45&\" \"&KY46)","v":""}]
[null,"Habitat","Substrate   S","NA","NA","NA",{"$f":"$EO$15&\"  \"&$EO$16&\"  \"&$EO$17&\"  \"&$EO$18&\"  \"&$EO$19&\"  \"&$EO$20","v":"          "},{"$f":"$EO$28&\"  \"&$EO$29&\"  \"&$EO$30&\"  \"&$EO$31&\"  \"&$EO$32&\"  \"&$EO$33","v":"          "},null,null,null,null,null,"** designates a Potential Source",null,null,null,null,null,null,null,null,null,null,null,null,null,null,null,null,null,null,null,null,null,null,null,null,null,"** designates a Potential Source",null,null,null,null,null,null,null,null,null,null,null,null,null,null,null,null,null,null,null,null,null,null,null,null,null,"** designates a Potential Source",null,null,null,null,null,null,null,null,null,null,null,null,null,null,null,null,null,null,null,null,null,null,null,null,null,"** designates a Potential Source",null,null,null,null,null,null,null,null,null,null,null,null,null,null,null,null,null,null,null,null,null,null,null,null,null,"** designates a Potential Source",null,null,null,null,null,null,null,null,null,null,null,null,null,null,null,null,null,null,null,null,null,null,null,null,null,"** designates a Potential Source",null,null,null,null,null,null,null,null,null,null,null,null,null,null,null,null,null,null,null,null,null,null,null,null,null,"** designates a Potential Source",null,null,null,null,null,null,null,null,null,null,null,null,null,null,null,null,null,null,null,null,null,null,null,null,null,"** designates a Potential Source",null,null,null,null,null,null,null,null,null,null,null,null,null,null,null,null,null,null,null,null,null,null,null,null,null,"** designates a Potential Source"]
[null,null,"Morphology   H","NA",null,null,null,null,null,null,null,null,null,"No asterisk designates a Known Source",null,null,null,null,null,null,null,null,null,null,null,null,null,null,null,null,null,null,null,null,null,null,null,null,null,"No asterisk designates a Known Source",null,null,null,null,null,null,null,null,null,null,null,null,null,null,null,null,null,null,null,null,null,null,null,null,null,"No asterisk designates a Known Source",null,null,null,null,null,null,null,null,null,null,null,null,null,null,null,null,null,null,null,null,null,null,null,null,null,"No asterisk designates a Known Source",null,null,null,null,null,null,null,null,null,null,null,null,null,null,null,null,null,null,null,null,null,null,null,null,null,"No asterisk designates a Known Source",null,null,null,null,null,null,null,null,null,null,null,null,null,null,null,null,null,null,null,null,null,null,null,null,null,"No asterisk designates a Known Source",null,null,null,null,null,null,null,null,null,null,null,null,null,null,null,null,null,null,null,null,null,null,null,null,null,"No asterisk designates a Known Source",null,null,null,null,null,null,null,null,null,null,null,null,null,null,null,null,null,null,null,null,null,null,null,null,null,"No asterisk designates a Known Source",null,null,null,null,null,null,null,null,null,null,null,null,null,null,null,null,null,null,null,null,null,null,null,null,null,"No asterisk designates a Known Source",null,null,null,null,null,null,null,null,null,null,null,null,null,null,null,null,null,null,null,null,null,null,null,null,null,null,null,null,null,null,null,null,null,null,null,null,null,null,null,null,null,null,null,null,null,null,null,null,null,null,null,null,null,null,null,null,null,null,null,null,null,null,null,"max confid #",{"$f":"MAX(KB11:KB31)","v":0},null,null,{"$f":"MAX(KE11:KE31)","v":0},null,null,{"$f":"MAX(KH11:KH31)","v":0},null,null,{"$f":"MAX(KK11:KK31)","v":0},null,null,{"$f":"MAX(KN11:KN31)","v":0},null,null,{"$f":"MAX(KQ11:KQ31)","v":0},null,null,{"$f":"MAX(KT11:KT31)","v":0},null,null,{"$f":"MAX(KW11:KW31)","v":0},null,null,{"$f":"MAX(KZ11:KZ31)","v":0}]
[null,null,"Riparian Zone   R","NA",null,null,null,null,null,null,null,null,null,"Square brackets designates an Out of Segment Source (i.e., pollutant is a source for downstream segments)",null,null,null,null,null,null,null,null,null,null,null,null,null,null,null,null,null,null,null,null,null,null,null,null,null,"Square brackets designates an Out of Segment Source (i.e., pollutant is a source for downstream segments)",null,null,null,null,null,null,null,null,null,null,null,null,null,null,null,null,null,null,null,null,null,null,null,null,null,"Square brackets designates an Out of Segment Source (i.e., pollutant is a source for downstream segments)",null,null,null,null,null,null,null,null,null,null,null,null,null,null,null,null,null,null,null,null,null,null,null,null,null,"Square brackets designates an Out of Segment Source (i.e., pollutant is a source for downstream segments)",null,null,null,null,null,null,null,null,null,null,null,null,null,null,null,null,null,null,null,null,null,null,null,null,null,"Square brackets designates an Out of Segment Source (i.e., pollutant is a source for downstream segments)",null,null,null,null,null,null,null,null,null,null,null,null,null,null,null,null,null,null,null,null,null,null,null,null,null,"Square brackets designates an Out of Segment Source (i.e., pollutant is a source for downstream segments)",null,null,null,null,null,null,null,null,null,null,null,null,null,null,null,null,null,null,null,null,null,null,null,null,null,"Square brackets designates an Out of Segment Source (i.e., pollutant is a source for downstream segments)",null,null,null,null,null,null,null,null,null,null,null,null,null,null,null,null,null,null,null,null,null,null,null,null,null,"Square brackets designates an Out of Segment Source (i.e., pollutant is a source for downstream segments)",null,null,null,null,null,null,null,null,null,null,null,null,null,null,null,null,null,null,null,null,null,null,null,null,null,"Square brackets designates an Out of Segment Source (i.e., pollutant is a source for downstream segments)",null,null,null,null,null,null,null,null,null,null,null,null,null,null,null,null,null,null,null,null,null,null,null,null,null,null,null,null,null,null,null,null,null,null,null,null,null,null,null,null,null,null,null,null,null,null,null,null,null,null,null,null,null,null,null,null,null,null,null,null,null,null,null,"The lists below show unique codes in lists assembled above. Numbers are max confidence #, used to color cells for worst case. The codes are catenated in the colored boxes above for transfer to Sources RC when that sheet is activated."]
[]
[null,"Bacteria","Bacteria   B","NA","NA","NA",{"$f":"$FO$15&\"  \"&$FO$16&\"  \"&$FO$17&\"  \"&$FO$18&\"  \"&$FO$19&\"  \"&$FO$20","v":"          "},{"$f":"$FO$28&\"  \"&$FO$29&\"  \"&$FO$30&\"  \"&$FO$31&\"  \"&$FO$32&\"  \"&$FO$33","v":"          "},null,null,null,null,null,null,null,null,null,null,null,null,null,null,null,null,null,null,null,null,null,null,null,null,null,null,null,null,null,null,null,null,null,null,null,null,null,null,null,null,null,null,null,null,null,null,null,null,null,null,null,null,null,null,null,null,null,null,null,null,null,null,null,null,null,null,null,null,null,null,null,null,null,null,null,null,null,null,null,null,null,null,null,null,null,null,null,null,null,null,null,null,null,null,null,null,null,null,null,null,null,null,null,null,null,null,null,null,null,null,null,null,null,null,null,null,null,null,null,null,null,null,null,null,null,null,null,null,null,null,null,null,null,null,null,null,null,null,null,null,null,null,null,null,null,null,null,null,null,null,null,null,null,null,null,null,null,null,null,null,null,null,null,null,null,null,null,null,null,null,null,null,null,null,null,null,null,null,null,null,null,null,null,null,null,null,null,null,null,null,null,null,null,null,null,null,null,null,null,null,null,null,null,null,null,null,null,null,null,null,null,null,null,null,null,null,null,null,null,null,null,null,null,null,null,null,null,null,null,null,null,null,null,null,null,null,null,null,null,null,null,null,null,null,null,null,null,null,null,null,null,null,null,null,null,null,null,null,null,null,null,null,null,null,null,null,null,null,null,null,null,null,null,null,null,null,null,null,"Municp",null,null,"Industr",null,null,"St Water",null,null,"Res Ext",null,null,"Land Dis",null,null,"Seds",null,null,"Hydro",null,null,"Other",null,null,"Unknown"]
[]
[null,"Aesthetics","Oil & Grease   G","NA","NA","NA",{"$f":"$GO$15&\"  \"&$GO$16&\"  \"&$GO$17&\"  \"&$GO$18&\"  \"&$GO$19&\"  \"&$GO$20","v":"          "},{"$f":"$GO$28&\"  \"&$GO$29&\"  \"&$GO$30&\"  \"&$GO$31&\"  \"&$GO$32&\"  \"&$GO$33","v":"          "},null,null,null,null,null,null,null,null,null,null,null,null,null,null,null,null,null,null,null,null,null,null,null,null,null,null,null,null,null,null,null,null,null,null,null,null,null,null,null,null,null,null,null,null,null,null,null,null,null,null,null,null,null,null,null,null,null,null,null,null,null,null,null,null,null,null,null,null,null,null,null,null,null,null,null,null,null,null,null,null,null,null,null,"Identify the suspected toxic chemical substance below (e.g., Hg, PCB, etc). ",null,null,null,null,null,null,null,null,null,null,null,null,null,null,null,null,null,null,null,null,null,null,null,null,null,null,null,null,null,null,null,null,null,null,null,null,null,null,null,null,null,null,null,null,null,null,null,null,null,null,null,null,null,null,null,null,null,null,null,null,null,null,null,null,null,null,null,null,null,null,null,null,null,null,null,null,null,null,null,null,null,null,null,null,null,null,null,null,null,null,null,null,null,null,null,null,null,null,null,null,null,null,null,null,null,null,null,null,null,null,null,null,null,null,null,null,null,null,null,null,null,null,null,null,null,null,null,null,null,null,null,null,null,null,null,null,null,null,null,null,null,null,null,null,null,null,null,null,null,null,null,null,null,null,null,"Identify the suspected toxic chemical substance below (e.g., Hg, PCB, etc). "]
[null,null,"Taste & Odor   O","NA",null,null,null,null,null,null,null,null,null,null,"Pollution  Indicators (Causes):  ",null,{"$f":"P46&\" \"&P47&\" \"&P48&\" \"&P49&\" \"&P50&\" \"&P51","v":"     "},null,null,null,null,null,null,null,null,null,null,null,null,null,null,null,null,null,null,null,null,null,null,null,"Pollution  Indicators (Causes):  ",null,{"$f":"AP46&\" \"&AP47&\" \"&AP48&\" \"&AP49&\" \"&AP50&\" \"&AP51","v":"     "},null,null,null,null,null,null,null,null,null,null,null,null,null,null,null,null,null,null,null,null,null,null,null,"Pollution  Indicators (Causes):  ",null,{"$f":"BP46&\" \"&BP47&\" \"&BP48","v":"  "},null,null,null,null,null,null,null,null,null,null,null,null,null,null,null,null,null,null,null,null,null,null,null,null,null,null,null,null,null,null,null,null,null,null,null,null,null,null,null,null,null,null,null,null,null,null,null,null,null,"Pollution  Indicators (Causes):  ",null,{"$f":"DP46&\" \"&DP47","v":" "},null,null,null,null,null,null,null,null,null,null,null,null,null,null,null,null,null,null,null,null,null,null,null,"Pollution  Indicators (Causes):  ",null,{"$f":"EP46&\" \"&EP47&\" \"&EP48&\" \"&EP49","v":"   "},null,null,null,null,null,null,null,null,null,null,null,null,null,null,null,null,null,null,null,null,null,null,null,"Pollution  Indicators (Causes):  ",null,{"$f":"FP46&\" \"&FP47","v":" "},null,null,null,null,null,null,null,null,null,null,null,null,null,null,null,null,null,null,null,null,null,null,null,"Pollution  Indicators (Causes):  ",null,{"$f":"GP46&\" \"&GP47&\" \"&GP48&\" \"&GP49&\" \"&GP50&\" \"&GP51","v":"     "},null,null,null,null,null,null,null,null,null,null,null,null,null,null,null,null,null,null,null,null,null,null,"Identify the suspected toxic chemical substance below (e.g., Hg, PCB, etc). "]
[null,null,"Turb/Color   C","NA",null,null,null,null,null,null,null,null,null,null,null,null,null,null,null,null,null,null,null,null,null,null,null,null,null,null,null,null,null,null,null,null,null,null,null,null,null,null,null,null,null,null,null,null,null,null,null,null,null,null,null,null,null,null,null,null,null,null,null,null,null,null,null,null,null,null,null,null,null,null,null,null,null,null,null,null,null,null,null,null,null,null,null,null,null,null,null,"Ag",null,null,null,null,null,null,null,null,null,null,null,null,null,null,null,null,null,null,null,null,null,null,null,null,null,null,null,null,null,null,null,null,null,null,null,null,null,null,null,null,null,null,null,null,null,null,null,null,null,null,null,null,null,null,null,null,null,null,null,null,null,null,null,null,null,null,null,null,null,null,null,null,null,null,null,null,null,null,null,null,null,null,null,null,null,null,null,null,null,null,null,null,null,null,null,null,null,null,null,null,null,null,null,null,null,null,null,null,null,null,null,null,null,null,null,null,null,null,null,null,null,null,null,null,null,null,null,null,null,null,null,null,null,null,null,null,null,null,null,null,null,null,null,null,null,null,null,null,null,null,null,null,null,null,null,"DDT"]
[null,null,"Nuisance Plants   V","NA",null,null,null,null,null,null,null,null,null,null,{"$f":"$B$16","v":"Biology"},null,null,null,null,null,null,null,null,null,null,null,null,null,null,null,null,null,null,null,null,null,null,null,null,null,{"$f":"$B$22","v":"Chemistry"},null,null,null,null,null,null,null,null,null,null,null,null,null,null,null,null,null,null,null,null,null,null,null,null,null,{"$f":"$B$28","v":"Nutrients"},null,null,null,null,null,null,null,null,null,null,null,null,null,null,null,null,null,null,null,null,null,null,null,null,null,null,null,null,null,null,null,null,null,null,null,null,null,null,null,null,null,null,null,null,null,null,null,null,null,null,null,{"$f":"$B$34","v":"Flow"},null,null,null,null,null,null,null,null,null,null,null,null,null,null,null,null,null,null,null,null,null,null,null,null,null,{"$f":"$B$36","v":"Habitat"},null,null,null,null,null,null,null,null,null,null,null,null,null,null,null,null,null,null,null,null,null,null,null,null,null,{"$f":"$B$40","v":"Bacteria"},null,null,null,null,null,null,null,null,null,null,null,null,null,null,null,null,null,null,null,null,null,null,null,null,null,{"$f":"$B$42","v":"Aesthetics"},null,null,null,null,null,null,null,null,null,null,null,null,null,null,null,null,null,null,null,null,null,null,null,null,"PCB"]
[null,null,"Trash /Debris   D","NA",null,null,null,null,null,null,null,null,null,null,{"$f":"$C$16","v":"Plank/Peri.   A"},{"$f":"IF($D$16=\"Concern\",\"(A)\",IF(OR($D$16=\"Fair\",$D$16=\"Poor\"),\"A\",\"\"))","v":""},null,null,null,null,null,null,null,null,null,null,null,null,null,null,null,null,null,null,null,null,null,null,null,null,{"$f":"$C$22","v":"Dis. Oxygen    DO"},{"$f":"IF($D$22=\"Concern\",\"(DO)\",IF(OR($D$22=\"Fair\",$D$22=\"Poor\"),\"DO\",\"\"))","v":""},null,null,null,null,null,null,null,null,null,null,null,null,null,null,null,null,null,null,null,null,null,null,null,null,{"$f":"$C$28","v":"Phosphorus  P"},{"$f":"IF($D$28=\"Concern\",\"(P)\",IF(OR($D$28=\"Fair\",$D$28=\"Poor\"),\"P\",\"\"))","v":""},null,null,null,null,null,null,null,null,null,null,null,null,null,null,null,null,null,null,null,null,null,null,null,null,null,null,null,null,null,null,null,null,null,null,null,null,null,null,null,null,null,null,null,null,null,null,null,null,null,null,{"$f":"$C$34","v":"Flow  Q"},{"$f":"IF($D$34=\"Concern\",\"(O)\",IF(OR($D$34=\"Fair\",$D$34=\"Poor\"),\"O\",\"\"))","v":""},null,null,null,null,null,null,null,null,null,null,null,null,null,null,null,null,null,null,null,null,null,null,null,null,{"$f":"$C$36","v":"Substrate   S"},{"$f":"IF($D$36=\"Concern\",\"(S)\",IF(OR($D$36=\"Fair\",$D$36=\"Poor\"),\"S\",\"\"))","v":""},null,null,null,null,null,null,null,null,null,null,null,null,null,null,null,null,null,null,null,null,null,null,null,null,{"$f":"$C$40","v":"Bacteria   B"},{"$f":"IF($D$40=\"Concern\",\"(B)\",IF(OR($D$40=\"Fair\",$D$40=\"Poor\"),\"B\",\"\"))","v":""},null,null,null,null,null,null,null,null,null,null,null,null,null,null,null,null,null,null,null,null,null,null,null,null,{"$f":"$C$42","v":"Oil & Grease   G"},{"$f":"IF($D$42=\"Concern\",\"(G)\",IF(OR($D$42=\"Fair\",$D$42=\"Poor\"),\"G\",\"\"))","v":""}]
[null,null,null,null,null,null,null,null,null,null,null,null,null,null,{"$f":"$C$17","v":"Macrophyton   M"},{"$f":"IF($D$17=\"Concern\",\"(M)\",IF(OR($D$17=\"Fair\",$D$17=\"Poor\"),\"M\",\"\"))","v":""},null,null,null,null,null,null,null,null,null,null,null,null,null,null,null,null,null,null,null,null,null,null,null,null,{"$f":"$C$23","v":"pH     pH"},{"$f":"IF($D$23=\"Concern\",\"(pH)\",IF(OR($D$23=\"Fair\",$D$23=\"Poor\"),\"pH\",\"\"))","v":""},null,null,null,null,null,null,null,null,null,null,null,null,null,null,null,null,null,null,null,null,null,null,null,null,{"$f":"$C$29","v":"Nitrogen   N"},{"$f":"IF($D$29=\"Concern\",\"(N)\",IF(OR($D$29=\"Fair\",$D$29=\"Poor\"),\"N\",\"\"))","v":""},null,null,null,null,null,null,null,null,null,null,null,null,null,null,null,null,null,null,null,null,null,null,null,null,null,null,null,null,null,null,null,null,null,null,null,null,null,null,null,null,null,null,null,null,null,null,null,null,null,null,{"$f":"IF($C$41=\"\",\"\",$C$41)","v":""},{"$f":"IF($D$35=\"Concern\",\"(**)\",IF(OR($D$35=\"Fair\",$D$35=\"Poor\"),\"**\",\"\"))","v":""},null,null,null,null,null,null,null,null,null,null,null,null,null,null,null,null,null,null,null,null,null,null,null,null,{"$f":"$C$37","v":"Morphology   H"},{"$f":"IF($D$37=\"Concern\",\"(H)\",IF(OR($D$37=\"Fair\",$D$37=\"Poor\"),\"H\",\"\"))","v":""},null,null,null,null,null,null,null,null,null,null,null,null,null,null,null,null,null,null,null,null,null,null,null,null,{"$f":"IF($C$41=\"\",\"\",$C$41)","v":""},{"$f":"IF($D$41=\"Concern\",\"(**)\",IF(OR($D$41=\"Fair\",$D$41=\"Poor\"),\"**\",\"\"))","v":""},null,null,null,null,null,null,null,null,null,null,null,null,null,null,null,null,null,null,null,null,null,null,null,null,{"$f":"$C$43","v":"Taste & Odor   O"},{"$f":"IF($D$43=\"Concern\",\"(O)\",IF(OR($D$43=\"Fair\",$D$43=\"Poor\"),\"O\",\"\"))","v":""}]
[null,"Tissue",{"$f":"\"Spec. Chem.   \"&HN45","v":"Spec. Chem.   PCB"},"NA","NA","NA",{"$f":"$HO$15&\"  \"&$HO$16&\"  \"&$HO$17&\"  \"&$HO$18&\"  \"&$HO$19&\"  \"&$HO$20","v":"          "},{"$f":"$HO$28&\"  \"&$HO$29&\"  \"&$HO$30&\"  \"&$HO$31&\"  \"&$HO$32&\"  \"&$HO$33","v":"          "},null,null,null,null,null,null,{"$f":"$C$18","v":"Invertebrates   I"},{"$f":"IF($D$18=\"Concern\",\"(I)\",IF(OR($D$18=\"Fair\",$D$18=\"Poor\"),\"I\",\"\"))","v":""},null,null,null,null,null,null,null,null,null,null,null,null,null,null,null,null,null,null,null,null,null,null,null,null,{"$f":"$C$24","v":"Temperature    T"},{"$f":"IF($D$24=\"Concern\",\"(T)\",IF(OR($D$24=\"Fair\",$D$24=\"Poor\"),\"T\",\"\"))","v":""},null,null,null,null,null,null,null,null,null,null,null,null,null,null,null,null,null,null,null,null,null,null,null,null,{"$f":"IF($C$30=\"\",\"\",$C$30)","v":""},{"$f":"IF($D$30=\"Concern\",\"(**)\",IF(OR($D$30=\"Fair\",$D$30=\"Poor\"),\"**\",\"\"))","v":""},null,null,null,null,null,null,null,null,null,null,null,null,null,null,null,null,null,null,null,null,null,null,null,null,null,null,null,null,null,null,null,null,null,null,null,null,null,null,null,null,null,null,null,null,null,null,null,null,null,null,null,null,null,null,null,null,null,null,null,null,null,null,null,null,null,null,null,null,null,null,null,null,null,null,null,null,{"$f":"$C$38","v":"Riparian Zone   R"},{"$f":"IF($D$38=\"Concern\",\"(R)\",IF(OR($D$38=\"Fair\",$D$38=\"Poor\"),\"R\",\"\"))","v":""},null,null,null,null,null,null,null,null,null,null,null,null,null,null,null,null,null,null,null,null,null,null,null,null,null,null,null,null,null,null,null,null,null,null,null,null,null,null,null,null,null,null,null,null,null,null,null,null,null,null,{"$f":"$C$44","v":"Turb/Color   C"},{"$f":"IF($D$44=\"Concern\",\"(C)\",IF(OR($D$44=\"Fair\",$D$44=\"Poor\"),\"C\",\"\"))","v":""}]
[null,null,null,null,null,null,null,null,null,null,null,null,null,null,{"$f":"$C$19","v":"Fish   F"},{"$f":"IF($D$19=\"Concern\",\"(F)\",IF(OR($D$19=\"Fair\",$D$19=\"Poor\"),\"F\",\"\"))","v":""},null,null,null,null,null,null,null,null,null,null,null,null,null,null,null,null,null,null,null,null,null,null,null,null,{"$f":"$C$25","v":"Ionic Strength    Z"},{"$f":"IF($D$25=\"Concern\",\"(Z)\",IF(OR($D$25=\"Fair\",$D$25=\"Poor\"),\"Z\",\"\"))","v":""},null,null,null,null,null,null,null,null,null,null,null,null,null,null,null,null,null,null,null,null,null,null,null,null,null,null,null,null,null,null,null,null,null,null,null,null,null,null,null,null,null,null,null,null,null,null,null,null,null,null,"Pollution  Indicators (Causes):  ",null,{"$f":"CP52&\" \"&CP53&\" \"&CP54","v":"  "},null,null,null,null,null,null,null,null,null,null,null,null,null,null,null,null,null,null,null,null,null,null,null,null,null,null,null,null,null,null,null,null,null,null,null,null,null,null,null,null,null,null,null,null,null,null,null,null,null,{"$f":"IF($C$39=\"\",\"\",$C$39)","v":""},{"$f":"IF($D$39=\"Concern\",\"(**)\",IF(OR($D$39=\"Fair\",$D$39=\"Poor\"),\"**\",\"\"))","v":""},null,null,null,null,null,null,null,null,null,null,null,null,null,null,null,null,null,null,null,null,null,null,null,null,null,null,null,null,null,null,null,null,null,null,null,null,null,null,null,null,null,null,null,null,null,null,null,null,null,null,{"$f":"$C$45","v":"Nuisance Plants   V"},{"$f":"IF($D$45=\"Concern\",\"(V)\",IF(OR($D$45=\"Fair\",$D$45=\"Poor\"),\"V\",\"\"))","v":""},null,null,null,null,null,null,null,null,null,null,null,null,null,null,null,null,null,null,null,null,null,null,null,null,null,null,null,null,null,null,null,null,null,null,null,null,null,null,null,null,null,null,null,null,null,null,null,null,null,null,"Pollution  Indicators (Causes):  ",null,{"$f":"IP52&\" \"&IP53&\" \"&IP54","v":"  "}]
[null,"Sediment","Unknown   U","NA","NA","NA",{"$f":"$IO$15&\"  \"&$IO$16&\"  \"&$IO$17&\"  \"&$IO$18&\"  \"&$IO$19&\"  \"&$IO$20","v":"          "},{"$f":"$IO$28&\"  \"&$IO$29&\"  \"&$IO$30&\"  \"&$IO$31&\"  \"&$IO$32&\"  \"&$IO$33","v":"          "},null,null,null,null,null,null,{"$f":"$C$20","v":"Wildlife   W"},{"$f":"IF($D$20=\"Concern\",\"(W)\",IF(OR($D$20=\"Fair\",$D$20=\"Poor\"),\"W\",\"\"))","v":""},null,null,null,null,null,null,null,null,null,null,null,null,null,null,null,null,null,null,null,null,null,null,null,null,{"$f":"$C$26","v":"Sus. Solids    SS"},{"$f":"IF($D$26=\"Concern\",\"(SS)\",IF(OR($D$26=\"Fair\",$D$26=\"Poor\"),\"SS\",\"\"))","v":""},null,null,null,null,null,null,null,null,null,null,null,null,null,null,null,null,null,null,null,null,null,null,null,null,null,null,null,null,null,null,null,null,null,null,null,null,null,null,null,null,null,null,null,null,null,null,null,null,null,null,null,null,null,null,null,null,null,null,null,null,null,null,null,null,null,null,null,null,null,null,null,null,null,null,null,null,null,null,null,null,null,null,null,null,null,null,null,null,null,null,null,null,null,null,null,null,null,null,null,null,null,null,null,null,null,null,null,null,null,null,null,null,null,null,null,null,null,null,null,null,null,null,null,null,null,null,null,null,null,null,null,null,null,null,null,null,null,null,null,null,null,null,null,null,null,null,null,null,null,null,null,null,null,null,{"$f":"$C$46","v":"Trash /Debris   D"},{"$f":"IF($D$46=\"Concern\",\"(D)\",IF(OR($D$46=\"Fair\",$D$46=\"Poor\"),\"D\",\"\"))","v":""},null,null,null,null,null,null,null,null,null,null,null,null,null,null,null,null,null,null,null,null,null,null,null,null,"Pollution  Indicators (Causes):  ",null,{"$f":"HP53&\" \"&HP54","v":" "}]
[null,null,{"$f":"\"Spec. Chem.   \"&IN44","v":"Spec. Chem.   DDT"},"NA",null,null,null,null,null,null,null,null,null,null,{"$f":"IF($C$21=\"\",\"\",$C$21)","v":""},{"$f":"IF($D$21=\"Concern\",\"(**)\",IF(OR($D$21=\"Fair\",$D$21=\"Poor\"),\"**\",\"\"))","v":""},null,null,null,null,null,null,null,null,null,null,null,null,null,null,null,null,null,null,null,null,null,null,null,null,{"$f":"IF($C$27=\"\",\"\",$C$27)","v":""},{"$f":"IF($D$27=\"Concern\",\"(**)\",IF(OR($D$27=\"Fair\",$D$27=\"Poor\"),\"**\",\"\"))","v":""},null,null,null,null,null,null,null,null,null,null,null,null,null,null,null,null,null,null,null,null,null,null,null,null,null,null,null,null,null,null,null,null,null,null,null,null,null,null,null,null,null,null,null,null,null,null,null,null,null,null,{"$f":"$B$31","v":"Toxicity"},null,null,null,null,null,null,null,null,null,null,null,null,null,null,null,null,null,null,null,null,null,null,null,null,null,null,null,null,null,null,null,null,null,null,null,null,null,null,null,null,null,null,null,null,null,null,null,null,null,null,null,null,null,null,null,null,null,null,null,null,null,null,null,null,null,null,null,null,null,null,null,null,null,null,null,null,null,null,null,null,null,null,null,null,null,null,null,null,null,null,null,null,null,null,null,null,null,null,null,null,null,null,null,{"$f":"IF($C$47=\"\",\"\",$C$47)","v":""},{"$f":"IF($D$47=\"Concern\",\"(**)\",IF(OR($D$47=\"Fair\",$D$47=\"Poor\"),\"**\",\"\"))","v":""},null,null,null,null,null,null,null,null,null,null,null,null,null,null,null,null,null,null,null,null,null,null,null,null,null,null,null,null,null,null,null,null,null,null,null,null,null,null,null,null,null,null,null,null,null,null,null,null,null,null,{"$f":"$B$50","v":"Sediment"}]
[null,null,null,null,null,null,null,null,null,null,null,null,null,null,null,null,null,null,null,null,null,null,null,null,null,null,null,null,null,null,null,null,null,null,null,null,null,null,null,null,null,null,null,null,null,null,null,null,null,null,null,null,null,null,null,null,null,null,null,null,null,null,null,null,null,null,null,null,null,null,null,null,null,null,null,null,null,null,null,null,null,null,null,null,null,null,null,null,null,null,null,null,{"$f":"$C$31","v":"Unknown   U"},{"$f":"IF($D$31=\"Concern\",\"(U)\",IF(OR($D$31=\"Fair\",$D$31=\"Poor\"),\"U\",\"\"))","v":""},null,null,null,null,null,null,null,null,null,null,null,null,null,null,null,null,null,null,null,null,null,null,null,null,null,null,null,null,null,null,null,null,null,null,null,null,null,null,null,null,null,null,null,null,null,null,null,null,null,null,null,null,null,null,null,null,null,null,null,null,null,null,null,null,null,null,null,null,null,null,null,null,null,null,null,null,null,null,null,null,null,null,null,null,null,null,null,null,null,null,null,null,null,null,null,null,null,null,null,null,null,null,null,null,null,null,null,null,null,null,null,null,null,null,null,null,null,null,null,null,null,null,null,null,null,null,null,null,{"$f":"$B$48","v":"Tissue"},null,null,null,null,null,null,null,null,null,null,null,null,null,null,null,null,null,null,null,null,null,null,null,null,null,{"$f":"$C$50","v":"Unknown   U"},{"$f":"IF($D$50=\"Concern\",\"(U)\",IF(OR($D$50=\"Fair\",$D$50=\"Poor\"),\"U\",\"\"))","v":""}]
[null,"Comments:",null,null,null,null,null,"*  Suspected Source  ",null,null,null,null,null,null,null,null,null,null,null,null,null,null,null,null,null,null,null,null,null,null,null,null,null,null,null,null,null,null,null,null,null,null,null,null,null,null,null,null,null,null,null,null,null,null,null,null,null,null,null,null,null,null,null,null,null,null,null,null,null,null,null,null,null,null,null,null,null,null,null,null,null,null,null,null,null,null,null,null,null,null,null,null,{"$f":"$C$32","v":"Spec. Chem.  Ag"},{"$f":"IF($D$32=\"Concern\",\"(\"&CN44&\")\",IF(OR($D$32=\"Fair\",$D$32=\"Poor\"),CN44,\"\"))","v":""},null,null,null,null,null,null,null,null,null,null,null,null,null,null,null,null,null,null,null,null,null,null,null,null,null,null,null,null,null,null,null,null,null,null,null,null,null,null,null,null,null,null,null,null,null,null,null,null,null,null,null,null,null,null,null,null,null,null,null,null,null,null,null,null,null,null,null,null,null,null,null,null,null,null,null,null,null,null,null,null,null,null,null,null,null,null,null,null,null,null,null,null,null,null,null,null,null,null,null,null,null,null,null,null,null,null,null,null,null,null,null,null,null,null,null,null,null,null,null,null,null,null,null,null,null,null,null,null,{"$f":"$C$48","v":"Spec. Chem.   PCB"},{"$f":"IF($D$48=\"Concern\",\"(\"&HN45&\")\",IF(OR($D$48=\"Fair\",$D$32=\"Poor\"),HN45,\"\"))","v":""},null,null,null,null,null,null,null,null,null,null,null,null,null,null,null,null,null,null,null,null,null,null,null,null,{"$f":"$C$51","v":"Spec. Chem.   DDT"},{"$f":"IF($D$51=\"Concern\",\"(\"&IN44&\")\",IF(OR($D$51=\"Fair\",$D$51=\"Poor\"),IN44,\"\"))","v":""}]
[null,null,null,null,null,null,null,"** Potential Source  ",null,null,null,null,null,null,null,null,null,null,null,null,null,null,null,null,null,null,null,null,null,null,null,null,null,null,null,null,null,null,null,null,null,null,null,null,null,null,null,null,null,null,null,null,null,null,null,null,null,null,null,null,null,null,null,null,null,null,null,null,null,null,null,null,null,null,null,null,null,null,null,null,null,null,null,null,null,null,null,null,null,null,null,null,{"$f":"IF($C$33=\"\",\"\",$C$33)","v":""},{"$f":"IF($D$33=\"Concern\",\"(**)\",IF(OR($D$33=\"Fair\",$D$33=\"Poor\"),\"**\",\"\"))","v":""},null,null,null,null,null,null,null,null,null,null,null,null,null,null,null,null,null,null,null,null,null,null,null,null,null,null,null,null,null,null,null,null,null,null,null,null,null,null,null,null,null,null,null,null,null,null,null,null,null,null,null,null,null,null,null,null,null,null,null,null,null,null,null,null,null,null,null,null,null,null,null,null,null,null,null,null,null,null,null,null,null,null,null,null,null,null,null,null,null,null,null,null,null,null,null,null,null,null,null,null,null,null,null,null,null,null,null,null,null,null,null,null,null,null,null,null,null,null,null,null,null,null,null,null,null,null,null,null,{"$f":"IF($C$49=\"\",\"\",$C$49)","v":""},{"$f":"IF($D$49=\"Concern\",\"(**)\",IF(OR($D$49=\"Fair\",$D$49=\"Poor\"),\"**\",\"\"))","v":""},null,null,null,null,null,null,null,null,null,null,null,null,null,null,null,null,null,null,null,null,null,null,null,null,{"$f":"IF($C$52=\"\",\"\",$C$52)","v":""},{"$f":"IF($D$52=\"Concern\",\"(**)\",IF(OR($D$52=\"Fair\",$D$52=\"Poor\"),\"**\",\"\"))","v":""}]
[null,null,null,null,null,null,null,"No asterisk: Known Source  "]
[null,null,null,null,null,null,null,"[Out of Segment Source ]  "]
[]
[]
[]
[null,"SegNameLong:  ","pppppp"]
[null,"Seg Name:  ","ppp"]
[null,"Seg Num:  "]
[null,"Seg Size:  "]
[null,"Seg Class:  "]
[]
[]
[]
[]
[]
[]
[]
[]
[]
[]
[]
[]
[null,null,null,{"$f":"A99","v":""}]
[null,null,null,{"$f":"B99","v":""}]
[null,null,null,{"$f":"C99","v":""}]
[null,null,null,{"$f":"D99","v":""}]
[null,null,null,{"$f":"E99","v":""}]
[null,null,null,{"$f":"F99","v":""}]
[null,null,null,{"$f":"G99","v":""}]
[null,null,null,{"$f":"H99","v":""}]
[null,null,null,{"$f":"I99","v":""}]
[]
[]
[]
[]
[]
[]
[]
[]
[]
[]
[]
[]
[]
[{"$f":"TRIM(A101&\" \"&A102&\" \"&A103&\" \"&A104&\" \"&A105&\" \"&A106)","v":""},{"$f":"TRIM(B101&\" \"&B102&\" \"&B103&\" \"&B104&\" \"&B105&\" \"&B106)","v":""},"","","","","","",""]

{"sheet":"Seg17","index":21,"n_rows":99,"n_cols":311,"rows_kept":99,"cut":false,"hidden":false,"merged":[[15,1,20,1],[15,4,20,4],[15,5,20,5],[15,6,20,6],[15,7,20,7],[13,1,14,1],[13,2,14,3],[13,4,14,4],[13,5,14,5],[14,6,14,7],[27,1,29,1],[27,4,29,4],[27,5,29,5],[27,6,29,6],[27,7,29,7],[21,1,26,1],[21,4,26,4],[21,5,26,5],[21,6,26,6],[21,7,26,7],[49,6,51,6],[49,7,51,7],[30,1,32,1],[30,4,32,4],[30,5,32,5],[30,6,32,6],[30,7,32,7],[33,1,34,1],[33,4,34,4],[33,5,34,5],[33,6,34,6],[33,7,34,7],[43,91,45,94],[35,1,38,1],[35,4,38,4],[35,5,38,5],[35,6,38,6],[35,7,38,7],[39,1,40,1],[39,4,40,4],[39,5,40,5],[39,6,40,6],[39,7,40,7],[52,1,55,1],[43,247,45,250],[44,221,46,224],[47,1,48,1],[47,4,48,4],[47,5,48,5],[47,6,48,6],[47,7,48,7],[41,1,46,1],[41,4,46,4],[41,5,46,5],[41,6,46,6],[41,7,46,7],[49,1,51,1],[49,4,51,4],[49,5,51,5]]}
[]
[]
[]
[]
[null,null,null,null,null,null,null,null,null,null,null,null,null,null,null,null,null,null,null,null,null,null,null,null,null,null,null,null,null,null,null,null,null,null,null,null,null,null,null,null,null,null,null,null,null,null,null,null,null,null,null,null,null,null,null,null,null,null,null,null,null,null,null,null,null,null,null,null,null,null,null,null,null,null,null,null,null,null,null,null,null,null,null,null,null,null,null,null,null,null,null,null,null,null,null,null,null,null,null,null,null,null,null,null,null,null,null,null,null,null,null,null,null,null,null,null,null,null,null,null,null,null,null,null,null,null,null,null,null,null,null,null,null,null,null,null,null,null,null,null,null,null,null,null,null,null,null,null,null,null,null,null,null,null,null,null,null,null,null,null,null,null,null,null,null,null,null,null,null,null,null,null,null,null,null,null,null,null,null,null,null,null,null,null,null,null,null,null,null,null,null,null,null,null,null,null,null,null,null,null,null,null,null,null,null,null,null,null,null,null,null,null,null,null,null,null,null,null,null,null,null,null,null,null,null,null,null,null,null,null,null,null,null,null,null,null,null,null,null,null,null,null,null,null,null,null,null,null,null,null,null,null,null,null,null,null,null,null,null,null,null,null,null,null,null,null,null,null,null,null,null,null,null,null,null,null,null,null,null,null,null,null,null,null,null,"List of all codes from all groups for this segment, organized by Source Type. "]
[null,null,null,null,null,null,null,null,null,null,null,null,null,null,null,null,null,null,null,null,null,null,null,null,null,null,null,null,null,null,null,null,null,null,null,null,null,null,null,null,null,null,null,null,null,null,null,null,null,null,null,null,null,null,null,null,null,null,null,null,null,null,null,null,null,null,null,null,null,null,null,null,null,null,null,null,null,null,null,null,null,null,null,null,null,null,null,null,null,null,null,null,null,null,null,null,null,null,null,null,null,null,null,null,null,null,null,null,null,null,null,null,null,null,null,null,null,null,null,null,null,null,null,null,null,null,null,null,null,null,null,null,null,null,null,null,null,null,null,null,null,null,null,null,null,null,null,null,null,null,null,null,null,null,null,null,null,null,null,null,null,null,null,null,null,null,null,null,null,null,null,null,null,null,null,null,null,null,null,null,null,null,null,null,null,null,null,null,null,null,null,null,null,null,null,null,null,null,null,null,null,null,null,null,null,null,null,null,null,null,null,null,null,null,null,null,null,null,null,null,null,null,null,null,null,null,null,null,null,null,null,null,null,null,null,null,null,null,null,null,null,null,null,null,null,null,null,null,null,null,null,null,null,null,null,null,null,null,null,null,null,null,null,null,null,null,null,null,null,null,null,null,null,null,null,null,null,null,null,null,null,null,null,null,null,"List is updated only when \"SourceRC_List\" macro is run. Macro is run manually by touching button at right or when Source report card is activated."]
[null,null,null,null,null,null,null,null,null,null,null,null,null,null,null,null,null,null,null,null,null,null,null,null,null,null,null,null,null,null,null,null,null,null,null,null,null,null,null,null,null,null,null,null,null,null,null,null,null,null,null,null,null,null,null,null,null,null,null,null,null,null,null,null,null,null,null,null,null,null,null,null,null,null,null,null,null,null,null,null,null,null,null,null,null,null,null,null,null,null,null,null,null,null,null,null,null,null,null,null,null,null,null,null,null,null,null,null,null,null,null,null,null,null,null,null,null,null,null,null,null,null,null,null,null,null,null,null,null,null,null,null,null,null,null,null,null,null,null,null,null,null,null,null,null,null,null,null,null,null,null,null,null,null,null,null,null,null,null,null,null,null,null,null,null,null,null,null,null,null,null,null,null,null,null,null,null,null,null,null,null,null,null,null,null,null,null,null,null,null,null,null,null,null,null,null,null,null,null,null,null,null,null,null,null,null,null,null,null,null,null,null,null,null,null,null,null,null,null,null,null,null,null,null,null,null,null,null,null,null,null,null,null,null,null,null,null,null,null,null,null,null,null,null,null,null,null,null,null,null,null,null,null,null,null,null,null,null,null,null,null,null,null,null,null,null,null,null,null,null,null,null,null,null,null,null,null,null,null,null,null,null,null,null,null,"Numbers indicate knowledge about the certainty of assessment: 0 = N/A, 1 = Potential Source, 2 = Suspected Source, 3 = Known Source."]
[null,null,null,null,null,null,null,null,null,null,null,null,null,null,null,null,null,null,null,null,null,null,null,null,null,null,null,null,null,null,null,null,null,null,null,null,null,null,null,null,null,null,null,null,null,null,null,null,null,null,null,null,null,null,null,null,null,null,null,null,null,null,null,null,null,null,null,null,null,null,null,null,null,null,null,null,null,null,null,null,null,null,null,null,null,null,null,null,null,null,null,null,null,null,null,null,null,null,null,null,null,null,null,null,null,null,null,null,null,null,null,null,null,null,null,null,null,null,null,null,null,null,null,null,null,null,null,null,null,null,null,null,null,null,null,null,null,null,null,null,null,null,null,null,null,null,null,null,null,null,null,null,null,null,null,null,null,null,null,null,null,null,null,null,null,null,null,null,null,null,null,null,null,null,null,null,null,null,null,null,null,null,null,null,null,null,null,null,null,null,null,null,null,null,null,null,null,null,null,null,null,null,null,null,null,null,null,null,null,null,null,null,null,null,null,null,null,null,null,null,null,null,null,null,null,null,null,null,null,null,null,null,null,null,null,null,null,null,null,null,null,null,null,null,null,null,null,null,null,null,null,null,null,null,null,null,null,null,null,null,null,null,null,null,null,null,null,null,null,null,null,null,null,null,null,null,null,null,null,null,null,null,null,null,null,"This list is then processed below to remove duplicates."]
[null,null,null,null,null,null,null,null,null,null,null,null,null,"Designate Point & Non-Point Sources",null,null,null,null,null,null,null,null,null,null,null,null,null,null,null,null,null,null,null,null,null,null,null,null,null,"Designate Point & Non-Point Sources",null,null,null,null,null,null,null,null,null,null,null,null,null,null,null,null,null,null,null,null,null,null,null,null,null,"Designate Point & Non-Point Sources",null,null,null,null,null,null,null,null,null,null,null,null,null,null,null,null,null,null,null,null,null,null,null,null,null,"Designate Point & Non-Point Sources",null,null,null,null,null,null,null,null,null,null,null,null,null,null,null,null,null,null,null,null,null,null,null,null,null,"Designate Point & Non-Point Sources",null,null,null,null,null,null,null,null,null,null,null,null,null,null,null,null,null,null,null,null,null,null,null,null,null,"Designate Point & Non-Point Sources",null,null,null,null,null,null,null,null,null,null,null,null,null,null,null,null,null,null,null,null,null,null,null,null,null,"Designate Point & Non-Point Sources",null,null,null,null,null,null,null,null,null,null,null,null,null,null,null,null,null,null,null,null,null,null,null,null,null,"Designate Point & Non-Point Sources",null,null,null,null,null,null,null,null,null,null,null,null,null,null,null,null,null,null,null,null,null,null,null,null,null,"Designate Point & Non-Point Sources",null,null,null,null,null,null,null,null,null,null,null,null,null,null,null,null,null,null,null,null,null,null,null,null,null,"Designate Point & Non-Point Sources"]
[null,null,null,null,null,null,null,null,null,null,null,null,null,null,null,null,null,null,null,null,null,null,null,"Codes selected at left are distributed according to Source Type. "]
[null,{"$f":"\"River Basin: \"&RiverBasinName","v":"River Basin: Test River Basin"},null,null,null,null,{"$f":"\"Data Year:  \"&AssessmentYear","v":"Data Year:  2011"},null,null,null,null,null,null,null,null,null,null,null,null,null,null,null,null,"Numbers indicate confidence of assessment: 0 = N/A, 1 = Potential Source, 2 = Suspected Source, 3 = Known Source.",null,null,null,null,null,null,null,null,null,null,null,null,null,null,null,null,null,null,null,null,null,null,null,null,null,null,null,null,null,null,null,null,null,null,null,null,null,null,null,null,null,null,null,null,null,null,null,null,null,null,null,null,null,null,null,null,null,null,null,null,null,null,null,null,null,null,null,null,null,null,null,null,null,null,null,null,null,null,null,null,null,null,null,null,null,null,null,null,null,null,null,null,null,null,null,null,null,null,null,null,null,null,null,null,null,null,null,null,null,null,null,null,null,null,null,null,null,null,null,null,null,null,null,null,null,null,null,null,null,null,null,null,null,null,null,null,null,null,null,null,null,null,null,null,null,null,null,null,null,null,null,null,null,null,null,null,null,null,null,null,null,null,null,null,null,null,null,null,null,null,null,null,null,null,null,null,null,null,null,null,null,null,null,null,null,null,null,null,null,null,null,null,null,null,null,null,null,null,null,null,null,null,null,null,null,null,null,null,null,null,null,null,null,null,null,null,null,null,null,null,null,null,null,null,null,null,null,null,null,null,null,null,null,null,null,null,null,null,null,null,null,null,null,null,null,null,null,null,null,null,null,null,null,null,null,null,null,null,null,null,null,null,"Municp",null,null,"Industr",null,null,"St Water",null,null,"Res Ext",null,null,"Land Dis",null,null,"Seds",null,null,"Hydro",null,null,"Other",null,null,"Unknown"]
[null,{"$f":"\"Segment Name: \"&C60","v":"Segment Name: qqqqqq"},null,null,null,null,null,null,null,null,null,null,null,null,null,null,null,null,null,null,null,null,null,"These codes are processed by \"SourceRC_List macro and transferred to Source report card."]
[null,{"$f":"\"Class: \"&C64","v":"Class: "},null,{"$f":"\"Size: \"&C63","v":"Size: "},null,null,{"$f":"\"Seg ID #: \"&C62","v":"Seg ID #: "}]
[null,"CATEGORY","INDICATOR ASSESSMENT",null,"OVERALL STATUS","DATA LEVEL","POINT","NONPOINT",null,null,null,null,null,"Point Sources",null,null,null,null,null,null,null,null,null,"Municipal",null,null,"Industrial",null,null,"Storm Water",null,null,"Resource Ext",null,null,"Land Disposal",null,null,null,"Point Sources",null,null,null,null,null,null,null,null,null,"Municipal",null,null,"Industrial",null,null,"Storm Water",null,null,"Resource Ext",null,null,"Land Disposal",null,null,null,"Point Sources",null,null,null,null,null,null,null,null,null,"Municipal",null,null,"Industrial",null,null,"Storm Water",null,null,"Resource Ext",null,null,"Land Disposal",null,null,null,"Point Sources",null,null,null,null,null,null,null,null,null,"Municipal",null,null,"Industrial",null,null,"Storm Water",null,null,"Resource Ext",null,null,"Land Disposal",null,null,null,"Point Sources",null,null,null,null,null,null,null,null,null,"Municipal",null,null,"Industrial",null,null,"Storm Water",null,null,"Resource Ext",null,null,"Land Disposal",null,null,null,"Point Sources",null,null,null,null,null,null,null,null,null,"Municipal",null,null,"Industrial",null,null,"Storm Water",null,null,"Resource Ext",null,null,"Land Disposal",null,null,null,"Point Sources",null,null,null,null,null,null,null,null,null,"Municipal",null,null,"Industrial",null,null,"Storm Water",null,null,"Resource Ext",null,null,"Land Disposal",null,null,null,"Point Sources",null,null,null,null,null,null,null,null,null,"Municipal",null,null,"Industrial",null,null,"Storm Water",null,null,"Resource Ext",null,null,"Land Disposal",null,null,null,"Point Sources",null,null,null,null,null,null,null,null,null,"Municipal",null,null,"Industrial",null,null,"Storm Water",null,null,"Resource Ext",null,null,"Land Disposal",null,null,null,"Point Sources",null,null,null,null,null,null,null,null,null,"Municipal",null,null,"Industrial",null,null,"Storm Water",null,null,"Resource Ext",null,null,"Land Disposal"]
[null,null,null,null,null,null,"Click below to select Sources"]
[null,"Biology","Plank/Peri.   A","NA","NA","NA",{"$f":"$O$15&\"  \"&$O$16&\"  \"&$O$17&\"  \"&$O$18&\"  \"&$O$19&\"  \"&$O$20","v":"          "},{"$f":"$O$28&\"  \"&$O$29&\"  \"&$O$30&\"  \"&$O$31&\"  \"&$O$32&\"  \"&$O$33","v":"          "}]
[null,null,"Macrophyton   M","NA"]
[null,null,"Invertebrates   I","NA"]
[null,null,"Fish   F","NA"]
[null,null,"Wildlife   W","NA"]
[]
[null,"Chemistry","Dis. Oxygen    DO","NA","NA","NA",{"$f":"$AO$15&\"  \"&$AO$16&\"  \"&$AO$17&\"  \"&$AO$18&\"  \"&$AO$19&\"  \"&$AO$20","v":"          "},{"$f":"$AO$28&\"  \"&$AO$29&\"  \"&$AO$30&\"  \"&$AO$31&\"  \"&$AO$32&\"  \"&$AO$33","v":"          "}]
[null,null,"pH     pH","NA"]
[null,null,"Temperature    T","NA"]
[null,null,"Ionic Strength    Z","NA"]
[null,null,"Sus. Solids    SS","NA"]
[null,null,null,null,null,null,null,null,null,null,null,null,null,"Non Point Sources",null,null,null,null,null,null,null,null,null,"Seds",null,null,"Hydromodification",null,null,"Other",null,null,"Unknown",null,null,null,null,null,null,"Non Point Sources",null,null,null,null,null,null,null,null,null,"Seds",null,null,"Hydromodification",null,null,"Other",null,null,"Unknown",null,null,null,null,null,null,"Non Point Sources",null,null,null,null,null,null,null,null,null,"Seds",null,null,"Hydromodification",null,null,"Other",null,null,"Unknown",null,null,null,null,null,null,"Non Point Sources",null,null,null,null,null,null,null,null,null,"Seds",null,null,"Hydromodification",null,null,"Other",null,null,"Unknown",null,null,null,null,null,null,"Non Point Sources",null,null,null,null,null,null,null,null,null,"Seds",null,null,"Hydromodification",null,null,"Other",null,null,"Unknown",null,null,null,null,null,null,"Non Point Sources",null,null,null,null,null,null,null,null,null,"Seds",null,null,"Hydromodification",null,null,"Other",null,null,"Unknown",null,null,null,null,null,null,"Non Point Sources",null,null,null,null,null,null,null,null,null,"Seds",null,null,"Hydromodification",null,null,"Other",null,null,"Unknown",null,null,null,null,null,null,"Non Point Sources",null,null,null,null,null,null,null,null,null,"Seds",null,null,"Hydromodification",null,null,"Other",null,null,"Unknown",null,null,null,null,null,null,"Non Point Sources",null,null,null,null,null,null,null,null,null,"Seds",null,null,"Hydromodification",null,null,"Other",null,null,"Unknown",null,null,null,null,null,null,"Non Point Sources",null,null,null,null,null,null,null,null,null,"Seds",null,null,"Hydromodification",null,null,"Other",null,null,"Unknown"]
[null,"Nutrients","Phosphorus  P","NA","NA","NA",{"$f":"$BO$15&\"  \"&$BO$16&\"  \"&$BO$17&\"  \"&$BO$18&\"  \"&$BO$19&\"  \"&$BO$20","v":"          "},{"$f":"$BO$28&\"  \"&$BO$29&\"  \"&$BO$30&\"  \"&$BO$31&\"  \"&$BO$32&\"  \"&$BO$33","v":"          "}]
[null,null,"Nitrogen   N","NA"]
[]
[null,"Toxicity","Unknown   U","NA","NA","NA",{"$f":"$CO$15&\"  \"&$CO$16&\"  \"&$CO$17&\"  \"&$CO$18&\"  \"&$CO$19&\"  \"&$CO$20","v":"          "},{"$f":"$CO$28&\"  \"&$CO$29&\"  \"&$CO$30&\"  \"&$CO$31&\"  \"&$CO$32&\"  \"&$CO$33","v":"          "}]
[null,null,{"$f":"\"Spec. Chem.  \"&CN44","v":"Spec. Chem.  Ag"},"NA"]
[null,null,null,null,null,null,null,null,null,null,null,null,null,null,null,null,null,null,null,null,null,null,null,null,null,null,null,null,null,null,null,null,null,null,null,null,null,null,null,null,null,null,null,null,null,null,null,null,null,null,null,null,null,null,null,null,null,null,null,null,null,null,null,null,null,null,null,null,null,null,null,null,null,null,null,null,null,null,null,null,null,null,null,null,null,null,null,null,null,null,null,null,null,null,null,null,null,null,null,null,null,null,null,null,null,null,null,null,null,null,null,null,null,null,null,null,null,null,null,null,null,null,null,null,null,null,null,null,null,null,null,null,null,null,null,null,null,null,null,null,null,null,null,null,null,null,null,null,null,null,null,null,null,null,null,null,null,null,null,null,null,null,null,null,null,null,null,null,null,null,null,null,null,null,null,null,null,null,null,null,null,null,null,null,null,null,null,null,null,null,null,null,null,null,null,null,null,null,null,null,null,null,null,null,null,null,null,null,null,null,null,null,null,null,null,null,null,null,null,null,null,null,null,null,null,null,null,null,null,null,null,null,null,null,null,null,null,null,null,null,null,null,null,null,null,null,null,null,null,null,null,null,null,null,null,null,null,null,null,null,null,null,null,null,null,null,null,null,null,null,null,null,null,null,null,null,null,null,null,null,null,null,null,null,null,"The colored cells below reflect this segments pollution status and are replicated on the Sources report card automatically"]
[null,"Flow","Flow  Q","NA","NA","NA",{"$f":"$DO$15&\"  \"&$DO$16&\"  \"&$DO$17&\"  \"&$DO$18&\"  \"&$DO$19&\"  \"&$DO$20","v":"          "},{"$f":"$DO$28&\"  \"&$DO$29&\"  \"&$DO$30&\"  \"&$DO$31&\"  \"&$DO$32&\"  \"&$DO$33","v":"          "},null,null,null,null,null,null,null,null,null,null,null,null,null,null,null,null,null,null,null,null,null,null,null,null,null,null,null,null,null,null,null,null,null,null,null,null,null,null,null,null,null,null,null,null,null,null,null,null,null,null,null,null,null,null,null,null,null,null,null,null,null,null,null,null,null,null,null,null,null,null,null,null,null,null,null,null,null,null,null,null,null,null,null,null,null,null,null,null,null,null,null,null,null,null,null,null,null,null,null,null,null,null,null,null,null,null,null,null,null,null,null,null,null,null,null,null,null,null,null,null,null,null,null,null,null,null,null,null,null,null,null,null,null,null,null,null,null,null,null,null,null,null,null,null,null,null,null,null,null,null,null,null,null,null,null,null,null,null,null,null,null,null,null,null,null,null,null,null,null,null,null,null,null,null,null,null,null,null,null,null,null,null,null,null,null,null,null,null,null,null,null,null,null,null,null,null,null,null,null,null,null,null,null,null,null,null,null,null,null,null,null,null,null,null,null,null,null,null,null,null,null,null,null,null,null,null,null,null,null,null,null,null,null,null,null,null,null,null,null,null,null,null,null,null,null,null,null,null,null,null,null,null,null,null,null,null,null,null,null,null,null,null,null,null,null,null,null,null,null,null,null,null,null,null,null,null,null,null,{"$f":"KA11","v":"Municp"},null,null,{"$f":"KD11","v":"Industr"},null,null,{"$f":"KG11","v":"St Water"},null,null,{"$f":"KJ11","v":"Res Ext"},null,null,{"$f":"KM11","v":"Land Dis"},null,null,{"$f":"KP11","v":"Seds"},null,null,{"$f":"KS11","v":"Hydro"},null,null,{"$f":"KV11","v":"Other"},null,null,{"$f":"KY11","v":"Unknown"}]
[null,null,null,null,null,null,null,null,null,null,null,null,null,"* designates a Suspected Source",null,null,null,null,null,null,null,null,null,null,null,null,null,null,null,null,null,null,null,null,null,null,null,null,null,"* designates a Suspected Source",null,null,null,null,null,null,null,null,null,null,null,null,null,null,null,null,null,null,null,null,null,null,null,null,null,"* designates a Suspected Source",null,null,null,null,null,null,null,null,null,null,null,null,null,null,null,null,null,null,null,null,null,null,null,null,null,"* designates a Suspected Source",null,null,null,null,null,null,null,null,null,null,null,null,null,null,null,null,null,null,null,null,null,null,null,null,null,"* designates a Suspected Source",null,null,null,null,null,null,null,null,null,null,null,null,null,null,null,null,null,null,null,null,null,null,null,null,null,"* designates a Suspected Source",null,null,null,null,null,null,null,null,null,null,null,null,null,null,null,null,null,null,null,null,null,null,null,null,null,"* designates a Suspected Source",null,null,null,null,null,null,null,null,null,null,null,null,null,null,null,null,null,null,null,null,null,null,null,null,null,"* designates a Suspected Source",null,null,null,null,null,null,null,null,null,null,null,null,null,null,null,null,null,null,null,null,null,null,null,null,null,"* designates a Suspected Source",null,null,null,null,null,null,null,null,null,null,null,null,null,null,null,null,null,null,null,null,null,null,null,null,null,null,null,null,null,null,null,null,null,null,null,null,null,null,null,null,null,null,null,null,null,null,null,null,null,null,null,null,null,null,null,null,null,null,null,null,null,null,null,null,{"$f":"TRIM(KA41&\" \"&KA42&\" \"&KA43&\" \"&KA44&\" \"&KA45&\" \"&KA46)","v":""},null,null,{"$f":"TRIM(KD41&\" \"&KD42&\" \"&KD43&\" \"&KD44&\" \"&KD45&\" \"&KD46)","v":""},null,null,{"$f":"TRIM(KG41&\" \"&KG42&\" \"&KG43&\" \"&KG44&\" \"&KG45&\" \"&KG46)","v":""},null,null,{"$f":"TRIM(KJ41&\" \"&KJ42&\" \"&KJ43&\" \"&KJ44&\" \"&KJ45&\" \"&KJ46)","v":""},null,null,{"$f":"TRIM(KM41&\" \"&KM42&\" \"&KM43&\" \"&KM44&\" \"&KM45&\" \"&KM46)","v":""},null,null,{"$f":"TRIM(KP41&\" \"&KP42&\" \"&KP43&\" \"&KP44&\" \"&KP45&\" \"&KP46)","v":""},null,null,{"$f":"TRIM(KS41&\" \"&KS42&\" \"&KS43&\" \"&KS44&\" \"&KS45&\" \"&KS46)","v":""},null,null,{"$f":"TRIM(KV41&\" \"&KV42&\" \"&KV43&\" \"&KV44&\" \"&KV45&\" \"&KV46)","v":""},null,null,{"$f":"TRIM(KY41&\" \"&KY42&\" \"&KY43&\" \"&KY44&\" \"&KY45&\" \"&KY46)","v":""}]
[null,"Habitat","Substrate   S","NA","NA","NA",{"$f":"$EO$15&\"  \"&$EO$16&\"  \"&$EO$17&\"  \"&$EO$18&\"  \"&$EO$19&\"  \"&$EO$20","v":"          "},{"$f":"$EO$28&\"  \"&$EO$29&\"  \"&$EO$30&\"  \"&$EO$31&\"  \"&$EO$32&\"  \"&$EO$33","v":"          "},null,null,null,null,null,"** designates a Potential Source",null,null,null,null,null,null,null,null,null,null,null,null,null,null,null,null,null,null,null,null,null,null,null,null,null,"** designates a Potential Source",null,null,null,null,null,null,null,null,null,null,null,null,null,null,null,null,null,null,null,null,null,null,null,null,null,"** designates a Potential Source",null,null,null,null,null,null,null,null,null,null,null,null,null,null,null,null,null,null,null,null,null,null,null,null,null,"** designates a Potential Source",null,null,null,null,null,null,null,null,null,null,null,null,null,null,null,null,null,null,null,null,null,null,null,null,null,"** designates a Potential Source",null,null,null,null,null,null,null,null,null,null,null,null,null,null,null,null,null,null,null,null,null,null,null,null,null,"** designates a Potential Source",null,null,null,null,null,null,null,null,null,null,null,null,null,null,null,null,null,null,null,null,null,null,null,null,null,"** designates a Potential Source",null,null,null,null,null,null,null,null,null,null,null,null,null,null,null,null,null,null,null,null,null,null,null,null,null,"** designates a Potential Source",null,null,null,null,null,null,null,null,null,null,null,null,null,null,null,null,null,null,null,null,null,null,null,null,null,"** designates a Potential Source"]
[null,null,"Morphology   H","NA",null,null,null,null,null,null,null,null,null,"No asterisk designates a Known Source",null,null,null,null,null,null,null,null,null,null,null,null,null,null,null,null,null,null,null,null,null,null,null,null,null,"No asterisk designates a Known Source",null,null,null,null,null,null,null,null,null,null,null,null,null,null,null,null,null,null,null,null,null,null,null,null,null,"No asterisk designates a Known Source",null,null,null,null,null,null,null,null,null,null,null,null,null,null,null,null,null,null,null,null,null,null,null,null,null,"No asterisk designates a Known Source",null,null,null,null,null,null,null,null,null,null,null,null,null,null,null,null,null,null,null,null,null,null,null,null,null,"No asterisk designates a Known Source",null,null,null,null,null,null,null,null,null,null,null,null,null,null,null,null,null,null,null,null,null,null,null,null,null,"No asterisk designates a Known Source",null,null,null,null,null,null,null,null,null,null,null,null,null,null,null,null,null,null,null,null,null,null,null,null,null,"No asterisk designates a Known Source",null,null,null,null,null,null,null,null,null,null,null,null,null,null,null,null,null,null,null,null,null,null,null,null,null,"No asterisk designates a Known Source",null,null,null,null,null,null,null,null,null,null,null,null,null,null,null,null,null,null,null,null,null,null,null,null,null,"No asterisk designates a Known Source",null,null,null,null,null,null,null,null,null,null,null,null,null,null,null,null,null,null,null,null,null,null,null,null,null,null,null,null,null,null,null,null,null,null,null,null,null,null,null,null,null,null,null,null,null,null,null,null,null,null,null,null,null,null,null,null,null,null,null,null,null,null,null,"max confid #",{"$f":"MAX(KB11:KB31)","v":0},null,null,{"$f":"MAX(KE11:KE31)","v":0},null,null,{"$f":"MAX(KH11:KH31)","v":0},null,null,{"$f":"MAX(KK11:KK31)","v":0},null,null,{"$f":"MAX(KN11:KN31)","v":0},null,null,{"$f":"MAX(KQ11:KQ31)","v":0},null,null,{"$f":"MAX(KT11:KT31)","v":0},null,null,{"$f":"MAX(KW11:KW31)","v":0},null,null,{"$f":"MAX(KZ11:KZ31)","v":0}]
[null,null,"Riparian Zone   R","NA",null,null,null,null,null,null,null,null,null,"Square brackets designates an Out of Segment Source (i.e., pollutant is a source for downstream segments)",null,null,null,null,null,null,null,null,null,null,null,null,null,null,null,null,null,null,null,null,null,null,null,null,null,"Square brackets designates an Out of Segment Source (i.e., pollutant is a source for downstream segments)",null,null,null,null,null,null,null,null,null,null,null,null,null,null,null,null,null,null,null,null,null,null,null,null,null,"Square brackets designates an Out of Segment Source (i.e., pollutant is a source for downstream segments)",null,null,null,null,null,null,null,null,null,null,null,null,null,null,null,null,null,null,null,null,null,null,null,null,null,"Square brackets designates an Out of Segment Source (i.e., pollutant is a source for downstream segments)",null,null,null,null,null,null,null,null,null,null,null,null,null,null,null,null,null,null,null,null,null,null,null,null,null,"Square brackets designates an Out of Segment Source (i.e., pollutant is a source for downstream segments)",null,null,null,null,null,null,null,null,null,null,null,null,null,null,null,null,null,null,null,null,null,null,null,null,null,"Square brackets designates an Out of Segment Source (i.e., pollutant is a source for downstream segments)",null,null,null,null,null,null,null,null,null,null,null,null,null,null,null,null,null,null,null,null,null,null,null,null,null,"Square brackets designates an Out of Segment Source (i.e., pollutant is a source for downstream segments)",null,null,null,null,null,null,null,null,null,null,null,null,null,null,null,null,null,null,null,null,null,null,null,null,null,"Square brackets designates an Out of Segment Source (i.e., pollutant is a source for downstream segments)",null,null,null,null,null,null,null,null,null,null,null,null,null,null,null,null,null,null,null,null,null,null,null,null,null,"Square brackets designates an Out of Segment Source (i.e., pollutant is a source for downstream segments)",null,null,null,null,null,null,null,null,null,null,null,null,null,null,null,null,null,null,null,null,null,null,null,null,null,null,null,null,null,null,null,null,null,null,null,null,null,null,null,null,null,null,null,null,null,null,null,null,null,null,null,null,null,null,null,null,null,null,null,null,null,null,null,"The lists below show unique codes in lists assembled above. Numbers are max confidence #, used to color cells for worst case. The codes are catenated in the colored boxes above for transfer to Sources RC when that sheet is activated."]
[]
[null,"Bacteria","Bacteria   B","NA","NA","NA",{"$f":"$FO$15&\"  \"&$FO$16&\"  \"&$FO$17&\"  \"&$FO$18&\"  \"&$FO$19&\"  \"&$FO$20","v":"          "},{"$f":"$FO$28&\"  \"&$FO$29&\"  \"&$FO$30&\"  \"&$FO$31&\"  \"&$FO$32&\"  \"&$FO$33","v":"          "},null,null,null,null,null,null,null,null,null,null,null,null,null,null,null,null,null,null,null,null,null,null,null,null,null,null,null,null,null,null,null,null,null,null,null,null,null,null,null,null,null,null,null,null,null,null,null,null,null,null,null,null,null,null,null,null,null,null,null,null,null,null,null,null,null,null,null,null,null,null,null,null,null,null,null,null,null,null,null,null,null,null,null,null,null,null,null,null,null,null,null,null,null,null,null,null,null,null,null,null,null,null,null,null,null,null,null,null,null,null,null,null,null,null,null,null,null,null,null,null,null,null,null,null,null,null,null,null,null,null,null,null,null,null,null,null,null,null,null,null,null,null,null,null,null,null,null,null,null,null,null,null,null,null,null,null,null,null,null,null,null,null,null,null,null,null,null,null,null,null,null,null,null,null,null,null,null,null,null,null,null,null,null,null,null,null,null,null,null,null,null,null,null,null,null,null,null,null,null,null,null,null,null,null,null,null,null,null,null,null,null,null,null,null,null,null,null,null,null,null,null,null,null,null,null,null,null,null,null,null,null,null,null,null,null,null,null,null,null,null,null,null,null,null,null,null,null,null,null,null,null,null,null,null,null,null,null,null,null,null,null,null,null,null,null,null,null,null,null,null,null,null,null,null,null,null,null,null,"Municp",null,null,"Industr",null,null,"St Water",null,null,"Res Ext",null,null,"Land Dis",null,null,"Seds",null,null,"Hydro",null,null,"Other",null,null,"Unknown"]
[]
[null,"Aesthetics","Oil & Grease   G","NA","NA","NA",{"$f":"$GO$15&\"  \"&$GO$16&\"  \"&$GO$17&\"  \"&$GO$18&\"  \"&$GO$19&\"  \"&$GO$20","v":"          "},{"$f":"$GO$28&\"  \"&$GO$29&\"  \"&$GO$30&\"  \"&$GO$31&\"  \"&$GO$32&\"  \"&$GO$33","v":"          "},null,null,null,null,null,null,null,null,null,null,null,null,null,null,null,null,null,null,null,null,null,null,null,null,null,null,null,null,null,null,null,null,null,null,null,null,null,null,null,null,null,null,null,null,null,null,null,null,null,null,null,null,null,null,null,null,null,null,null,null,null,null,null,null,null,null,null,null,null,null,null,null,null,null,null,null,null,null,null,null,null,null,null,"Identify the suspected toxic chemical substance below (e.g., Hg, PCB, etc). ",null,null,null,null,null,null,null,null,null,null,null,null,null,null,null,null,null,null,null,null,null,null,null,null,null,null,null,null,null,null,null,null,null,null,null,null,null,null,null,null,null,null,null,null,null,null,null,null,null,null,null,null,null,null,null,null,null,null,null,null,null,null,null,null,null,null,null,null,null,null,null,null,null,null,null,null,null,null,null,null,null,null,null,null,null,null,null,null,null,null,null,null,null,null,null,null,null,null,null,null,null,null,null,null,null,null,null,null,null,null,null,null,null,null,null,null,null,null,null,null,null,null,null,null,null,null,null,null,null,null,null,null,null,null,null,null,null,null,null,null,null,null,null,null,null,null,null,null,null,null,null,null,null,null,null,"Identify the suspected toxic chemical substance below (e.g., Hg, PCB, etc). "]
[null,null,"Taste & Odor   O","NA",null,null,null,null,null,null,null,null,null,null,"Pollution  Indicators (Causes):  ",null,{"$f":"P46&\" \"&P47&\" \"&P48&\" \"&P49&\" \"&P50&\" \"&P51","v":"     "},null,null,null,null,null,null,null,null,null,null,null,null,null,null,null,null,null,null,null,null,null,null,null,"Pollution  Indicators (Causes):  ",null,{"$f":"AP46&\" \"&AP47&\" \"&AP48&\" \"&AP49&\" \"&AP50&\" \"&AP51","v":"     "},null,null,null,null,null,null,null,null,null,null,null,null,null,null,null,null,null,null,null,null,null,null,null,"Pollution  Indicators (Causes):  ",null,{"$f":"BP46&\" \"&BP47&\" \"&BP48","v":"  "},null,null,null,null,null,null,null,null,null,null,null,null,null,null,null,null,null,null,null,null,null,null,null,null,null,null,null,null,null,null,null,null,null,null,null,null,null,null,null,null,null,null,null,null,null,null,null,null,null,"Pollution  Indicators (Causes):  ",null,{"$f":"DP46&\" \"&DP47","v":" "},null,null,null,null,null,null,null,null,null,null,null,null,null,null,null,null,null,null,null,null,null,null,null,"Pollution  Indicators (Causes):  ",null,{"$f":"EP46&\" \"&EP47&\" \"&EP48&\" \"&EP49","v":"   "},null,null,null,null,null,null,null,null,null,null,null,null,null,null,null,null,null,null,null,null,null,null,null,"Pollution  Indicators (Causes):  ",null,{"$f":"FP46&\" \"&FP47","v":" "},null,null,null,null,null,null,null,null,null,null,null,null,null,null,null,null,null,null,null,null,null,null,null,"Pollution  Indicators (Causes):  ",null,{"$f":"GP46&\" \"&GP47&\" \"&GP48&\" \"&GP49&\" \"&GP50&\" \"&GP51","v":"     "},null,null,null,null,null,null,null,null,null,null,null,null,null,null,null,null,null,null,null,null,null,null,"Identify the suspected toxic chemical substance below (e.g., Hg, PCB, etc). "]
[null,null,"Turb/Color   C","NA",null,null,null,null,null,null,null,null,null,null,null,null,null,null,null,null,null,null,null,null,null,null,null,null,null,null,null,null,null,null,null,null,null,null,null,null,null,null,null,null,null,null,null,null,null,null,null,null,null,null,null,null,null,null,null,null,null,null,null,null,null,null,null,null,null,null,null,null,null,null,null,null,null,null,null,null,null,null,null,null,null,null,null,null,null,null,null,"Ag",null,null,null,null,null,null,null,null,null,null,null,null,null,null,null,null,null,null,null,null,null,null,null,null,null,null,null,null,null,null,null,null,null,null,null,null,null,null,null,null,null,null,null,null,null,null,null,null,null,null,null,null,null,null,null,null,null,null,null,null,null,null,null,null,null,null,null,null,null,null,null,null,null,null,null,null,null,null,null,null,null,null,null,null,null,null,null,null,null,null,null,null,null,null,null,null,null,null,null,null,null,null,null,null,null,null,null,null,null,null,null,null,null,null,null,null,null,null,null,null,null,null,null,null,null,null,null,null,null,null,null,null,null,null,null,null,null,null,null,null,null,null,null,null,null,null,null,null,null,null,null,null,null,null,null,"DDT"]
[null,null,"Nuisance Plants   V","NA",null,null,null,null,null,null,null,null,null,null,{"$f":"$B$16","v":"Biology"},null,null,null,null,null,null,null,null,null,null,null,null,null,null,null,null,null,null,null,null,null,null,null,null,null,{"$f":"$B$22","v":"Chemistry"},null,null,null,null,null,null,null,null,null,null,null,null,null,null,null,null,null,null,null,null,null,null,null,null,null,{"$f":"$B$28","v":"Nutrients"},null,null,null,null,null,null,null,null,null,null,null,null,null,null,null,null,null,null,null,null,null,null,null,null,null,null,null,null,null,null,null,null,null,null,null,null,null,null,null,null,null,null,null,null,null,null,null,null,null,null,null,{"$f":"$B$34","v":"Flow"},null,null,null,null,null,null,null,null,null,null,null,null,null,null,null,null,null,null,null,null,null,null,null,null,null,{"$f":"$B$36","v":"Habitat"},null,null,null,null,null,null,null,null,null,null,null,null,null,null,null,null,null,null,null,null,null,null,null,null,null,{"$f":"$B$40","v":"Bacteria"},null,null,null,null,null,null,null,null,null,null,null,null,null,null,null,null,null,null,null,null,null,null,null,null,null,{"$f":"$B$42","v":"Aesthetics"},null,null,null,null,null,null,null,null,null,null,null,null,null,null,null,null,null,null,null,null,null,null,null,null,"PCB"]
[null,null,"Trash /Debris   D","NA",null,null,null,null,null,null,null,null,null,null,{"$f":"$C$16","v":"Plank/Peri.   A"},{"$f":"IF($D$16=\"Concern\",\"(A)\",IF(OR($D$16=\"Fair\",$D$16=\"Poor\"),\"A\",\"\"))","v":""},null,null,null,null,null,null,null,null,null,null,null,null,null,null,null,null,null,null,null,null,null,null,null,null,{"$f":"$C$22","v":"Dis. Oxygen    DO"},{"$f":"IF($D$22=\"Concern\",\"(DO)\",IF(OR($D$22=\"Fair\",$D$22=\"Poor\"),\"DO\",\"\"))","v":""},null,null,null,null,null,null,null,null,null,null,null,null,null,null,null,null,null,null,null,null,null,null,null,null,{"$f":"$C$28","v":"Phosphorus  P"},{"$f":"IF($D$28=\"Concern\",\"(P)\",IF(OR($D$28=\"Fair\",$D$28=\"Poor\"),\"P\",\"\"))","v":""},null,null,null,null,null,null,null,null,null,null,null,null,null,null,null,null,null,null,null,null,null,null,null,null,null,null,null,null,null,null,null,null,null,null,null,null,null,null,null,null,null,null,null,null,null,null,null,null,null,null,{"$f":"$C$34","v":"Flow  Q"},{"$f":"IF($D$34=\"Concern\",\"(O)\",IF(OR($D$34=\"Fair\",$D$34=\"Poor\"),\"O\",\"\"))","v":""},null,null,null,null,null,null,null,null,null,null,null,null,null,null,null,null,null,null,null,null,null,null,null,null,{"$f":"$C$36","v":"Substrate   S"},{"$f":"IF($D$36=\"Concern\",\"(S)\",IF(OR($D$36=\"Fair\",$D$36=\"Poor\"),\"S\",\"\"))","v":""},null,null,null,null,null,null,null,null,null,null,null,null,null,null,null,null,null,null,null,null,null,null,null,null,{"$f":"$C$40","v":"Bacteria   B"},{"$f":"IF($D$40=\"Concern\",\"(B)\",IF(OR($D$40=\"Fair\",$D$40=\"Poor\"),\"B\",\"\"))","v":""},null,null,null,null,null,null,null,null,null,null,null,null,null,null,null,null,null,null,null,null,null,null,null,null,{"$f":"$C$42","v":"Oil & Grease   G"},{"$f":"IF($D$42=\"Concern\",\"(G)\",IF(OR($D$42=\"Fair\",$D$42=\"Poor\"),\"G\",\"\"))","v":""}]
[null,null,null,null,null,null,null,null,null,null,null,null,null,null,{"$f":"$C$17","v":"Macrophyton   M"},{"$f":"IF($D$17=\"Concern\",\"(M)\",IF(OR($D$17=\"Fair\",$D$17=\"Poor\"),\"M\",\"\"))","v":""},null,null,null,null,null,null,null,null,null,null,null,null,null,null,null,null,null,null,null,null,null,null,null,null,{"$f":"$C$23","v":"pH     pH"},{"$f":"IF($D$23=\"Concern\",\"(pH)\",IF(OR($D$23=\"Fair\",$D$23=\"Poor\"),\"pH\",\"\"))","v":""},null,null,null,null,null,null,null,null,null,null,null,null,null,null,null,null,null,null,null,null,null,null,null,null,{"$f":"$C$29","v":"Nitrogen   N"},{"$f":"IF($D$29=\"Concern\",\"(N)\",IF(OR($D$29=\"Fair\",$D$29=\"Poor\"),\"N\",\"\"))","v":""},null,null,null,null,null,null,null,null,null,null,null,null,null,null,null,null,null,null,null,null,null,null,null,null,null,null,null,null,null,null,null,null,null,null,null,null,null,null,null,null,null,null,null,null,null,null,null,null,null,null,{"$f":"IF($C$41=\"\",\"\",$C$41)","v":""},{"$f":"IF($D$35=\"Concern\",\"(**)\",IF(OR($D$35=\"Fair\",$D$35=\"Poor\"),\"**\",\"\"))","v":""},null,null,null,null,null,null,null,null,null,null,null,null,null,null,null,null,null,null,null,null,null,null,null,null,{"$f":"$C$37","v":"Morphology   H"},{"$f":"IF($D$37=\"Concern\",\"(H)\",IF(OR($D$37=\"Fair\",$D$37=\"Poor\"),\"H\",\"\"))","v":""},null,null,null,null,null,null,null,null,null,null,null,null,null,null,null,null,null,null,null,null,null,null,null,null,{"$f":"IF($C$41=\"\",\"\",$C$41)","v":""},{"$f":"IF($D$41=\"Concern\",\"(**)\",IF(OR($D$41=\"Fair\",$D$41=\"Poor\"),\"**\",\"\"))","v":""},null,null,null,null,null,null,null,null,null,null,null,null,null,null,null,null,null,null,null,null,null,null,null,null,{"$f":"$C$43","v":"Taste & Odor   O"},{"$f":"IF($D$43=\"Concern\",\"(O)\",IF(OR($D$43=\"Fair\",$D$43=\"Poor\"),\"O\",\"\"))","v":""}]
[null,"Tissue",{"$f":"\"Spec. Chem.   \"&HN45","v":"Spec. Chem.   PCB"},"NA","NA","NA",{"$f":"$HO$15&\"  \"&$HO$16&\"  \"&$HO$17&\"  \"&$HO$18&\"  \"&$HO$19&\"  \"&$HO$20","v":"          "},{"$f":"$HO$28&\"  \"&$HO$29&\"  \"&$HO$30&\"  \"&$HO$31&\"  \"&$HO$32&\"  \"&$HO$33","v":"          "},null,null,null,null,null,null,{"$f":"$C$18","v":"Invertebrates   I"},{"$f":"IF($D$18=\"Concern\",\"(I)\",IF(OR($D$18=\"Fair\",$D$18=\"Poor\"),\"I\",\"\"))","v":""},null,null,null,null,null,null,null,null,null,null,null,null,null,null,null,null,null,null,null,null,null,null,null,null,{"$f":"$C$24","v":"Temperature    T"},{"$f":"IF($D$24=\"Concern\",\"(T)\",IF(OR($D$24=\"Fair\",$D$24=\"Poor\"),\"T\",\"\"))","v":""},null,null,null,null,null,null,null,null,null,null,null,null,null,null,null,null,null,null,null,null,null,null,null,null,{"$f":"IF($C$30=\"\",\"\",$C$30)","v":""},{"$f":"IF($D$30=\"Concern\",\"(**)\",IF(OR($D$30=\"Fair\",$D$30=\"Poor\"),\"**\",\"\"))","v":""},null,null,null,null,null,null,null,null,null,null,null,null,null,null,null,null,null,null,null,null,null,null,null,null,null,null,null,null,null,null,null,null,null,null,null,null,null,null,null,null,null,null,null,null,null,null,null,null,null,null,null,null,null,null,null,null,null,null,null,null,null,null,null,null,null,null,null,null,null,null,null,null,null,null,null,null,{"$f":"$C$38","v":"Riparian Zone   R"},{"$f":"IF($D$38=\"Concern\",\"(R)\",IF(OR($D$38=\"Fair\",$D$38=\"Poor\"),\"R\",\"\"))","v":""},null,null,null,null,null,null,null,null,null,null,null,null,null,null,null,null,null,null,null,null,null,null,null,null,null,null,null,null,null,null,null,null,null,null,null,null,null,null,null,null,null,null,null,null,null,null,null,null,null,null,{"$f":"$C$44","v":"Turb/Color   C"},{"$f":"IF($D$44=\"Concern\",\"(C)\",IF(OR($D$44=\"Fair\",$D$44=\"Poor\"),\"C\",\"\"))","v":""}]
[null,null,null,null,null,null,null,null,null,null,null,null,null,null,{"$f":"$C$19","v":"Fish   F"},{"$f":"IF($D$19=\"Concern\",\"(F)\",IF(OR($D$19=\"Fair\",$D$19=\"Poor\"),\"F\",\"\"))","v":""},null,null,null,null,null,null,null,null,null,null,null,null,null,null,null,null,null,null,null,null,null,null,null,null,{"$f":"$C$25","v":"Ionic Strength    Z"},{"$f":"IF($D$25=\"Concern\",\"(Z)\",IF(OR($D$25=\"Fair\",$D$25=\"Poor\"),\"Z\",\"\"))","v":""},null,null,null,null,null,null,null,null,null,null,null,null,null,null,null,null,null,null,null,null,null,null,null,null,null,null,null,null,null,null,null,null,null,null,null,null,null,null,null,null,null,null,null,null,null,null,null,null,null,null,"Pollution  Indicators (Causes):  ",null,{"$f":"CP52&\" \"&CP53&\" \"&CP54","v":"  "},null,null,null,null,null,null,null,null,null,null,null,null,null,null,null,null,null,null,null,null,null,null,null,null,null,null,null,null,null,null,null,null,null,null,null,null,null,null,null,null,null,null,null,null,null,null,null,null,null,{"$f":"IF($C$39=\"\",\"\",$C$39)","v":""},{"$f":"IF($D$39=\"Concern\",\"(**)\",IF(OR($D$39=\"Fair\",$D$39=\"Poor\"),\"**\",\"\"))","v":""},null,null,null,null,null,null,null,null,null,null,null,null,null,null,null,null,null,null,null,null,null,null,null,null,null,null,null,null,null,null,null,null,null,null,null,null,null,null,null,null,null,null,null,null,null,null,null,null,null,null,{"$f":"$C$45","v":"Nuisance Plants   V"},{"$f":"IF($D$45=\"Concern\",\"(V)\",IF(OR($D$45=\"Fair\",$D$45=\"Poor\"),\"V\",\"\"))","v":""},null,null,null,null,null,null,null,null,null,null,null,null,null,null,null,null,null,null,null,null,null,null,null,null,null,null,null,null,null,null,null,null,null,null,null,null,null,null,null,null,null,null,null,null,null,null,null,null,null,null,"Pollution  Indicators (Causes):  ",null,{"$f":"IP52&\" \"&IP53&\" \"&IP54","v":"  "}]
[null,"Sediment","Unknown   U","NA","NA","NA",{"$f":"$IO$15&\"  \"&$IO$16&\"  \"&$IO$17&\"  \"&$IO$18&\"  \"&$IO$19&\"  \"&$IO$20","v":"          "},{"$f":"$IO$28&\"  \"&$IO$29&\"  \"&$IO$30&\"  \"&$IO$31&\"  \"&$IO$32&\"  \"&$IO$33","v":"          "},null,null,null,null,null,null,{"$f":"$C$20","v":"Wildlife   W"},{"$f":"IF($D$20=\"Concern\",\"(W)\",IF(OR($D$20=\"Fair\",$D$20=\"Poor\"),\"W\",\"\"))","v":""},null,null,null,null,null,null,null,null,null,null,null,null,null,null,null,null,null,null,null,null,null,null,null,null,{"$f":"$C$26","v":"Sus. Solids    SS"},{"$f":"IF($D$26=\"Concern\",\"(SS)\",IF(OR($D$26=\"Fair\",$D$26=\"Poor\"),\"SS\",\"\"))","v":""},null,null,null,null,null,null,null,null,null,null,null,null,null,null,null,null,null,null,null,null,null,null,null,null,null,null,null,null,null,null,null,null,null,null,null,null,null,null,null,null,null,null,null,null,null,null,null,null,null,null,null,null,null,null,null,null,null,null,null,null,null,null,null,null,null,null,null,null,null,null,null,null,null,null,null,null,null,null,null,null,null,null,null,null,null,null,null,null,null,null,null,null,null,null,null,null,null,null,null,null,null,null,null,null,null,null,null,null,null,null,null,null,null,null,null,null,null,null,null,null,null,null,null,null,null,null,null,null,null,null,null,null,null,null,null,null,null,null,null,null,null,null,null,null,null,null,null,null,null,null,null,null,null,null,{"$f":"$C$46","v":"Trash /Debris   D"},{"$f":"IF($D$46=\"Concern\",\"(D)\",IF(OR($D$46=\"Fair\",$D$46=\"Poor\"),\"D\",\"\"))","v":""},null,null,null,null,null,null,null,null,null,null,null,null,null,null,null,null,null,null,null,null,null,null,null,null,"Pollution  Indicators (Causes):  ",null,{"$f":"HP53&\" \"&HP54","v":" "}]
[null,null,{"$f":"\"Spec. Chem.   \"&IN44","v":"Spec. Chem.   DDT"},"NA",null,null,null,null,null,null,null,null,null,null,{"$f":"IF($C$21=\"\",\"\",$C$21)","v":""},{"$f":"IF($D$21=\"Concern\",\"(**)\",IF(OR($D$21=\"Fair\",$D$21=\"Poor\"),\"**\",\"\"))","v":""},null,null,null,null,null,null,null,null,null,null,null,null,null,null,null,null,null,null,null,null,null,null,null,null,{"$f":"IF($C$27=\"\",\"\",$C$27)","v":""},{"$f":"IF($D$27=\"Concern\",\"(**)\",IF(OR($D$27=\"Fair\",$D$27=\"Poor\"),\"**\",\"\"))","v":""},null,null,null,null,null,null,null,null,null,null,null,null,null,null,null,null,null,null,null,null,null,null,null,null,null,null,null,null,null,null,null,null,null,null,null,null,null,null,null,null,null,null,null,null,null,null,null,null,null,null,{"$f":"$B$31","v":"Toxicity"},null,null,null,null,null,null,null,null,null,null,null,null,null,null,null,null,null,null,null,null,null,null,null,null,null,null,null,null,null,null,null,null,null,null,null,null,null,null,null,null,null,null,null,null,null,null,null,null,null,null,null,null,null,null,null,null,null,null,null,null,null,null,null,null,null,null,null,null,null,null,null,null,null,null,null,null,null,null,null,null,null,null,null,null,null,null,null,null,null,null,null,null,null,null,null,null,null,null,null,null,null,null,null,{"$f":"IF($C$47=\"\",\"\",$C$47)","v":""},{"$f":"IF($D$47=\"Concern\",\"(**)\",IF(OR($D$47=\"Fair\",$D$47=\"Poor\"),\"**\",\"\"))","v":""},null,null,null,null,null,null,null,null,null,null,null,null,null,null,null,null,null,null,null,null,null,null,null,null,null,null,null,null,null,null,null,null,null,null,null,null,null,null,null,null,null,null,null,null,null,null,null,null,null,null,{"$f":"$B$50","v":"Sediment"}]
[null,null,null,null,null,null,null,null,null,null,null,null,null,null,null,null,null,null,null,null,null,null,null,null,null,null,null,null,null,null,null,null,null,null,null,null,null,null,null,null,null,null,null,null,null,null,null,null,null,null,null,null,null,null,null,null,null,null,null,null,null,null,null,null,null,null,null,null,null,null,null,null,null,null,null,null,null,null,null,null,null,null,null,null,null,null,null,null,null,null,null,null,{"$f":"$C$31","v":"Unknown   U"},{"$f":"IF($D$31=\"Concern\",\"(U)\",IF(OR($D$31=\"Fair\",$D$31=\"Poor\"),\"U\",\"\"))","v":""},null,null,null,null,null,null,null,null,null,null,null,null,null,null,null,null,null,null,null,null,null,null,null,null,null,null,null,null,null,null,null,null,null,null,null,null,null,null,null,null,null,null,null,null,null,null,null,null,null,null,null,null,null,null,null,null,null,null,null,null,null,null,null,null,null,null,null,null,null,null,null,null,null,null,null,null,null,null,null,null,null,null,null,null,null,null,null,null,null,null,null,null,null,null,null,null,null,null,null,null,null,null,null,null,null,null,null,null,null,null,null,null,null,null,null,null,null,null,null,null,null,null,null,null,null,null,null,null,{"$f":"$B$48","v":"Tissue"},null,null,null,null,null,null,null,null,null,null,null,null,null,null,null,null,null,null,null,null,null,null,null,null,null,{"$f":"$C$50","v":"Unknown   U"},{"$f":"IF($D$50=\"Concern\",\"(U)\",IF(OR($D$50=\"Fair\",$D$50=\"Poor\"),\"U\",\"\"))","v":""}]
[null,"Comments:",null,null,null,null,null,"*  Suspected Source  ",null,null,null,null,null,null,null,null,null,null,null,null,null,null,null,null,null,null,null,null,null,null,null,null,null,null,null,null,null,null,null,null,null,null,null,null,null,null,null,null,null,null,null,null,null,null,null,null,null,null,null,null,null,null,null,null,null,null,null,null,null,null,null,null,null,null,null,null,null,null,null,null,null,null,null,null,null,null,null,null,null,null,null,null,{"$f":"$C$32","v":"Spec. Chem.  Ag"},{"$f":"IF($D$32=\"Concern\",\"(\"&CN44&\")\",IF(OR($D$32=\"Fair\",$D$32=\"Poor\"),CN44,\"\"))","v":""},null,null,null,null,null,null,null,null,null,null,null,null,null,null,null,null,null,null,null,null,null,null,null,null,null,null,null,null,null,null,null,null,null,null,null,null,null,null,null,null,null,null,null,null,null,null,null,null,null,null,null,null,null,null,null,null,null,null,null,null,null,null,null,null,null,null,null,null,null,null,null,null,null,null,null,null,null,null,null,null,null,null,null,null,null,null,null,null,null,null,null,null,null,null,null,null,null,null,null,null,null,null,null,null,null,null,null,null,null,null,null,null,null,null,null,null,null,null,null,null,null,null,null,null,null,null,null,null,{"$f":"$C$48","v":"Spec. Chem.   PCB"},{"$f":"IF($D$48=\"Concern\",\"(\"&HN45&\")\",IF(OR($D$48=\"Fair\",$D$32=\"Poor\"),HN45,\"\"))","v":""},null,null,null,null,null,null,null,null,null,null,null,null,null,null,null,null,null,null,null,null,null,null,null,null,{"$f":"$C$51","v":"Spec. Chem.   DDT"},{"$f":"IF($D$51=\"Concern\",\"(\"&IN44&\")\",IF(OR($D$51=\"Fair\",$D$51=\"Poor\"),IN44,\"\"))","v":""}]
[null,null,null,null,null,null,null,"** Potential Source  ",null,null,null,null,null,null,null,null,null,null,null,null,null,null,null,null,null,null,null,null,null,null,null,null,null,null,null,null,null,null,null,null,null,null,null,null,null,null,null,null,null,null,null,null,null,null,null,null,null,null,null,null,null,null,null,null,null,null,null,null,null,null,null,null,null,null,null,null,null,null,null,null,null,null,null,null,null,null,null,null,null,null,null,null,{"$f":"IF($C$33=\"\",\"\",$C$33)","v":""},{"$f":"IF($D$33=\"Concern\",\"(**)\",IF(OR($D$33=\"Fair\",$D$33=\"Poor\"),\"**\",\"\"))","v":""},null,null,null,null,null,null,null,null,null,null,null,null,null,null,null,null,null,null,null,null,null,null,null,null,null,null,null,null,null,null,null,null,null,null,null,null,null,null,null,null,null,null,null,null,null,null,null,null,null,null,null,null,null,null,null,null,null,null,null,null,null,null,null,null,null,null,null,null,null,null,null,null,null,null,null,null,null,null,null,null,null,null,null,null,null,null,null,null,null,null,null,null,null,null,null,null,null,null,null,null,null,null,null,null,null,null,null,null,null,null,null,null,null,null,null,null,null,null,null,null,null,null,null,null,null,null,null,null,{"$f":"IF($C$49=\"\",\"\",$C$49)","v":""},{"$f":"IF($D$49=\"Concern\",\"(**)\",IF(OR($D$49=\"Fair\",$D$49=\"Poor\"),\"**\",\"\"))","v":""},null,null,null,null,null,null,null,null,null,null,null,null,null,null,null,null,null,null,null,null,null,null,null,null,{"$f":"IF($C$52=\"\",\"\",$C$52)","v":""},{"$f":"IF($D$52=\"Concern\",\"(**)\",IF(OR($D$52=\"Fair\",$D$52=\"Poor\"),\"**\",\"\"))","v":""}]
[null,null,null,null,null,null,null,"No asterisk: Known Source  "]
[null,null,null,null,null,null,null,"[Out of Segment Source ]  "]
[]
[]
[]
[null,"SegNameLong:  ","qqqqqq"]
[null,"Seg Name:  ","qqq"]
[null,"Seg Num:  "]
[null,"Seg Size:  "]
[null,"Seg Class:  "]
[]
[]
[]
[]
[]
[]
[]
[]
[]
[]
[]
[]
[null,null,null,{"$f":"A99","v":""}]
[null,null,null,{"$f":"B99","v":""}]
[null,null,null,{"$f":"C99","v":""}]
[null,null,null,{"$f":"D99","v":""}]
[null,null,null,{"$f":"E99","v":""}]
[null,null,null,{"$f":"F99","v":""}]
[null,null,null,{"$f":"G99","v":""}]
[null,null,null,{"$f":"H99","v":""}]
[null,null,null,{"$f":"I99","v":""}]
[]
[]
[]
[]
[]
[]
[]
[]
[]
[]
[]
[]
[]
[{"$f":"TRIM(A101&\" \"&A102&\" \"&A103&\" \"&A104&\" \"&A105&\" \"&A106)","v":""},{"$f":"TRIM(B101&\" \"&B102&\" \"&B103&\" \"&B104&\" \"&B105&\" \"&B106)","v":""},"","","","","","",""]

{"sheet":"Seg18","index":22,"n_rows":99,"n_cols":311,"rows_kept":99,"cut":false,"hidden":false,"merged":[[15,1,20,1],[15,4,20,4],[15,5,20,5],[15,6,20,6],[15,7,20,7],[13,1,14,1],[13,2,14,3],[13,4,14,4],[13,5,14,5],[14,6,14,7],[27,1,29,1],[27,4,29,4],[27,5,29,5],[27,6,29,6],[27,7,29,7],[21,1,26,1],[21,4,26,4],[21,5,26,5],[21,6,26,6],[21,7,26,7],[49,6,51,6],[49,7,51,7],[30,1,32,1],[30,4,32,4],[30,5,32,5],[30,6,32,6],[30,7,32,7],[33,1,34,1],[33,4,34,4],[33,5,34,5],[33,6,34,6],[33,7,34,7],[43,91,45,94],[35,1,38,1],[35,4,38,4],[35,5,38,5],[35,6,38,6],[35,7,38,7],[39,1,40,1],[39,4,40,4],[39,5,40,5],[39,6,40,6],[39,7,40,7],[52,1,55,1],[43,247,45,250],[44,221,46,224],[47,1,48,1],[47,4,48,4],[47,5,48,5],[47,6,48,6],[47,7,48,7],[41,1,46,1],[41,4,46,4],[41,5,46,5],[41,6,46,6],[41,7,46,7],[49,1,51,1],[49,4,51,4],[49,5,51,5]]}
[]
[]
[]
[]
[null,null,null,null,null,null,null,null,null,null,null,null,null,null,null,null,null,null,null,null,null,null,null,null,null,null,null,null,null,null,null,null,null,null,null,null,null,null,null,null,null,null,null,null,null,null,null,null,null,null,null,null,null,null,null,null,null,null,null,null,null,null,null,null,null,null,null,null,null,null,null,null,null,null,null,null,null,null,null,null,null,null,null,null,null,null,null,null,null,null,null,null,null,null,null,null,null,null,null,null,null,null,null,null,null,null,null,null,null,null,null,null,null,null,null,null,null,null,null,null,null,null,null,null,null,null,null,null,null,null,null,null,null,null,null,null,null,null,null,null,null,null,null,null,null,null,null,null,null,null,null,null,null,null,null,null,null,null,null,null,null,null,null,null,null,null,null,null,null,null,null,null,null,null,null,null,null,null,null,null,null,null,null,null,null,null,null,null,null,null,null,null,null,null,null,null,null,null,null,null,null,null,null,null,null,null,null,null,null,null,null,null,null,null,null,null,null,null,null,null,null,null,null,null,null,null,null,null,null,null,null,null,null,null,null,null,null,null,null,null,null,null,null,null,null,null,null,null,null,null,null,null,null,null,null,null,null,null,null,null,null,null,null,null,null,null,null,null,null,null,null,null,null,null,null,null,null,null,null,null,null,null,null,null,null,"List of all codes from all groups for this segment, organized by Source Type. "]
[null,null,null,null,null,null,null,null,null,null,null,null,null,null,null,null,null,null,null,null,null,null,null,null,null,null,null,null,null,null,null,null,null,null,null,null,null,null,null,null,null,null,null,null,null,null,null,null,null,null,null,null,null,null,null,null,null,null,null,null,null,null,null,null,null,null,null,null,null,null,null,null,null,null,null,null,null,null,null,null,null,null,null,null,null,null,null,null,null,null,null,null,null,null,null,null,null,null,null,null,null,null,null,null,null,null,null,null,null,null,null,null,null,null,null,null,null,null,null,null,null,null,null,null,null,null,null,null,null,null,null,null,null,null,null,null,null,null,null,null,null,null,null,null,null,null,null,null,null,null,null,null,null,null,null,null,null,null,null,null,null,null,null,null,null,null,null,null,null,null,null,null,null,null,null,null,null,null,null,null,null,null,null,null,null,null,null,null,null,null,null,null,null,null,null,null,null,null,null,null,null,null,null,null,null,null,null,null,null,null,null,null,null,null,null,null,null,null,null,null,null,null,null,null,null,null,null,null,null,null,null,null,null,null,null,null,null,null,null,null,null,null,null,null,null,null,null,null,null,null,null,null,null,null,null,null,null,null,null,null,null,null,null,null,null,null,null,null,null,null,null,null,null,null,null,null,null,null,null,null,null,null,null,null,null,"List is updated only when \"SourceRC_List\" macro is run. Macro is run manually by touching button at right or when Source report card is activated."]
[null,null,null,null,null,null,null,null,null,null,null,null,null,null,null,null,null,null,null,null,null,null,null,null,null,null,null,null,null,null,null,null,null,null,null,null,null,null,null,null,null,null,null,null,null,null,null,null,null,null,null,null,null,null,null,null,null,null,null,null,null,null,null,null,null,null,null,null,null,null,null,null,null,null,null,null,null,null,null,null,null,null,null,null,null,null,null,null,null,null,null,null,null,null,null,null,null,null,null,null,null,null,null,null,null,null,null,null,null,null,null,null,null,null,null,null,null,null,null,null,null,null,null,null,null,null,null,null,null,null,null,null,null,null,null,null,null,null,null,null,null,null,null,null,null,null,null,null,null,null,null,null,null,null,null,null,null,null,null,null,null,null,null,null,null,null,null,null,null,null,null,null,null,null,null,null,null,null,null,null,null,null,null,null,null,null,null,null,null,null,null,null,null,null,null,null,null,null,null,null,null,null,null,null,null,null,null,null,null,null,null,null,null,null,null,null,null,null,null,null,null,null,null,null,null,null,null,null,null,null,null,null,null,null,null,null,null,null,null,null,null,null,null,null,null,null,null,null,null,null,null,null,null,null,null,null,null,null,null,null,null,null,null,null,null,null,null,null,null,null,null,null,null,null,null,null,null,null,null,null,null,null,null,null,null,"Numbers indicate knowledge about the certainty of assessment: 0 = N/A, 1 = Potential Source, 2 = Suspected Source, 3 = Known Source."]
[null,null,null,null,null,null,null,null,null,null,null,null,null,null,null,null,null,null,null,null,null,null,null,null,null,null,null,null,null,null,null,null,null,null,null,null,null,null,null,null,null,null,null,null,null,null,null,null,null,null,null,null,null,null,null,null,null,null,null,null,null,null,null,null,null,null,null,null,null,null,null,null,null,null,null,null,null,null,null,null,null,null,null,null,null,null,null,null,null,null,null,null,null,null,null,null,null,null,null,null,null,null,null,null,null,null,null,null,null,null,null,null,null,null,null,null,null,null,null,null,null,null,null,null,null,null,null,null,null,null,null,null,null,null,null,null,null,null,null,null,null,null,null,null,null,null,null,null,null,null,null,null,null,null,null,null,null,null,null,null,null,null,null,null,null,null,null,null,null,null,null,null,null,null,null,null,null,null,null,null,null,null,null,null,null,null,null,null,null,null,null,null,null,null,null,null,null,null,null,null,null,null,null,null,null,null,null,null,null,null,null,null,null,null,null,null,null,null,null,null,null,null,null,null,null,null,null,null,null,null,null,null,null,null,null,null,null,null,null,null,null,null,null,null,null,null,null,null,null,null,null,null,null,null,null,null,null,null,null,null,null,null,null,null,null,null,null,null,null,null,null,null,null,null,null,null,null,null,null,null,null,null,null,null,null,"This list is then processed below to remove duplicates."]
[null,null,null,null,null,null,null,null,null,null,null,null,null,"Designate Point & Non-Point Sources",null,null,null,null,null,null,null,null,null,null,null,null,null,null,null,null,null,null,null,null,null,null,null,null,null,"Designate Point & Non-Point Sources",null,null,null,null,null,null,null,null,null,null,null,null,null,null,null,null,null,null,null,null,null,null,null,null,null,"Designate Point & Non-Point Sources",null,null,null,null,null,null,null,null,null,null,null,null,null,null,null,null,null,null,null,null,null,null,null,null,null,"Designate Point & Non-Point Sources",null,null,null,null,null,null,null,null,null,null,null,null,null,null,null,null,null,null,null,null,null,null,null,null,null,"Designate Point & Non-Point Sources",null,null,null,null,null,null,null,null,null,null,null,null,null,null,null,null,null,null,null,null,null,null,null,null,null,"Designate Point & Non-Point Sources",null,null,null,null,null,null,null,null,null,null,null,null,null,null,null,null,null,null,null,null,null,null,null,null,null,"Designate Point & Non-Point Sources",null,null,null,null,null,null,null,null,null,null,null,null,null,null,null,null,null,null,null,null,null,null,null,null,null,"Designate Point & Non-Point Sources",null,null,null,null,null,null,null,null,null,null,null,null,null,null,null,null,null,null,null,null,null,null,null,null,null,"Designate Point & Non-Point Sources",null,null,null,null,null,null,null,null,null,null,null,null,null,null,null,null,null,null,null,null,null,null,null,null,null,"Designate Point & Non-Point Sources"]
[null,null,null,null,null,null,null,null,null,null,null,null,null,null,null,null,null,null,null,null,null,null,null,"Codes selected at left are distributed according to Source Type. "]
[null,{"$f":"\"River Basin: \"&RiverBasinName","v":"River Basin: Test River Basin"},null,null,null,null,{"$f":"\"Data Year:  \"&AssessmentYear","v":"Data Year:  2011"},null,null,null,null,null,null,null,null,null,null,null,null,null,null,null,null,"Numbers indicate confidence of assessment: 0 = N/A, 1 = Potential Source, 2 = Suspected Source, 3 = Known Source.",null,null,null,null,null,null,null,null,null,null,null,null,null,null,null,null,null,null,null,null,null,null,null,null,null,null,null,null,null,null,null,null,null,null,null,null,null,null,null,null,null,null,null,null,null,null,null,null,null,null,null,null,null,null,null,null,null,null,null,null,null,null,null,null,null,null,null,null,null,null,null,null,null,null,null,null,null,null,null,null,null,null,null,null,null,null,null,null,null,null,null,null,null,null,null,null,null,null,null,null,null,null,null,null,null,null,null,null,null,null,null,null,null,null,null,null,null,null,null,null,null,null,null,null,null,null,null,null,null,null,null,null,null,null,null,null,null,null,null,null,null,null,null,null,null,null,null,null,null,null,null,null,null,null,null,null,null,null,null,null,null,null,null,null,null,null,null,null,null,null,null,null,null,null,null,null,null,null,null,null,null,null,null,null,null,null,null,null,null,null,null,null,null,null,null,null,null,null,null,null,null,null,null,null,null,null,null,null,null,null,null,null,null,null,null,null,null,null,null,null,null,null,null,null,null,null,null,null,null,null,null,null,null,null,null,null,null,null,null,null,null,null,null,null,null,null,null,null,null,null,null,null,null,null,null,null,null,null,null,null,null,null,"Municp",null,null,"Industr",null,null,"St Water",null,null,"Res Ext",null,null,"Land Dis",null,null,"Seds",null,null,"Hydro",null,null,"Other",null,null,"Unknown"]
[null,{"$f":"\"Segment Name: \"&C60","v":"Segment Name: rrrrrr"},null,null,null,null,null,null,null,null,null,null,null,null,null,null,null,null,null,null,null,null,null,"These codes are processed by \"SourceRC_List macro and transferred to Source report card."]
[null,{"$f":"\"Class: \"&C64","v":"Class: "},null,{"$f":"\"Size: \"&C63","v":"Size: "},null,null,{"$f":"\"Seg ID #: \"&C62","v":"Seg ID #: "}]
[null,"CATEGORY","INDICATOR ASSESSMENT",null,"OVERALL STATUS","DATA LEVEL","POINT","NONPOINT",null,null,null,null,null,"Point Sources",null,null,null,null,null,null,null,null,null,"Municipal",null,null,"Industrial",null,null,"Storm Water",null,null,"Resource Ext",null,null,"Land Disposal",null,null,null,"Point Sources",null,null,null,null,null,null,null,null,null,"Municipal",null,null,"Industrial",null,null,"Storm Water",null,null,"Resource Ext",null,null,"Land Disposal",null,null,null,"Point Sources",null,null,null,null,null,null,null,null,null,"Municipal",null,null,"Industrial",null,null,"Storm Water",null,null,"Resource Ext",null,null,"Land Disposal",null,null,null,"Point Sources",null,null,null,null,null,null,null,null,null,"Municipal",null,null,"Industrial",null,null,"Storm Water",null,null,"Resource Ext",null,null,"Land Disposal",null,null,null,"Point Sources",null,null,null,null,null,null,null,null,null,"Municipal",null,null,"Industrial",null,null,"Storm Water",null,null,"Resource Ext",null,null,"Land Disposal",null,null,null,"Point Sources",null,null,null,null,null,null,null,null,null,"Municipal",null,null,"Industrial",null,null,"Storm Water",null,null,"Resource Ext",null,null,"Land Disposal",null,null,null,"Point Sources",null,null,null,null,null,null,null,null,null,"Municipal",null,null,"Industrial",null,null,"Storm Water",null,null,"Resource Ext",null,null,"Land Disposal",null,null,null,"Point Sources",null,null,null,null,null,null,null,null,null,"Municipal",null,null,"Industrial",null,null,"Storm Water",null,null,"Resource Ext",null,null,"Land Disposal",null,null,null,"Point Sources",null,null,null,null,null,null,null,null,null,"Municipal",null,null,"Industrial",null,null,"Storm Water",null,null,"Resource Ext",null,null,"Land Disposal",null,null,null,"Point Sources",null,null,null,null,null,null,null,null,null,"Municipal",null,null,"Industrial",null,null,"Storm Water",null,null,"Resource Ext",null,null,"Land Disposal"]
[null,null,null,null,null,null,"Click below to select Sources"]
[null,"Biology","Plank/Peri.   A","NA","NA","NA",{"$f":"$O$15&\"  \"&$O$16&\"  \"&$O$17&\"  \"&$O$18&\"  \"&$O$19&\"  \"&$O$20","v":"          "},{"$f":"$O$28&\"  \"&$O$29&\"  \"&$O$30&\"  \"&$O$31&\"  \"&$O$32&\"  \"&$O$33","v":"          "}]
[null,null,"Macrophyton   M","NA"]
[null,null,"Invertebrates   I","NA"]
[null,null,"Fish   F","NA"]
[null,null,"Wildlife   W","NA"]
[]
[null,"Chemistry","Dis. Oxygen    DO","NA","NA","NA",{"$f":"$AO$15&\"  \"&$AO$16&\"  \"&$AO$17&\"  \"&$AO$18&\"  \"&$AO$19&\"  \"&$AO$20","v":"          "},{"$f":"$AO$28&\"  \"&$AO$29&\"  \"&$AO$30&\"  \"&$AO$31&\"  \"&$AO$32&\"  \"&$AO$33","v":"          "}]
[null,null,"pH     pH","NA"]
[null,null,"Temperature    T","NA"]
[null,null,"Ionic Strength    Z","NA"]
[null,null,"Sus. Solids    SS","NA"]
[null,null,null,null,null,null,null,null,null,null,null,null,null,"Non Point Sources",null,null,null,null,null,null,null,null,null,"Seds",null,null,"Hydromodification",null,null,"Other",null,null,"Unknown",null,null,null,null,null,null,"Non Point Sources",null,null,null,null,null,null,null,null,null,"Seds",null,null,"Hydromodification",null,null,"Other",null,null,"Unknown",null,null,null,null,null,null,"Non Point Sources",null,null,null,null,null,null,null,null,null,"Seds",null,null,"Hydromodification",null,null,"Other",null,null,"Unknown",null,null,null,null,null,null,"Non Point Sources",null,null,null,null,null,null,null,null,null,"Seds",null,null,"Hydromodification",null,null,"Other",null,null,"Unknown",null,null,null,null,null,null,"Non Point Sources",null,null,null,null,null,null,null,null,null,"Seds",null,null,"Hydromodification",null,null,"Other",null,null,"Unknown",null,null,null,null,null,null,"Non Point Sources",null,null,null,null,null,null,null,null,null,"Seds",null,null,"Hydromodification",null,null,"Other",null,null,"Unknown",null,null,null,null,null,null,"Non Point Sources",null,null,null,null,null,null,null,null,null,"Seds",null,null,"Hydromodification",null,null,"Other",null,null,"Unknown",null,null,null,null,null,null,"Non Point Sources",null,null,null,null,null,null,null,null,null,"Seds",null,null,"Hydromodification",null,null,"Other",null,null,"Unknown",null,null,null,null,null,null,"Non Point Sources",null,null,null,null,null,null,null,null,null,"Seds",null,null,"Hydromodification",null,null,"Other",null,null,"Unknown",null,null,null,null,null,null,"Non Point Sources",null,null,null,null,null,null,null,null,null,"Seds",null,null,"Hydromodification",null,null,"Other",null,null,"Unknown"]
[null,"Nutrients","Phosphorus  P","NA","NA","NA",{"$f":"$BO$15&\"  \"&$BO$16&\"  \"&$BO$17&\"  \"&$BO$18&\"  \"&$BO$19&\"  \"&$BO$20","v":"          "},{"$f":"$BO$28&\"  \"&$BO$29&\"  \"&$BO$30&\"  \"&$BO$31&\"  \"&$BO$32&\"  \"&$BO$33","v":"          "}]
[null,null,"Nitrogen   N","NA"]
[]
[null,"Toxicity","Unknown   U","NA","NA","NA",{"$f":"$CO$15&\"  \"&$CO$16&\"  \"&$CO$17&\"  \"&$CO$18&\"  \"&$CO$19&\"  \"&$CO$20","v":"          "},{"$f":"$CO$28&\"  \"&$CO$29&\"  \"&$CO$30&\"  \"&$CO$31&\"  \"&$CO$32&\"  \"&$CO$33","v":"          "}]
[null,null,{"$f":"\"Spec. Chem.  \"&CN44","v":"Spec. Chem.  Ag"},"NA"]
[null,null,null,null,null,null,null,null,null,null,null,null,null,null,null,null,null,null,null,null,null,null,null,null,null,null,null,null,null,null,null,null,null,null,null,null,null,null,null,null,null,null,null,null,null,null,null,null,null,null,null,null,null,null,null,null,null,null,null,null,null,null,null,null,null,null,null,null,null,null,null,null,null,null,null,null,null,null,null,null,null,null,null,null,null,null,null,null,null,null,null,null,null,null,null,null,null,null,null,null,null,null,null,null,null,null,null,null,null,null,null,null,null,null,null,null,null,null,null,null,null,null,null,null,null,null,null,null,null,null,null,null,null,null,null,null,null,null,null,null,null,null,null,null,null,null,null,null,null,null,null,null,null,null,null,null,null,null,null,null,null,null,null,null,null,null,null,null,null,null,null,null,null,null,null,null,null,null,null,null,null,null,null,null,null,null,null,null,null,null,null,null,null,null,null,null,null,null,null,null,null,null,null,null,null,null,null,null,null,null,null,null,null,null,null,null,null,null,null,null,null,null,null,null,null,null,null,null,null,null,null,null,null,null,null,null,null,null,null,null,null,null,null,null,null,null,null,null,null,null,null,null,null,null,null,null,null,null,null,null,null,null,null,null,null,null,null,null,null,null,null,null,null,null,null,null,null,null,null,null,null,null,null,null,null,"The colored cells below reflect this segments pollution status and are replicated on the Sources report card automatically"]
[null,"Flow","Flow  Q","NA","NA","NA",{"$f":"$DO$15&\"  \"&$DO$16&\"  \"&$DO$17&\"  \"&$DO$18&\"  \"&$DO$19&\"  \"&$DO$20","v":"          "},{"$f":"$DO$28&\"  \"&$DO$29&\"  \"&$DO$30&\"  \"&$DO$31&\"  \"&$DO$32&\"  \"&$DO$33","v":"          "},null,null,null,null,null,null,null,null,null,null,null,null,null,null,null,null,null,null,null,null,null,null,null,null,null,null,null,null,null,null,null,null,null,null,null,null,null,null,null,null,null,null,null,null,null,null,null,null,null,null,null,null,null,null,null,null,null,null,null,null,null,null,null,null,null,null,null,null,null,null,null,null,null,null,null,null,null,null,null,null,null,null,null,null,null,null,null,null,null,null,null,null,null,null,null,null,null,null,null,null,null,null,null,null,null,null,null,null,null,null,null,null,null,null,null,null,null,null,null,null,null,null,null,null,null,null,null,null,null,null,null,null,null,null,null,null,null,null,null,null,null,null,null,null,null,null,null,null,null,null,null,null,null,null,null,null,null,null,null,null,null,null,null,null,null,null,null,null,null,null,null,null,null,null,null,null,null,null,null,null,null,null,null,null,null,null,null,null,null,null,null,null,null,null,null,null,null,null,null,null,null,null,null,null,null,null,null,null,null,null,null,null,null,null,null,null,null,null,null,null,null,null,null,null,null,null,null,null,null,null,null,null,null,null,null,null,null,null,null,null,null,null,null,null,null,null,null,null,null,null,null,null,null,null,null,null,null,null,null,null,null,null,null,null,null,null,null,null,null,null,null,null,null,null,null,null,null,null,{"$f":"KA11","v":"Municp"},null,null,{"$f":"KD11","v":"Industr"},null,null,{"$f":"KG11","v":"St Water"},null,null,{"$f":"KJ11","v":"Res Ext"},null,null,{"$f":"KM11","v":"Land Dis"},null,null,{"$f":"KP11","v":"Seds"},null,null,{"$f":"KS11","v":"Hydro"},null,null,{"$f":"KV11","v":"Other"},null,null,{"$f":"KY11","v":"Unknown"}]
[null,null,null,null,null,null,null,null,null,null,null,null,null,"* designates a Suspected Source",null,null,null,null,null,null,null,null,null,null,null,null,null,null,null,null,null,null,null,null,null,null,null,null,null,"* designates a Suspected Source",null,null,null,null,null,null,null,null,null,null,null,null,null,null,null,null,null,null,null,null,null,null,null,null,null,"* designates a Suspected Source",null,null,null,null,null,null,null,null,null,null,null,null,null,null,null,null,null,null,null,null,null,null,null,null,null,"* designates a Suspected Source",null,null,null,null,null,null,null,null,null,null,null,null,null,null,null,null,null,null,null,null,null,null,null,null,null,"* designates a Suspected Source",null,null,null,null,null,null,null,null,null,null,null,null,null,null,null,null,null,null,null,null,null,null,null,null,null,"* designates a Suspected Source",null,null,null,null,null,null,null,null,null,null,null,null,null,null,null,null,null,null,null,null,null,null,null,null,null,"* designates a Suspected Source",null,null,null,null,null,null,null,null,null,null,null,null,null,null,null,null,null,null,null,null,null,null,null,null,null,"* designates a Suspected Source",null,null,null,null,null,null,null,null,null,null,null,null,null,null,null,null,null,null,null,null,null,null,null,null,null,"* designates a Suspected Source",null,null,null,null,null,null,null,null,null,null,null,null,null,null,null,null,null,null,null,null,null,null,null,null,null,null,null,null,null,null,null,null,null,null,null,null,null,null,null,null,null,null,null,null,null,null,null,null,null,null,null,null,null,null,null,null,null,null,null,null,null,null,null,null,{"$f":"TRIM(KA41&\" \"&KA42&\" \"&KA43&\" \"&KA44&\" \"&KA45&\" \"&KA46)","v":""},null,null,{"$f":"TRIM(KD41&\" \"&KD42&\" \"&KD43&\" \"&KD44&\" \"&KD45&\" \"&KD46)","v":""},null,null,{"$f":"TRIM(KG41&\" \"&KG42&\" \"&KG43&\" \"&KG44&\" \"&KG45&\" \"&KG46)","v":""},null,null,{"$f":"TRIM(KJ41&\" \"&KJ42&\" \"&KJ43&\" \"&KJ44&\" \"&KJ45&\" \"&KJ46)","v":""},null,null,{"$f":"TRIM(KM41&\" \"&KM42&\" \"&KM43&\" \"&KM44&\" \"&KM45&\" \"&KM46)","v":""},null,null,{"$f":"TRIM(KP41&\" \"&KP42&\" \"&KP43&\" \"&KP44&\" \"&KP45&\" \"&KP46)","v":""},null,null,{"$f":"TRIM(KS41&\" \"&KS42&\" \"&KS43&\" \"&KS44&\" \"&KS45&\" \"&KS46)","v":""},null,null,{"$f":"TRIM(KV41&\" \"&KV42&\" \"&KV43&\" \"&KV44&\" \"&KV45&\" \"&KV46)","v":""},null,null,{"$f":"TRIM(KY41&\" \"&KY42&\" \"&KY43&\" \"&KY44&\" \"&KY45&\" \"&KY46)","v":""}]
[null,"Habitat","Substrate   S","NA","NA","NA",{"$f":"$EO$15&\"  \"&$EO$16&\"  \"&$EO$17&\"  \"&$EO$18&\"  \"&$EO$19&\"  \"&$EO$20","v":"          "},{"$f":"$EO$28&\"  \"&$EO$29&\"  \"&$EO$30&\"  \"&$EO$31&\"  \"&$EO$32&\"  \"&$EO$33","v":"          "},null,null,null,null,null,"** designates a Potential Source",null,null,null,null,null,null,null,null,null,null,null,null,null,null,null,null,null,null,null,null,null,null,null,null,null,"** designates a Potential Source",null,null,null,null,null,null,null,null,null,null,null,null,null,null,null,null,null,null,null,null,null,null,null,null,null,"** designates a Potential Source",null,null,null,null,null,null,null,null,null,null,null,null,null,null,null,null,null,null,null,null,null,null,null,null,null,"** designates a Potential Source",null,null,null,null,null,null,null,null,null,null,null,null,null,null,null,null,null,null,null,null,null,null,null,null,null,"** designates a Potential Source",null,null,null,null,null,null,null,null,null,null,null,null,null,null,null,null,null,null,null,null,null,null,null,null,null,"** designates a Potential Source",null,null,null,null,null,null,null,null,null,null,null,null,null,null,null,null,null,null,null,null,null,null,null,null,null,"** designates a Potential Source",null,null,null,null,null,null,null,null,null,null,null,null,null,null,null,null,null,null,null,null,null,null,null,null,null,"** designates a Potential Source",null,null,null,null,null,null,null,null,null,null,null,null,null,null,null,null,null,null,null,null,null,null,null,null,null,"** designates a Potential Source"]
[null,null,"Morphology   H","NA",null,null,null,null,null,null,null,null,null,"No asterisk designates a Known Source",null,null,null,null,null,null,null,null,null,null,null,null,null,null,null,null,null,null,null,null,null,null,null,null,null,"No asterisk designates a Known Source",null,null,null,null,null,null,null,null,null,null,null,null,null,null,null,null,null,null,null,null,null,null,null,null,null,"No asterisk designates a Known Source",null,null,null,null,null,null,null,null,null,null,null,null,null,null,null,null,null,null,null,null,null,null,null,null,null,"No asterisk designates a Known Source",null,null,null,null,null,null,null,null,null,null,null,null,null,null,null,null,null,null,null,null,null,null,null,null,null,"No asterisk designates a Known Source",null,null,null,null,null,null,null,null,null,null,null,null,null,null,null,null,null,null,null,null,null,null,null,null,null,"No asterisk designates a Known Source",null,null,null,null,null,null,null,null,null,null,null,null,null,null,null,null,null,null,null,null,null,null,null,null,null,"No asterisk designates a Known Source",null,null,null,null,null,null,null,null,null,null,null,null,null,null,null,null,null,null,null,null,null,null,null,null,null,"No asterisk designates a Known Source",null,null,null,null,null,null,null,null,null,null,null,null,null,null,null,null,null,null,null,null,null,null,null,null,null,"No asterisk designates a Known Source",null,null,null,null,null,null,null,null,null,null,null,null,null,null,null,null,null,null,null,null,null,null,null,null,null,null,null,null,null,null,null,null,null,null,null,null,null,null,null,null,null,null,null,null,null,null,null,null,null,null,null,null,null,null,null,null,null,null,null,null,null,null,null,"max confid #",{"$f":"MAX(KB11:KB31)","v":0},null,null,{"$f":"MAX(KE11:KE31)","v":0},null,null,{"$f":"MAX(KH11:KH31)","v":0},null,null,{"$f":"MAX(KK11:KK31)","v":0},null,null,{"$f":"MAX(KN11:KN31)","v":0},null,null,{"$f":"MAX(KQ11:KQ31)","v":0},null,null,{"$f":"MAX(KT11:KT31)","v":0},null,null,{"$f":"MAX(KW11:KW31)","v":0},null,null,{"$f":"MAX(KZ11:KZ31)","v":0}]
[null,null,"Riparian Zone   R","NA",null,null,null,null,null,null,null,null,null,"Square brackets designates an Out of Segment Source (i.e., pollutant is a source for downstream segments)",null,null,null,null,null,null,null,null,null,null,null,null,null,null,null,null,null,null,null,null,null,null,null,null,null,"Square brackets designates an Out of Segment Source (i.e., pollutant is a source for downstream segments)",null,null,null,null,null,null,null,null,null,null,null,null,null,null,null,null,null,null,null,null,null,null,null,null,null,"Square brackets designates an Out of Segment Source (i.e., pollutant is a source for downstream segments)",null,null,null,null,null,null,null,null,null,null,null,null,null,null,null,null,null,null,null,null,null,null,null,null,null,"Square brackets designates an Out of Segment Source (i.e., pollutant is a source for downstream segments)",null,null,null,null,null,null,null,null,null,null,null,null,null,null,null,null,null,null,null,null,null,null,null,null,null,"Square brackets designates an Out of Segment Source (i.e., pollutant is a source for downstream segments)",null,null,null,null,null,null,null,null,null,null,null,null,null,null,null,null,null,null,null,null,null,null,null,null,null,"Square brackets designates an Out of Segment Source (i.e., pollutant is a source for downstream segments)",null,null,null,null,null,null,null,null,null,null,null,null,null,null,null,null,null,null,null,null,null,null,null,null,null,"Square brackets designates an Out of Segment Source (i.e., pollutant is a source for downstream segments)",null,null,null,null,null,null,null,null,null,null,null,null,null,null,null,null,null,null,null,null,null,null,null,null,null,"Square brackets designates an Out of Segment Source (i.e., pollutant is a source for downstream segments)",null,null,null,null,null,null,null,null,null,null,null,null,null,null,null,null,null,null,null,null,null,null,null,null,null,"Square brackets designates an Out of Segment Source (i.e., pollutant is a source for downstream segments)",null,null,null,null,null,null,null,null,null,null,null,null,null,null,null,null,null,null,null,null,null,null,null,null,null,null,null,null,null,null,null,null,null,null,null,null,null,null,null,null,null,null,null,null,null,null,null,null,null,null,null,null,null,null,null,null,null,null,null,null,null,null,null,"The lists below show unique codes in lists assembled above. Numbers are max confidence #, used to color cells for worst case. The codes are catenated in the colored boxes above for transfer to Sources RC when that sheet is activated."]
[]
[null,"Bacteria","Bacteria   B","NA","NA","NA",{"$f":"$FO$15&\"  \"&$FO$16&\"  \"&$FO$17&\"  \"&$FO$18&\"  \"&$FO$19&\"  \"&$FO$20","v":"          "},{"$f":"$FO$28&\"  \"&$FO$29&\"  \"&$FO$30&\"  \"&$FO$31&\"  \"&$FO$32&\"  \"&$FO$33","v":"          "},null,null,null,null,null,null,null,null,null,null,null,null,null,null,null,null,null,null,null,null,null,null,null,null,null,null,null,null,null,null,null,null,null,null,null,null,null,null,null,null,null,null,null,null,null,null,null,null,null,null,null,null,null,null,null,null,null,null,null,null,null,null,null,null,null,null,null,null,null,null,null,null,null,null,null,null,null,null,null,null,null,null,null,null,null,null,null,null,null,null,null,null,null,null,null,null,null,null,null,null,null,null,null,null,null,null,null,null,null,null,null,null,null,null,null,null,null,null,null,null,null,null,null,null,null,null,null,null,null,null,null,null,null,null,null,null,null,null,null,null,null,null,null,null,null,null,null,null,null,null,null,null,null,null,null,null,null,null,null,null,null,null,null,null,null,null,null,null,null,null,null,null,null,null,null,null,null,null,null,null,null,null,null,null,null,null,null,null,null,null,null,null,null,null,null,null,null,null,null,null,null,null,null,null,null,null,null,null,null,null,null,null,null,null,null,null,null,null,null,null,null,null,null,null,null,null,null,null,null,null,null,null,null,null,null,null,null,null,null,null,null,null,null,null,null,null,null,null,null,null,null,null,null,null,null,null,null,null,null,null,null,null,null,null,null,null,null,null,null,null,null,null,null,null,null,null,null,null,"Municp",null,null,"Industr",null,null,"St Water",null,null,"Res Ext",null,null,"Land Dis",null,null,"Seds",null,null,"Hydro",null,null,"Other",null,null,"Unknown"]
[]
[null,"Aesthetics","Oil & Grease   G","NA","NA","NA",{"$f":"$GO$15&\"  \"&$GO$16&\"  \"&$GO$17&\"  \"&$GO$18&\"  \"&$GO$19&\"  \"&$GO$20","v":"          "},{"$f":"$GO$28&\"  \"&$GO$29&\"  \"&$GO$30&\"  \"&$GO$31&\"  \"&$GO$32&\"  \"&$GO$33","v":"          "},null,null,null,null,null,null,null,null,null,null,null,null,null,null,null,null,null,null,null,null,null,null,null,null,null,null,null,null,null,null,null,null,null,null,null,null,null,null,null,null,null,null,null,null,null,null,null,null,null,null,null,null,null,null,null,null,null,null,null,null,null,null,null,null,null,null,null,null,null,null,null,null,null,null,null,null,null,null,null,null,null,null,null,"Identify the suspected toxic chemical substance below (e.g., Hg, PCB, etc). ",null,null,null,null,null,null,null,null,null,null,null,null,null,null,null,null,null,null,null,null,null,null,null,null,null,null,null,null,null,null,null,null,null,null,null,null,null,null,null,null,null,null,null,null,null,null,null,null,null,null,null,null,null,null,null,null,null,null,null,null,null,null,null,null,null,null,null,null,null,null,null,null,null,null,null,null,null,null,null,null,null,null,null,null,null,null,null,null,null,null,null,null,null,null,null,null,null,null,null,null,null,null,null,null,null,null,null,null,null,null,null,null,null,null,null,null,null,null,null,null,null,null,null,null,null,null,null,null,null,null,null,null,null,null,null,null,null,null,null,null,null,null,null,null,null,null,null,null,null,null,null,null,null,null,null,"Identify the suspected toxic chemical substance below (e.g., Hg, PCB, etc). "]
[null,null,"Taste & Odor   O","NA",null,null,null,null,null,null,null,null,null,null,"Pollution  Indicators (Causes):  ",null,{"$f":"P46&\" \"&P47&\" \"&P48&\" \"&P49&\" \"&P50&\" \"&P51","v":"     "},null,null,null,null,null,null,null,null,null,null,null,null,null,null,null,null,null,null,null,null,null,null,null,"Pollution  Indicators (Causes):  ",null,{"$f":"AP46&\" \"&AP47&\" \"&AP48&\" \"&AP49&\" \"&AP50&\" \"&AP51","v":"     "},null,null,null,null,null,null,null,null,null,null,null,null,null,null,null,null,null,null,null,null,null,null,null,"Pollution  Indicators (Causes):  ",null,{"$f":"BP46&\" \"&BP47&\" \"&BP48","v":"  "},null,null,null,null,null,null,null,null,null,null,null,null,null,null,null,null,null,null,null,null,null,null,null,null,null,null,null,null,null,null,null,null,null,null,null,null,null,null,null,null,null,null,null,null,null,null,null,null,null,"Pollution  Indicators (Causes):  ",null,{"$f":"DP46&\" \"&DP47","v":" "},null,null,null,null,null,null,null,null,null,null,null,null,null,null,null,null,null,null,null,null,null,null,null,"Pollution  Indicators (Causes):  ",null,{"$f":"EP46&\" \"&EP47&\" \"&EP48&\" \"&EP49","v":"   "},null,null,null,null,null,null,null,null,null,null,null,null,null,null,null,null,null,null,null,null,null,null,null,"Pollution  Indicators (Causes):  ",null,{"$f":"FP46&\" \"&FP47","v":" "},null,null,null,null,null,null,null,null,null,null,null,null,null,null,null,null,null,null,null,null,null,null,null,"Pollution  Indicators (Causes):  ",null,{"$f":"GP46&\" \"&GP47&\" \"&GP48&\" \"&GP49&\" \"&GP50&\" \"&GP51","v":"     "},null,null,null,null,null,null,null,null,null,null,null,null,null,null,null,null,null,null,null,null,null,null,"Identify the suspected toxic chemical substance below (e.g., Hg, PCB, etc). "]
[null,null,"Turb/Color   C","NA",null,null,null,null,null,null,null,null,null,null,null,null,null,null,null,null,null,null,null,null,null,null,null,null,null,null,null,null,null,null,null,null,null,null,null,null,null,null,null,null,null,null,null,null,null,null,null,null,null,null,null,null,null,null,null,null,null,null,null,null,null,null,null,null,null,null,null,null,null,null,null,null,null,null,null,null,null,null,null,null,null,null,null,null,null,null,null,"Ag",null,null,null,null,null,null,null,null,null,null,null,null,null,null,null,null,null,null,null,null,null,null,null,null,null,null,null,null,null,null,null,null,null,null,null,null,null,null,null,null,null,null,null,null,null,null,null,null,null,null,null,null,null,null,null,null,null,null,null,null,null,null,null,null,null,null,null,null,null,null,null,null,null,null,null,null,null,null,null,null,null,null,null,null,null,null,null,null,null,null,null,null,null,null,null,null,null,null,null,null,null,null,null,null,null,null,null,null,null,null,null,null,null,null,null,null,null,null,null,null,null,null,null,null,null,null,null,null,null,null,null,null,null,null,null,null,null,null,null,null,null,null,null,null,null,null,null,null,null,null,null,null,null,null,null,"DDT"]
[null,null,"Nuisance Plants   V","NA",null,null,null,null,null,null,null,null,null,null,{"$f":"$B$16","v":"Biology"},null,null,null,null,null,null,null,null,null,null,null,null,null,null,null,null,null,null,null,null,null,null,null,null,null,{"$f":"$B$22","v":"Chemistry"},null,null,null,null,null,null,null,null,null,null,null,null,null,null,null,null,null,null,null,null,null,null,null,null,null,{"$f":"$B$28","v":"Nutrients"},null,null,null,null,null,null,null,null,null,null,null,null,null,null,null,null,null,null,null,null,null,null,null,null,null,null,null,null,null,null,null,null,null,null,null,null,null,null,null,null,null,null,null,null,null,null,null,null,null,null,null,{"$f":"$B$34","v":"Flow"},null,null,null,null,null,null,null,null,null,null,null,null,null,null,null,null,null,null,null,null,null,null,null,null,null,{"$f":"$B$36","v":"Habitat"},null,null,null,null,null,null,null,null,null,null,null,null,null,null,null,null,null,null,null,null,null,null,null,null,null,{"$f":"$B$40","v":"Bacteria"},null,null,null,null,null,null,null,null,null,null,null,null,null,null,null,null,null,null,null,null,null,null,null,null,null,{"$f":"$B$42","v":"Aesthetics"},null,null,null,null,null,null,null,null,null,null,null,null,null,null,null,null,null,null,null,null,null,null,null,null,"PCB"]
[null,null,"Trash /Debris   D","NA",null,null,null,null,null,null,null,null,null,null,{"$f":"$C$16","v":"Plank/Peri.   A"},{"$f":"IF($D$16=\"Concern\",\"(A)\",IF(OR($D$16=\"Fair\",$D$16=\"Poor\"),\"A\",\"\"))","v":""},null,null,null,null,null,null,null,null,null,null,null,null,null,null,null,null,null,null,null,null,null,null,null,null,{"$f":"$C$22","v":"Dis. Oxygen    DO"},{"$f":"IF($D$22=\"Concern\",\"(DO)\",IF(OR($D$22=\"Fair\",$D$22=\"Poor\"),\"DO\",\"\"))","v":""},null,null,null,null,null,null,null,null,null,null,null,null,null,null,null,null,null,null,null,null,null,null,null,null,{"$f":"$C$28","v":"Phosphorus  P"},{"$f":"IF($D$28=\"Concern\",\"(P)\",IF(OR($D$28=\"Fair\",$D$28=\"Poor\"),\"P\",\"\"))","v":""},null,null,null,null,null,null,null,null,null,null,null,null,null,null,null,null,null,null,null,null,null,null,null,null,null,null,null,null,null,null,null,null,null,null,null,null,null,null,null,null,null,null,null,null,null,null,null,null,null,null,{"$f":"$C$34","v":"Flow  Q"},{"$f":"IF($D$34=\"Concern\",\"(O)\",IF(OR($D$34=\"Fair\",$D$34=\"Poor\"),\"O\",\"\"))","v":""},null,null,null,null,null,null,null,null,null,null,null,null,null,null,null,null,null,null,null,null,null,null,null,null,{"$f":"$C$36","v":"Substrate   S"},{"$f":"IF($D$36=\"Concern\",\"(S)\",IF(OR($D$36=\"Fair\",$D$36=\"Poor\"),\"S\",\"\"))","v":""},null,null,null,null,null,null,null,null,null,null,null,null,null,null,null,null,null,null,null,null,null,null,null,null,{"$f":"$C$40","v":"Bacteria   B"},{"$f":"IF($D$40=\"Concern\",\"(B)\",IF(OR($D$40=\"Fair\",$D$40=\"Poor\"),\"B\",\"\"))","v":""},null,null,null,null,null,null,null,null,null,null,null,null,null,null,null,null,null,null,null,null,null,null,null,null,{"$f":"$C$42","v":"Oil & Grease   G"},{"$f":"IF($D$42=\"Concern\",\"(G)\",IF(OR($D$42=\"Fair\",$D$42=\"Poor\"),\"G\",\"\"))","v":""}]
[null,null,null,null,null,null,null,null,null,null,null,null,null,null,{"$f":"$C$17","v":"Macrophyton   M"},{"$f":"IF($D$17=\"Concern\",\"(M)\",IF(OR($D$17=\"Fair\",$D$17=\"Poor\"),\"M\",\"\"))","v":""},null,null,null,null,null,null,null,null,null,null,null,null,null,null,null,null,null,null,null,null,null,null,null,null,{"$f":"$C$23","v":"pH     pH"},{"$f":"IF($D$23=\"Concern\",\"(pH)\",IF(OR($D$23=\"Fair\",$D$23=\"Poor\"),\"pH\",\"\"))","v":""},null,null,null,null,null,null,null,null,null,null,null,null,null,null,null,null,null,null,null,null,null,null,null,null,{"$f":"$C$29","v":"Nitrogen   N"},{"$f":"IF($D$29=\"Concern\",\"(N)\",IF(OR($D$29=\"Fair\",$D$29=\"Poor\"),\"N\",\"\"))","v":""},null,null,null,null,null,null,null,null,null,null,null,null,null,null,null,null,null,null,null,null,null,null,null,null,null,null,null,null,null,null,null,null,null,null,null,null,null,null,null,null,null,null,null,null,null,null,null,null,null,null,{"$f":"IF($C$41=\"\",\"\",$C$41)","v":""},{"$f":"IF($D$35=\"Concern\",\"(**)\",IF(OR($D$35=\"Fair\",$D$35=\"Poor\"),\"**\",\"\"))","v":""},null,null,null,null,null,null,null,null,null,null,null,null,null,null,null,null,null,null,null,null,null,null,null,null,{"$f":"$C$37","v":"Morphology   H"},{"$f":"IF($D$37=\"Concern\",\"(H)\",IF(OR($D$37=\"Fair\",$D$37=\"Poor\"),\"H\",\"\"))","v":""},null,null,null,null,null,null,null,null,null,null,null,null,null,null,null,null,null,null,null,null,null,null,null,null,{"$f":"IF($C$41=\"\",\"\",$C$41)","v":""},{"$f":"IF($D$41=\"Concern\",\"(**)\",IF(OR($D$41=\"Fair\",$D$41=\"Poor\"),\"**\",\"\"))","v":""},null,null,null,null,null,null,null,null,null,null,null,null,null,null,null,null,null,null,null,null,null,null,null,null,{"$f":"$C$43","v":"Taste & Odor   O"},{"$f":"IF($D$43=\"Concern\",\"(O)\",IF(OR($D$43=\"Fair\",$D$43=\"Poor\"),\"O\",\"\"))","v":""}]
[null,"Tissue",{"$f":"\"Spec. Chem.   \"&HN45","v":"Spec. Chem.   PCB"},"NA","NA","NA",{"$f":"$HO$15&\"  \"&$HO$16&\"  \"&$HO$17&\"  \"&$HO$18&\"  \"&$HO$19&\"  \"&$HO$20","v":"          "},{"$f":"$HO$28&\"  \"&$HO$29&\"  \"&$HO$30&\"  \"&$HO$31&\"  \"&$HO$32&\"  \"&$HO$33","v":"          "},null,null,null,null,null,null,{"$f":"$C$18","v":"Invertebrates   I"},{"$f":"IF($D$18=\"Concern\",\"(I)\",IF(OR($D$18=\"Fair\",$D$18=\"Poor\"),\"I\",\"\"))","v":""},null,null,null,null,null,null,null,null,null,null,null,null,null,null,null,null,null,null,null,null,null,null,null,null,{"$f":"$C$24","v":"Temperature    T"},{"$f":"IF($D$24=\"Concern\",\"(T)\",IF(OR($D$24=\"Fair\",$D$24=\"Poor\"),\"T\",\"\"))","v":""},null,null,null,null,null,null,null,null,null,null,null,null,null,null,null,null,null,null,null,null,null,null,null,null,{"$f":"IF($C$30=\"\",\"\",$C$30)","v":""},{"$f":"IF($D$30=\"Concern\",\"(**)\",IF(OR($D$30=\"Fair\",$D$30=\"Poor\"),\"**\",\"\"))","v":""},null,null,null,null,null,null,null,null,null,null,null,null,null,null,null,null,null,null,null,null,null,null,null,null,null,null,null,null,null,null,null,null,null,null,null,null,null,null,null,null,null,null,null,null,null,null,null,null,null,null,null,null,null,null,null,null,null,null,null,null,null,null,null,null,null,null,null,null,null,null,null,null,null,null,null,null,{"$f":"$C$38","v":"Riparian Zone   R"},{"$f":"IF($D$38=\"Concern\",\"(R)\",IF(OR($D$38=\"Fair\",$D$38=\"Poor\"),\"R\",\"\"))","v":""},null,null,null,null,null,null,null,null,null,null,null,null,null,null,null,null,null,null,null,null,null,null,null,null,null,null,null,null,null,null,null,null,null,null,null,null,null,null,null,null,null,null,null,null,null,null,null,null,null,null,{"$f":"$C$44","v":"Turb/Color   C"},{"$f":"IF($D$44=\"Concern\",\"(C)\",IF(OR($D$44=\"Fair\",$D$44=\"Poor\"),\"C\",\"\"))","v":""}]
[null,null,null,null,null,null,null,null,null,null,null,null,null,null,{"$f":"$C$19","v":"Fish   F"},{"$f":"IF($D$19=\"Concern\",\"(F)\",IF(OR($D$19=\"Fair\",$D$19=\"Poor\"),\"F\",\"\"))","v":""},null,null,null,null,null,null,null,null,null,null,null,null,null,null,null,null,null,null,null,null,null,null,null,null,{"$f":"$C$25","v":"Ionic Strength    Z"},{"$f":"IF($D$25=\"Concern\",\"(Z)\",IF(OR($D$25=\"Fair\",$D$25=\"Poor\"),\"Z\",\"\"))","v":""},null,null,null,null,null,null,null,null,null,null,null,null,null,null,null,null,null,null,null,null,null,null,null,null,null,null,null,null,null,null,null,null,null,null,null,null,null,null,null,null,null,null,null,null,null,null,null,null,null,null,"Pollution  Indicators (Causes):  ",null,{"$f":"CP52&\" \"&CP53&\" \"&CP54","v":"  "},null,null,null,null,null,null,null,null,null,null,null,null,null,null,null,null,null,null,null,null,null,null,null,null,null,null,null,null,null,null,null,null,null,null,null,null,null,null,null,null,null,null,null,null,null,null,null,null,null,{"$f":"IF($C$39=\"\",\"\",$C$39)","v":""},{"$f":"IF($D$39=\"Concern\",\"(**)\",IF(OR($D$39=\"Fair\",$D$39=\"Poor\"),\"**\",\"\"))","v":""},null,null,null,null,null,null,null,null,null,null,null,null,null,null,null,null,null,null,null,null,null,null,null,null,null,null,null,null,null,null,null,null,null,null,null,null,null,null,null,null,null,null,null,null,null,null,null,null,null,null,{"$f":"$C$45","v":"Nuisance Plants   V"},{"$f":"IF($D$45=\"Concern\",\"(V)\",IF(OR($D$45=\"Fair\",$D$45=\"Poor\"),\"V\",\"\"))","v":""},null,null,null,null,null,null,null,null,null,null,null,null,null,null,null,null,null,null,null,null,null,null,null,null,null,null,null,null,null,null,null,null,null,null,null,null,null,null,null,null,null,null,null,null,null,null,null,null,null,null,"Pollution  Indicators (Causes):  ",null,{"$f":"IP52&\" \"&IP53&\" \"&IP54","v":"  "}]
[null,"Sediment","Unknown   U","NA","NA","NA",{"$f":"$IO$15&\"  \"&$IO$16&\"  \"&$IO$17&\"  \"&$IO$18&\"  \"&$IO$19&\"  \"&$IO$20","v":"          "},{"$f":"$IO$28&\"  \"&$IO$29&\"  \"&$IO$30&\"  \"&$IO$31&\"  \"&$IO$32&\"  \"&$IO$33","v":"          "},null,null,null,null,null,null,{"$f":"$C$20","v":"Wildlife   W"},{"$f":"IF($D$20=\"Concern\",\"(W)\",IF(OR($D$20=\"Fair\",$D$20=\"Poor\"),\"W\",\"\"))","v":""},null,null,null,null,null,null,null,null,null,null,null,null,null,null,null,null,null,null,null,null,null,null,null,null,{"$f":"$C$26","v":"Sus. Solids    SS"},{"$f":"IF($D$26=\"Concern\",\"(SS)\",IF(OR($D$26=\"Fair\",$D$26=\"Poor\"),\"SS\",\"\"))","v":""},null,null,null,null,null,null,null,null,null,null,null,null,null,null,null,null,null,null,null,null,null,null,null,null,null,null,null,null,null,null,null,null,null,null,null,null,null,null,null,null,null,null,null,null,null,null,null,null,null,null,null,null,null,null,null,null,null,null,null,null,null,null,null,null,null,null,null,null,null,null,null,null,null,null,null,null,null,null,null,null,null,null,null,null,null,null,null,null,null,null,null,null,null,null,null,null,null,null,null,null,null,null,null,null,null,null,null,null,null,null,null,null,null,null,null,null,null,null,null,null,null,null,null,null,null,null,null,null,null,null,null,null,null,null,null,null,null,null,null,null,null,null,null,null,null,null,null,null,null,null,null,null,null,null,{"$f":"$C$46","v":"Trash /Debris   D"},{"$f":"IF($D$46=\"Concern\",\"(D)\",IF(OR($D$46=\"Fair\",$D$46=\"Poor\"),\"D\",\"\"))","v":""},null,null,null,null,null,null,null,null,null,null,null,null,null,null,null,null,null,null,null,null,null,null,null,null,"Pollution  Indicators (Causes):  ",null,{"$f":"HP53&\" \"&HP54","v":" "}]
[null,null,{"$f":"\"Spec. Chem.   \"&IN44","v":"Spec. Chem.   DDT"},"NA",null,null,null,null,null,null,null,null,null,null,{"$f":"IF($C$21=\"\",\"\",$C$21)","v":""},{"$f":"IF($D$21=\"Concern\",\"(**)\",IF(OR($D$21=\"Fair\",$D$21=\"Poor\"),\"**\",\"\"))","v":""},null,null,null,null,null,null,null,null,null,null,null,null,null,null,null,null,null,null,null,null,null,null,null,null,{"$f":"IF($C$27=\"\",\"\",$C$27)","v":""},{"$f":"IF($D$27=\"Concern\",\"(**)\",IF(OR($D$27=\"Fair\",$D$27=\"Poor\"),\"**\",\"\"))","v":""},null,null,null,null,null,null,null,null,null,null,null,null,null,null,null,null,null,null,null,null,null,null,null,null,null,null,null,null,null,null,null,null,null,null,null,null,null,null,null,null,null,null,null,null,null,null,null,null,null,null,{"$f":"$B$31","v":"Toxicity"},null,null,null,null,null,null,null,null,null,null,null,null,null,null,null,null,null,null,null,null,null,null,null,null,null,null,null,null,null,null,null,null,null,null,null,null,null,null,null,null,null,null,null,null,null,null,null,null,null,null,null,null,null,null,null,null,null,null,null,null,null,null,null,null,null,null,null,null,null,null,null,null,null,null,null,null,null,null,null,null,null,null,null,null,null,null,null,null,null,null,null,null,null,null,null,null,null,null,null,null,null,null,null,{"$f":"IF($C$47=\"\",\"\",$C$47)","v":""},{"$f":"IF($D$47=\"Concern\",\"(**)\",IF(OR($D$47=\"Fair\",$D$47=\"Poor\"),\"**\",\"\"))","v":""},null,null,null,null,null,null,null,null,null,null,null,null,null,null,null,null,null,null,null,null,null,null,null,null,null,null,null,null,null,null,null,null,null,null,null,null,null,null,null,null,null,null,null,null,null,null,null,null,null,null,{"$f":"$B$50","v":"Sediment"}]
[null,null,null,null,null,null,null,null,null,null,null,null,null,null,null,null,null,null,null,null,null,null,null,null,null,null,null,null,null,null,null,null,null,null,null,null,null,null,null,null,null,null,null,null,null,null,null,null,null,null,null,null,null,null,null,null,null,null,null,null,null,null,null,null,null,null,null,null,null,null,null,null,null,null,null,null,null,null,null,null,null,null,null,null,null,null,null,null,null,null,null,null,{"$f":"$C$31","v":"Unknown   U"},{"$f":"IF($D$31=\"Concern\",\"(U)\",IF(OR($D$31=\"Fair\",$D$31=\"Poor\"),\"U\",\"\"))","v":""},null,null,null,null,null,null,null,null,null,null,null,null,null,null,null,null,null,null,null,null,null,null,null,null,null,null,null,null,null,null,null,null,null,null,null,null,null,null,null,null,null,null,null,null,null,null,null,null,null,null,null,null,null,null,null,null,null,null,null,null,null,null,null,null,null,null,null,null,null,null,null,null,null,null,null,null,null,null,null,null,null,null,null,null,null,null,null,null,null,null,null,null,null,null,null,null,null,null,null,null,null,null,null,null,null,null,null,null,null,null,null,null,null,null,null,null,null,null,null,null,null,null,null,null,null,null,null,null,{"$f":"$B$48","v":"Tissue"},null,null,null,null,null,null,null,null,null,null,null,null,null,null,null,null,null,null,null,null,null,null,null,null,null,{"$f":"$C$50","v":"Unknown   U"},{"$f":"IF($D$50=\"Concern\",\"(U)\",IF(OR($D$50=\"Fair\",$D$50=\"Poor\"),\"U\",\"\"))","v":""}]
[null,"Comments:",null,null,null,null,null,"*  Suspected Source  ",null,null,null,null,null,null,null,null,null,null,null,null,null,null,null,null,null,null,null,null,null,null,null,null,null,null,null,null,null,null,null,null,null,null,null,null,null,null,null,null,null,null,null,null,null,null,null,null,null,null,null,null,null,null,null,null,null,null,null,null,null,null,null,null,null,null,null,null,null,null,null,null,null,null,null,null,null,null,null,null,null,null,null,null,{"$f":"$C$32","v":"Spec. Chem.  Ag"},{"$f":"IF($D$32=\"Concern\",\"(\"&CN44&\")\",IF(OR($D$32=\"Fair\",$D$32=\"Poor\"),CN44,\"\"))","v":""},null,null,null,null,null,null,null,null,null,null,null,null,null,null,null,null,null,null,null,null,null,null,null,null,null,null,null,null,null,null,null,null,null,null,null,null,null,null,null,null,null,null,null,null,null,null,null,null,null,null,null,null,null,null,null,null,null,null,null,null,null,null,null,null,null,null,null,null,null,null,null,null,null,null,null,null,null,null,null,null,null,null,null,null,null,null,null,null,null,null,null,null,null,null,null,null,null,null,null,null,null,null,null,null,null,null,null,null,null,null,null,null,null,null,null,null,null,null,null,null,null,null,null,null,null,null,null,null,{"$f":"$C$48","v":"Spec. Chem.   PCB"},{"$f":"IF($D$48=\"Concern\",\"(\"&HN45&\")\",IF(OR($D$48=\"Fair\",$D$32=\"Poor\"),HN45,\"\"))","v":""},null,null,null,null,null,null,null,null,null,null,null,null,null,null,null,null,null,null,null,null,null,null,null,null,{"$f":"$C$51","v":"Spec. Chem.   DDT"},{"$f":"IF($D$51=\"Concern\",\"(\"&IN44&\")\",IF(OR($D$51=\"Fair\",$D$51=\"Poor\"),IN44,\"\"))","v":""}]
[null,null,null,null,null,null,null,"** Potential Source  ",null,null,null,null,null,null,null,null,null,null,null,null,null,null,null,null,null,null,null,null,null,null,null,null,null,null,null,null,null,null,null,null,null,null,null,null,null,null,null,null,null,null,null,null,null,null,null,null,null,null,null,null,null,null,null,null,null,null,null,null,null,null,null,null,null,null,null,null,null,null,null,null,null,null,null,null,null,null,null,null,null,null,null,null,{"$f":"IF($C$33=\"\",\"\",$C$33)","v":""},{"$f":"IF($D$33=\"Concern\",\"(**)\",IF(OR($D$33=\"Fair\",$D$33=\"Poor\"),\"**\",\"\"))","v":""},null,null,null,null,null,null,null,null,null,null,null,null,null,null,null,null,null,null,null,null,null,null,null,null,null,null,null,null,null,null,null,null,null,null,null,null,null,null,null,null,null,null,null,null,null,null,null,null,null,null,null,null,null,null,null,null,null,null,null,null,null,null,null,null,null,null,null,null,null,null,null,null,null,null,null,null,null,null,null,null,null,null,null,null,null,null,null,null,null,null,null,null,null,null,null,null,null,null,null,null,null,null,null,null,null,null,null,null,null,null,null,null,null,null,null,null,null,null,null,null,null,null,null,null,null,null,null,null,{"$f":"IF($C$49=\"\",\"\",$C$49)","v":""},{"$f":"IF($D$49=\"Concern\",\"(**)\",IF(OR($D$49=\"Fair\",$D$49=\"Poor\"),\"**\",\"\"))","v":""},null,null,null,null,null,null,null,null,null,null,null,null,null,null,null,null,null,null,null,null,null,null,null,null,{"$f":"IF($C$52=\"\",\"\",$C$52)","v":""},{"$f":"IF($D$52=\"Concern\",\"(**)\",IF(OR($D$52=\"Fair\",$D$52=\"Poor\"),\"**\",\"\"))","v":""}]
[null,null,null,null,null,null,null,"No asterisk: Known Source  "]
[null,null,null,null,null,null,null,"[Out of Segment Source ]  "]
[]
[]
[]
[null,"SegNameLong:  ","rrrrrr"]
[null,"Seg Name:  ","rrr"]
[null,"Seg Num:  "]
[null,"Seg Size:  "]
[null,"Seg Class:  "]
[]
[]
[]
[]
[]
[]
[]
[]
[]
[]
[]
[]
[null,null,null,{"$f":"A99","v":""}]
[null,null,null,{"$f":"B99","v":""}]
[null,null,null,{"$f":"C99","v":""}]
[null,null,null,{"$f":"D99","v":""}]
[null,null,null,{"$f":"E99","v":""}]
[null,null,null,{"$f":"F99","v":""}]
[null,null,null,{"$f":"G99","v":""}]
[null,null,null,{"$f":"H99","v":""}]
[null,null,null,{"$f":"I99","v":""}]
[]
[]
[]
[]
[]
[]
[]
[]
[]
[]
[]
[]
[]
[{"$f":"TRIM(A101&\" \"&A102&\" \"&A103&\" \"&A104&\" \"&A105&\" \"&A106)","v":""},{"$f":"TRIM(B101&\" \"&B102&\" \"&B103&\" \"&B104&\" \"&B105&\" \"&B106)","v":""},"","","","","","",""]

{"sheet":"Seg19","index":23,"n_rows":99,"n_cols":311,"rows_kept":99,"cut":false,"hidden":false,"merged":[[15,1,20,1],[15,4,20,4],[15,5,20,5],[15,6,20,6],[15,7,20,7],[13,1,14,1],[13,2,14,3],[13,4,14,4],[13,5,14,5],[14,6,14,7],[27,1,29,1],[27,4,29,4],[27,5,29,5],[27,6,29,6],[27,7,29,7],[21,1,26,1],[21,4,26,4],[21,5,26,5],[21,6,26,6],[21,7,26,7],[49,6,51,6],[49,7,51,7],[30,1,32,1],[30,4,32,4],[30,5,32,5],[30,6,32,6],[30,7,32,7],[33,1,34,1],[33,4,34,4],[33,5,34,5],[33,6,34,6],[33,7,34,7],[43,91,45,94],[35,1,38,1],[35,4,38,4],[35,5,38,5],[35,6,38,6],[35,7,38,7],[39,1,40,1],[39,4,40,4],[39,5,40,5],[39,6,40,6],[39,7,40,7],[52,1,55,1],[43,247,45,250],[44,221,46,224],[47,1,48,1],[47,4,48,4],[47,5,48,5],[47,6,48,6],[47,7,48,7],[41,1,46,1],[41,4,46,4],[41,5,46,5],[41,6,46,6],[41,7,46,7],[49,1,51,1],[49,4,51,4],[49,5,51,5]]}
[]
[]
[]
[]
[null,null,null,null,null,null,null,null,null,null,null,null,null,null,null,null,null,null,null,null,null,null,null,null,null,null,null,null,null,null,null,null,null,null,null,null,null,null,null,null,null,null,null,null,null,null,null,null,null,null,null,null,null,null,null,null,null,null,null,null,null,null,null,null,null,null,null,null,null,null,null,null,null,null,null,null,null,null,null,null,null,null,null,null,null,null,null,null,null,null,null,null,null,null,null,null,null,null,null,null,null,null,null,null,null,null,null,null,null,null,null,null,null,null,null,null,null,null,null,null,null,null,null,null,null,null,null,null,null,null,null,null,null,null,null,null,null,null,null,null,null,null,null,null,null,null,null,null,null,null,null,null,null,null,null,null,null,null,null,null,null,null,null,null,null,null,null,null,null,null,null,null,null,null,null,null,null,null,null,null,null,null,null,null,null,null,null,null,null,null,null,null,null,null,null,null,null,null,null,null,null,null,null,null,null,null,null,null,null,null,null,null,null,null,null,null,null,null,null,null,null,null,null,null,null,null,null,null,null,null,null,null,null,null,null,null,null,null,null,null,null,null,null,null,null,null,null,null,null,null,null,null,null,null,null,null,null,null,null,null,null,null,null,null,null,null,null,null,null,null,null,null,null,null,null,null,null,null,null,null,null,null,null,null,null,"List of all codes from all groups for this segment, organized by Source Type. "]
[null,null,null,null,null,null,null,null,null,null,null,null,null,null,null,null,null,null,null,null,null,null,null,null,null,null,null,null,null,null,null,null,null,null,null,null,null,null,null,null,null,null,null,null,null,null,null,null,null,null,null,null,null,null,null,null,null,null,null,null,null,null,null,null,null,null,null,null,null,null,null,null,null,null,null,null,null,null,null,null,null,null,null,null,null,null,null,null,null,null,null,null,null,null,null,null,null,null,null,null,null,null,null,null,null,null,null,null,null,null,null,null,null,null,null,null,null,null,null,null,null,null,null,null,null,null,null,null,null,null,null,null,null,null,null,null,null,null,null,null,null,null,null,null,null,null,null,null,null,null,null,null,null,null,null,null,null,null,null,null,null,null,null,null,null,null,null,null,null,null,null,null,null,null,null,null,null,null,null,null,null,null,null,null,null,null,null,null,null,null,null,null,null,null,null,null,null,null,null,null,null,null,null,null,null,null,null,null,null,null,null,null,null,null,null,null,null,null,null,null,null,null,null,null,null,null,null,null,null,null,null,null,null,null,null,null,null,null,null,null,null,null,null,null,null,null,null,null,null,null,null,null,null,null,null,null,null,null,null,null,null,null,null,null,null,null,null,null,null,null,null,null,null,null,null,null,null,null,null,null,null,null,null,null,null,"List is updated only when \"SourceRC_List\" macro is run. Macro is run manually by touching button at right or when Source report card is activated."]
[null,null,null,null,null,null,null,null,null,null,null,null,null,null,null,null,null,null,null,null,null,null,null,null,null,null,null,null,null,null,null,null,null,null,null,null,null,null,null,null,null,null,null,null,null,null,null,null,null,null,null,null,null,null,null,null,null,null,null,null,null,null,null,null,null,null,null,null,null,null,null,null,null,null,null,null,null,null,null,null,null,null,null,null,null,null,null,null,null,null,null,null,null,null,null,null,null,null,null,null,null,null,null,null,null,null,null,null,null,null,null,null,null,null,null,null,null,null,null,null,null,null,null,null,null,null,null,null,null,null,null,null,null,null,null,null,null,null,null,null,null,null,null,null,null,null,null,null,null,null,null,null,null,null,null,null,null,null,null,null,null,null,null,null,null,null,null,null,null,null,null,null,null,null,null,null,null,null,null,null,null,null,null,null,null,null,null,null,null,null,null,null,null,null,null,null,null,null,null,null,null,null,null,null,null,null,null,null,null,null,null,null,null,null,null,null,null,null,null,null,null,null,null,null,null,null,null,null,null,null,null,null,null,null,null,null,null,null,null,null,null,null,null,null,null,null,null,null,null,null,null,null,null,null,null,null,null,null,null,null,null,null,null,null,null,null,null,null,null,null,null,null,null,null,null,null,null,null,null,null,null,null,null,null,null,"Numbers indicate knowledge about the certainty of assessment: 0 = N/A, 1 = Potential Source, 2 = Suspected Source, 3 = Known Source."]
[null,null,null,null,null,null,null,null,null,null,null,null,null,null,null,null,null,null,null,null,null,null,null,null,null,null,null,null,null,null,null,null,null,null,null,null,null,null,null,null,null,null,null,null,null,null,null,null,null,null,null,null,null,null,null,null,null,null,null,null,null,null,null,null,null,null,null,null,null,null,null,null,null,null,null,null,null,null,null,null,null,null,null,null,null,null,null,null,null,null,null,null,null,null,null,null,null,null,null,null,null,null,null,null,null,null,null,null,null,null,null,null,null,null,null,null,null,null,null,null,null,null,null,null,null,null,null,null,null,null,null,null,null,null,null,null,null,null,null,null,null,null,null,null,null,null,null,null,null,null,null,null,null,null,null,null,null,null,null,null,null,null,null,null,null,null,null,null,null,null,null,null,null,null,null,null,null,null,null,null,null,null,null,null,null,null,null,null,null,null,null,null,null,null,null,null,null,null,null,null,null,null,null,null,null,null,null,null,null,null,null,null,null,null,null,null,null,null,null,null,null,null,null,null,null,null,null,null,null,null,null,null,null,null,null,null,null,null,null,null,null,null,null,null,null,null,null,null,null,null,null,null,null,null,null,null,null,null,null,null,null,null,null,null,null,null,null,null,null,null,null,null,null,null,null,null,null,null,null,null,null,null,null,null,null,"This list is then processed below to remove duplicates."]
[null,null,null,null,null,null,null,null,null,null,null,null,null,"Designate Point & Non-Point Sources",null,null,null,null,null,null,null,null,null,null,null,null,null,null,null,null,null,null,null,null,null,null,null,null,null,"Designate Point & Non-Point Sources",null,null,null,null,null,null,null,null,null,null,null,null,null,null,null,null,null,null,null,null,null,null,null,null,null,"Designate Point & Non-Point Sources",null,null,null,null,null,null,null,null,null,null,null,null,null,null,null,null,null,null,null,null,null,null,null,null,null,"Designate Point & Non-Point Sources",null,null,null,null,null,null,null,null,null,null,null,null,null,null,null,null,null,null,null,null,null,null,null,null,null,"Designate Point & Non-Point Sources",null,null,null,null,null,null,null,null,null,null,null,null,null,null,null,null,null,null,null,null,null,null,null,null,null,"Designate Point & Non-Point Sources",null,null,null,null,null,null,null,null,null,null,null,null,null,null,null,null,null,null,null,null,null,null,null,null,null,"Designate Point & Non-Point Sources",null,null,null,null,null,null,null,null,null,null,null,null,null,null,null,null,null,null,null,null,null,null,null,null,null,"Designate Point & Non-Point Sources",null,null,null,null,null,null,null,null,null,null,null,null,null,null,null,null,null,null,null,null,null,null,null,null,null,"Designate Point & Non-Point Sources",null,null,null,null,null,null,null,null,null,null,null,null,null,null,null,null,null,null,null,null,null,null,null,null,null,"Designate Point & Non-Point Sources"]
[null,null,null,null,null,null,null,null,null,null,null,null,null,null,null,null,null,null,null,null,null,null,null,"Codes selected at left are distributed according to Source Type. "]
[null,{"$f":"\"River Basin: \"&RiverBasinName","v":"River Basin: Test River Basin"},null,null,null,null,{"$f":"\"Data Year:  \"&AssessmentYear","v":"Data Year:  2011"},null,null,null,null,null,null,null,null,null,null,null,null,null,null,null,null,"Numbers indicate confidence of assessment: 0 = N/A, 1 = Potential Source, 2 = Suspected Source, 3 = Known Source.",null,null,null,null,null,null,null,null,null,null,null,null,null,null,null,null,null,null,null,null,null,null,null,null,null,null,null,null,null,null,null,null,null,null,null,null,null,null,null,null,null,null,null,null,null,null,null,null,null,null,null,null,null,null,null,null,null,null,null,null,null,null,null,null,null,null,null,null,null,null,null,null,null,null,null,null,null,null,null,null,null,null,null,null,null,null,null,null,null,null,null,null,null,null,null,null,null,null,null,null,null,null,null,null,null,null,null,null,null,null,null,null,null,null,null,null,null,null,null,null,null,null,null,null,null,null,null,null,null,null,null,null,null,null,null,null,null,null,null,null,null,null,null,null,null,null,null,null,null,null,null,null,null,null,null,null,null,null,null,null,null,null,null,null,null,null,null,null,null,null,null,null,null,null,null,null,null,null,null,null,null,null,null,null,null,null,null,null,null,null,null,null,null,null,null,null,null,null,null,null,null,null,null,null,null,null,null,null,null,null,null,null,null,null,null,null,null,null,null,null,null,null,null,null,null,null,null,null,null,null,null,null,null,null,null,null,null,null,null,null,null,null,null,null,null,null,null,null,null,null,null,null,null,null,null,null,null,null,null,null,null,null,"Municp",null,null,"Industr",null,null,"St Water",null,null,"Res Ext",null,null,"Land Dis",null,null,"Seds",null,null,"Hydro",null,null,"Other",null,null,"Unknown"]
[null,{"$f":"\"Segment Name: \"&C60","v":"Segment Name: ssssss"},null,null,null,null,null,null,null,null,null,null,null,null,null,null,null,null,null,null,null,null,null,"These codes are processed by \"SourceRC_List macro and transferred to Source report card."]
[null,{"$f":"\"Class: \"&C64","v":"Class: "},null,{"$f":"\"Size: \"&C63","v":"Size: "},null,null,{"$f":"\"Seg ID #: \"&C62","v":"Seg ID #: "}]
[null,"CATEGORY","INDICATOR ASSESSMENT",null,"OVERALL STATUS","DATA LEVEL","POINT","NONPOINT",null,null,null,null,null,"Point Sources",null,null,null,null,null,null,null,null,null,"Municipal",null,null,"Industrial",null,null,"Storm Water",null,null,"Resource Ext",null,null,"Land Disposal",null,null,null,"Point Sources",null,null,null,null,null,null,null,null,null,"Municipal",null,null,"Industrial",null,null,"Storm Water",null,null,"Resource Ext",null,null,"Land Disposal",null,null,null,"Point Sources",null,null,null,null,null,null,null,null,null,"Municipal",null,null,"Industrial",null,null,"Storm Water",null,null,"Resource Ext",null,null,"Land Disposal",null,null,null,"Point Sources",null,null,null,null,null,null,null,null,null,"Municipal",null,null,"Industrial",null,null,"Storm Water",null,null,"Resource Ext",null,null,"Land Disposal",null,null,null,"Point Sources",null,null,null,null,null,null,null,null,null,"Municipal",null,null,"Industrial",null,null,"Storm Water",null,null,"Resource Ext",null,null,"Land Disposal",null,null,null,"Point Sources",null,null,null,null,null,null,null,null,null,"Municipal",null,null,"Industrial",null,null,"Storm Water",null,null,"Resource Ext",null,null,"Land Disposal",null,null,null,"Point Sources",null,null,null,null,null,null,null,null,null,"Municipal",null,null,"Industrial",null,null,"Storm Water",null,null,"Resource Ext",null,null,"Land Disposal",null,null,null,"Point Sources",null,null,null,null,null,null,null,null,null,"Municipal",null,null,"Industrial",null,null,"Storm Water",null,null,"Resource Ext",null,null,"Land Disposal",null,null,null,"Point Sources",null,null,null,null,null,null,null,null,null,"Municipal",null,null,"Industrial",null,null,"Storm Water",null,null,"Resource Ext",null,null,"Land Disposal",null,null,null,"Point Sources",null,null,null,null,null,null,null,null,null,"Municipal",null,null,"Industrial",null,null,"Storm Water",null,null,"Resource Ext",null,null,"Land Disposal"]
[null,null,null,null,null,null,"Click below to select Sources"]
[null,"Biology","Plank/Peri.   A","NA","NA","NA",{"$f":"$O$15&\"  \"&$O$16&\"  \"&$O$17&\"  \"&$O$18&\"  \"&$O$19&\"  \"&$O$20","v":"          "},{"$f":"$O$28&\"  \"&$O$29&\"  \"&$O$30&\"  \"&$O$31&\"  \"&$O$32&\"  \"&$O$33","v":"          "}]
[null,null,"Macrophyton   M","NA"]
[null,null,"Invertebrates   I","NA"]
[null,null,"Fish   F","NA"]
[null,null,"Wildlife   W","NA"]
[]
[null,"Chemistry","Dis. Oxygen    DO","NA","NA","NA",{"$f":"$AO$15&\"  \"&$AO$16&\"  \"&$AO$17&\"  \"&$AO$18&\"  \"&$AO$19&\"  \"&$AO$20","v":"          "},{"$f":"$AO$28&\"  \"&$AO$29&\"  \"&$AO$30&\"  \"&$AO$31&\"  \"&$AO$32&\"  \"&$AO$33","v":"          "}]
[null,null,"pH     pH","NA"]
[null,null,"Temperature    T","NA"]
[null,null,"Ionic Strength    Z","NA"]
[null,null,"Sus. Solids    SS","NA"]
[null,null,null,null,null,null,null,null,null,null,null,null,null,"Non Point Sources",null,null,null,null,null,null,null,null,null,"Seds",null,null,"Hydromodification",null,null,"Other",null,null,"Unknown",null,null,null,null,null,null,"Non Point Sources",null,null,null,null,null,null,null,null,null,"Seds",null,null,"Hydromodification",null,null,"Other",null,null,"Unknown",null,null,null,null,null,null,"Non Point Sources",null,null,null,null,null,null,null,null,null,"Seds",null,null,"Hydromodification",null,null,"Other",null,null,"Unknown",null,null,null,null,null,null,"Non Point Sources",null,null,null,null,null,null,null,null,null,"Seds",null,null,"Hydromodification",null,null,"Other",null,null,"Unknown",null,null,null,null,null,null,"Non Point Sources",null,null,null,null,null,null,null,null,null,"Seds",null,null,"Hydromodification",null,null,"Other",null,null,"Unknown",null,null,null,null,null,null,"Non Point Sources",null,null,null,null,null,null,null,null,null,"Seds",null,null,"Hydromodification",null,null,"Other",null,null,"Unknown",null,null,null,null,null,null,"Non Point Sources",null,null,null,null,null,null,null,null,null,"Seds",null,null,"Hydromodification",null,null,"Other",null,null,"Unknown",null,null,null,null,null,null,"Non Point Sources",null,null,null,null,null,null,null,null,null,"Seds",null,null,"Hydromodification",null,null,"Other",null,null,"Unknown",null,null,null,null,null,null,"Non Point Sources",null,null,null,null,null,null,null,null,null,"Seds",null,null,"Hydromodification",null,null,"Other",null,null,"Unknown",null,null,null,null,null,null,"Non Point Sources",null,null,null,null,null,null,null,null,null,"Seds",null,null,"Hydromodification",null,null,"Other",null,null,"Unknown"]
[null,"Nutrients","Phosphorus  P","NA","NA","NA",{"$f":"$BO$15&\"  \"&$BO$16&\"  \"&$BO$17&\"  \"&$BO$18&\"  \"&$BO$19&\"  \"&$BO$20","v":"          "},{"$f":"$BO$28&\"  \"&$BO$29&\"  \"&$BO$30&\"  \"&$BO$31&\"  \"&$BO$32&\"  \"&$BO$33","v":"          "}]
[null,null,"Nitrogen   N","NA"]
[]
[null,"Toxicity","Unknown   U","NA","NA","NA",{"$f":"$CO$15&\"  \"&$CO$16&\"  \"&$CO$17&\"  \"&$CO$18&\"  \"&$CO$19&\"  \"&$CO$20","v":"          "},{"$f":"$CO$28&\"  \"&$CO$29&\"  \"&$CO$30&\"  \"&$CO$31&\"  \"&$CO$32&\"  \"&$CO$33","v":"          "}]
[null,null,{"$f":"\"Spec. Chem.  \"&CN44","v":"Spec. Chem.  Ag"},"NA"]
[null,null,null,null,null,null,null,null,null,null,null,null,null,null,null,null,null,null,null,null,null,null,null,null,null,null,null,null,null,null,null,null,null,null,null,null,null,null,null,null,null,null,null,null,null,null,null,null,null,null,null,null,null,null,null,null,null,null,null,null,null,null,null,null,null,null,null,null,null,null,null,null,null,null,null,null,null,null,null,null,null,null,null,null,null,null,null,null,null,null,null,null,null,null,null,null,null,null,null,null,null,null,null,null,null,null,null,null,null,null,null,null,null,null,null,null,null,null,null,null,null,null,null,null,null,null,null,null,null,null,null,null,null,null,null,null,null,null,null,null,null,null,null,null,null,null,null,null,null,null,null,null,null,null,null,null,null,null,null,null,null,null,null,null,null,null,null,null,null,null,null,null,null,null,null,null,null,null,null,null,null,null,null,null,null,null,null,null,null,null,null,null,null,null,null,null,null,null,null,null,null,null,null,null,null,null,null,null,null,null,null,null,null,null,null,null,null,null,null,null,null,null,null,null,null,null,null,null,null,null,null,null,null,null,null,null,null,null,null,null,null,null,null,null,null,null,null,null,null,null,null,null,null,null,null,null,null,null,null,null,null,null,null,null,null,null,null,null,null,null,null,null,null,null,null,null,null,null,null,null,null,null,null,null,null,"The colored cells below reflect this segments pollution status and are replicated on the Sources report card automatically"]
[null,"Flow","Flow  Q","NA","NA","NA",{"$f":"$DO$15&\"  \"&$DO$16&\"  \"&$DO$17&\"  \"&$DO$18&\"  \"&$DO$19&\"  \"&$DO$20","v":"          "},{"$f":"$DO$28&\"  \"&$DO$29&\"  \"&$DO$30&\"  \"&$DO$31&\"  \"&$DO$32&\"  \"&$DO$33","v":"          "},null,null,null,null,null,null,null,null,null,null,null,null,null,null,null,null,null,null,null,null,null,null,null,null,null,null,null,null,null,null,null,null,null,null,null,null,null,null,null,null,null,null,null,null,null,null,null,null,null,null,null,null,null,null,null,null,null,null,null,null,null,null,null,null,null,null,null,null,null,null,null,null,null,null,null,null,null,null,null,null,null,null,null,null,null,null,null,null,null,null,null,null,null,null,null,null,null,null,null,null,null,null,null,null,null,null,null,null,null,null,null,null,null,null,null,null,null,null,null,null,null,null,null,null,null,null,null,null,null,null,null,null,null,null,null,null,null,null,null,null,null,null,null,null,null,null,null,null,null,null,null,null,null,null,null,null,null,null,null,null,null,null,null,null,null,null,null,null,null,null,null,null,null,null,null,null,null,null,null,null,null,null,null,null,null,null,null,null,null,null,null,null,null,null,null,null,null,null,null,null,null,null,null,null,null,null,null,null,null,null,null,null,null,null,null,null,null,null,null,null,null,null,null,null,null,null,null,null,null,null,null,null,null,null,null,null,null,null,null,null,null,null,null,null,null,null,null,null,null,null,null,null,null,null,null,null,null,null,null,null,null,null,null,null,null,null,null,null,null,null,null,null,null,null,null,null,null,null,{"$f":"KA11","v":"Municp"},null,null,{"$f":"KD11","v":"Industr"},null,null,{"$f":"KG11","v":"St Water"},null,null,{"$f":"KJ11","v":"Res Ext"},null,null,{"$f":"KM11","v":"Land Dis"},null,null,{"$f":"KP11","v":"Seds"},null,null,{"$f":"KS11","v":"Hydro"},null,null,{"$f":"KV11","v":"Other"},null,null,{"$f":"KY11","v":"Unknown"}]
[null,null,null,null,null,null,null,null,null,null,null,null,null,"* designates a Suspected Source",null,null,null,null,null,null,null,null,null,null,null,null,null,null,null,null,null,null,null,null,null,null,null,null,null,"* designates a Suspected Source",null,null,null,null,null,null,null,null,null,null,null,null,null,null,null,null,null,null,null,null,null,null,null,null,null,"* designates a Suspected Source",null,null,null,null,null,null,null,null,null,null,null,null,null,null,null,null,null,null,null,null,null,null,null,null,null,"* designates a Suspected Source",null,null,null,null,null,null,null,null,null,null,null,null,null,null,null,null,null,null,null,null,null,null,null,null,null,"* designates a Suspected Source",null,null,null,null,null,null,null,null,null,null,null,null,null,null,null,null,null,null,null,null,null,null,null,null,null,"* designates a Suspected Source",null,null,null,null,null,null,null,null,null,null,null,null,null,null,null,null,null,null,null,null,null,null,null,null,null,"* designates a Suspected Source",null,null,null,null,null,null,null,null,null,null,null,null,null,null,null,null,null,null,null,null,null,null,null,null,null,"* designates a Suspected Source",null,null,null,null,null,null,null,null,null,null,null,null,null,null,null,null,null,null,null,null,null,null,null,null,null,"* designates a Suspected Source",null,null,null,null,null,null,null,null,null,null,null,null,null,null,null,null,null,null,null,null,null,null,null,null,null,null,null,null,null,null,null,null,null,null,null,null,null,null,null,null,null,null,null,null,null,null,null,null,null,null,null,null,null,null,null,null,null,null,null,null,null,null,null,null,{"$f":"TRIM(KA41&\" \"&KA42&\" \"&KA43&\" \"&KA44&\" \"&KA45&\" \"&KA46)","v":""},null,null,{"$f":"TRIM(KD41&\" \"&KD42&\" \"&KD43&\" \"&KD44&\" \"&KD45&\" \"&KD46)","v":""},null,null,{"$f":"TRIM(KG41&\" \"&KG42&\" \"&KG43&\" \"&KG44&\" \"&KG45&\" \"&KG46)","v":""},null,null,{"$f":"TRIM(KJ41&\" \"&KJ42&\" \"&KJ43&\" \"&KJ44&\" \"&KJ45&\" \"&KJ46)","v":""},null,null,{"$f":"TRIM(KM41&\" \"&KM42&\" \"&KM43&\" \"&KM44&\" \"&KM45&\" \"&KM46)","v":""},null,null,{"$f":"TRIM(KP41&\" \"&KP42&\" \"&KP43&\" \"&KP44&\" \"&KP45&\" \"&KP46)","v":""},null,null,{"$f":"TRIM(KS41&\" \"&KS42&\" \"&KS43&\" \"&KS44&\" \"&KS45&\" \"&KS46)","v":""},null,null,{"$f":"TRIM(KV41&\" \"&KV42&\" \"&KV43&\" \"&KV44&\" \"&KV45&\" \"&KV46)","v":""},null,null,{"$f":"TRIM(KY41&\" \"&KY42&\" \"&KY43&\" \"&KY44&\" \"&KY45&\" \"&KY46)","v":""}]
[null,"Habitat","Substrate   S","NA","NA","NA",{"$f":"$EO$15&\"  \"&$EO$16&\"  \"&$EO$17&\"  \"&$EO$18&\"  \"&$EO$19&\"  \"&$EO$20","v":"          "},{"$f":"$EO$28&\"  \"&$EO$29&\"  \"&$EO$30&\"  \"&$EO$31&\"  \"&$EO$32&\"  \"&$EO$33","v":"          "},null,null,null,null,null,"** designates a Potential Source",null,null,null,null,null,null,null,null,null,null,null,null,null,null,null,null,null,null,null,null,null,null,null,null,null,"** designates a Potential Source",null,null,null,null,null,null,null,null,null,null,null,null,null,null,null,null,null,null,null,null,null,null,null,null,null,"** designates a Potential Source",null,null,null,null,null,null,null,null,null,null,null,null,null,null,null,null,null,null,null,null,null,null,null,null,null,"** designates a Potential Source",null,null,null,null,null,null,null,null,null,null,null,null,null,null,null,null,null,null,null,null,null,null,null,null,null,"** designates a Potential Source",null,null,null,null,null,null,null,null,null,null,null,null,null,null,null,null,null,null,null,null,null,null,null,null,null,"** designates a Potential Source",null,null,null,null,null,null,null,null,null,null,null,null,null,null,null,null,null,null,null,null,null,null,null,null,null,"** designates a Potential Source",null,null,null,null,null,null,null,null,null,null,null,null,null,null,null,null,null,null,null,null,null,null,null,null,null,"** designates a Potential Source",null,null,null,null,null,null,null,null,null,null,null,null,null,null,null,null,null,null,null,null,null,null,null,null,null,"** designates a Potential Source"]
[null,null,"Morphology   H","NA",null,null,null,null,null,null,null,null,null,"No asterisk designates a Known Source",null,null,null,null,null,null,null,null,null,null,null,null,null,null,null,null,null,null,null,null,null,null,null,null,null,"No asterisk designates a Known Source",null,null,null,null,null,null,null,null,null,null,null,null,null,null,null,null,null,null,null,null,null,null,null,null,null,"No asterisk designates a Known Source",null,null,null,null,null,null,null,null,null,null,null,null,null,null,null,null,null,null,null,null,null,null,null,null,null,"No asterisk designates a Known Source",null,null,null,null,null,null,null,null,null,null,null,null,null,null,null,null,null,null,null,null,null,null,null,null,null,"No asterisk designates a Known Source",null,null,null,null,null,null,null,null,null,null,null,null,null,null,null,null,null,null,null,null,null,null,null,null,null,"No asterisk designates a Known Source",null,null,null,null,null,null,null,null,null,null,null,null,null,null,null,null,null,null,null,null,null,null,null,null,null,"No asterisk designates a Known Source",null,null,null,null,null,null,null,null,null,null,null,null,null,null,null,null,null,null,null,null,null,null,null,null,null,"No asterisk designates a Known Source",null,null,null,null,null,null,null,null,null,null,null,null,null,null,null,null,null,null,null,null,null,null,null,null,null,"No asterisk designates a Known Source",null,null,null,null,null,null,null,null,null,null,null,null,null,null,null,null,null,null,null,null,null,null,null,null,null,null,null,null,null,null,null,null,null,null,null,null,null,null,null,null,null,null,null,null,null,null,null,null,null,null,null,null,null,null,null,null,null,null,null,null,null,null,null,"max confid #",{"$f":"MAX(KB11:KB31)","v":0},null,null,{"$f":"MAX(KE11:KE31)","v":0},null,null,{"$f":"MAX(KH11:KH31)","v":0},null,null,{"$f":"MAX(KK11:KK31)","v":0},null,null,{"$f":"MAX(KN11:KN31)","v":0},null,null,{"$f":"MAX(KQ11:KQ31)","v":0},null,null,{"$f":"MAX(KT11:KT31)","v":0},null,null,{"$f":"MAX(KW11:KW31)","v":0},null,null,{"$f":"MAX(KZ11:KZ31)","v":0}]
[null,null,"Riparian Zone   R","NA",null,null,null,null,null,null,null,null,null,"Square brackets designates an Out of Segment Source (i.e., pollutant is a source for downstream segments)",null,null,null,null,null,null,null,null,null,null,null,null,null,null,null,null,null,null,null,null,null,null,null,null,null,"Square brackets designates an Out of Segment Source (i.e., pollutant is a source for downstream segments)",null,null,null,null,null,null,null,null,null,null,null,null,null,null,null,null,null,null,null,null,null,null,null,null,null,"Square brackets designates an Out of Segment Source (i.e., pollutant is a source for downstream segments)",null,null,null,null,null,null,null,null,null,null,null,null,null,null,null,null,null,null,null,null,null,null,null,null,null,"Square brackets designates an Out of Segment Source (i.e., pollutant is a source for downstream segments)",null,null,null,null,null,null,null,null,null,null,null,null,null,null,null,null,null,null,null,null,null,null,null,null,null,"Square brackets designates an Out of Segment Source (i.e., pollutant is a source for downstream segments)",null,null,null,null,null,null,null,null,null,null,null,null,null,null,null,null,null,null,null,null,null,null,null,null,null,"Square brackets designates an Out of Segment Source (i.e., pollutant is a source for downstream segments)",null,null,null,null,null,null,null,null,null,null,null,null,null,null,null,null,null,null,null,null,null,null,null,null,null,"Square brackets designates an Out of Segment Source (i.e., pollutant is a source for downstream segments)",null,null,null,null,null,null,null,null,null,null,null,null,null,null,null,null,null,null,null,null,null,null,null,null,null,"Square brackets designates an Out of Segment Source (i.e., pollutant is a source for downstream segments)",null,null,null,null,null,null,null,null,null,null,null,null,null,null,null,null,null,null,null,null,null,null,null,null,null,"Square brackets designates an Out of Segment Source (i.e., pollutant is a source for downstream segments)",null,null,null,null,null,null,null,null,null,null,null,null,null,null,null,null,null,null,null,null,null,null,null,null,null,null,null,null,null,null,null,null,null,null,null,null,null,null,null,null,null,null,null,null,null,null,null,null,null,null,null,null,null,null,null,null,null,null,null,null,null,null,null,"The lists below show unique codes in lists assembled above. Numbers are max confidence #, used to color cells for worst case. The codes are catenated in the colored boxes above for transfer to Sources RC when that sheet is activated."]
[]
[null,"Bacteria","Bacteria   B","NA","NA","NA",{"$f":"$FO$15&\"  \"&$FO$16&\"  \"&$FO$17&\"  \"&$FO$18&\"  \"&$FO$19&\"  \"&$FO$20","v":"          "},{"$f":"$FO$28&\"  \"&$FO$29&\"  \"&$FO$30&\"  \"&$FO$31&\"  \"&$FO$32&\"  \"&$FO$33","v":"          "},null,null,null,null,null,null,null,null,null,null,null,null,null,null,null,null,null,null,null,null,null,null,null,null,null,null,null,null,null,null,null,null,null,null,null,null,null,null,null,null,null,null,null,null,null,null,null,null,null,null,null,null,null,null,null,null,null,null,null,null,null,null,null,null,null,null,null,null,null,null,null,null,null,null,null,null,null,null,null,null,null,null,null,null,null,null,null,null,null,null,null,null,null,null,null,null,null,null,null,null,null,null,null,null,null,null,null,null,null,null,null,null,null,null,null,null,null,null,null,null,null,null,null,null,null,null,null,null,null,null,null,null,null,null,null,null,null,null,null,null,null,null,null,null,null,null,null,null,null,null,null,null,null,null,null,null,null,null,null,null,null,null,null,null,null,null,null,null,null,null,null,null,null,null,null,null,null,null,null,null,null,null,null,null,null,null,null,null,null,null,null,null,null,null,null,null,null,null,null,null,null,null,null,null,null,null,null,null,null,null,null,null,null,null,null,null,null,null,null,null,null,null,null,null,null,null,null,null,null,null,null,null,null,null,null,null,null,null,null,null,null,null,null,null,null,null,null,null,null,null,null,null,null,null,null,null,null,null,null,null,null,null,null,null,null,null,null,null,null,null,null,null,null,null,null,null,null,null,"Municp",null,null,"Industr",null,null,"St Water",null,null,"Res Ext",null,null,"Land Dis",null,null,"Seds",null,null,"Hydro",null,null,"Other",null,null,"Unknown"]
[]
[null,"Aesthetics","Oil & Grease   G","NA","NA","NA",{"$f":"$GO$15&\"  \"&$GO$16&\"  \"&$GO$17&\"  \"&$GO$18&\"  \"&$GO$19&\"  \"&$GO$20","v":"          "},{"$f":"$GO$28&\"  \"&$GO$29&\"  \"&$GO$30&\"  \"&$GO$31&\"  \"&$GO$32&\"  \"&$GO$33","v":"          "},null,null,null,null,null,null,null,null,null,null,null,null,null,null,null,null,null,null,null,null,null,null,null,null,null,null,null,null,null,null,null,null,null,null,null,null,null,null,null,null,null,null,null,null,null,null,null,null,null,null,null,null,null,null,null,null,null,null,null,null,null,null,null,null,null,null,null,null,null,null,null,null,null,null,null,null,null,null,null,null,null,null,null,"Identify the suspected toxic chemical substance below (e.g., Hg, PCB, etc). ",null,null,null,null,null,null,null,null,null,null,null,null,null,null,null,null,null,null,null,null,null,null,null,null,null,null,null,null,null,null,null,null,null,null,null,null,null,null,null,null,null,null,null,null,null,null,null,null,null,null,null,null,null,null,null,null,null,null,null,null,null,null,null,null,null,null,null,null,null,null,null,null,null,null,null,null,null,null,null,null,null,null,null,null,null,null,null,null,null,null,null,null,null,null,null,null,null,null,null,null,null,null,null,null,null,null,null,null,null,null,null,null,null,null,null,null,null,null,null,null,null,null,null,null,null,null,null,null,null,null,null,null,null,null,null,null,null,null,null,null,null,null,null,null,null,null,null,null,null,null,null,null,null,null,null,"Identify the suspected toxic chemical substance below (e.g., Hg, PCB, etc). "]
[null,null,"Taste & Odor   O","NA",null,null,null,null,null,null,null,null,null,null,"Pollution  Indicators (Causes):  ",null,{"$f":"P46&\" \"&P47&\" \"&P48&\" \"&P49&\" \"&P50&\" \"&P51","v":"     "},null,null,null,null,null,null,null,null,null,null,null,null,null,null,null,null,null,null,null,null,null,null,null,"Pollution  Indicators (Causes):  ",null,{"$f":"AP46&\" \"&AP47&\" \"&AP48&\" \"&AP49&\" \"&AP50&\" \"&AP51","v":"     "},null,null,null,null,null,null,null,null,null,null,null,null,null,null,null,null,null,null,null,null,null,null,null,"Pollution  Indicators (Causes):  ",null,{"$f":"BP46&\" \"&BP47&\" \"&BP48","v":"  "},null,null,null,null,null,null,null,null,null,null,null,null,null,null,null,null,null,null,null,null,null,null,null,null,null,null,null,null,null,null,null,null,null,null,null,null,null,null,null,null,null,null,null,null,null,null,null,null,null,"Pollution  Indicators (Causes):  ",null,{"$f":"DP46&\" \"&DP47","v":" "},null,null,null,null,null,null,null,null,null,null,null,null,null,null,null,null,null,null,null,null,null,null,null,"Pollution  Indicators (Causes):  ",null,{"$f":"EP46&\" \"&EP47&\" \"&EP48&\" \"&EP49","v":"   "},null,null,null,null,null,null,null,null,null,null,null,null,null,null,null,null,null,null,null,null,null,null,null,"Pollution  Indicators (Causes):  ",null,{"$f":"FP46&\" \"&FP47","v":" "},null,null,null,null,null,null,null,null,null,null,null,null,null,null,null,null,null,null,null,null,null,null,null,"Pollution  Indicators (Causes):  ",null,{"$f":"GP46&\" \"&GP47&\" \"&GP48&\" \"&GP49&\" \"&GP50&\" \"&GP51","v":"     "},null,null,null,null,null,null,null,null,null,null,null,null,null,null,null,null,null,null,null,null,null,null,"Identify the suspected toxic chemical substance below (e.g., Hg, PCB, etc). "]
[null,null,"Turb/Color   C","NA",null,null,null,null,null,null,null,null,null,null,null,null,null,null,null,null,null,null,null,null,null,null,null,null,null,null,null,null,null,null,null,null,null,null,null,null,null,null,null,null,null,null,null,null,null,null,null,null,null,null,null,null,null,null,null,null,null,null,null,null,null,null,null,null,null,null,null,null,null,null,null,null,null,null,null,null,null,null,null,null,null,null,null,null,null,null,null,"Ag",null,null,null,null,null,null,null,null,null,null,null,null,null,null,null,null,null,null,null,null,null,null,null,null,null,null,null,null,null,null,null,null,null,null,null,null,null,null,null,null,null,null,null,null,null,null,null,null,null,null,null,null,null,null,null,null,null,null,null,null,null,null,null,null,null,null,null,null,null,null,null,null,null,null,null,null,null,null,null,null,null,null,null,null,null,null,null,null,null,null,null,null,null,null,null,null,null,null,null,null,null,null,null,null,null,null,null,null,null,null,null,null,null,null,null,null,null,null,null,null,null,null,null,null,null,null,null,null,null,null,null,null,null,null,null,null,null,null,null,null,null,null,null,null,null,null,null,null,null,null,null,null,null,null,null,"DDT"]
[null,null,"Nuisance Plants   V","NA",null,null,null,null,null,null,null,null,null,null,{"$f":"$B$16","v":"Biology"},null,null,null,null,null,null,null,null,null,null,null,null,null,null,null,null,null,null,null,null,null,null,null,null,null,{"$f":"$B$22","v":"Chemistry"},null,null,null,null,null,null,null,null,null,null,null,null,null,null,null,null,null,null,null,null,null,null,null,null,null,{"$f":"$B$28","v":"Nutrients"},null,null,null,null,null,null,null,null,null,null,null,null,null,null,null,null,null,null,null,null,null,null,null,null,null,null,null,null,null,null,null,null,null,null,null,null,null,null,null,null,null,null,null,null,null,null,null,null,null,null,null,{"$f":"$B$34","v":"Flow"},null,null,null,null,null,null,null,null,null,null,null,null,null,null,null,null,null,null,null,null,null,null,null,null,null,{"$f":"$B$36","v":"Habitat"},null,null,null,null,null,null,null,null,null,null,null,null,null,null,null,null,null,null,null,null,null,null,null,null,null,{"$f":"$B$40","v":"Bacteria"},null,null,null,null,null,null,null,null,null,null,null,null,null,null,null,null,null,null,null,null,null,null,null,null,null,{"$f":"$B$42","v":"Aesthetics"},null,null,null,null,null,null,null,null,null,null,null,null,null,null,null,null,null,null,null,null,null,null,null,null,"PCB"]
[null,null,"Trash /Debris   D","NA",null,null,null,null,null,null,null,null,null,null,{"$f":"$C$16","v":"Plank/Peri.   A"},{"$f":"IF($D$16=\"Concern\",\"(A)\",IF(OR($D$16=\"Fair\",$D$16=\"Poor\"),\"A\",\"\"))","v":""},null,null,null,null,null,null,null,null,null,null,null,null,null,null,null,null,null,null,null,null,null,null,null,null,{"$f":"$C$22","v":"Dis. Oxygen    DO"},{"$f":"IF($D$22=\"Concern\",\"(DO)\",IF(OR($D$22=\"Fair\",$D$22=\"Poor\"),\"DO\",\"\"))","v":""},null,null,null,null,null,null,null,null,null,null,null,null,null,null,null,null,null,null,null,null,null,null,null,null,{"$f":"$C$28","v":"Phosphorus  P"},{"$f":"IF($D$28=\"Concern\",\"(P)\",IF(OR($D$28=\"Fair\",$D$28=\"Poor\"),\"P\",\"\"))","v":""},null,null,null,null,null,null,null,null,null,null,null,null,null,null,null,null,null,null,null,null,null,null,null,null,null,null,null,null,null,null,null,null,null,null,null,null,null,null,null,null,null,null,null,null,null,null,null,null,null,null,{"$f":"$C$34","v":"Flow  Q"},{"$f":"IF($D$34=\"Concern\",\"(O)\",IF(OR($D$34=\"Fair\",$D$34=\"Poor\"),\"O\",\"\"))","v":""},null,null,null,null,null,null,null,null,null,null,null,null,null,null,null,null,null,null,null,null,null,null,null,null,{"$f":"$C$36","v":"Substrate   S"},{"$f":"IF($D$36=\"Concern\",\"(S)\",IF(OR($D$36=\"Fair\",$D$36=\"Poor\"),\"S\",\"\"))","v":""},null,null,null,null,null,null,null,null,null,null,null,null,null,null,null,null,null,null,null,null,null,null,null,null,{"$f":"$C$40","v":"Bacteria   B"},{"$f":"IF($D$40=\"Concern\",\"(B)\",IF(OR($D$40=\"Fair\",$D$40=\"Poor\"),\"B\",\"\"))","v":""},null,null,null,null,null,null,null,null,null,null,null,null,null,null,null,null,null,null,null,null,null,null,null,null,{"$f":"$C$42","v":"Oil & Grease   G"},{"$f":"IF($D$42=\"Concern\",\"(G)\",IF(OR($D$42=\"Fair\",$D$42=\"Poor\"),\"G\",\"\"))","v":""}]
[null,null,null,null,null,null,null,null,null,null,null,null,null,null,{"$f":"$C$17","v":"Macrophyton   M"},{"$f":"IF($D$17=\"Concern\",\"(M)\",IF(OR($D$17=\"Fair\",$D$17=\"Poor\"),\"M\",\"\"))","v":""},null,null,null,null,null,null,null,null,null,null,null,null,null,null,null,null,null,null,null,null,null,null,null,null,{"$f":"$C$23","v":"pH     pH"},{"$f":"IF($D$23=\"Concern\",\"(pH)\",IF(OR($D$23=\"Fair\",$D$23=\"Poor\"),\"pH\",\"\"))","v":""},null,null,null,null,null,null,null,null,null,null,null,null,null,null,null,null,null,null,null,null,null,null,null,null,{"$f":"$C$29","v":"Nitrogen   N"},{"$f":"IF($D$29=\"Concern\",\"(N)\",IF(OR($D$29=\"Fair\",$D$29=\"Poor\"),\"N\",\"\"))","v":""},null,null,null,null,null,null,null,null,null,null,null,null,null,null,null,null,null,null,null,null,null,null,null,null,null,null,null,null,null,null,null,null,null,null,null,null,null,null,null,null,null,null,null,null,null,null,null,null,null,null,{"$f":"IF($C$41=\"\",\"\",$C$41)","v":""},{"$f":"IF($D$35=\"Concern\",\"(**)\",IF(OR($D$35=\"Fair\",$D$35=\"Poor\"),\"**\",\"\"))","v":""},null,null,null,null,null,null,null,null,null,null,null,null,null,null,null,null,null,null,null,null,null,null,null,null,{"$f":"$C$37","v":"Morphology   H"},{"$f":"IF($D$37=\"Concern\",\"(H)\",IF(OR($D$37=\"Fair\",$D$37=\"Poor\"),\"H\",\"\"))","v":""},null,null,null,null,null,null,null,null,null,null,null,null,null,null,null,null,null,null,null,null,null,null,null,null,{"$f":"IF($C$41=\"\",\"\",$C$41)","v":""},{"$f":"IF($D$41=\"Concern\",\"(**)\",IF(OR($D$41=\"Fair\",$D$41=\"Poor\"),\"**\",\"\"))","v":""},null,null,null,null,null,null,null,null,null,null,null,null,null,null,null,null,null,null,null,null,null,null,null,null,{"$f":"$C$43","v":"Taste & Odor   O"},{"$f":"IF($D$43=\"Concern\",\"(O)\",IF(OR($D$43=\"Fair\",$D$43=\"Poor\"),\"O\",\"\"))","v":""}]
[null,"Tissue",{"$f":"\"Spec. Chem.   \"&HN45","v":"Spec. Chem.   PCB"},"NA","NA","NA",{"$f":"$HO$15&\"  \"&$HO$16&\"  \"&$HO$17&\"  \"&$HO$18&\"  \"&$HO$19&\"  \"&$HO$20","v":"          "},{"$f":"$HO$28&\"  \"&$HO$29&\"  \"&$HO$30&\"  \"&$HO$31&\"  \"&$HO$32&\"  \"&$HO$33","v":"          "},null,null,null,null,null,null,{"$f":"$C$18","v":"Invertebrates   I"},{"$f":"IF($D$18=\"Concern\",\"(I)\",IF(OR($D$18=\"Fair\",$D$18=\"Poor\"),\"I\",\"\"))","v":""},null,null,null,null,null,null,null,null,null,null,null,null,null,null,null,null,null,null,null,null,null,null,null,null,{"$f":"$C$24","v":"Temperature    T"},{"$f":"IF($D$24=\"Concern\",\"(T)\",IF(OR($D$24=\"Fair\",$D$24=\"Poor\"),\"T\",\"\"))","v":""},null,null,null,null,null,null,null,null,null,null,null,null,null,null,null,null,null,null,null,null,null,null,null,null,{"$f":"IF($C$30=\"\",\"\",$C$30)","v":""},{"$f":"IF($D$30=\"Concern\",\"(**)\",IF(OR($D$30=\"Fair\",$D$30=\"Poor\"),\"**\",\"\"))","v":""},null,null,null,null,null,null,null,null,null,null,null,null,null,null,null,null,null,null,null,null,null,null,null,null,null,null,null,null,null,null,null,null,null,null,null,null,null,null,null,null,null,null,null,null,null,null,null,null,null,null,null,null,null,null,null,null,null,null,null,null,null,null,null,null,null,null,null,null,null,null,null,null,null,null,null,null,{"$f":"$C$38","v":"Riparian Zone   R"},{"$f":"IF($D$38=\"Concern\",\"(R)\",IF(OR($D$38=\"Fair\",$D$38=\"Poor\"),\"R\",\"\"))","v":""},null,null,null,null,null,null,null,null,null,null,null,null,null,null,null,null,null,null,null,null,null,null,null,null,null,null,null,null,null,null,null,null,null,null,null,null,null,null,null,null,null,null,null,null,null,null,null,null,null,null,{"$f":"$C$44","v":"Turb/Color   C"},{"$f":"IF($D$44=\"Concern\",\"(C)\",IF(OR($D$44=\"Fair\",$D$44=\"Poor\"),\"C\",\"\"))","v":""}]
[null,null,null,null,null,null,null,null,null,null,null,null,null,null,{"$f":"$C$19","v":"Fish   F"},{"$f":"IF($D$19=\"Concern\",\"(F)\",IF(OR($D$19=\"Fair\",$D$19=\"Poor\"),\"F\",\"\"))","v":""},null,null,null,null,null,null,null,null,null,null,null,null,null,null,null,null,null,null,null,null,null,null,null,null,{"$f":"$C$25","v":"Ionic Strength    Z"},{"$f":"IF($D$25=\"Concern\",\"(Z)\",IF(OR($D$25=\"Fair\",$D$25=\"Poor\"),\"Z\",\"\"))","v":""},null,null,null,null,null,null,null,null,null,null,null,null,null,null,null,null,null,null,null,null,null,null,null,null,null,null,null,null,null,null,null,null,null,null,null,null,null,null,null,null,null,null,null,null,null,null,null,null,null,null,"Pollution  Indicators (Causes):  ",null,{"$f":"CP52&\" \"&CP53&\" \"&CP54","v":"  "},null,null,null,null,null,null,null,null,null,null,null,null,null,null,null,null,null,null,null,null,null,null,null,null,null,null,null,null,null,null,null,null,null,null,null,null,null,null,null,null,null,null,null,null,null,null,null,null,null,{"$f":"IF($C$39=\"\",\"\",$C$39)","v":""},{"$f":"IF($D$39=\"Concern\",\"(**)\",IF(OR($D$39=\"Fair\",$D$39=\"Poor\"),\"**\",\"\"))","v":""},null,null,null,null,null,null,null,null,null,null,null,null,null,null,null,null,null,null,null,null,null,null,null,null,null,null,null,null,null,null,null,null,null,null,null,null,null,null,null,null,null,null,null,null,null,null,null,null,null,null,{"$f":"$C$45","v":"Nuisance Plants   V"},{"$f":"IF($D$45=\"Concern\",\"(V)\",IF(OR($D$45=\"Fair\",$D$45=\"Poor\"),\"V\",\"\"))","v":""},null,null,null,null,null,null,null,null,null,null,null,null,null,null,null,null,null,null,null,null,null,null,null,null,null,null,null,null,null,null,null,null,null,null,null,null,null,null,null,null,null,null,null,null,null,null,null,null,null,null,"Pollution  Indicators (Causes):  ",null,{"$f":"IP52&\" \"&IP53&\" \"&IP54","v":"  "}]
[null,"Sediment","Unknown   U","NA","NA","NA",{"$f":"$IO$15&\"  \"&$IO$16&\"  \"&$IO$17&\"  \"&$IO$18&\"  \"&$IO$19&\"  \"&$IO$20","v":"          "},{"$f":"$IO$28&\"  \"&$IO$29&\"  \"&$IO$30&\"  \"&$IO$31&\"  \"&$IO$32&\"  \"&$IO$33","v":"          "},null,null,null,null,null,null,{"$f":"$C$20","v":"Wildlife   W"},{"$f":"IF($D$20=\"Concern\",\"(W)\",IF(OR($D$20=\"Fair\",$D$20=\"Poor\"),\"W\",\"\"))","v":""},null,null,null,null,null,null,null,null,null,null,null,null,null,null,null,null,null,null,null,null,null,null,null,null,{"$f":"$C$26","v":"Sus. Solids    SS"},{"$f":"IF($D$26=\"Concern\",\"(SS)\",IF(OR($D$26=\"Fair\",$D$26=\"Poor\"),\"SS\",\"\"))","v":""},null,null,null,null,null,null,null,null,null,null,null,null,null,null,null,null,null,null,null,null,null,null,null,null,null,null,null,null,null,null,null,null,null,null,null,null,null,null,null,null,null,null,null,null,null,null,null,null,null,null,null,null,null,null,null,null,null,null,null,null,null,null,null,null,null,null,null,null,null,null,null,null,null,null,null,null,null,null,null,null,null,null,null,null,null,null,null,null,null,null,null,null,null,null,null,null,null,null,null,null,null,null,null,null,null,null,null,null,null,null,null,null,null,null,null,null,null,null,null,null,null,null,null,null,null,null,null,null,null,null,null,null,null,null,null,null,null,null,null,null,null,null,null,null,null,null,null,null,null,null,null,null,null,null,{"$f":"$C$46","v":"Trash /Debris   D"},{"$f":"IF($D$46=\"Concern\",\"(D)\",IF(OR($D$46=\"Fair\",$D$46=\"Poor\"),\"D\",\"\"))","v":""},null,null,null,null,null,null,null,null,null,null,null,null,null,null,null,null,null,null,null,null,null,null,null,null,"Pollution  Indicators (Causes):  ",null,{"$f":"HP53&\" \"&HP54","v":" "}]
[null,null,{"$f":"\"Spec. Chem.   \"&IN44","v":"Spec. Chem.   DDT"},"NA",null,null,null,null,null,null,null,null,null,null,{"$f":"IF($C$21=\"\",\"\",$C$21)","v":""},{"$f":"IF($D$21=\"Concern\",\"(**)\",IF(OR($D$21=\"Fair\",$D$21=\"Poor\"),\"**\",\"\"))","v":""},null,null,null,null,null,null,null,null,null,null,null,null,null,null,null,null,null,null,null,null,null,null,null,null,{"$f":"IF($C$27=\"\",\"\",$C$27)","v":""},{"$f":"IF($D$27=\"Concern\",\"(**)\",IF(OR($D$27=\"Fair\",$D$27=\"Poor\"),\"**\",\"\"))","v":""},null,null,null,null,null,null,null,null,null,null,null,null,null,null,null,null,null,null,null,null,null,null,null,null,null,null,null,null,null,null,null,null,null,null,null,null,null,null,null,null,null,null,null,null,null,null,null,null,null,null,{"$f":"$B$31","v":"Toxicity"},null,null,null,null,null,null,null,null,null,null,null,null,null,null,null,null,null,null,null,null,null,null,null,null,null,null,null,null,null,null,null,null,null,null,null,null,null,null,null,null,null,null,null,null,null,null,null,null,null,null,null,null,null,null,null,null,null,null,null,null,null,null,null,null,null,null,null,null,null,null,null,null,null,null,null,null,null,null,null,null,null,null,null,null,null,null,null,null,null,null,null,null,null,null,null,null,null,null,null,null,null,null,null,{"$f":"IF($C$47=\"\",\"\",$C$47)","v":""},{"$f":"IF($D$47=\"Concern\",\"(**)\",IF(OR($D$47=\"Fair\",$D$47=\"Poor\"),\"**\",\"\"))","v":""},null,null,null,null,null,null,null,null,null,null,null,null,null,null,null,null,null,null,null,null,null,null,null,null,null,null,null,null,null,null,null,null,null,null,null,null,null,null,null,null,null,null,null,null,null,null,null,null,null,null,{"$f":"$B$50","v":"Sediment"}]
[null,null,null,null,null,null,null,null,null,null,null,null,null,null,null,null,null,null,null,null,null,null,null,null,null,null,null,null,null,null,null,null,null,null,null,null,null,null,null,null,null,null,null,null,null,null,null,null,null,null,null,null,null,null,null,null,null,null,null,null,null,null,null,null,null,null,null,null,null,null,null,null,null,null,null,null,null,null,null,null,null,null,null,null,null,null,null,null,null,null,null,null,{"$f":"$C$31","v":"Unknown   U"},{"$f":"IF($D$31=\"Concern\",\"(U)\",IF(OR($D$31=\"Fair\",$D$31=\"Poor\"),\"U\",\"\"))","v":""},null,null,null,null,null,null,null,null,null,null,null,null,null,null,null,null,null,null,null,null,null,null,null,null,null,null,null,null,null,null,null,null,null,null,null,null,null,null,null,null,null,null,null,null,null,null,null,null,null,null,null,null,null,null,null,null,null,null,null,null,null,null,null,null,null,null,null,null,null,null,null,null,null,null,null,null,null,null,null,null,null,null,null,null,null,null,null,null,null,null,null,null,null,null,null,null,null,null,null,null,null,null,null,null,null,null,null,null,null,null,null,null,null,null,null,null,null,null,null,null,null,null,null,null,null,null,null,null,{"$f":"$B$48","v":"Tissue"},null,null,null,null,null,null,null,null,null,null,null,null,null,null,null,null,null,null,null,null,null,null,null,null,null,{"$f":"$C$50","v":"Unknown   U"},{"$f":"IF($D$50=\"Concern\",\"(U)\",IF(OR($D$50=\"Fair\",$D$50=\"Poor\"),\"U\",\"\"))","v":""}]
[null,"Comments:",null,null,null,null,null,"*  Suspected Source  ",null,null,null,null,null,null,null,null,null,null,null,null,null,null,null,null,null,null,null,null,null,null,null,null,null,null,null,null,null,null,null,null,null,null,null,null,null,null,null,null,null,null,null,null,null,null,null,null,null,null,null,null,null,null,null,null,null,null,null,null,null,null,null,null,null,null,null,null,null,null,null,null,null,null,null,null,null,null,null,null,null,null,null,null,{"$f":"$C$32","v":"Spec. Chem.  Ag"},{"$f":"IF($D$32=\"Concern\",\"(\"&CN44&\")\",IF(OR($D$32=\"Fair\",$D$32=\"Poor\"),CN44,\"\"))","v":""},null,null,null,null,null,null,null,null,null,null,null,null,null,null,null,null,null,null,null,null,null,null,null,null,null,null,null,null,null,null,null,null,null,null,null,null,null,null,null,null,null,null,null,null,null,null,null,null,null,null,null,null,null,null,null,null,null,null,null,null,null,null,null,null,null,null,null,null,null,null,null,null,null,null,null,null,null,null,null,null,null,null,null,null,null,null,null,null,null,null,null,null,null,null,null,null,null,null,null,null,null,null,null,null,null,null,null,null,null,null,null,null,null,null,null,null,null,null,null,null,null,null,null,null,null,null,null,null,{"$f":"$C$48","v":"Spec. Chem.   PCB"},{"$f":"IF($D$48=\"Concern\",\"(\"&HN45&\")\",IF(OR($D$48=\"Fair\",$D$32=\"Poor\"),HN45,\"\"))","v":""},null,null,null,null,null,null,null,null,null,null,null,null,null,null,null,null,null,null,null,null,null,null,null,null,{"$f":"$C$51","v":"Spec. Chem.   DDT"},{"$f":"IF($D$51=\"Concern\",\"(\"&IN44&\")\",IF(OR($D$51=\"Fair\",$D$51=\"Poor\"),IN44,\"\"))","v":""}]
[null,null,null,null,null,null,null,"** Potential Source  ",null,null,null,null,null,null,null,null,null,null,null,null,null,null,null,null,null,null,null,null,null,null,null,null,null,null,null,null,null,null,null,null,null,null,null,null,null,null,null,null,null,null,null,null,null,null,null,null,null,null,null,null,null,null,null,null,null,null,null,null,null,null,null,null,null,null,null,null,null,null,null,null,null,null,null,null,null,null,null,null,null,null,null,null,{"$f":"IF($C$33=\"\",\"\",$C$33)","v":""},{"$f":"IF($D$33=\"Concern\",\"(**)\",IF(OR($D$33=\"Fair\",$D$33=\"Poor\"),\"**\",\"\"))","v":""},null,null,null,null,null,null,null,null,null,null,null,null,null,null,null,null,null,null,null,null,null,null,null,null,null,null,null,null,null,null,null,null,null,null,null,null,null,null,null,null,null,null,null,null,null,null,null,null,null,null,null,null,null,null,null,null,null,null,null,null,null,null,null,null,null,null,null,null,null,null,null,null,null,null,null,null,null,null,null,null,null,null,null,null,null,null,null,null,null,null,null,null,null,null,null,null,null,null,null,null,null,null,null,null,null,null,null,null,null,null,null,null,null,null,null,null,null,null,null,null,null,null,null,null,null,null,null,null,{"$f":"IF($C$49=\"\",\"\",$C$49)","v":""},{"$f":"IF($D$49=\"Concern\",\"(**)\",IF(OR($D$49=\"Fair\",$D$49=\"Poor\"),\"**\",\"\"))","v":""},null,null,null,null,null,null,null,null,null,null,null,null,null,null,null,null,null,null,null,null,null,null,null,null,{"$f":"IF($C$52=\"\",\"\",$C$52)","v":""},{"$f":"IF($D$52=\"Concern\",\"(**)\",IF(OR($D$52=\"Fair\",$D$52=\"Poor\"),\"**\",\"\"))","v":""}]
[null,null,null,null,null,null,null,"No asterisk: Known Source  "]
[null,null,null,null,null,null,null,"[Out of Segment Source ]  "]
[]
[]
[]
[null,"SegNameLong:  ","ssssss"]
[null,"Seg Name:  ","sss"]
[null,"Seg Num:  "]
[null,"Seg Size:  "]
[null,"Seg Class:  "]
[]
[]
[]
[]
[]
[]
[]
[]
[]
[]
[]
[]
[null,null,null,{"$f":"A99","v":""}]
[null,null,null,{"$f":"B99","v":""}]
[null,null,null,{"$f":"C99","v":""}]
[null,null,null,{"$f":"D99","v":""}]
[null,null,null,{"$f":"E99","v":""}]
[null,null,null,{"$f":"F99","v":""}]
[null,null,null,{"$f":"G99","v":""}]
[null,null,null,{"$f":"H99","v":""}]
[null,null,null,{"$f":"I99","v":""}]
[]
[]
[]
[]
[]
[]
[]
[]
[]
[]
[]
[]
[]
[{"$f":"TRIM(A101&\" \"&A102&\" \"&A103&\" \"&A104&\" \"&A105&\" \"&A106)","v":""},{"$f":"TRIM(B101&\" \"&B102&\" \"&B103&\" \"&B104&\" \"&B105&\" \"&B106)","v":""},"","","","","","",""]

{"sheet":"Seg20","index":24,"n_rows":99,"n_cols":311,"rows_kept":99,"cut":false,"hidden":false,"merged":[[15,1,20,1],[15,4,20,4],[15,5,20,5],[15,6,20,6],[15,7,20,7],[13,1,14,1],[13,2,14,3],[13,4,14,4],[13,5,14,5],[14,6,14,7],[27,1,29,1],[27,4,29,4],[27,5,29,5],[27,6,29,6],[27,7,29,7],[21,1,26,1],[21,4,26,4],[21,5,26,5],[21,6,26,6],[21,7,26,7],[49,6,51,6],[49,7,51,7],[30,1,32,1],[30,4,32,4],[30,5,32,5],[30,6,32,6],[30,7,32,7],[33,1,34,1],[33,4,34,4],[33,5,34,5],[33,6,34,6],[33,7,34,7],[43,91,45,94],[35,1,38,1],[35,4,38,4],[35,5,38,5],[35,6,38,6],[35,7,38,7],[39,1,40,1],[39,4,40,4],[39,5,40,5],[39,6,40,6],[39,7,40,7],[52,1,55,1],[43,247,45,250],[44,221,46,224],[47,1,48,1],[47,4,48,4],[47,5,48,5],[47,6,48,6],[47,7,48,7],[41,1,46,1],[41,4,46,4],[41,5,46,5],[41,6,46,6],[41,7,46,7],[49,1,51,1],[49,4,51,4],[49,5,51,5]]}
[]
[]
[]
[]
[null,null,null,null,null,null,null,null,null,null,null,null,null,null,null,null,null,null,null,null,null,null,null,null,null,null,null,null,null,null,null,null,null,null,null,null,null,null,null,null,null,null,null,null,null,null,null,null,null,null,null,null,null,null,null,null,null,null,null,null,null,null,null,null,null,null,null,null,null,null,null,null,null,null,null,null,null,null,null,null,null,null,null,null,null,null,null,null,null,null,null,null,null,null,null,null,null,null,null,null,null,null,null,null,null,null,null,null,null,null,null,null,null,null,null,null,null,null,null,null,null,null,null,null,null,null,null,null,null,null,null,null,null,null,null,null,null,null,null,null,null,null,null,null,null,null,null,null,null,null,null,null,null,null,null,null,null,null,null,null,null,null,null,null,null,null,null,null,null,null,null,null,null,null,null,null,null,null,null,null,null,null,null,null,null,null,null,null,null,null,null,null,null,null,null,null,null,null,null,null,null,null,null,null,null,null,null,null,null,null,null,null,null,null,null,null,null,null,null,null,null,null,null,null,null,null,null,null,null,null,null,null,null,null,null,null,null,null,null,null,null,null,null,null,null,null,null,null,null,null,null,null,null,null,null,null,null,null,null,null,null,null,null,null,null,null,null,null,null,null,null,null,null,null,null,null,null,null,null,null,null,null,null,null,null,"List of all codes from all groups for this segment, organized by Source Type. "]
[null,null,null,null,null,null,null,null,null,null,null,null,null,null,null,null,null,null,null,null,null,null,null,null,null,null,null,null,null,null,null,null,null,null,null,null,null,null,null,null,null,null,null,null,null,null,null,null,null,null,null,null,null,null,null,null,null,null,null,null,null,null,null,null,null,null,null,null,null,null,null,null,null,null,null,null,null,null,null,null,null,null,null,null,null,null,null,null,null,null,null,null,null,null,null,null,null,null,null,null,null,null,null,null,null,null,null,null,null,null,null,null,null,null,null,null,null,null,null,null,null,null,null,null,null,null,null,null,null,null,null,null,null,null,null,null,null,null,null,null,null,null,null,null,null,null,null,null,null,null,null,null,null,null,null,null,null,null,null,null,null,null,null,null,null,null,null,null,null,null,null,null,null,null,null,null,null,null,null,null,null,null,null,null,null,null,null,null,null,null,null,null,null,null,null,null,null,null,null,null,null,null,null,null,null,null,null,null,null,null,null,null,null,null,null,null,null,null,null,null,null,null,null,null,null,null,null,null,null,null,null,null,null,null,null,null,null,null,null,null,null,null,null,null,null,null,null,null,null,null,null,null,null,null,null,null,null,null,null,null,null,null,null,null,null,null,null,null,null,null,null,null,null,null,null,null,null,null,null,null,null,null,null,null,null,"List is updated only when \"SourceRC_List\" macro is run. Macro is run manually by touching button at right or when Source report card is activated."]
[null,null,null,null,null,null,null,null,null,null,null,null,null,null,null,null,null,null,null,null,null,null,null,null,null,null,null,null,null,null,null,null,null,null,null,null,null,null,null,null,null,null,null,null,null,null,null,null,null,null,null,null,null,null,null,null,null,null,null,null,null,null,null,null,null,null,null,null,null,null,null,null,null,null,null,null,null,null,null,null,null,null,null,null,null,null,null,null,null,null,null,null,null,null,null,null,null,null,null,null,null,null,null,null,null,null,null,null,null,null,null,null,null,null,null,null,null,null,null,null,null,null,null,null,null,null,null,null,null,null,null,null,null,null,null,null,null,null,null,null,null,null,null,null,null,null,null,null,null,null,null,null,null,null,null,null,null,null,null,null,null,null,null,null,null,null,null,null,null,null,null,null,null,null,null,null,null,null,null,null,null,null,null,null,null,null,null,null,null,null,null,null,null,null,null,null,null,null,null,null,null,null,null,null,null,null,null,null,null,null,null,null,null,null,null,null,null,null,null,null,null,null,null,null,null,null,null,null,null,null,null,null,null,null,null,null,null,null,null,null,null,null,null,null,null,null,null,null,null,null,null,null,null,null,null,null,null,null,null,null,null,null,null,null,null,null,null,null,null,null,null,null,null,null,null,null,null,null,null,null,null,null,null,null,null,"Numbers indicate knowledge about the certainty of assessment: 0 = N/A, 1 = Potential Source, 2 = Suspected Source, 3 = Known Source."]
[null,null,null,null,null,null,null,null,null,null,null,null,null,null,null,null,null,null,null,null,null,null,null,null,null,null,null,null,null,null,null,null,null,null,null,null,null,null,null,null,null,null,null,null,null,null,null,null,null,null,null,null,null,null,null,null,null,null,null,null,null,null,null,null,null,null,null,null,null,null,null,null,null,null,null,null,null,null,null,null,null,null,null,null,null,null,null,null,null,null,null,null,null,null,null,null,null,null,null,null,null,null,null,null,null,null,null,null,null,null,null,null,null,null,null,null,null,null,null,null,null,null,null,null,null,null,null,null,null,null,null,null,null,null,null,null,null,null,null,null,null,null,null,null,null,null,null,null,null,null,null,null,null,null,null,null,null,null,null,null,null,null,null,null,null,null,null,null,null,null,null,null,null,null,null,null,null,null,null,null,null,null,null,null,null,null,null,null,null,null,null,null,null,null,null,null,null,null,null,null,null,null,null,null,null,null,null,null,null,null,null,null,null,null,null,null,null,null,null,null,null,null,null,null,null,null,null,null,null,null,null,null,null,null,null,null,null,null,null,null,null,null,null,null,null,null,null,null,null,null,null,null,null,null,null,null,null,null,null,null,null,null,null,null,null,null,null,null,null,null,null,null,null,null,null,null,null,null,null,null,null,null,null,null,null,"This list is then processed below to remove duplicates."]
[null,null,null,null,null,null,null,null,null,null,null,null,null,"Designate Point & Non-Point Sources",null,null,null,null,null,null,null,null,null,null,null,null,null,null,null,null,null,null,null,null,null,null,null,null,null,"Designate Point & Non-Point Sources",null,null,null,null,null,null,null,null,null,null,null,null,null,null,null,null,null,null,null,null,null,null,null,null,null,"Designate Point & Non-Point Sources",null,null,null,null,null,null,null,null,null,null,null,null,null,null,null,null,null,null,null,null,null,null,null,null,null,"Designate Point & Non-Point Sources",null,null,null,null,null,null,null,null,null,null,null,null,null,null,null,null,null,null,null,null,null,null,null,null,null,"Designate Point & Non-Point Sources",null,null,null,null,null,null,null,null,null,null,null,null,null,null,null,null,null,null,null,null,null,null,null,null,null,"Designate Point & Non-Point Sources",null,null,null,null,null,null,null,null,null,null,null,null,null,null,null,null,null,null,null,null,null,null,null,null,null,"Designate Point & Non-Point Sources",null,null,null,null,null,null,null,null,null,null,null,null,null,null,null,null,null,null,null,null,null,null,null,null,null,"Designate Point & Non-Point Sources",null,null,null,null,null,null,null,null,null,null,null,null,null,null,null,null,null,null,null,null,null,null,null,null,null,"Designate Point & Non-Point Sources",null,null,null,null,null,null,null,null,null,null,null,null,null,null,null,null,null,null,null,null,null,null,null,null,null,"Designate Point & Non-Point Sources"]
[null,null,null,null,null,null,null,null,null,null,null,null,null,null,null,null,null,null,null,null,null,null,null,"Codes selected at left are distributed according to Source Type. "]
[null,{"$f":"\"River Basin: \"&RiverBasinName","v":"River Basin: Test River Basin"},null,null,null,null,{"$f":"\"Data Year:  \"&AssessmentYear","v":"Data Year:  2011"},null,null,null,null,null,null,null,null,null,null,null,null,null,null,null,null,"Numbers indicate confidence of assessment: 0 = N/A, 1 = Potential Source, 2 = Suspected Source, 3 = Known Source.",null,null,null,null,null,null,null,null,null,null,null,null,null,null,null,null,null,null,null,null,null,null,null,null,null,null,null,null,null,null,null,null,null,null,null,null,null,null,null,null,null,null,null,null,null,null,null,null,null,null,null,null,null,null,null,null,null,null,null,null,null,null,null,null,null,null,null,null,null,null,null,null,null,null,null,null,null,null,null,null,null,null,null,null,null,null,null,null,null,null,null,null,null,null,null,null,null,null,null,null,null,null,null,null,null,null,null,null,null,null,null,null,null,null,null,null,null,null,null,null,null,null,null,null,null,null,null,null,null,null,null,null,null,null,null,null,null,null,null,null,null,null,null,null,null,null,null,null,null,null,null,null,null,null,null,null,null,null,null,null,null,null,null,null,null,null,null,null,null,null,null,null,null,null,null,null,null,null,null,null,null,null,null,null,null,null,null,null,null,null,null,null,null,null,null,null,null,null,null,null,null,null,null,null,null,null,null,null,null,null,null,null,null,null,null,null,null,null,null,null,null,null,null,null,null,null,null,null,null,null,null,null,null,null,null,null,null,null,null,null,null,null,null,null,null,null,null,null,null,null,null,null,null,null,null,null,null,null,null,null,null,null,"Municp",null,null,"Industr",null,null,"St Water",null,null,"Res Ext",null,null,"Land Dis",null,null,"Seds",null,null,"Hydro",null,null,"Other",null,null,"Unknown"]
[null,{"$f":"\"Segment Name: \"&C60","v":"Segment Name: tttttt"},null,null,null,null,null,null,null,null,null,null,null,null,null,null,null,null,null,null,null,null,null,"These codes are processed by \"SourceRC_List macro and transferred to Source report card."]
[null,{"$f":"\"Class: \"&C64","v":"Class: "},null,{"$f":"\"Size: \"&C63","v":"Size: "},null,null,{"$f":"\"Seg ID #: \"&C62","v":"Seg ID #: "}]
[null,"CATEGORY","INDICATOR ASSESSMENT",null,"OVERALL STATUS","DATA LEVEL","POINT","NONPOINT",null,null,null,null,null,"Point Sources",null,null,null,null,null,null,null,null,null,"Municipal",null,null,"Industrial",null,null,"Storm Water",null,null,"Resource Ext",null,null,"Land Disposal",null,null,null,"Point Sources",null,null,null,null,null,null,null,null,null,"Municipal",null,null,"Industrial",null,null,"Storm Water",null,null,"Resource Ext",null,null,"Land Disposal",null,null,null,"Point Sources",null,null,null,null,null,null,null,null,null,"Municipal",null,null,"Industrial",null,null,"Storm Water",null,null,"Resource Ext",null,null,"Land Disposal",null,null,null,"Point Sources",null,null,null,null,null,null,null,null,null,"Municipal",null,null,"Industrial",null,null,"Storm Water",null,null,"Resource Ext",null,null,"Land Disposal",null,null,null,"Point Sources",null,null,null,null,null,null,null,null,null,"Municipal",null,null,"Industrial",null,null,"Storm Water",null,null,"Resource Ext",null,null,"Land Disposal",null,null,null,"Point Sources",null,null,null,null,null,null,null,null,null,"Municipal",null,null,"Industrial",null,null,"Storm Water",null,null,"Resource Ext",null,null,"Land Disposal",null,null,null,"Point Sources",null,null,null,null,null,null,null,null,null,"Municipal",null,null,"Industrial",null,null,"Storm Water",null,null,"Resource Ext",null,null,"Land Disposal",null,null,null,"Point Sources",null,null,null,null,null,null,null,null,null,"Municipal",null,null,"Industrial",null,null,"Storm Water",null,null,"Resource Ext",null,null,"Land Disposal",null,null,null,"Point Sources",null,null,null,null,null,null,null,null,null,"Municipal",null,null,"Industrial",null,null,"Storm Water",null,null,"Resource Ext",null,null,"Land Disposal",null,null,null,"Point Sources",null,null,null,null,null,null,null,null,null,"Municipal",null,null,"Industrial",null,null,"Storm Water",null,null,"Resource Ext",null,null,"Land Disposal"]
[null,null,null,null,null,null,"Click below to select Sources"]
[null,"Biology","Plank/Peri.   A","NA","NA","NA",{"$f":"$O$15&\"  \"&$O$16&\"  \"&$O$17&\"  \"&$O$18&\"  \"&$O$19&\"  \"&$O$20","v":"          "},{"$f":"$O$28&\"  \"&$O$29&\"  \"&$O$30&\"  \"&$O$31&\"  \"&$O$32&\"  \"&$O$33","v":"          "}]
[null,null,"Macrophyton   M","NA"]
[null,null,"Invertebrates   I","NA"]
[null,null,"Fish   F","NA"]
[null,null,"Wildlife   W","NA"]
[]
[null,"Chemistry","Dis. Oxygen    DO","NA","NA","NA",{"$f":"$AO$15&\"  \"&$AO$16&\"  \"&$AO$17&\"  \"&$AO$18&\"  \"&$AO$19&\"  \"&$AO$20","v":"          "},{"$f":"$AO$28&\"  \"&$AO$29&\"  \"&$AO$30&\"  \"&$AO$31&\"  \"&$AO$32&\"  \"&$AO$33","v":"          "}]
[null,null,"pH     pH","NA"]
[null,null,"Temperature    T","NA"]
[null,null,"Ionic Strength    Z","NA"]
[null,null,"Sus. Solids    SS","NA"]
[null,null,null,null,null,null,null,null,null,null,null,null,null,"Non Point Sources",null,null,null,null,null,null,null,null,null,"Seds",null,null,"Hydromodification",null,null,"Other",null,null,"Unknown",null,null,null,null,null,null,"Non Point Sources",null,null,null,null,null,null,null,null,null,"Seds",null,null,"Hydromodification",null,null,"Other",null,null,"Unknown",null,null,null,null,null,null,"Non Point Sources",null,null,null,null,null,null,null,null,null,"Seds",null,null,"Hydromodification",null,null,"Other",null,null,"Unknown",null,null,null,null,null,null,"Non Point Sources",null,null,null,null,null,null,null,null,null,"Seds",null,null,"Hydromodification",null,null,"Other",null,null,"Unknown",null,null,null,null,null,null,"Non Point Sources",null,null,null,null,null,null,null,null,null,"Seds",null,null,"Hydromodification",null,null,"Other",null,null,"Unknown",null,null,null,null,null,null,"Non Point Sources",null,null,null,null,null,null,null,null,null,"Seds",null,null,"Hydromodification",null,null,"Other",null,null,"Unknown",null,null,null,null,null,null,"Non Point Sources",null,null,null,null,null,null,null,null,null,"Seds",null,null,"Hydromodification",null,null,"Other",null,null,"Unknown",null,null,null,null,null,null,"Non Point Sources",null,null,null,null,null,null,null,null,null,"Seds",null,null,"Hydromodification",null,null,"Other",null,null,"Unknown",null,null,null,null,null,null,"Non Point Sources",null,null,null,null,null,null,null,null,null,"Seds",null,null,"Hydromodification",null,null,"Other",null,null,"Unknown",null,null,null,null,null,null,"Non Point Sources",null,null,null,null,null,null,null,null,null,"Seds",null,null,"Hydromodification",null,null,"Other",null,null,"Unknown"]
[null,"Nutrients","Phosphorus  P","NA","NA","NA",{"$f":"$BO$15&\"  \"&$BO$16&\"  \"&$BO$17&\"  \"&$BO$18&\"  \"&$BO$19&\"  \"&$BO$20","v":"          "},{"$f":"$BO$28&\"  \"&$BO$29&\"  \"&$BO$30&\"  \"&$BO$31&\"  \"&$BO$32&\"  \"&$BO$33","v":"          "}]
[null,null,"Nitrogen   N","NA"]
[]
[null,"Toxicity","Unknown   U","NA","NA","NA",{"$f":"$CO$15&\"  \"&$CO$16&\"  \"&$CO$17&\"  \"&$CO$18&\"  \"&$CO$19&\"  \"&$CO$20","v":"          "},{"$f":"$CO$28&\"  \"&$CO$29&\"  \"&$CO$30&\"  \"&$CO$31&\"  \"&$CO$32&\"  \"&$CO$33","v":"          "}]
[null,null,{"$f":"\"Spec. Chem.  \"&CN44","v":"Spec. Chem.  Ag"},"NA"]
[null,null,null,null,null,null,null,null,null,null,null,null,null,null,null,null,null,null,null,null,null,null,null,null,null,null,null,null,null,null,null,null,null,null,null,null,null,null,null,null,null,null,null,null,null,null,null,null,null,null,null,null,null,null,null,null,null,null,null,null,null,null,null,null,null,null,null,null,null,null,null,null,null,null,null,null,null,null,null,null,null,null,null,null,null,null,null,null,null,null,null,null,null,null,null,null,null,null,null,null,null,null,null,null,null,null,null,null,null,null,null,null,null,null,null,null,null,null,null,null,null,null,null,null,null,null,null,null,null,null,null,null,null,null,null,null,null,null,null,null,null,null,null,null,null,null,null,null,null,null,null,null,null,null,null,null,null,null,null,null,null,null,null,null,null,null,null,null,null,null,null,null,null,null,null,null,null,null,null,null,null,null,null,null,null,null,null,null,null,null,null,null,null,null,null,null,null,null,null,null,null,null,null,null,null,null,null,null,null,null,null,null,null,null,null,null,null,null,null,null,null,null,null,null,null,null,null,null,null,null,null,null,null,null,null,null,null,null,null,null,null,null,null,null,null,null,null,null,null,null,null,null,null,null,null,null,null,null,null,null,null,null,null,null,null,null,null,null,null,null,null,null,null,null,null,null,null,null,null,null,null,null,null,null,null,"The colored cells below reflect this segments pollution status and are replicated on the Sources report card automatically"]
[null,"Flow","Flow  Q","NA","NA","NA",{"$f":"$DO$15&\"  \"&$DO$16&\"  \"&$DO$17&\"  \"&$DO$18&\"  \"&$DO$19&\"  \"&$DO$20","v":"          "},{"$f":"$DO$28&\"  \"&$DO$29&\"  \"&$DO$30&\"  \"&$DO$31&\"  \"&$DO$32&\"  \"&$DO$33","v":"          "},null,null,null,null,null,null,null,null,null,null,null,null,null,null,null,null,null,null,null,null,null,null,null,null,null,null,null,null,null,null,null,null,null,null,null,null,null,null,null,null,null,null,null,null,null,null,null,null,null,null,null,null,null,null,null,null,null,null,null,null,null,null,null,null,null,null,null,null,null,null,null,null,null,null,null,null,null,null,null,null,null,null,null,null,null,null,null,null,null,null,null,null,null,null,null,null,null,null,null,null,null,null,null,null,null,null,null,null,null,null,null,null,null,null,null,null,null,null,null,null,null,null,null,null,null,null,null,null,null,null,null,null,null,null,null,null,null,null,null,null,null,null,null,null,null,null,null,null,null,null,null,null,null,null,null,null,null,null,null,null,null,null,null,null,null,null,null,null,null,null,null,null,null,null,null,null,null,null,null,null,null,null,null,null,null,null,null,null,null,null,null,null,null,null,null,null,null,null,null,null,null,null,null,null,null,null,null,null,null,null,null,null,null,null,null,null,null,null,null,null,null,null,null,null,null,null,null,null,null,null,null,null,null,null,null,null,null,null,null,null,null,null,null,null,null,null,null,null,null,null,null,null,null,null,null,null,null,null,null,null,null,null,null,null,null,null,null,null,null,null,null,null,null,null,null,null,null,null,{"$f":"KA11","v":"Municp"},null,null,{"$f":"KD11","v":"Industr"},null,null,{"$f":"KG11","v":"St Water"},null,null,{"$f":"KJ11","v":"Res Ext"},null,null,{"$f":"KM11","v":"Land Dis"},null,null,{"$f":"KP11","v":"Seds"},null,null,{"$f":"KS11","v":"Hydro"},null,null,{"$f":"KV11","v":"Other"},null,null,{"$f":"KY11","v":"Unknown"}]
[null,null,null,null,null,null,null,null,null,null,null,null,null,"* designates a Suspected Source",null,null,null,null,null,null,null,null,null,null,null,null,null,null,null,null,null,null,null,null,null,null,null,null,null,"* designates a Suspected Source",null,null,null,null,null,null,null,null,null,null,null,null,null,null,null,null,null,null,null,null,null,null,null,null,null,"* designates a Suspected Source",null,null,null,null,null,null,null,null,null,null,null,null,null,null,null,null,null,null,null,null,null,null,null,null,null,"* designates a Suspected Source",null,null,null,null,null,null,null,null,null,null,null,null,null,null,null,null,null,null,null,null,null,null,null,null,null,"* designates a Suspected Source",null,null,null,null,null,null,null,null,null,null,null,null,null,null,null,null,null,null,null,null,null,null,null,null,null,"* designates a Suspected Source",null,null,null,null,null,null,null,null,null,null,null,null,null,null,null,null,null,null,null,null,null,null,null,null,null,"* designates a Suspected Source",null,null,null,null,null,null,null,null,null,null,null,null,null,null,null,null,null,null,null,null,null,null,null,null,null,"* designates a Suspected Source",null,null,null,null,null,null,null,null,null,null,null,null,null,null,null,null,null,null,null,null,null,null,null,null,null,"* designates a Suspected Source",null,null,null,null,null,null,null,null,null,null,null,null,null,null,null,null,null,null,null,null,null,null,null,null,null,null,null,null,null,null,null,null,null,null,null,null,null,null,null,null,null,null,null,null,null,null,null,null,null,null,null,null,null,null,null,null,null,null,null,null,null,null,null,null,{"$f":"TRIM(KA41&\" \"&KA42&\" \"&KA43&\" \"&KA44&\" \"&KA45&\" \"&KA46)","v":""},null,null,{"$f":"TRIM(KD41&\" \"&KD42&\" \"&KD43&\" \"&KD44&\" \"&KD45&\" \"&KD46)","v":""},null,null,{"$f":"TRIM(KG41&\" \"&KG42&\" \"&KG43&\" \"&KG44&\" \"&KG45&\" \"&KG46)","v":""},null,null,{"$f":"TRIM(KJ41&\" \"&KJ42&\" \"&KJ43&\" \"&KJ44&\" \"&KJ45&\" \"&KJ46)","v":""},null,null,{"$f":"TRIM(KM41&\" \"&KM42&\" \"&KM43&\" \"&KM44&\" \"&KM45&\" \"&KM46)","v":""},null,null,{"$f":"TRIM(KP41&\" \"&KP42&\" \"&KP43&\" \"&KP44&\" \"&KP45&\" \"&KP46)","v":""},null,null,{"$f":"TRIM(KS41&\" \"&KS42&\" \"&KS43&\" \"&KS44&\" \"&KS45&\" \"&KS46)","v":""},null,null,{"$f":"TRIM(KV41&\" \"&KV42&\" \"&KV43&\" \"&KV44&\" \"&KV45&\" \"&KV46)","v":""},null,null,{"$f":"TRIM(KY41&\" \"&KY42&\" \"&KY43&\" \"&KY44&\" \"&KY45&\" \"&KY46)","v":""}]
[null,"Habitat","Substrate   S","NA","NA","NA",{"$f":"$EO$15&\"  \"&$EO$16&\"  \"&$EO$17&\"  \"&$EO$18&\"  \"&$EO$19&\"  \"&$EO$20","v":"          "},{"$f":"$EO$28&\"  \"&$EO$29&\"  \"&$EO$30&\"  \"&$EO$31&\"  \"&$EO$32&\"  \"&$EO$33","v":"          "},null,null,null,null,null,"** designates a Potential Source",null,null,null,null,null,null,null,null,null,null,null,null,null,null,null,null,null,null,null,null,null,null,null,null,null,"** designates a Potential Source",null,null,null,null,null,null,null,null,null,null,null,null,null,null,null,null,null,null,null,null,null,null,null,null,null,"** designates a Potential Source",null,null,null,null,null,null,null,null,null,null,null,null,null,null,null,null,null,null,null,null,null,null,null,null,null,"** designates a Potential Source",null,null,null,null,null,null,null,null,null,null,null,null,null,null,null,null,null,null,null,null,null,null,null,null,null,"** designates a Potential Source",null,null,null,null,null,null,null,null,null,null,null,null,null,null,null,null,null,null,null,null,null,null,null,null,null,"** designates a Potential Source",null,null,null,null,null,null,null,null,null,null,null,null,null,null,null,null,null,null,null,null,null,null,null,null,null,"** designates a Potential Source",null,null,null,null,null,null,null,null,null,null,null,null,null,null,null,null,null,null,null,null,null,null,null,null,null,"** designates a Potential Source",null,null,null,null,null,null,null,null,null,null,null,null,null,null,null,null,null,null,null,null,null,null,null,null,null,"** designates a Potential Source"]
[null,null,"Morphology   H","NA",null,null,null,null,null,null,null,null,null,"No asterisk designates a Known Source",null,null,null,null,null,null,null,null,null,null,null,null,null,null,null,null,null,null,null,null,null,null,null,null,null,"No asterisk designates a Known Source",null,null,null,null,null,null,null,null,null,null,null,null,null,null,null,null,null,null,null,null,null,null,null,null,null,"No asterisk designates a Known Source",null,null,null,null,null,null,null,null,null,null,null,null,null,null,null,null,null,null,null,null,null,null,null,null,null,"No asterisk designates a Known Source",null,null,null,null,null,null,null,null,null,null,null,null,null,null,null,null,null,null,null,null,null,null,null,null,null,"No asterisk designates a Known Source",null,null,null,null,null,null,null,null,null,null,null,null,null,null,null,null,null,null,null,null,null,null,null,null,null,"No asterisk designates a Known Source",null,null,null,null,null,null,null,null,null,null,null,null,null,null,null,null,null,null,null,null,null,null,null,null,null,"No asterisk designates a Known Source",null,null,null,null,null,null,null,null,null,null,null,null,null,null,null,null,null,null,null,null,null,null,null,null,null,"No asterisk designates a Known Source",null,null,null,null,null,null,null,null,null,null,null,null,null,null,null,null,null,null,null,null,null,null,null,null,null,"No asterisk designates a Known Source",null,null,null,null,null,null,null,null,null,null,null,null,null,null,null,null,null,null,null,null,null,null,null,null,null,null,null,null,null,null,null,null,null,null,null,null,null,null,null,null,null,null,null,null,null,null,null,null,null,null,null,null,null,null,null,null,null,null,null,null,null,null,null,"max confid #",{"$f":"MAX(KB11:KB31)","v":0},null,null,{"$f":"MAX(KE11:KE31)","v":0},null,null,{"$f":"MAX(KH11:KH31)","v":0},null,null,{"$f":"MAX(KK11:KK31)","v":0},null,null,{"$f":"MAX(KN11:KN31)","v":0},null,null,{"$f":"MAX(KQ11:KQ31)","v":0},null,null,{"$f":"MAX(KT11:KT31)","v":0},null,null,{"$f":"MAX(KW11:KW31)","v":0},null,null,{"$f":"MAX(KZ11:KZ31)","v":0}]
[null,null,"Riparian Zone   R","NA",null,null,null,null,null,null,null,null,null,"Square brackets designates an Out of Segment Source (i.e., pollutant is a source for downstream segments)",null,null,null,null,null,null,null,null,null,null,null,null,null,null,null,null,null,null,null,null,null,null,null,null,null,"Square brackets designates an Out of Segment Source (i.e., pollutant is a source for downstream segments)",null,null,null,null,null,null,null,null,null,null,null,null,null,null,null,null,null,null,null,null,null,null,null,null,null,"Square brackets designates an Out of Segment Source (i.e., pollutant is a source for downstream segments)",null,null,null,null,null,null,null,null,null,null,null,null,null,null,null,null,null,null,null,null,null,null,null,null,null,"Square brackets designates an Out of Segment Source (i.e., pollutant is a source for downstream segments)",null,null,null,null,null,null,null,null,null,null,null,null,null,null,null,null,null,null,null,null,null,null,null,null,null,"Square brackets designates an Out of Segment Source (i.e., pollutant is a source for downstream segments)",null,null,null,null,null,null,null,null,null,null,null,null,null,null,null,null,null,null,null,null,null,null,null,null,null,"Square brackets designates an Out of Segment Source (i.e., pollutant is a source for downstream segments)",null,null,null,null,null,null,null,null,null,null,null,null,null,null,null,null,null,null,null,null,null,null,null,null,null,"Square brackets designates an Out of Segment Source (i.e., pollutant is a source for downstream segments)",null,null,null,null,null,null,null,null,null,null,null,null,null,null,null,null,null,null,null,null,null,null,null,null,null,"Square brackets designates an Out of Segment Source (i.e., pollutant is a source for downstream segments)",null,null,null,null,null,null,null,null,null,null,null,null,null,null,null,null,null,null,null,null,null,null,null,null,null,"Square brackets designates an Out of Segment Source (i.e., pollutant is a source for downstream segments)",null,null,null,null,null,null,null,null,null,null,null,null,null,null,null,null,null,null,null,null,null,null,null,null,null,null,null,null,null,null,null,null,null,null,null,null,null,null,null,null,null,null,null,null,null,null,null,null,null,null,null,null,null,null,null,null,null,null,null,null,null,null,null,"The lists below show unique codes in lists assembled above. Numbers are max confidence #, used to color cells for worst case. The codes are catenated in the colored boxes above for transfer to Sources RC when that sheet is activated."]
[]
[null,"Bacteria","Bacteria   B","NA","NA","NA",{"$f":"$FO$15&\"  \"&$FO$16&\"  \"&$FO$17&\"  \"&$FO$18&\"  \"&$FO$19&\"  \"&$FO$20","v":"          "},{"$f":"$FO$28&\"  \"&$FO$29&\"  \"&$FO$30&\"  \"&$FO$31&\"  \"&$FO$32&\"  \"&$FO$33","v":"          "},null,null,null,null,null,null,null,null,null,null,null,null,null,null,null,null,null,null,null,null,null,null,null,null,null,null,null,null,null,null,null,null,null,null,null,null,null,null,null,null,null,null,null,null,null,null,null,null,null,null,null,null,null,null,null,null,null,null,null,null,null,null,null,null,null,null,null,null,null,null,null,null,null,null,null,null,null,null,null,null,null,null,null,null,null,null,null,null,null,null,null,null,null,null,null,null,null,null,null,null,null,null,null,null,null,null,null,null,null,null,null,null,null,null,null,null,null,null,null,null,null,null,null,null,null,null,null,null,null,null,null,null,null,null,null,null,null,null,null,null,null,null,null,null,null,null,null,null,null,null,null,null,null,null,null,null,null,null,null,null,null,null,null,null,null,null,null,null,null,null,null,null,null,null,null,null,null,null,null,null,null,null,null,null,null,null,null,null,null,null,null,null,null,null,null,null,null,null,null,null,null,null,null,null,null,null,null,null,null,null,null,null,null,null,null,null,null,null,null,null,null,null,null,null,null,null,null,null,null,null,null,null,null,null,null,null,null,null,null,null,null,null,null,null,null,null,null,null,null,null,null,null,null,null,null,null,null,null,null,null,null,null,null,null,null,null,null,null,null,null,null,null,null,null,null,null,null,null,"Municp",null,null,"Industr",null,null,"St Water",null,null,"Res Ext",null,null,"Land Dis",null,null,"Seds",null,null,"Hydro",null,null,"Other",null,null,"Unknown"]
[]
[null,"Aesthetics","Oil & Grease   G","NA","NA","NA",{"$f":"$GO$15&\"  \"&$GO$16&\"  \"&$GO$17&\"  \"&$GO$18&\"  \"&$GO$19&\"  \"&$GO$20","v":"          "},{"$f":"$GO$28&\"  \"&$GO$29&\"  \"&$GO$30&\"  \"&$GO$31&\"  \"&$GO$32&\"  \"&$GO$33","v":"          "},null,null,null,null,null,null,null,null,null,null,null,null,null,null,null,null,null,null,null,null,null,null,null,null,null,null,null,null,null,null,null,null,null,null,null,null,null,null,null,null,null,null,null,null,null,null,null,null,null,null,null,null,null,null,null,null,null,null,null,null,null,null,null,null,null,null,null,null,null,null,null,null,null,null,null,null,null,null,null,null,null,null,null,"Identify the suspected toxic chemical substance below (e.g., Hg, PCB, etc). ",null,null,null,null,null,null,null,null,null,null,null,null,null,null,null,null,null,null,null,null,null,null,null,null,null,null,null,null,null,null,null,null,null,null,null,null,null,null,null,null,null,null,null,null,null,null,null,null,null,null,null,null,null,null,null,null,null,null,null,null,null,null,null,null,null,null,null,null,null,null,null,null,null,null,null,null,null,null,null,null,null,null,null,null,null,null,null,null,null,null,null,null,null,null,null,null,null,null,null,null,null,null,null,null,null,null,null,null,null,null,null,null,null,null,null,null,null,null,null,null,null,null,null,null,null,null,null,null,null,null,null,null,null,null,null,null,null,null,null,null,null,null,null,null,null,null,null,null,null,null,null,null,null,null,null,"Identify the suspected toxic chemical substance below (e.g., Hg, PCB, etc). "]
[null,null,"Taste & Odor   O","NA",null,null,null,null,null,null,null,null,null,null,"Pollution  Indicators (Causes):  ",null,{"$f":"P46&\" \"&P47&\" \"&P48&\" \"&P49&\" \"&P50&\" \"&P51","v":"     "},null,null,null,null,null,null,null,null,null,null,null,null,null,null,null,null,null,null,null,null,null,null,null,"Pollution  Indicators (Causes):  ",null,{"$f":"AP46&\" \"&AP47&\" \"&AP48&\" \"&AP49&\" \"&AP50&\" \"&AP51","v":"     "},null,null,null,null,null,null,null,null,null,null,null,null,null,null,null,null,null,null,null,null,null,null,null,"Pollution  Indicators (Causes):  ",null,{"$f":"BP46&\" \"&BP47&\" \"&BP48","v":"  "},null,null,null,null,null,null,null,null,null,null,null,null,null,null,null,null,null,null,null,null,null,null,null,null,null,null,null,null,null,null,null,null,null,null,null,null,null,null,null,null,null,null,null,null,null,null,null,null,null,"Pollution  Indicators (Causes):  ",null,{"$f":"DP46&\" \"&DP47","v":" "},null,null,null,null,null,null,null,null,null,null,null,null,null,null,null,null,null,null,null,null,null,null,null,"Pollution  Indicators (Causes):  ",null,{"$f":"EP46&\" \"&EP47&\" \"&EP48&\" \"&EP49","v":"   "},null,null,null,null,null,null,null,null,null,null,null,null,null,null,null,null,null,null,null,null,null,null,null,"Pollution  Indicators (Causes):  ",null,{"$f":"FP46&\" \"&FP47","v":" "},null,null,null,null,null,null,null,null,null,null,null,null,null,null,null,null,null,null,null,null,null,null,null,"Pollution  Indicators (Causes):  ",null,{"$f":"GP46&\" \"&GP47&\" \"&GP48&\" \"&GP49&\" \"&GP50&\" \"&GP51","v":"     "},null,null,null,null,null,null,null,null,null,null,null,null,null,null,null,null,null,null,null,null,null,null,"Identify the suspected toxic chemical substance below (e.g., Hg, PCB, etc). "]
[null,null,"Turb/Color   C","NA",null,null,null,null,null,null,null,null,null,null,null,null,null,null,null,null,null,null,null,null,null,null,null,null,null,null,null,null,null,null,null,null,null,null,null,null,null,null,null,null,null,null,null,null,null,null,null,null,null,null,null,null,null,null,null,null,null,null,null,null,null,null,null,null,null,null,null,null,null,null,null,null,null,null,null,null,null,null,null,null,null,null,null,null,null,null,null,"Ag",null,null,null,null,null,null,null,null,null,null,null,null,null,null,null,null,null,null,null,null,null,null,null,null,null,null,null,null,null,null,null,null,null,null,null,null,null,null,null,null,null,null,null,null,null,null,null,null,null,null,null,null,null,null,null,null,null,null,null,null,null,null,null,null,null,null,null,null,null,null,null,null,null,null,null,null,null,null,null,null,null,null,null,null,null,null,null,null,null,null,null,null,null,null,null,null,null,null,null,null,null,null,null,null,null,null,null,null,null,null,null,null,null,null,null,null,null,null,null,null,null,null,null,null,null,null,null,null,null,null,null,null,null,null,null,null,null,null,null,null,null,null,null,null,null,null,null,null,null,null,null,null,null,null,null,"DDT"]
[null,null,"Nuisance Plants   V","NA",null,null,null,null,null,null,null,null,null,null,{"$f":"$B$16","v":"Biology"},null,null,null,null,null,null,null,null,null,null,null,null,null,null,null,null,null,null,null,null,null,null,null,null,null,{"$f":"$B$22","v":"Chemistry"},null,null,null,null,null,null,null,null,null,null,null,null,null,null,null,null,null,null,null,null,null,null,null,null,null,{"$f":"$B$28","v":"Nutrients"},null,null,null,null,null,null,null,null,null,null,null,null,null,null,null,null,null,null,null,null,null,null,null,null,null,null,null,null,null,null,null,null,null,null,null,null,null,null,null,null,null,null,null,null,null,null,null,null,null,null,null,{"$f":"$B$34","v":"Flow"},null,null,null,null,null,null,null,null,null,null,null,null,null,null,null,null,null,null,null,null,null,null,null,null,null,{"$f":"$B$36","v":"Habitat"},null,null,null,null,null,null,null,null,null,null,null,null,null,null,null,null,null,null,null,null,null,null,null,null,null,{"$f":"$B$40","v":"Bacteria"},null,null,null,null,null,null,null,null,null,null,null,null,null,null,null,null,null,null,null,null,null,null,null,null,null,{"$f":"$B$42","v":"Aesthetics"},null,null,null,null,null,null,null,null,null,null,null,null,null,null,null,null,null,null,null,null,null,null,null,null,"PCB"]
[null,null,"Trash /Debris   D","NA",null,null,null,null,null,null,null,null,null,null,{"$f":"$C$16","v":"Plank/Peri.   A"},{"$f":"IF($D$16=\"Concern\",\"(A)\",IF(OR($D$16=\"Fair\",$D$16=\"Poor\"),\"A\",\"\"))","v":""},null,null,null,null,null,null,null,null,null,null,null,null,null,null,null,null,null,null,null,null,null,null,null,null,{"$f":"$C$22","v":"Dis. Oxygen    DO"},{"$f":"IF($D$22=\"Concern\",\"(DO)\",IF(OR($D$22=\"Fair\",$D$22=\"Poor\"),\"DO\",\"\"))","v":""},null,null,null,null,null,null,null,null,null,null,null,null,null,null,null,null,null,null,null,null,null,null,null,null,{"$f":"$C$28","v":"Phosphorus  P"},{"$f":"IF($D$28=\"Concern\",\"(P)\",IF(OR($D$28=\"Fair\",$D$28=\"Poor\"),\"P\",\"\"))","v":""},null,null,null,null,null,null,null,null,null,null,null,null,null,null,null,null,null,null,null,null,null,null,null,null,null,null,null,null,null,null,null,null,null,null,null,null,null,null,null,null,null,null,null,null,null,null,null,null,null,null,{"$f":"$C$34","v":"Flow  Q"},{"$f":"IF($D$34=\"Concern\",\"(O)\",IF(OR($D$34=\"Fair\",$D$34=\"Poor\"),\"O\",\"\"))","v":""},null,null,null,null,null,null,null,null,null,null,null,null,null,null,null,null,null,null,null,null,null,null,null,null,{"$f":"$C$36","v":"Substrate   S"},{"$f":"IF($D$36=\"Concern\",\"(S)\",IF(OR($D$36=\"Fair\",$D$36=\"Poor\"),\"S\",\"\"))","v":""},null,null,null,null,null,null,null,null,null,null,null,null,null,null,null,null,null,null,null,null,null,null,null,null,{"$f":"$C$40","v":"Bacteria   B"},{"$f":"IF($D$40=\"Concern\",\"(B)\",IF(OR($D$40=\"Fair\",$D$40=\"Poor\"),\"B\",\"\"))","v":""},null,null,null,null,null,null,null,null,null,null,null,null,null,null,null,null,null,null,null,null,null,null,null,null,{"$f":"$C$42","v":"Oil & Grease   G"},{"$f":"IF($D$42=\"Concern\",\"(G)\",IF(OR($D$42=\"Fair\",$D$42=\"Poor\"),\"G\",\"\"))","v":""}]
[null,null,null,null,null,null,null,null,null,null,null,null,null,null,{"$f":"$C$17","v":"Macrophyton   M"},{"$f":"IF($D$17=\"Concern\",\"(M)\",IF(OR($D$17=\"Fair\",$D$17=\"Poor\"),\"M\",\"\"))","v":""},null,null,null,null,null,null,null,null,null,null,null,null,null,null,null,null,null,null,null,null,null,null,null,null,{"$f":"$C$23","v":"pH     pH"},{"$f":"IF($D$23=\"Concern\",\"(pH)\",IF(OR($D$23=\"Fair\",$D$23=\"Poor\"),\"pH\",\"\"))","v":""},null,null,null,null,null,null,null,null,null,null,null,null,null,null,null,null,null,null,null,null,null,null,null,null,{"$f":"$C$29","v":"Nitrogen   N"},{"$f":"IF($D$29=\"Concern\",\"(N)\",IF(OR($D$29=\"Fair\",$D$29=\"Poor\"),\"N\",\"\"))","v":""},null,null,null,null,null,null,null,null,null,null,null,null,null,null,null,null,null,null,null,null,null,null,null,null,null,null,null,null,null,null,null,null,null,null,null,null,null,null,null,null,null,null,null,null,null,null,null,null,null,null,{"$f":"IF($C$41=\"\",\"\",$C$41)","v":""},{"$f":"IF($D$35=\"Concern\",\"(**)\",IF(OR($D$35=\"Fair\",$D$35=\"Poor\"),\"**\",\"\"))","v":""},null,null,null,null,null,null,null,null,null,null,null,null,null,null,null,null,null,null,null,null,null,null,null,null,{"$f":"$C$37","v":"Morphology   H"},{"$f":"IF($D$37=\"Concern\",\"(H)\",IF(OR($D$37=\"Fair\",$D$37=\"Poor\"),\"H\",\"\"))","v":""},null,null,null,null,null,null,null,null,null,null,null,null,null,null,null,null,null,null,null,null,null,null,null,null,{"$f":"IF($C$41=\"\",\"\",$C$41)","v":""},{"$f":"IF($D$41=\"Concern\",\"(**)\",IF(OR($D$41=\"Fair\",$D$41=\"Poor\"),\"**\",\"\"))","v":""},null,null,null,null,null,null,null,null,null,null,null,null,null,null,null,null,null,null,null,null,null,null,null,null,{"$f":"$C$43","v":"Taste & Odor   O"},{"$f":"IF($D$43=\"Concern\",\"(O)\",IF(OR($D$43=\"Fair\",$D$43=\"Poor\"),\"O\",\"\"))","v":""}]
[null,"Tissue",{"$f":"\"Spec. Chem.   \"&HN45","v":"Spec. Chem.   PCB"},"NA","NA","NA",{"$f":"$HO$15&\"  \"&$HO$16&\"  \"&$HO$17&\"  \"&$HO$18&\"  \"&$HO$19&\"  \"&$HO$20","v":"          "},{"$f":"$HO$28&\"  \"&$HO$29&\"  \"&$HO$30&\"  \"&$HO$31&\"  \"&$HO$32&\"  \"&$HO$33","v":"          "},null,null,null,null,null,null,{"$f":"$C$18","v":"Invertebrates   I"},{"$f":"IF($D$18=\"Concern\",\"(I)\",IF(OR($D$18=\"Fair\",$D$18=\"Poor\"),\"I\",\"\"))","v":""},null,null,null,null,null,null,null,null,null,null,null,null,null,null,null,null,null,null,null,null,null,null,null,null,{"$f":"$C$24","v":"Temperature    T"},{"$f":"IF($D$24=\"Concern\",\"(T)\",IF(OR($D$24=\"Fair\",$D$24=\"Poor\"),\"T\",\"\"))","v":""},null,null,null,null,null,null,null,null,null,null,null,null,null,null,null,null,null,null,null,null,null,null,null,null,{"$f":"IF($C$30=\"\",\"\",$C$30)","v":""},{"$f":"IF($D$30=\"Concern\",\"(**)\",IF(OR($D$30=\"Fair\",$D$30=\"Poor\"),\"**\",\"\"))","v":""},null,null,null,null,null,null,null,null,null,null,null,null,null,null,null,null,null,null,null,null,null,null,null,null,null,null,null,null,null,null,null,null,null,null,null,null,null,null,null,null,null,null,null,null,null,null,null,null,null,null,null,null,null,null,null,null,null,null,null,null,null,null,null,null,null,null,null,null,null,null,null,null,null,null,null,null,{"$f":"$C$38","v":"Riparian Zone   R"},{"$f":"IF($D$38=\"Concern\",\"(R)\",IF(OR($D$38=\"Fair\",$D$38=\"Poor\"),\"R\",\"\"))","v":""},null,null,null,null,null,null,null,null,null,null,null,null,null,null,null,null,null,null,null,null,null,null,null,null,null,null,null,null,null,null,null,null,null,null,null,null,null,null,null,null,null,null,null,null,null,null,null,null,null,null,{"$f":"$C$44","v":"Turb/Color   C"},{"$f":"IF($D$44=\"Concern\",\"(C)\",IF(OR($D$44=\"Fair\",$D$44=\"Poor\"),\"C\",\"\"))","v":""}]
[null,null,null,null,null,null,null,null,null,null,null,null,null,null,{"$f":"$C$19","v":"Fish   F"},{"$f":"IF($D$19=\"Concern\",\"(F)\",IF(OR($D$19=\"Fair\",$D$19=\"Poor\"),\"F\",\"\"))","v":""},null,null,null,null,null,null,null,null,null,null,null,null,null,null,null,null,null,null,null,null,null,null,null,null,{"$f":"$C$25","v":"Ionic Strength    Z"},{"$f":"IF($D$25=\"Concern\",\"(Z)\",IF(OR($D$25=\"Fair\",$D$25=\"Poor\"),\"Z\",\"\"))","v":""},null,null,null,null,null,null,null,null,null,null,null,null,null,null,null,null,null,null,null,null,null,null,null,null,null,null,null,null,null,null,null,null,null,null,null,null,null,null,null,null,null,null,null,null,null,null,null,null,null,null,"Pollution  Indicators (Causes):  ",null,{"$f":"CP52&\" \"&CP53&\" \"&CP54","v":"  "},null,null,null,null,null,null,null,null,null,null,null,null,null,null,null,null,null,null,null,null,null,null,null,null,null,null,null,null,null,null,null,null,null,null,null,null,null,null,null,null,null,null,null,null,null,null,null,null,null,{"$f":"IF($C$39=\"\",\"\",$C$39)","v":""},{"$f":"IF($D$39=\"Concern\",\"(**)\",IF(OR($D$39=\"Fair\",$D$39=\"Poor\"),\"**\",\"\"))","v":""},null,null,null,null,null,null,null,null,null,null,null,null,null,null,null,null,null,null,null,null,null,null,null,null,null,null,null,null,null,null,null,null,null,null,null,null,null,null,null,null,null,null,null,null,null,null,null,null,null,null,{"$f":"$C$45","v":"Nuisance Plants   V"},{"$f":"IF($D$45=\"Concern\",\"(V)\",IF(OR($D$45=\"Fair\",$D$45=\"Poor\"),\"V\",\"\"))","v":""},null,null,null,null,null,null,null,null,null,null,null,null,null,null,null,null,null,null,null,null,null,null,null,null,null,null,null,null,null,null,null,null,null,null,null,null,null,null,null,null,null,null,null,null,null,null,null,null,null,null,"Pollution  Indicators (Causes):  ",null,{"$f":"IP52&\" \"&IP53&\" \"&IP54","v":"  "}]
[null,"Sediment","Unknown   U","NA","NA","NA",{"$f":"$IO$15&\"  \"&$IO$16&\"  \"&$IO$17&\"  \"&$IO$18&\"  \"&$IO$19&\"  \"&$IO$20","v":"          "},{"$f":"$IO$28&\"  \"&$IO$29&\"  \"&$IO$30&\"  \"&$IO$31&\"  \"&$IO$32&\"  \"&$IO$33","v":"          "},null,null,null,null,null,null,{"$f":"$C$20","v":"Wildlife   W"},{"$f":"IF($D$20=\"Concern\",\"(W)\",IF(OR($D$20=\"Fair\",$D$20=\"Poor\"),\"W\",\"\"))","v":""},null,null,null,null,null,null,null,null,null,null,null,null,null,null,null,null,null,null,null,null,null,null,null,null,{"$f":"$C$26","v":"Sus. Solids    SS"},{"$f":"IF($D$26=\"Concern\",\"(SS)\",IF(OR($D$26=\"Fair\",$D$26=\"Poor\"),\"SS\",\"\"))","v":""},null,null,null,null,null,null,null,null,null,null,null,null,null,null,null,null,null,null,null,null,null,null,null,null,null,null,null,null,null,null,null,null,null,null,null,null,null,null,null,null,null,null,null,null,null,null,null,null,null,null,null,null,null,null,null,null,null,null,null,null,null,null,null,null,null,null,null,null,null,null,null,null,null,null,null,null,null,null,null,null,null,null,null,null,null,null,null,null,null,null,null,null,null,null,null,null,null,null,null,null,null,null,null,null,null,null,null,null,null,null,null,null,null,null,null,null,null,null,null,null,null,null,null,null,null,null,null,null,null,null,null,null,null,null,null,null,null,null,null,null,null,null,null,null,null,null,null,null,null,null,null,null,null,null,{"$f":"$C$46","v":"Trash /Debris   D"},{"$f":"IF($D$46=\"Concern\",\"(D)\",IF(OR($D$46=\"Fair\",$D$46=\"Poor\"),\"D\",\"\"))","v":""},null,null,null,null,null,null,null,null,null,null,null,null,null,null,null,null,null,null,null,null,null,null,null,null,"Pollution  Indicators (Causes):  ",null,{"$f":"HP53&\" \"&HP54","v":" "}]
[null,null,{"$f":"\"Spec. Chem.   \"&IN44","v":"Spec. Chem.   DDT"},"NA",null,null,null,null,null,null,null,null,null,null,{"$f":"IF($C$21=\"\",\"\",$C$21)","v":""},{"$f":"IF($D$21=\"Concern\",\"(**)\",IF(OR($D$21=\"Fair\",$D$21=\"Poor\"),\"**\",\"\"))","v":""},null,null,null,null,null,null,null,null,null,null,null,null,null,null,null,null,null,null,null,null,null,null,null,null,{"$f":"IF($C$27=\"\",\"\",$C$27)","v":""},{"$f":"IF($D$27=\"Concern\",\"(**)\",IF(OR($D$27=\"Fair\",$D$27=\"Poor\"),\"**\",\"\"))","v":""},null,null,null,null,null,null,null,null,null,null,null,null,null,null,null,null,null,null,null,null,null,null,null,null,null,null,null,null,null,null,null,null,null,null,null,null,null,null,null,null,null,null,null,null,null,null,null,null,null,null,{"$f":"$B$31","v":"Toxicity"},null,null,null,null,null,null,null,null,null,null,null,null,null,null,null,null,null,null,null,null,null,null,null,null,null,null,null,null,null,null,null,null,null,null,null,null,null,null,null,null,null,null,null,null,null,null,null,null,null,null,null,null,null,null,null,null,null,null,null,null,null,null,null,null,null,null,null,null,null,null,null,null,null,null,null,null,null,null,null,null,null,null,null,null,null,null,null,null,null,null,null,null,null,null,null,null,null,null,null,null,null,null,null,{"$f":"IF($C$47=\"\",\"\",$C$47)","v":""},{"$f":"IF($D$47=\"Concern\",\"(**)\",IF(OR($D$47=\"Fair\",$D$47=\"Poor\"),\"**\",\"\"))","v":""},null,null,null,null,null,null,null,null,null,null,null,null,null,null,null,null,null,null,null,null,null,null,null,null,null,null,null,null,null,null,null,null,null,null,null,null,null,null,null,null,null,null,null,null,null,null,null,null,null,null,{"$f":"$B$50","v":"Sediment"}]
[null,null,null,null,null,null,null,null,null,null,null,null,null,null,null,null,null,null,null,null,null,null,null,null,null,null,null,null,null,null,null,null,null,null,null,null,null,null,null,null,null,null,null,null,null,null,null,null,null,null,null,null,null,null,null,null,null,null,null,null,null,null,null,null,null,null,null,null,null,null,null,null,null,null,null,null,null,null,null,null,null,null,null,null,null,null,null,null,null,null,null,null,{"$f":"$C$31","v":"Unknown   U"},{"$f":"IF($D$31=\"Concern\",\"(U)\",IF(OR($D$31=\"Fair\",$D$31=\"Poor\"),\"U\",\"\"))","v":""},null,null,null,null,null,null,null,null,null,null,null,null,null,null,null,null,null,null,null,null,null,null,null,null,null,null,null,null,null,null,null,null,null,null,null,null,null,null,null,null,null,null,null,null,null,null,null,null,null,null,null,null,null,null,null,null,null,null,null,null,null,null,null,null,null,null,null,null,null,null,null,null,null,null,null,null,null,null,null,null,null,null,null,null,null,null,null,null,null,null,null,null,null,null,null,null,null,null,null,null,null,null,null,null,null,null,null,null,null,null,null,null,null,null,null,null,null,null,null,null,null,null,null,null,null,null,null,null,{"$f":"$B$48","v":"Tissue"},null,null,null,null,null,null,null,null,null,null,null,null,null,null,null,null,null,null,null,null,null,null,null,null,null,{"$f":"$C$50","v":"Unknown   U"},{"$f":"IF($D$50=\"Concern\",\"(U)\",IF(OR($D$50=\"Fair\",$D$50=\"Poor\"),\"U\",\"\"))","v":""}]
[null,"Comments:",null,null,null,null,null,"*  Suspected Source  ",null,null,null,null,null,null,null,null,null,null,null,null,null,null,null,null,null,null,null,null,null,null,null,null,null,null,null,null,null,null,null,null,null,null,null,null,null,null,null,null,null,null,null,null,null,null,null,null,null,null,null,null,null,null,null,null,null,null,null,null,null,null,null,null,null,null,null,null,null,null,null,null,null,null,null,null,null,null,null,null,null,null,null,null,{"$f":"$C$32","v":"Spec. Chem.  Ag"},{"$f":"IF($D$32=\"Concern\",\"(\"&CN44&\")\",IF(OR($D$32=\"Fair\",$D$32=\"Poor\"),CN44,\"\"))","v":""},null,null,null,null,null,null,null,null,null,null,null,null,null,null,null,null,null,null,null,null,null,null,null,null,null,null,null,null,null,null,null,null,null,null,null,null,null,null,null,null,null,null,null,null,null,null,null,null,null,null,null,null,null,null,null,null,null,null,null,null,null,null,null,null,null,null,null,null,null,null,null,null,null,null,null,null,null,null,null,null,null,null,null,null,null,null,null,null,null,null,null,null,null,null,null,null,null,null,null,null,null,null,null,null,null,null,null,null,null,null,null,null,null,null,null,null,null,null,null,null,null,null,null,null,null,null,null,null,{"$f":"$C$48","v":"Spec. Chem.   PCB"},{"$f":"IF($D$48=\"Concern\",\"(\"&HN45&\")\",IF(OR($D$48=\"Fair\",$D$32=\"Poor\"),HN45,\"\"))","v":""},null,null,null,null,null,null,null,null,null,null,null,null,null,null,null,null,null,null,null,null,null,null,null,null,{"$f":"$C$51","v":"Spec. Chem.   DDT"},{"$f":"IF($D$51=\"Concern\",\"(\"&IN44&\")\",IF(OR($D$51=\"Fair\",$D$51=\"Poor\"),IN44,\"\"))","v":""}]
[null,null,null,null,null,null,null,"** Potential Source  ",null,null,null,null,null,null,null,null,null,null,null,null,null,null,null,null,null,null,null,null,null,null,null,null,null,null,null,null,null,null,null,null,null,null,null,null,null,null,null,null,null,null,null,null,null,null,null,null,null,null,null,null,null,null,null,null,null,null,null,null,null,null,null,null,null,null,null,null,null,null,null,null,null,null,null,null,null,null,null,null,null,null,null,null,{"$f":"IF($C$33=\"\",\"\",$C$33)","v":""},{"$f":"IF($D$33=\"Concern\",\"(**)\",IF(OR($D$33=\"Fair\",$D$33=\"Poor\"),\"**\",\"\"))","v":""},null,null,null,null,null,null,null,null,null,null,null,null,null,null,null,null,null,null,null,null,null,null,null,null,null,null,null,null,null,null,null,null,null,null,null,null,null,null,null,null,null,null,null,null,null,null,null,null,null,null,null,null,null,null,null,null,null,null,null,null,null,null,null,null,null,null,null,null,null,null,null,null,null,null,null,null,null,null,null,null,null,null,null,null,null,null,null,null,null,null,null,null,null,null,null,null,null,null,null,null,null,null,null,null,null,null,null,null,null,null,null,null,null,null,null,null,null,null,null,null,null,null,null,null,null,null,null,null,{"$f":"IF($C$49=\"\",\"\",$C$49)","v":""},{"$f":"IF($D$49=\"Concern\",\"(**)\",IF(OR($D$49=\"Fair\",$D$49=\"Poor\"),\"**\",\"\"))","v":""},null,null,null,null,null,null,null,null,null,null,null,null,null,null,null,null,null,null,null,null,null,null,null,null,{"$f":"IF($C$52=\"\",\"\",$C$52)","v":""},{"$f":"IF($D$52=\"Concern\",\"(**)\",IF(OR($D$52=\"Fair\",$D$52=\"Poor\"),\"**\",\"\"))","v":""}]
[null,null,null,null,null,null,null,"No asterisk: Known Source  "]
[null,null,null,null,null,null,null,"[Out of Segment Source ]  "]
[]
[]
[]
[null,"SegNameLong:  ","tttttt"]
[null,"Seg Name:  ","ttt"]
[null,"Seg Num:  "]
[null,"Seg Size:  "]
[null,"Seg Class:  "]
[]
[]
[]
[]
[]
[]
[]
[]
[]
[]
[]
[]
[null,null,null,{"$f":"A99","v":""}]
[null,null,null,{"$f":"B99","v":""}]
[null,null,null,{"$f":"C99","v":""}]
[null,null,null,{"$f":"D99","v":""}]
[null,null,null,{"$f":"E99","v":""}]
[null,null,null,{"$f":"F99","v":""}]
[null,null,null,{"$f":"G99","v":""}]
[null,null,null,{"$f":"H99","v":""}]
[null,null,null,{"$f":"I99","v":""}]
[]
[]
[]
[]
[]
[]
[]
[]
[]
[]
[]
[]
[]
[{"$f":"TRIM(A101&\" \"&A102&\" \"&A103&\" \"&A104&\" \"&A105&\" \"&A106)","v":""},{"$f":"TRIM(B101&\" \"&B102&\" \"&B103&\" \"&B104&\" \"&B105&\" \"&B106)","v":""},"","","","","","",""]

{"sheet":"Seg21","index":25,"n_rows":99,"n_cols":311,"rows_kept":99,"cut":false,"hidden":false,"merged":[[15,1,20,1],[15,4,20,4],[15,5,20,5],[15,6,20,6],[15,7,20,7],[13,1,14,1],[13,2,14,3],[13,4,14,4],[13,5,14,5],[14,6,14,7],[27,1,29,1],[27,4,29,4],[27,5,29,5],[27,6,29,6],[27,7,29,7],[21,1,26,1],[21,4,26,4],[21,5,26,5],[21,6,26,6],[21,7,26,7],[49,6,51,6],[49,7,51,7],[30,1,32,1],[30,4,32,4],[30,5,32,5],[30,6,32,6],[30,7,32,7],[33,1,34,1],[33,4,34,4],[33,5,34,5],[33,6,34,6],[33,7,34,7],[43,91,45,94],[35,1,38,1],[35,4,38,4],[35,5,38,5],[35,6,38,6],[35,7,38,7],[39,1,40,1],[39,4,40,4],[39,5,40,5],[39,6,40,6],[39,7,40,7],[52,1,55,1],[43,247,45,250],[44,221,46,224],[47,1,48,1],[47,4,48,4],[47,5,48,5],[47,6,48,6],[47,7,48,7],[41,1,46,1],[41,4,46,4],[41,5,46,5],[41,6,46,6],[41,7,46,7],[49,1,51,1],[49,4,51,4],[49,5,51,5]]}
[]
[]
[]
[]
[null,null,null,null,null,null,null,null,null,null,null,null,null,null,null,null,null,null,null,null,null,null,null,null,null,null,null,null,null,null,null,null,null,null,null,null,null,null,null,null,null,null,null,null,null,null,null,null,null,null,null,null,null,null,null,null,null,null,null,null,null,null,null,null,null,null,null,null,null,null,null,null,null,null,null,null,null,null,null,null,null,null,null,null,null,null,null,null,null,null,null,null,null,null,null,null,null,null,null,null,null,null,null,null,null,null,null,null,null,null,null,null,null,null,null,null,null,null,null,null,null,null,null,null,null,null,null,null,null,null,null,null,null,null,null,null,null,null,null,null,null,null,null,null,null,null,null,null,null,null,null,null,null,null,null,null,null,null,null,null,null,null,null,null,null,null,null,null,null,null,null,null,null,null,null,null,null,null,null,null,null,null,null,null,null,null,null,null,null,null,null,null,null,null,null,null,null,null,null,null,null,null,null,null,null,null,null,null,null,null,null,null,null,null,null,null,null,null,null,null,null,null,null,null,null,null,null,null,null,null,null,null,null,null,null,null,null,null,null,null,null,null,null,null,null,null,null,null,null,null,null,null,null,null,null,null,null,null,null,null,null,null,null,null,null,null,null,null,null,null,null,null,null,null,null,null,null,null,null,null,null,null,null,null,null,"List of all codes from all groups for this segment, organized by Source Type. "]
[null,null,null,null,null,null,null,null,null,null,null,null,null,null,null,null,null,null,null,null,null,null,null,null,null,null,null,null,null,null,null,null,null,null,null,null,null,null,null,null,null,null,null,null,null,null,null,null,null,null,null,null,null,null,null,null,null,null,null,null,null,null,null,null,null,null,null,null,null,null,null,null,null,null,null,null,null,null,null,null,null,null,null,null,null,null,null,null,null,null,null,null,null,null,null,null,null,null,null,null,null,null,null,null,null,null,null,null,null,null,null,null,null,null,null,null,null,null,null,null,null,null,null,null,null,null,null,null,null,null,null,null,null,null,null,null,null,null,null,null,null,null,null,null,null,null,null,null,null,null,null,null,null,null,null,null,null,null,null,null,null,null,null,null,null,null,null,null,null,null,null,null,null,null,null,null,null,null,null,null,null,null,null,null,null,null,null,null,null,null,null,null,null,null,null,null,null,null,null,null,null,null,null,null,null,null,null,null,null,null,null,null,null,null,null,null,null,null,null,null,null,null,null,null,null,null,null,null,null,null,null,null,null,null,null,null,null,null,null,null,null,null,null,null,null,null,null,null,null,null,null,null,null,null,null,null,null,null,null,null,null,null,null,null,null,null,null,null,null,null,null,null,null,null,null,null,null,null,null,null,null,null,null,null,null,"List is updated only when \"SourceRC_List\" macro is run. Macro is run manually by touching button at right or when Source report card is activated."]
[null,null,null,null,null,null,null,null,null,null,null,null,null,null,null,null,null,null,null,null,null,null,null,null,null,null,null,null,null,null,null,null,null,null,null,null,null,null,null,null,null,null,null,null,null,null,null,null,null,null,null,null,null,null,null,null,null,null,null,null,null,null,null,null,null,null,null,null,null,null,null,null,null,null,null,null,null,null,null,null,null,null,null,null,null,null,null,null,null,null,null,null,null,null,null,null,null,null,null,null,null,null,null,null,null,null,null,null,null,null,null,null,null,null,null,null,null,null,null,null,null,null,null,null,null,null,null,null,null,null,null,null,null,null,null,null,null,null,null,null,null,null,null,null,null,null,null,null,null,null,null,null,null,null,null,null,null,null,null,null,null,null,null,null,null,null,null,null,null,null,null,null,null,null,null,null,null,null,null,null,null,null,null,null,null,null,null,null,null,null,null,null,null,null,null,null,null,null,null,null,null,null,null,null,null,null,null,null,null,null,null,null,null,null,null,null,null,null,null,null,null,null,null,null,null,null,null,null,null,null,null,null,null,null,null,null,null,null,null,null,null,null,null,null,null,null,null,null,null,null,null,null,null,null,null,null,null,null,null,null,null,null,null,null,null,null,null,null,null,null,null,null,null,null,null,null,null,null,null,null,null,null,null,null,null,"Numbers indicate knowledge about the certainty of assessment: 0 = N/A, 1 = Potential Source, 2 = Suspected Source, 3 = Known Source."]
[null,null,null,null,null,null,null,null,null,null,null,null,null,null,null,null,null,null,null,null,null,null,null,null,null,null,null,null,null,null,null,null,null,null,null,null,null,null,null,null,null,null,null,null,null,null,null,null,null,null,null,null,null,null,null,null,null,null,null,null,null,null,null,null,null,null,null,null,null,null,null,null,null,null,null,null,null,null,null,null,null,null,null,null,null,null,null,null,null,null,null,null,null,null,null,null,null,null,null,null,null,null,null,null,null,null,null,null,null,null,null,null,null,null,null,null,null,null,null,null,null,null,null,null,null,null,null,null,null,null,null,null,null,null,null,null,null,null,null,null,null,null,null,null,null,null,null,null,null,null,null,null,null,null,null,null,null,null,null,null,null,null,null,null,null,null,null,null,null,null,null,null,null,null,null,null,null,null,null,null,null,null,null,null,null,null,null,null,null,null,null,null,null,null,null,null,null,null,null,null,null,null,null,null,null,null,null,null,null,null,null,null,null,null,null,null,null,null,null,null,null,null,null,null,null,null,null,null,null,null,null,null,null,null,null,null,null,null,null,null,null,null,null,null,null,null,null,null,null,null,null,null,null,null,null,null,null,null,null,null,null,null,null,null,null,null,null,null,null,null,null,null,null,null,null,null,null,null,null,null,null,null,null,null,null,"This list is then processed below to remove duplicates."]
[null,null,null,null,null,null,null,null,null,null,null,null,null,"Designate Point & Non-Point Sources",null,null,null,null,null,null,null,null,null,null,null,null,null,null,null,null,null,null,null,null,null,null,null,null,null,"Designate Point & Non-Point Sources",null,null,null,null,null,null,null,null,null,null,null,null,null,null,null,null,null,null,null,null,null,null,null,null,null,"Designate Point & Non-Point Sources",null,null,null,null,null,null,null,null,null,null,null,null,null,null,null,null,null,null,null,null,null,null,null,null,null,"Designate Point & Non-Point Sources",null,null,null,null,null,null,null,null,null,null,null,null,null,null,null,null,null,null,null,null,null,null,null,null,null,"Designate Point & Non-Point Sources",null,null,null,null,null,null,null,null,null,null,null,null,null,null,null,null,null,null,null,null,null,null,null,null,null,"Designate Point & Non-Point Sources",null,null,null,null,null,null,null,null,null,null,null,null,null,null,null,null,null,null,null,null,null,null,null,null,null,"Designate Point & Non-Point Sources",null,null,null,null,null,null,null,null,null,null,null,null,null,null,null,null,null,null,null,null,null,null,null,null,null,"Designate Point & Non-Point Sources",null,null,null,null,null,null,null,null,null,null,null,null,null,null,null,null,null,null,null,null,null,null,null,null,null,"Designate Point & Non-Point Sources",null,null,null,null,null,null,null,null,null,null,null,null,null,null,null,null,null,null,null,null,null,null,null,null,null,"Designate Point & Non-Point Sources"]
[null,null,null,null,null,null,null,null,null,null,null,null,null,null,null,null,null,null,null,null,null,null,null,"Codes selected at left are distributed according to Source Type. "]
[null,{"$f":"\"River Basin: \"&RiverBasinName","v":"River Basin: Test River Basin"},null,null,null,null,{"$f":"\"Data Year:  \"&AssessmentYear","v":"Data Year:  2011"},null,null,null,null,null,null,null,null,null,null,null,null,null,null,null,null,"Numbers indicate confidence of assessment: 0 = N/A, 1 = Potential Source, 2 = Suspected Source, 3 = Known Source.",null,null,null,null,null,null,null,null,null,null,null,null,null,null,null,null,null,null,null,null,null,null,null,null,null,null,null,null,null,null,null,null,null,null,null,null,null,null,null,null,null,null,null,null,null,null,null,null,null,null,null,null,null,null,null,null,null,null,null,null,null,null,null,null,null,null,null,null,null,null,null,null,null,null,null,null,null,null,null,null,null,null,null,null,null,null,null,null,null,null,null,null,null,null,null,null,null,null,null,null,null,null,null,null,null,null,null,null,null,null,null,null,null,null,null,null,null,null,null,null,null,null,null,null,null,null,null,null,null,null,null,null,null,null,null,null,null,null,null,null,null,null,null,null,null,null,null,null,null,null,null,null,null,null,null,null,null,null,null,null,null,null,null,null,null,null,null,null,null,null,null,null,null,null,null,null,null,null,null,null,null,null,null,null,null,null,null,null,null,null,null,null,null,null,null,null,null,null,null,null,null,null,null,null,null,null,null,null,null,null,null,null,null,null,null,null,null,null,null,null,null,null,null,null,null,null,null,null,null,null,null,null,null,null,null,null,null,null,null,null,null,null,null,null,null,null,null,null,null,null,null,null,null,null,null,null,null,null,null,null,null,null,"Municp",null,null,"Industr",null,null,"St Water",null,null,"Res Ext",null,null,"Land Dis",null,null,"Seds",null,null,"Hydro",null,null,"Other",null,null,"Unknown"]
[null,{"$f":"\"Segment Name: \"&C60","v":"Segment Name: uuuuuu"},null,null,null,null,null,null,null,null,null,null,null,null,null,null,null,null,null,null,null,null,null,"These codes are processed by \"SourceRC_List macro and transferred to Source report card."]
[null,{"$f":"\"Class: \"&C64","v":"Class: "},null,{"$f":"\"Size: \"&C63","v":"Size: "},null,null,{"$f":"\"Seg ID #: \"&C62","v":"Seg ID #: "}]
[null,"CATEGORY","INDICATOR ASSESSMENT",null,"OVERALL STATUS","DATA LEVEL","POINT","NONPOINT",null,null,null,null,null,"Point Sources",null,null,null,null,null,null,null,null,null,"Municipal",null,null,"Industrial",null,null,"Storm Water",null,null,"Resource Ext",null,null,"Land Disposal",null,null,null,"Point Sources",null,null,null,null,null,null,null,null,null,"Municipal",null,null,"Industrial",null,null,"Storm Water",null,null,"Resource Ext",null,null,"Land Disposal",null,null,null,"Point Sources",null,null,null,null,null,null,null,null,null,"Municipal",null,null,"Industrial",null,null,"Storm Water",null,null,"Resource Ext",null,null,"Land Disposal",null,null,null,"Point Sources",null,null,null,null,null,null,null,null,null,"Municipal",null,null,"Industrial",null,null,"Storm Water",null,null,"Resource Ext",null,null,"Land Disposal",null,null,null,"Point Sources",null,null,null,null,null,null,null,null,null,"Municipal",null,null,"Industrial",null,null,"Storm Water",null,null,"Resource Ext",null,null,"Land Disposal",null,null,null,"Point Sources",null,null,null,null,null,null,null,null,null,"Municipal",null,null,"Industrial",null,null,"Storm Water",null,null,"Resource Ext",null,null,"Land Disposal",null,null,null,"Point Sources",null,null,null,null,null,null,null,null,null,"Municipal",null,null,"Industrial",null,null,"Storm Water",null,null,"Resource Ext",null,null,"Land Disposal",null,null,null,"Point Sources",null,null,null,null,null,null,null,null,null,"Municipal",null,null,"Industrial",null,null,"Storm Water",null,null,"Resource Ext",null,null,"Land Disposal",null,null,null,"Point Sources",null,null,null,null,null,null,null,null,null,"Municipal",null,null,"Industrial",null,null,"Storm Water",null,null,"Resource Ext",null,null,"Land Disposal",null,null,null,"Point Sources",null,null,null,null,null,null,null,null,null,"Municipal",null,null,"Industrial",null,null,"Storm Water",null,null,"Resource Ext",null,null,"Land Disposal"]
[null,null,null,null,null,null,"Click below to select Sources"]
[null,"Biology","Plank/Peri.   A","NA","NA","NA",{"$f":"$O$15&\"  \"&$O$16&\"  \"&$O$17&\"  \"&$O$18&\"  \"&$O$19&\"  \"&$O$20","v":"          "},{"$f":"$O$28&\"  \"&$O$29&\"  \"&$O$30&\"  \"&$O$31&\"  \"&$O$32&\"  \"&$O$33","v":"          "}]
[null,null,"Macrophyton   M","NA"]
[null,null,"Invertebrates   I","NA"]
[null,null,"Fish   F","NA"]
[null,null,"Wildlife   W","NA"]
[]
[null,"Chemistry","Dis. Oxygen    DO","NA","NA","NA",{"$f":"$AO$15&\"  \"&$AO$16&\"  \"&$AO$17&\"  \"&$AO$18&\"  \"&$AO$19&\"  \"&$AO$20","v":"          "},{"$f":"$AO$28&\"  \"&$AO$29&\"  \"&$AO$30&\"  \"&$AO$31&\"  \"&$AO$32&\"  \"&$AO$33","v":"          "}]
[null,null,"pH     pH","NA"]
[null,null,"Temperature    T","NA"]
[null,null,"Ionic Strength    Z","NA"]
[null,null,"Sus. Solids    SS","NA"]
[null,null,null,null,null,null,null,null,null,null,null,null,null,"Non Point Sources",null,null,null,null,null,null,null,null,null,"Seds",null,null,"Hydromodification",null,null,"Other",null,null,"Unknown",null,null,null,null,null,null,"Non Point Sources",null,null,null,null,null,null,null,null,null,"Seds",null,null,"Hydromodification",null,null,"Other",null,null,"Unknown",null,null,null,null,null,null,"Non Point Sources",null,null,null,null,null,null,null,null,null,"Seds",null,null,"Hydromodification",null,null,"Other",null,null,"Unknown",null,null,null,null,null,null,"Non Point Sources",null,null,null,null,null,null,null,null,null,"Seds",null,null,"Hydromodification",null,null,"Other",null,null,"Unknown",null,null,null,null,null,null,"Non Point Sources",null,null,null,null,null,null,null,null,null,"Seds",null,null,"Hydromodification",null,null,"Other",null,null,"Unknown",null,null,null,null,null,null,"Non Point Sources",null,null,null,null,null,null,null,null,null,"Seds",null,null,"Hydromodification",null,null,"Other",null,null,"Unknown",null,null,null,null,null,null,"Non Point Sources",null,null,null,null,null,null,null,null,null,"Seds",null,null,"Hydromodification",null,null,"Other",null,null,"Unknown",null,null,null,null,null,null,"Non Point Sources",null,null,null,null,null,null,null,null,null,"Seds",null,null,"Hydromodification",null,null,"Other",null,null,"Unknown",null,null,null,null,null,null,"Non Point Sources",null,null,null,null,null,null,null,null,null,"Seds",null,null,"Hydromodification",null,null,"Other",null,null,"Unknown",null,null,null,null,null,null,"Non Point Sources",null,null,null,null,null,null,null,null,null,"Seds",null,null,"Hydromodification",null,null,"Other",null,null,"Unknown"]
[null,"Nutrients","Phosphorus  P","NA","NA","NA",{"$f":"$BO$15&\"  \"&$BO$16&\"  \"&$BO$17&\"  \"&$BO$18&\"  \"&$BO$19&\"  \"&$BO$20","v":"          "},{"$f":"$BO$28&\"  \"&$BO$29&\"  \"&$BO$30&\"  \"&$BO$31&\"  \"&$BO$32&\"  \"&$BO$33","v":"          "}]
[null,null,"Nitrogen   N","NA"]
[]
[null,"Toxicity","Unknown   U","NA","NA","NA",{"$f":"$CO$15&\"  \"&$CO$16&\"  \"&$CO$17&\"  \"&$CO$18&\"  \"&$CO$19&\"  \"&$CO$20","v":"          "},{"$f":"$CO$28&\"  \"&$CO$29&\"  \"&$CO$30&\"  \"&$CO$31&\"  \"&$CO$32&\"  \"&$CO$33","v":"          "}]
[null,null,{"$f":"\"Spec. Chem.  \"&CN44","v":"Spec. Chem.  Ag"},"NA"]
[null,null,null,null,null,null,null,null,null,null,null,null,null,null,null,null,null,null,null,null,null,null,null,null,null,null,null,null,null,null,null,null,null,null,null,null,null,null,null,null,null,null,null,null,null,null,null,null,null,null,null,null,null,null,null,null,null,null,null,null,null,null,null,null,null,null,null,null,null,null,null,null,null,null,null,null,null,null,null,null,null,null,null,null,null,null,null,null,null,null,null,null,null,null,null,null,null,null,null,null,null,null,null,null,null,null,null,null,null,null,null,null,null,null,null,null,null,null,null,null,null,null,null,null,null,null,null,null,null,null,null,null,null,null,null,null,null,null,null,null,null,null,null,null,null,null,null,null,null,null,null,null,null,null,null,null,null,null,null,null,null,null,null,null,null,null,null,null,null,null,null,null,null,null,null,null,null,null,null,null,null,null,null,null,null,null,null,null,null,null,null,null,null,null,null,null,null,null,null,null,null,null,null,null,null,null,null,null,null,null,null,null,null,null,null,null,null,null,null,null,null,null,null,null,null,null,null,null,null,null,null,null,null,null,null,null,null,null,null,null,null,null,null,null,null,null,null,null,null,null,null,null,null,null,null,null,null,null,null,null,null,null,null,null,null,null,null,null,null,null,null,null,null,null,null,null,null,null,null,null,null,null,null,null,null,"The colored cells below reflect this segments pollution status and are replicated on the Sources report card automatically"]
[null,"Flow","Flow  Q","NA","NA","NA",{"$f":"$DO$15&\"  \"&$DO$16&\"  \"&$DO$17&\"  \"&$DO$18&\"  \"&$DO$19&\"  \"&$DO$20","v":"          "},{"$f":"$DO$28&\"  \"&$DO$29&\"  \"&$DO$30&\"  \"&$DO$31&\"  \"&$DO$32&\"  \"&$DO$33","v":"          "},null,null,null,null,null,null,null,null,null,null,null,null,null,null,null,null,null,null,null,null,null,null,null,null,null,null,null,null,null,null,null,null,null,null,null,null,null,null,null,null,null,null,null,null,null,null,null,null,null,null,null,null,null,null,null,null,null,null,null,null,null,null,null,null,null,null,null,null,null,null,null,null,null,null,null,null,null,null,null,null,null,null,null,null,null,null,null,null,null,null,null,null,null,null,null,null,null,null,null,null,null,null,null,null,null,null,null,null,null,null,null,null,null,null,null,null,null,null,null,null,null,null,null,null,null,null,null,null,null,null,null,null,null,null,null,null,null,null,null,null,null,null,null,null,null,null,null,null,null,null,null,null,null,null,null,null,null,null,null,null,null,null,null,null,null,null,null,null,null,null,null,null,null,null,null,null,null,null,null,null,null,null,null,null,null,null,null,null,null,null,null,null,null,null,null,null,null,null,null,null,null,null,null,null,null,null,null,null,null,null,null,null,null,null,null,null,null,null,null,null,null,null,null,null,null,null,null,null,null,null,null,null,null,null,null,null,null,null,null,null,null,null,null,null,null,null,null,null,null,null,null,null,null,null,null,null,null,null,null,null,null,null,null,null,null,null,null,null,null,null,null,null,null,null,null,null,null,null,{"$f":"KA11","v":"Municp"},null,null,{"$f":"KD11","v":"Industr"},null,null,{"$f":"KG11","v":"St Water"},null,null,{"$f":"KJ11","v":"Res Ext"},null,null,{"$f":"KM11","v":"Land Dis"},null,null,{"$f":"KP11","v":"Seds"},null,null,{"$f":"KS11","v":"Hydro"},null,null,{"$f":"KV11","v":"Other"},null,null,{"$f":"KY11","v":"Unknown"}]
[null,null,null,null,null,null,null,null,null,null,null,null,null,"* designates a Suspected Source",null,null,null,null,null,null,null,null,null,null,null,null,null,null,null,null,null,null,null,null,null,null,null,null,null,"* designates a Suspected Source",null,null,null,null,null,null,null,null,null,null,null,null,null,null,null,null,null,null,null,null,null,null,null,null,null,"* designates a Suspected Source",null,null,null,null,null,null,null,null,null,null,null,null,null,null,null,null,null,null,null,null,null,null,null,null,null,"* designates a Suspected Source",null,null,null,null,null,null,null,null,null,null,null,null,null,null,null,null,null,null,null,null,null,null,null,null,null,"* designates a Suspected Source",null,null,null,null,null,null,null,null,null,null,null,null,null,null,null,null,null,null,null,null,null,null,null,null,null,"* designates a Suspected Source",null,null,null,null,null,null,null,null,null,null,null,null,null,null,null,null,null,null,null,null,null,null,null,null,null,"* designates a Suspected Source",null,null,null,null,null,null,null,null,null,null,null,null,null,null,null,null,null,null,null,null,null,null,null,null,null,"* designates a Suspected Source",null,null,null,null,null,null,null,null,null,null,null,null,null,null,null,null,null,null,null,null,null,null,null,null,null,"* designates a Suspected Source",null,null,null,null,null,null,null,null,null,null,null,null,null,null,null,null,null,null,null,null,null,null,null,null,null,null,null,null,null,null,null,null,null,null,null,null,null,null,null,null,null,null,null,null,null,null,null,null,null,null,null,null,null,null,null,null,null,null,null,null,null,null,null,null,{"$f":"TRIM(KA41&\" \"&KA42&\" \"&KA43&\" \"&KA44&\" \"&KA45&\" \"&KA46)","v":""},null,null,{"$f":"TRIM(KD41&\" \"&KD42&\" \"&KD43&\" \"&KD44&\" \"&KD45&\" \"&KD46)","v":""},null,null,{"$f":"TRIM(KG41&\" \"&KG42&\" \"&KG43&\" \"&KG44&\" \"&KG45&\" \"&KG46)","v":""},null,null,{"$f":"TRIM(KJ41&\" \"&KJ42&\" \"&KJ43&\" \"&KJ44&\" \"&KJ45&\" \"&KJ46)","v":""},null,null,{"$f":"TRIM(KM41&\" \"&KM42&\" \"&KM43&\" \"&KM44&\" \"&KM45&\" \"&KM46)","v":""},null,null,{"$f":"TRIM(KP41&\" \"&KP42&\" \"&KP43&\" \"&KP44&\" \"&KP45&\" \"&KP46)","v":""},null,null,{"$f":"TRIM(KS41&\" \"&KS42&\" \"&KS43&\" \"&KS44&\" \"&KS45&\" \"&KS46)","v":""},null,null,{"$f":"TRIM(KV41&\" \"&KV42&\" \"&KV43&\" \"&KV44&\" \"&KV45&\" \"&KV46)","v":""},null,null,{"$f":"TRIM(KY41&\" \"&KY42&\" \"&KY43&\" \"&KY44&\" \"&KY45&\" \"&KY46)","v":""}]
[null,"Habitat","Substrate   S","NA","NA","NA",{"$f":"$EO$15&\"  \"&$EO$16&\"  \"&$EO$17&\"  \"&$EO$18&\"  \"&$EO$19&\"  \"&$EO$20","v":"          "},{"$f":"$EO$28&\"  \"&$EO$29&\"  \"&$EO$30&\"  \"&$EO$31&\"  \"&$EO$32&\"  \"&$EO$33","v":"          "},null,null,null,null,null,"** designates a Potential Source",null,null,null,null,null,null,null,null,null,null,null,null,null,null,null,null,null,null,null,null,null,null,null,null,null,"** designates a Potential Source",null,null,null,null,null,null,null,null,null,null,null,null,null,null,null,null,null,null,null,null,null,null,null,null,null,"** designates a Potential Source",null,null,null,null,null,null,null,null,null,null,null,null,null,null,null,null,null,null,null,null,null,null,null,null,null,"** designates a Potential Source",null,null,null,null,null,null,null,null,null,null,null,null,null,null,null,null,null,null,null,null,null,null,null,null,null,"** designates a Potential Source",null,null,null,null,null,null,null,null,null,null,null,null,null,null,null,null,null,null,null,null,null,null,null,null,null,"** designates a Potential Source",null,null,null,null,null,null,null,null,null,null,null,null,null,null,null,null,null,null,null,null,null,null,null,null,null,"** designates a Potential Source",null,null,null,null,null,null,null,null,null,null,null,null,null,null,null,null,null,null,null,null,null,null,null,null,null,"** designates a Potential Source",null,null,null,null,null,null,null,null,null,null,null,null,null,null,null,null,null,null,null,null,null,null,null,null,null,"** designates a Potential Source"]
[null,null,"Morphology   H","NA",null,null,null,null,null,null,null,null,null,"No asterisk designates a Known Source",null,null,null,null,null,null,null,null,null,null,null,null,null,null,null,null,null,null,null,null,null,null,null,null,null,"No asterisk designates a Known Source",null,null,null,null,null,null,null,null,null,null,null,null,null,null,null,null,null,null,null,null,null,null,null,null,null,"No asterisk designates a Known Source",null,null,null,null,null,null,null,null,null,null,null,null,null,null,null,null,null,null,null,null,null,null,null,null,null,"No asterisk designates a Known Source",null,null,null,null,null,null,null,null,null,null,null,null,null,null,null,null,null,null,null,null,null,null,null,null,null,"No asterisk designates a Known Source",null,null,null,null,null,null,null,null,null,null,null,null,null,null,null,null,null,null,null,null,null,null,null,null,null,"No asterisk designates a Known Source",null,null,null,null,null,null,null,null,null,null,null,null,null,null,null,null,null,null,null,null,null,null,null,null,null,"No asterisk designates a Known Source",null,null,null,null,null,null,null,null,null,null,null,null,null,null,null,null,null,null,null,null,null,null,null,null,null,"No asterisk designates a Known Source",null,null,null,null,null,null,null,null,null,null,null,null,null,null,null,null,null,null,null,null,null,null,null,null,null,"No asterisk designates a Known Source",null,null,null,null,null,null,null,null,null,null,null,null,null,null,null,null,null,null,null,null,null,null,null,null,null,null,null,null,null,null,null,null,null,null,null,null,null,null,null,null,null,null,null,null,null,null,null,null,null,null,null,null,null,null,null,null,null,null,null,null,null,null,null,"max confid #",{"$f":"MAX(KB11:KB31)","v":0},null,null,{"$f":"MAX(KE11:KE31)","v":0},null,null,{"$f":"MAX(KH11:KH31)","v":0},null,null,{"$f":"MAX(KK11:KK31)","v":0},null,null,{"$f":"MAX(KN11:KN31)","v":0},null,null,{"$f":"MAX(KQ11:KQ31)","v":0},null,null,{"$f":"MAX(KT11:KT31)","v":0},null,null,{"$f":"MAX(KW11:KW31)","v":0},null,null,{"$f":"MAX(KZ11:KZ31)","v":0}]
[null,null,"Riparian Zone   R","NA",null,null,null,null,null,null,null,null,null,"Square brackets designates an Out of Segment Source (i.e., pollutant is a source for downstream segments)",null,null,null,null,null,null,null,null,null,null,null,null,null,null,null,null,null,null,null,null,null,null,null,null,null,"Square brackets designates an Out of Segment Source (i.e., pollutant is a source for downstream segments)",null,null,null,null,null,null,null,null,null,null,null,null,null,null,null,null,null,null,null,null,null,null,null,null,null,"Square brackets designates an Out of Segment Source (i.e., pollutant is a source for downstream segments)",null,null,null,null,null,null,null,null,null,null,null,null,null,null,null,null,null,null,null,null,null,null,null,null,null,"Square brackets designates an Out of Segment Source (i.e., pollutant is a source for downstream segments)",null,null,null,null,null,null,null,null,null,null,null,null,null,null,null,null,null,null,null,null,null,null,null,null,null,"Square brackets designates an Out of Segment Source (i.e., pollutant is a source for downstream segments)",null,null,null,null,null,null,null,null,null,null,null,null,null,null,null,null,null,null,null,null,null,null,null,null,null,"Square brackets designates an Out of Segment Source (i.e., pollutant is a source for downstream segments)",null,null,null,null,null,null,null,null,null,null,null,null,null,null,null,null,null,null,null,null,null,null,null,null,null,"Square brackets designates an Out of Segment Source (i.e., pollutant is a source for downstream segments)",null,null,null,null,null,null,null,null,null,null,null,null,null,null,null,null,null,null,null,null,null,null,null,null,null,"Square brackets designates an Out of Segment Source (i.e., pollutant is a source for downstream segments)",null,null,null,null,null,null,null,null,null,null,null,null,null,null,null,null,null,null,null,null,null,null,null,null,null,"Square brackets designates an Out of Segment Source (i.e., pollutant is a source for downstream segments)",null,null,null,null,null,null,null,null,null,null,null,null,null,null,null,null,null,null,null,null,null,null,null,null,null,null,null,null,null,null,null,null,null,null,null,null,null,null,null,null,null,null,null,null,null,null,null,null,null,null,null,null,null,null,null,null,null,null,null,null,null,null,null,"The lists below show unique codes in lists assembled above. Numbers are max confidence #, used to color cells for worst case. The codes are catenated in the colored boxes above for transfer to Sources RC when that sheet is activated."]
[]
[null,"Bacteria","Bacteria   B","NA","NA","NA",{"$f":"$FO$15&\"  \"&$FO$16&\"  \"&$FO$17&\"  \"&$FO$18&\"  \"&$FO$19&\"  \"&$FO$20","v":"          "},{"$f":"$FO$28&\"  \"&$FO$29&\"  \"&$FO$30&\"  \"&$FO$31&\"  \"&$FO$32&\"  \"&$FO$33","v":"          "},null,null,null,null,null,null,null,null,null,null,null,null,null,null,null,null,null,null,null,null,null,null,null,null,null,null,null,null,null,null,null,null,null,null,null,null,null,null,null,null,null,null,null,null,null,null,null,null,null,null,null,null,null,null,null,null,null,null,null,null,null,null,null,null,null,null,null,null,null,null,null,null,null,null,null,null,null,null,null,null,null,null,null,null,null,null,null,null,null,null,null,null,null,null,null,null,null,null,null,null,null,null,null,null,null,null,null,null,null,null,null,null,null,null,null,null,null,null,null,null,null,null,null,null,null,null,null,null,null,null,null,null,null,null,null,null,null,null,null,null,null,null,null,null,null,null,null,null,null,null,null,null,null,null,null,null,null,null,null,null,null,null,null,null,null,null,null,null,null,null,null,null,null,null,null,null,null,null,null,null,null,null,null,null,null,null,null,null,null,null,null,null,null,null,null,null,null,null,null,null,null,null,null,null,null,null,null,null,null,null,null,null,null,null,null,null,null,null,null,null,null,null,null,null,null,null,null,null,null,null,null,null,null,null,null,null,null,null,null,null,null,null,null,null,null,null,null,null,null,null,null,null,null,null,null,null,null,null,null,null,null,null,null,null,null,null,null,null,null,null,null,null,null,null,null,null,null,null,"Municp",null,null,"Industr",null,null,"St Water",null,null,"Res Ext",null,null,"Land Dis",null,null,"Seds",null,null,"Hydro",null,null,"Other",null,null,"Unknown"]
[]
[null,"Aesthetics","Oil & Grease   G","NA","NA","NA",{"$f":"$GO$15&\"  \"&$GO$16&\"  \"&$GO$17&\"  \"&$GO$18&\"  \"&$GO$19&\"  \"&$GO$20","v":"          "},{"$f":"$GO$28&\"  \"&$GO$29&\"  \"&$GO$30&\"  \"&$GO$31&\"  \"&$GO$32&\"  \"&$GO$33","v":"          "},null,null,null,null,null,null,null,null,null,null,null,null,null,null,null,null,null,null,null,null,null,null,null,null,null,null,null,null,null,null,null,null,null,null,null,null,null,null,null,null,null,null,null,null,null,null,null,null,null,null,null,null,null,null,null,null,null,null,null,null,null,null,null,null,null,null,null,null,null,null,null,null,null,null,null,null,null,null,null,null,null,null,null,"Identify the suspected toxic chemical substance below (e.g., Hg, PCB, etc). ",null,null,null,null,null,null,null,null,null,null,null,null,null,null,null,null,null,null,null,null,null,null,null,null,null,null,null,null,null,null,null,null,null,null,null,null,null,null,null,null,null,null,null,null,null,null,null,null,null,null,null,null,null,null,null,null,null,null,null,null,null,null,null,null,null,null,null,null,null,null,null,null,null,null,null,null,null,null,null,null,null,null,null,null,null,null,null,null,null,null,null,null,null,null,null,null,null,null,null,null,null,null,null,null,null,null,null,null,null,null,null,null,null,null,null,null,null,null,null,null,null,null,null,null,null,null,null,null,null,null,null,null,null,null,null,null,null,null,null,null,null,null,null,null,null,null,null,null,null,null,null,null,null,null,null,"Identify the suspected toxic chemical substance below (e.g., Hg, PCB, etc). "]
[null,null,"Taste & Odor   O","NA",null,null,null,null,null,null,null,null,null,null,"Pollution  Indicators (Causes):  ",null,{"$f":"P46&\" \"&P47&\" \"&P48&\" \"&P49&\" \"&P50&\" \"&P51","v":"     "},null,null,null,null,null,null,null,null,null,null,null,null,null,null,null,null,null,null,null,null,null,null,null,"Pollution  Indicators (Causes):  ",null,{"$f":"AP46&\" \"&AP47&\" \"&AP48&\" \"&AP49&\" \"&AP50&\" \"&AP51","v":"     "},null,null,null,null,null,null,null,null,null,null,null,null,null,null,null,null,null,null,null,null,null,null,null,"Pollution  Indicators (Causes):  ",null,{"$f":"BP46&\" \"&BP47&\" \"&BP48","v":"  "},null,null,null,null,null,null,null,null,null,null,null,null,null,null,null,null,null,null,null,null,null,null,null,null,null,null,null,null,null,null,null,null,null,null,null,null,null,null,null,null,null,null,null,null,null,null,null,null,null,"Pollution  Indicators (Causes):  ",null,{"$f":"DP46&\" \"&DP47","v":" "},null,null,null,null,null,null,null,null,null,null,null,null,null,null,null,null,null,null,null,null,null,null,null,"Pollution  Indicators (Causes):  ",null,{"$f":"EP46&\" \"&EP47&\" \"&EP48&\" \"&EP49","v":"   "},null,null,null,null,null,null,null,null,null,null,null,null,null,null,null,null,null,null,null,null,null,null,null,"Pollution  Indicators (Causes):  ",null,{"$f":"FP46&\" \"&FP47","v":" "},null,null,null,null,null,null,null,null,null,null,null,null,null,null,null,null,null,null,null,null,null,null,null,"Pollution  Indicators (Causes):  ",null,{"$f":"GP46&\" \"&GP47&\" \"&GP48&\" \"&GP49&\" \"&GP50&\" \"&GP51","v":"     "},null,null,null,null,null,null,null,null,null,null,null,null,null,null,null,null,null,null,null,null,null,null,"Identify the suspected toxic chemical substance below (e.g., Hg, PCB, etc). "]
[null,null,"Turb/Color   C","NA",null,null,null,null,null,null,null,null,null,null,null,null,null,null,null,null,null,null,null,null,null,null,null,null,null,null,null,null,null,null,null,null,null,null,null,null,null,null,null,null,null,null,null,null,null,null,null,null,null,null,null,null,null,null,null,null,null,null,null,null,null,null,null,null,null,null,null,null,null,null,null,null,null,null,null,null,null,null,null,null,null,null,null,null,null,null,null,"Ag",null,null,null,null,null,null,null,null,null,null,null,null,null,null,null,null,null,null,null,null,null,null,null,null,null,null,null,null,null,null,null,null,null,null,null,null,null,null,null,null,null,null,null,null,null,null,null,null,null,null,null,null,null,null,null,null,null,null,null,null,null,null,null,null,null,null,null,null,null,null,null,null,null,null,null,null,null,null,null,null,null,null,null,null,null,null,null,null,null,null,null,null,null,null,null,null,null,null,null,null,null,null,null,null,null,null,null,null,null,null,null,null,null,null,null,null,null,null,null,null,null,null,null,null,null,null,null,null,null,null,null,null,null,null,null,null,null,null,null,null,null,null,null,null,null,null,null,null,null,null,null,null,null,null,null,"DDT"]
[null,null,"Nuisance Plants   V","NA",null,null,null,null,null,null,null,null,null,null,{"$f":"$B$16","v":"Biology"},null,null,null,null,null,null,null,null,null,null,null,null,null,null,null,null,null,null,null,null,null,null,null,null,null,{"$f":"$B$22","v":"Chemistry"},null,null,null,null,null,null,null,null,null,null,null,null,null,null,null,null,null,null,null,null,null,null,null,null,null,{"$f":"$B$28","v":"Nutrients"},null,null,null,null,null,null,null,null,null,null,null,null,null,null,null,null,null,null,null,null,null,null,null,null,null,null,null,null,null,null,null,null,null,null,null,null,null,null,null,null,null,null,null,null,null,null,null,null,null,null,null,{"$f":"$B$34","v":"Flow"},null,null,null,null,null,null,null,null,null,null,null,null,null,null,null,null,null,null,null,null,null,null,null,null,null,{"$f":"$B$36","v":"Habitat"},null,null,null,null,null,null,null,null,null,null,null,null,null,null,null,null,null,null,null,null,null,null,null,null,null,{"$f":"$B$40","v":"Bacteria"},null,null,null,null,null,null,null,null,null,null,null,null,null,null,null,null,null,null,null,null,null,null,null,null,null,{"$f":"$B$42","v":"Aesthetics"},null,null,null,null,null,null,null,null,null,null,null,null,null,null,null,null,null,null,null,null,null,null,null,null,"PCB"]
[null,null,"Trash /Debris   D","NA",null,null,null,null,null,null,null,null,null,null,{"$f":"$C$16","v":"Plank/Peri.   A"},{"$f":"IF($D$16=\"Concern\",\"(A)\",IF(OR($D$16=\"Fair\",$D$16=\"Poor\"),\"A\",\"\"))","v":""},null,null,null,null,null,null,null,null,null,null,null,null,null,null,null,null,null,null,null,null,null,null,null,null,{"$f":"$C$22","v":"Dis. Oxygen    DO"},{"$f":"IF($D$22=\"Concern\",\"(DO)\",IF(OR($D$22=\"Fair\",$D$22=\"Poor\"),\"DO\",\"\"))","v":""},null,null,null,null,null,null,null,null,null,null,null,null,null,null,null,null,null,null,null,null,null,null,null,null,{"$f":"$C$28","v":"Phosphorus  P"},{"$f":"IF($D$28=\"Concern\",\"(P)\",IF(OR($D$28=\"Fair\",$D$28=\"Poor\"),\"P\",\"\"))","v":""},null,null,null,null,null,null,null,null,null,null,null,null,null,null,null,null,null,null,null,null,null,null,null,null,null,null,null,null,null,null,null,null,null,null,null,null,null,null,null,null,null,null,null,null,null,null,null,null,null,null,{"$f":"$C$34","v":"Flow  Q"},{"$f":"IF($D$34=\"Concern\",\"(O)\",IF(OR($D$34=\"Fair\",$D$34=\"Poor\"),\"O\",\"\"))","v":""},null,null,null,null,null,null,null,null,null,null,null,null,null,null,null,null,null,null,null,null,null,null,null,null,{"$f":"$C$36","v":"Substrate   S"},{"$f":"IF($D$36=\"Concern\",\"(S)\",IF(OR($D$36=\"Fair\",$D$36=\"Poor\"),\"S\",\"\"))","v":""},null,null,null,null,null,null,null,null,null,null,null,null,null,null,null,null,null,null,null,null,null,null,null,null,{"$f":"$C$40","v":"Bacteria   B"},{"$f":"IF($D$40=\"Concern\",\"(B)\",IF(OR($D$40=\"Fair\",$D$40=\"Poor\"),\"B\",\"\"))","v":""},null,null,null,null,null,null,null,null,null,null,null,null,null,null,null,null,null,null,null,null,null,null,null,null,{"$f":"$C$42","v":"Oil & Grease   G"},{"$f":"IF($D$42=\"Concern\",\"(G)\",IF(OR($D$42=\"Fair\",$D$42=\"Poor\"),\"G\",\"\"))","v":""}]
[null,null,null,null,null,null,null,null,null,null,null,null,null,null,{"$f":"$C$17","v":"Macrophyton   M"},{"$f":"IF($D$17=\"Concern\",\"(M)\",IF(OR($D$17=\"Fair\",$D$17=\"Poor\"),\"M\",\"\"))","v":""},null,null,null,null,null,null,null,null,null,null,null,null,null,null,null,null,null,null,null,null,null,null,null,null,{"$f":"$C$23","v":"pH     pH"},{"$f":"IF($D$23=\"Concern\",\"(pH)\",IF(OR($D$23=\"Fair\",$D$23=\"Poor\"),\"pH\",\"\"))","v":""},null,null,null,null,null,null,null,null,null,null,null,null,null,null,null,null,null,null,null,null,null,null,null,null,{"$f":"$C$29","v":"Nitrogen   N"},{"$f":"IF($D$29=\"Concern\",\"(N)\",IF(OR($D$29=\"Fair\",$D$29=\"Poor\"),\"N\",\"\"))","v":""},null,null,null,null,null,null,null,null,null,null,null,null,null,null,null,null,null,null,null,null,null,null,null,null,null,null,null,null,null,null,null,null,null,null,null,null,null,null,null,null,null,null,null,null,null,null,null,null,null,null,{"$f":"IF($C$41=\"\",\"\",$C$41)","v":""},{"$f":"IF($D$35=\"Concern\",\"(**)\",IF(OR($D$35=\"Fair\",$D$35=\"Poor\"),\"**\",\"\"))","v":""},null,null,null,null,null,null,null,null,null,null,null,null,null,null,null,null,null,null,null,null,null,null,null,null,{"$f":"$C$37","v":"Morphology   H"},{"$f":"IF($D$37=\"Concern\",\"(H)\",IF(OR($D$37=\"Fair\",$D$37=\"Poor\"),\"H\",\"\"))","v":""},null,null,null,null,null,null,null,null,null,null,null,null,null,null,null,null,null,null,null,null,null,null,null,null,{"$f":"IF($C$41=\"\",\"\",$C$41)","v":""},{"$f":"IF($D$41=\"Concern\",\"(**)\",IF(OR($D$41=\"Fair\",$D$41=\"Poor\"),\"**\",\"\"))","v":""},null,null,null,null,null,null,null,null,null,null,null,null,null,null,null,null,null,null,null,null,null,null,null,null,{"$f":"$C$43","v":"Taste & Odor   O"},{"$f":"IF($D$43=\"Concern\",\"(O)\",IF(OR($D$43=\"Fair\",$D$43=\"Poor\"),\"O\",\"\"))","v":""}]
[null,"Tissue",{"$f":"\"Spec. Chem.   \"&HN45","v":"Spec. Chem.   PCB"},"NA","NA","NA",{"$f":"$HO$15&\"  \"&$HO$16&\"  \"&$HO$17&\"  \"&$HO$18&\"  \"&$HO$19&\"  \"&$HO$20","v":"          "},{"$f":"$HO$28&\"  \"&$HO$29&\"  \"&$HO$30&\"  \"&$HO$31&\"  \"&$HO$32&\"  \"&$HO$33","v":"          "},null,null,null,null,null,null,{"$f":"$C$18","v":"Invertebrates   I"},{"$f":"IF($D$18=\"Concern\",\"(I)\",IF(OR($D$18=\"Fair\",$D$18=\"Poor\"),\"I\",\"\"))","v":""},null,null,null,null,null,null,null,null,null,null,null,null,null,null,null,null,null,null,null,null,null,null,null,null,{"$f":"$C$24","v":"Temperature    T"},{"$f":"IF($D$24=\"Concern\",\"(T)\",IF(OR($D$24=\"Fair\",$D$24=\"Poor\"),\"T\",\"\"))","v":""},null,null,null,null,null,null,null,null,null,null,null,null,null,null,null,null,null,null,null,null,null,null,null,null,{"$f":"IF($C$30=\"\",\"\",$C$30)","v":""},{"$f":"IF($D$30=\"Concern\",\"(**)\",IF(OR($D$30=\"Fair\",$D$30=\"Poor\"),\"**\",\"\"))","v":""},null,null,null,null,null,null,null,null,null,null,null,null,null,null,null,null,null,null,null,null,null,null,null,null,null,null,null,null,null,null,null,null,null,null,null,null,null,null,null,null,null,null,null,null,null,null,null,null,null,null,null,null,null,null,null,null,null,null,null,null,null,null,null,null,null,null,null,null,null,null,null,null,null,null,null,null,{"$f":"$C$38","v":"Riparian Zone   R"},{"$f":"IF($D$38=\"Concern\",\"(R)\",IF(OR($D$38=\"Fair\",$D$38=\"Poor\"),\"R\",\"\"))","v":""},null,null,null,null,null,null,null,null,null,null,null,null,null,null,null,null,null,null,null,null,null,null,null,null,null,null,null,null,null,null,null,null,null,null,null,null,null,null,null,null,null,null,null,null,null,null,null,null,null,null,{"$f":"$C$44","v":"Turb/Color   C"},{"$f":"IF($D$44=\"Concern\",\"(C)\",IF(OR($D$44=\"Fair\",$D$44=\"Poor\"),\"C\",\"\"))","v":""}]
[null,null,null,null,null,null,null,null,null,null,null,null,null,null,{"$f":"$C$19","v":"Fish   F"},{"$f":"IF($D$19=\"Concern\",\"(F)\",IF(OR($D$19=\"Fair\",$D$19=\"Poor\"),\"F\",\"\"))","v":""},null,null,null,null,null,null,null,null,null,null,null,null,null,null,null,null,null,null,null,null,null,null,null,null,{"$f":"$C$25","v":"Ionic Strength    Z"},{"$f":"IF($D$25=\"Concern\",\"(Z)\",IF(OR($D$25=\"Fair\",$D$25=\"Poor\"),\"Z\",\"\"))","v":""},null,null,null,null,null,null,null,null,null,null,null,null,null,null,null,null,null,null,null,null,null,null,null,null,null,null,null,null,null,null,null,null,null,null,null,null,null,null,null,null,null,null,null,null,null,null,null,null,null,null,"Pollution  Indicators (Causes):  ",null,{"$f":"CP52&\" \"&CP53&\" \"&CP54","v":"  "},null,null,null,null,null,null,null,null,null,null,null,null,null,null,null,null,null,null,null,null,null,null,null,null,null,null,null,null,null,null,null,null,null,null,null,null,null,null,null,null,null,null,null,null,null,null,null,null,null,{"$f":"IF($C$39=\"\",\"\",$C$39)","v":""},{"$f":"IF($D$39=\"Concern\",\"(**)\",IF(OR($D$39=\"Fair\",$D$39=\"Poor\"),\"**\",\"\"))","v":""},null,null,null,null,null,null,null,null,null,null,null,null,null,null,null,null,null,null,null,null,null,null,null,null,null,null,null,null,null,null,null,null,null,null,null,null,null,null,null,null,null,null,null,null,null,null,null,null,null,null,{"$f":"$C$45","v":"Nuisance Plants   V"},{"$f":"IF($D$45=\"Concern\",\"(V)\",IF(OR($D$45=\"Fair\",$D$45=\"Poor\"),\"V\",\"\"))","v":""},null,null,null,null,null,null,null,null,null,null,null,null,null,null,null,null,null,null,null,null,null,null,null,null,null,null,null,null,null,null,null,null,null,null,null,null,null,null,null,null,null,null,null,null,null,null,null,null,null,null,"Pollution  Indicators (Causes):  ",null,{"$f":"IP52&\" \"&IP53&\" \"&IP54","v":"  "}]
[null,"Sediment","Unknown   U","NA","NA","NA",{"$f":"$IO$15&\"  \"&$IO$16&\"  \"&$IO$17&\"  \"&$IO$18&\"  \"&$IO$19&\"  \"&$IO$20","v":"          "},{"$f":"$IO$28&\"  \"&$IO$29&\"  \"&$IO$30&\"  \"&$IO$31&\"  \"&$IO$32&\"  \"&$IO$33","v":"          "},null,null,null,null,null,null,{"$f":"$C$20","v":"Wildlife   W"},{"$f":"IF($D$20=\"Concern\",\"(W)\",IF(OR($D$20=\"Fair\",$D$20=\"Poor\"),\"W\",\"\"))","v":""},null,null,null,null,null,null,null,null,null,null,null,null,null,null,null,null,null,null,null,null,null,null,null,null,{"$f":"$C$26","v":"Sus. Solids    SS"},{"$f":"IF($D$26=\"Concern\",\"(SS)\",IF(OR($D$26=\"Fair\",$D$26=\"Poor\"),\"SS\",\"\"))","v":""},null,null,null,null,null,null,null,null,null,null,null,null,null,null,null,null,null,null,null,null,null,null,null,null,null,null,null,null,null,null,null,null,null,null,null,null,null,null,null,null,null,null,null,null,null,null,null,null,null,null,null,null,null,null,null,null,null,null,null,null,null,null,null,null,null,null,null,null,null,null,null,null,null,null,null,null,null,null,null,null,null,null,null,null,null,null,null,null,null,null,null,null,null,null,null,null,null,null,null,null,null,null,null,null,null,null,null,null,null,null,null,null,null,null,null,null,null,null,null,null,null,null,null,null,null,null,null,null,null,null,null,null,null,null,null,null,null,null,null,null,null,null,null,null,null,null,null,null,null,null,null,null,null,null,{"$f":"$C$46","v":"Trash /Debris   D"},{"$f":"IF($D$46=\"Concern\",\"(D)\",IF(OR($D$46=\"Fair\",$D$46=\"Poor\"),\"D\",\"\"))","v":""},null,null,null,null,null,null,null,null,null,null,null,null,null,null,null,null,null,null,null,null,null,null,null,null,"Pollution  Indicators (Causes):  ",null,{"$f":"HP53&\" \"&HP54","v":" "}]
[null,null,{"$f":"\"Spec. Chem.   \"&IN44","v":"Spec. Chem.   DDT"},"NA",null,null,null,null,null,null,null,null,null,null,{"$f":"IF($C$21=\"\",\"\",$C$21)","v":""},{"$f":"IF($D$21=\"Concern\",\"(**)\",IF(OR($D$21=\"Fair\",$D$21=\"Poor\"),\"**\",\"\"))","v":""},null,null,null,null,null,null,null,null,null,null,null,null,null,null,null,null,null,null,null,null,null,null,null,null,{"$f":"IF($C$27=\"\",\"\",$C$27)","v":""},{"$f":"IF($D$27=\"Concern\",\"(**)\",IF(OR($D$27=\"Fair\",$D$27=\"Poor\"),\"**\",\"\"))","v":""},null,null,null,null,null,null,null,null,null,null,null,null,null,null,null,null,null,null,null,null,null,null,null,null,null,null,null,null,null,null,null,null,null,null,null,null,null,null,null,null,null,null,null,null,null,null,null,null,null,null,{"$f":"$B$31","v":"Toxicity"},null,null,null,null,null,null,null,null,null,null,null,null,null,null,null,null,null,null,null,null,null,null,null,null,null,null,null,null,null,null,null,null,null,null,null,null,null,null,null,null,null,null,null,null,null,null,null,null,null,null,null,null,null,null,null,null,null,null,null,null,null,null,null,null,null,null,null,null,null,null,null,null,null,null,null,null,null,null,null,null,null,null,null,null,null,null,null,null,null,null,null,null,null,null,null,null,null,null,null,null,null,null,null,{"$f":"IF($C$47=\"\",\"\",$C$47)","v":""},{"$f":"IF($D$47=\"Concern\",\"(**)\",IF(OR($D$47=\"Fair\",$D$47=\"Poor\"),\"**\",\"\"))","v":""},null,null,null,null,null,null,null,null,null,null,null,null,null,null,null,null,null,null,null,null,null,null,null,null,null,null,null,null,null,null,null,null,null,null,null,null,null,null,null,null,null,null,null,null,null,null,null,null,null,null,{"$f":"$B$50","v":"Sediment"}]
[null,null,null,null,null,null,null,null,null,null,null,null,null,null,null,null,null,null,null,null,null,null,null,null,null,null,null,null,null,null,null,null,null,null,null,null,null,null,null,null,null,null,null,null,null,null,null,null,null,null,null,null,null,null,null,null,null,null,null,null,null,null,null,null,null,null,null,null,null,null,null,null,null,null,null,null,null,null,null,null,null,null,null,null,null,null,null,null,null,null,null,null,{"$f":"$C$31","v":"Unknown   U"},{"$f":"IF($D$31=\"Concern\",\"(U)\",IF(OR($D$31=\"Fair\",$D$31=\"Poor\"),\"U\",\"\"))","v":""},null,null,null,null,null,null,null,null,null,null,null,null,null,null,null,null,null,null,null,null,null,null,null,null,null,null,null,null,null,null,null,null,null,null,null,null,null,null,null,null,null,null,null,null,null,null,null,null,null,null,null,null,null,null,null,null,null,null,null,null,null,null,null,null,null,null,null,null,null,null,null,null,null,null,null,null,null,null,null,null,null,null,null,null,null,null,null,null,null,null,null,null,null,null,null,null,null,null,null,null,null,null,null,null,null,null,null,null,null,null,null,null,null,null,null,null,null,null,null,null,null,null,null,null,null,null,null,null,{"$f":"$B$48","v":"Tissue"},null,null,null,null,null,null,null,null,null,null,null,null,null,null,null,null,null,null,null,null,null,null,null,null,null,{"$f":"$C$50","v":"Unknown   U"},{"$f":"IF($D$50=\"Concern\",\"(U)\",IF(OR($D$50=\"Fair\",$D$50=\"Poor\"),\"U\",\"\"))","v":""}]
[null,"Comments:",null,null,null,null,null,"*  Suspected Source  ",null,null,null,null,null,null,null,null,null,null,null,null,null,null,null,null,null,null,null,null,null,null,null,null,null,null,null,null,null,null,null,null,null,null,null,null,null,null,null,null,null,null,null,null,null,null,null,null,null,null,null,null,null,null,null,null,null,null,null,null,null,null,null,null,null,null,null,null,null,null,null,null,null,null,null,null,null,null,null,null,null,null,null,null,{"$f":"$C$32","v":"Spec. Chem.  Ag"},{"$f":"IF($D$32=\"Concern\",\"(\"&CN44&\")\",IF(OR($D$32=\"Fair\",$D$32=\"Poor\"),CN44,\"\"))","v":""},null,null,null,null,null,null,null,null,null,null,null,null,null,null,null,null,null,null,null,null,null,null,null,null,null,null,null,null,null,null,null,null,null,null,null,null,null,null,null,null,null,null,null,null,null,null,null,null,null,null,null,null,null,null,null,null,null,null,null,null,null,null,null,null,null,null,null,null,null,null,null,null,null,null,null,null,null,null,null,null,null,null,null,null,null,null,null,null,null,null,null,null,null,null,null,null,null,null,null,null,null,null,null,null,null,null,null,null,null,null,null,null,null,null,null,null,null,null,null,null,null,null,null,null,null,null,null,null,{"$f":"$C$48","v":"Spec. Chem.   PCB"},{"$f":"IF($D$48=\"Concern\",\"(\"&HN45&\")\",IF(OR($D$48=\"Fair\",$D$32=\"Poor\"),HN45,\"\"))","v":""},null,null,null,null,null,null,null,null,null,null,null,null,null,null,null,null,null,null,null,null,null,null,null,null,{"$f":"$C$51","v":"Spec. Chem.   DDT"},{"$f":"IF($D$51=\"Concern\",\"(\"&IN44&\")\",IF(OR($D$51=\"Fair\",$D$51=\"Poor\"),IN44,\"\"))","v":""}]
[null,null,null,null,null,null,null,"** Potential Source  ",null,null,null,null,null,null,null,null,null,null,null,null,null,null,null,null,null,null,null,null,null,null,null,null,null,null,null,null,null,null,null,null,null,null,null,null,null,null,null,null,null,null,null,null,null,null,null,null,null,null,null,null,null,null,null,null,null,null,null,null,null,null,null,null,null,null,null,null,null,null,null,null,null,null,null,null,null,null,null,null,null,null,null,null,{"$f":"IF($C$33=\"\",\"\",$C$33)","v":""},{"$f":"IF($D$33=\"Concern\",\"(**)\",IF(OR($D$33=\"Fair\",$D$33=\"Poor\"),\"**\",\"\"))","v":""},null,null,null,null,null,null,null,null,null,null,null,null,null,null,null,null,null,null,null,null,null,null,null,null,null,null,null,null,null,null,null,null,null,null,null,null,null,null,null,null,null,null,null,null,null,null,null,null,null,null,null,null,null,null,null,null,null,null,null,null,null,null,null,null,null,null,null,null,null,null,null,null,null,null,null,null,null,null,null,null,null,null,null,null,null,null,null,null,null,null,null,null,null,null,null,null,null,null,null,null,null,null,null,null,null,null,null,null,null,null,null,null,null,null,null,null,null,null,null,null,null,null,null,null,null,null,null,null,{"$f":"IF($C$49=\"\",\"\",$C$49)","v":""},{"$f":"IF($D$49=\"Concern\",\"(**)\",IF(OR($D$49=\"Fair\",$D$49=\"Poor\"),\"**\",\"\"))","v":""},null,null,null,null,null,null,null,null,null,null,null,null,null,null,null,null,null,null,null,null,null,null,null,null,{"$f":"IF($C$52=\"\",\"\",$C$52)","v":""},{"$f":"IF($D$52=\"Concern\",\"(**)\",IF(OR($D$52=\"Fair\",$D$52=\"Poor\"),\"**\",\"\"))","v":""}]
[null,null,null,null,null,null,null,"No asterisk: Known Source  "]
[null,null,null,null,null,null,null,"[Out of Segment Source ]  "]
[]
[]
[]
[null,"SegNameLong:  ","uuuuuu"]
[null,"Seg Name:  ","uuu"]
[null,"Seg Num:  "]
[null,"Seg Size:  "]
[null,"Seg Class:  "]
[]
[]
[]
[]
[]
[]
[]
[]
[]
[]
[]
[]
[null,null,null,{"$f":"A99","v":""}]
[null,null,null,{"$f":"B99","v":""}]
[null,null,null,{"$f":"C99","v":""}]
[null,null,null,{"$f":"D99","v":""}]
[null,null,null,{"$f":"E99","v":""}]
[null,null,null,{"$f":"F99","v":""}]
[null,null,null,{"$f":"G99","v":""}]
[null,null,null,{"$f":"H99","v":""}]
[null,null,null,{"$f":"I99","v":""}]
[]
[]
[]
[]
[]
[]
[]
[]
[]
[]
[]
[]
[]
[{"$f":"TRIM(A101&\" \"&A102&\" \"&A103&\" \"&A104&\" \"&A105&\" \"&A106)","v":""},{"$f":"TRIM(B101&\" \"&B102&\" \"&B103&\" \"&B104&\" \"&B105&\" \"&B106)","v":""},"","","","","","",""]

{"sheet":"Seg22","index":26,"n_rows":99,"n_cols":311,"rows_kept":99,"cut":false,"hidden":false,"merged":[[15,1,20,1],[15,4,20,4],[15,5,20,5],[15,6,20,6],[15,7,20,7],[13,1,14,1],[13,2,14,3],[13,4,14,4],[13,5,14,5],[14,6,14,7],[27,1,29,1],[27,4,29,4],[27,5,29,5],[27,6,29,6],[27,7,29,7],[21,1,26,1],[21,4,26,4],[21,5,26,5],[21,6,26,6],[21,7,26,7],[49,6,51,6],[49,7,51,7],[30,1,32,1],[30,4,32,4],[30,5,32,5],[30,6,32,6],[30,7,32,7],[33,1,34,1],[33,4,34,4],[33,5,34,5],[33,6,34,6],[33,7,34,7],[43,91,45,94],[35,1,38,1],[35,4,38,4],[35,5,38,5],[35,6,38,6],[35,7,38,7],[39,1,40,1],[39,4,40,4],[39,5,40,5],[39,6,40,6],[39,7,40,7],[52,1,55,1],[43,247,45,250],[44,221,46,224],[47,1,48,1],[47,4,48,4],[47,5,48,5],[47,6,48,6],[47,7,48,7],[41,1,46,1],[41,4,46,4],[41,5,46,5],[41,6,46,6],[41,7,46,7],[49,1,51,1],[49,4,51,4],[49,5,51,5]]}
[]
[]
[]
[]
[null,null,null,null,null,null,null,null,null,null,null,null,null,null,null,null,null,null,null,null,null,null,null,null,null,null,null,null,null,null,null,null,null,null,null,null,null,null,null,null,null,null,null,null,null,null,null,null,null,null,null,null,null,null,null,null,null,null,null,null,null,null,null,null,null,null,null,null,null,null,null,null,null,null,null,null,null,null,null,null,null,null,null,null,null,null,null,null,null,null,null,null,null,null,null,null,null,null,null,null,null,null,null,null,null,null,null,null,null,null,null,null,null,null,null,null,null,null,null,null,null,null,null,null,null,null,null,null,null,null,null,null,null,null,null,null,null,null,null,null,null,null,null,null,null,null,null,null,null,null,null,null,null,null,null,null,null,null,null,null,null,null,null,null,null,null,null,null,null,null,null,null,null,null,null,null,null,null,null,null,null,null,null,null,null,null,null,null,null,null,null,null,null,null,null,null,null,null,null,null,null,null,null,null,null,null,null,null,null,null,null,null,null,null,null,null,null,null,null,null,null,null,null,null,null,null,null,null,null,null,null,null,null,null,null,null,null,null,null,null,null,null,null,null,null,null,null,null,null,null,null,null,null,null,null,null,null,null,null,null,null,null,null,null,null,null,null,null,null,null,null,null,null,null,null,null,null,null,null,null,null,null,null,null,null,"List of all codes from all groups for this segment, organized by Source Type. "]
[null,null,null,null,null,null,null,null,null,null,null,null,null,null,null,null,null,null,null,null,null,null,null,null,null,null,null,null,null,null,null,null,null,null,null,null,null,null,null,null,null,null,null,null,null,null,null,null,null,null,null,null,null,null,null,null,null,null,null,null,null,null,null,null,null,null,null,null,null,null,null,null,null,null,null,null,null,null,null,null,null,null,null,null,null,null,null,null,null,null,null,null,null,null,null,null,null,null,null,null,null,null,null,null,null,null,null,null,null,null,null,null,null,null,null,null,null,null,null,null,null,null,null,null,null,null,null,null,null,null,null,null,null,null,null,null,null,null,null,null,null,null,null,null,null,null,null,null,null,null,null,null,null,null,null,null,null,null,null,null,null,null,null,null,null,null,null,null,null,null,null,null,null,null,null,null,null,null,null,null,null,null,null,null,null,null,null,null,null,null,null,null,null,null,null,null,null,null,null,null,null,null,null,null,null,null,null,null,null,null,null,null,null,null,null,null,null,null,null,null,null,null,null,null,null,null,null,null,null,null,null,null,null,null,null,null,null,null,null,null,null,null,null,null,null,null,null,null,null,null,null,null,null,null,null,null,null,null,null,null,null,null,null,null,null,null,null,null,null,null,null,null,null,null,null,null,null,null,null,null,null,null,null,null,null,"List is updated only when \"SourceRC_List\" macro is run. Macro is run manually by touching button at right or when Source report card is activated."]
[null,null,null,null,null,null,null,null,null,null,null,null,null,null,null,null,null,null,null,null,null,null,null,null,null,null,null,null,null,null,null,null,null,null,null,null,null,null,null,null,null,null,null,null,null,null,null,null,null,null,null,null,null,null,null,null,null,null,null,null,null,null,null,null,null,null,null,null,null,null,null,null,null,null,null,null,null,null,null,null,null,null,null,null,null,null,null,null,null,null,null,null,null,null,null,null,null,null,null,null,null,null,null,null,null,null,null,null,null,null,null,null,null,null,null,null,null,null,null,null,null,null,null,null,null,null,null,null,null,null,null,null,null,null,null,null,null,null,null,null,null,null,null,null,null,null,null,null,null,null,null,null,null,null,null,null,null,null,null,null,null,null,null,null,null,null,null,null,null,null,null,null,null,null,null,null,null,null,null,null,null,null,null,null,null,null,null,null,null,null,null,null,null,null,null,null,null,null,null,null,null,null,null,null,null,null,null,null,null,null,null,null,null,null,null,null,null,null,null,null,null,null,null,null,null,null,null,null,null,null,null,null,null,null,null,null,null,null,null,null,null,null,null,null,null,null,null,null,null,null,null,null,null,null,null,null,null,null,null,null,null,null,null,null,null,null,null,null,null,null,null,null,null,null,null,null,null,null,null,null,null,null,null,null,null,"Numbers indicate knowledge about the certainty of assessment: 0 = N/A, 1 = Potential Source, 2 = Suspected Source, 3 = Known Source."]
[null,null,null,null,null,null,null,null,null,null,null,null,null,null,null,null,null,null,null,null,null,null,null,null,null,null,null,null,null,null,null,null,null,null,null,null,null,null,null,null,null,null,null,null,null,null,null,null,null,null,null,null,null,null,null,null,null,null,null,null,null,null,null,null,null,null,null,null,null,null,null,null,null,null,null,null,null,null,null,null,null,null,null,null,null,null,null,null,null,null,null,null,null,null,null,null,null,null,null,null,null,null,null,null,null,null,null,null,null,null,null,null,null,null,null,null,null,null,null,null,null,null,null,null,null,null,null,null,null,null,null,null,null,null,null,null,null,null,null,null,null,null,null,null,null,null,null,null,null,null,null,null,null,null,null,null,null,null,null,null,null,null,null,null,null,null,null,null,null,null,null,null,null,null,null,null,null,null,null,null,null,null,null,null,null,null,null,null,null,null,null,null,null,null,null,null,null,null,null,null,null,null,null,null,null,null,null,null,null,null,null,null,null,null,null,null,null,null,null,null,null,null,null,null,null,null,null,null,null,null,null,null,null,null,null,null,null,null,null,null,null,null,null,null,null,null,null,null,null,null,null,null,null,null,null,null,null,null,null,null,null,null,null,null,null,null,null,null,null,null,null,null,null,null,null,null,null,null,null,null,null,null,null,null,null,"This list is then processed below to remove duplicates."]
[null,null,null,null,null,null,null,null,null,null,null,null,null,"Designate Point & Non-Point Sources",null,null,null,null,null,null,null,null,null,null,null,null,null,null,null,null,null,null,null,null,null,null,null,null,null,"Designate Point & Non-Point Sources",null,null,null,null,null,null,null,null,null,null,null,null,null,null,null,null,null,null,null,null,null,null,null,null,null,"Designate Point & Non-Point Sources",null,null,null,null,null,null,null,null,null,null,null,null,null,null,null,null,null,null,null,null,null,null,null,null,null,"Designate Point & Non-Point Sources",null,null,null,null,null,null,null,null,null,null,null,null,null,null,null,null,null,null,null,null,null,null,null,null,null,"Designate Point & Non-Point Sources",null,null,null,null,null,null,null,null,null,null,null,null,null,null,null,null,null,null,null,null,null,null,null,null,null,"Designate Point & Non-Point Sources",null,null,null,null,null,null,null,null,null,null,null,null,null,null,null,null,null,null,null,null,null,null,null,null,null,"Designate Point & Non-Point Sources",null,null,null,null,null,null,null,null,null,null,null,null,null,null,null,null,null,null,null,null,null,null,null,null,null,"Designate Point & Non-Point Sources",null,null,null,null,null,null,null,null,null,null,null,null,null,null,null,null,null,null,null,null,null,null,null,null,null,"Designate Point & Non-Point Sources",null,null,null,null,null,null,null,null,null,null,null,null,null,null,null,null,null,null,null,null,null,null,null,null,null,"Designate Point & Non-Point Sources"]
[null,null,null,null,null,null,null,null,null,null,null,null,null,null,null,null,null,null,null,null,null,null,null,"Codes selected at left are distributed according to Source Type. "]
[null,{"$f":"\"River Basin: \"&RiverBasinName","v":"River Basin: Test River Basin"},null,null,null,null,{"$f":"\"Data Year:  \"&AssessmentYear","v":"Data Year:  2011"},null,null,null,null,null,null,null,null,null,null,null,null,null,null,null,null,"Numbers indicate confidence of assessment: 0 = N/A, 1 = Potential Source, 2 = Suspected Source, 3 = Known Source.",null,null,null,null,null,null,null,null,null,null,null,null,null,null,null,null,null,null,null,null,null,null,null,null,null,null,null,null,null,null,null,null,null,null,null,null,null,null,null,null,null,null,null,null,null,null,null,null,null,null,null,null,null,null,null,null,null,null,null,null,null,null,null,null,null,null,null,null,null,null,null,null,null,null,null,null,null,null,null,null,null,null,null,null,null,null,null,null,null,null,null,null,null,null,null,null,null,null,null,null,null,null,null,null,null,null,null,null,null,null,null,null,null,null,null,null,null,null,null,null,null,null,null,null,null,null,null,null,null,null,null,null,null,null,null,null,null,null,null,null,null,null,null,null,null,null,null,null,null,null,null,null,null,null,null,null,null,null,null,null,null,null,null,null,null,null,null,null,null,null,null,null,null,null,null,null,null,null,null,null,null,null,null,null,null,null,null,null,null,null,null,null,null,null,null,null,null,null,null,null,null,null,null,null,null,null,null,null,null,null,null,null,null,null,null,null,null,null,null,null,null,null,null,null,null,null,null,null,null,null,null,null,null,null,null,null,null,null,null,null,null,null,null,null,null,null,null,null,null,null,null,null,null,null,null,null,null,null,null,null,null,null,"Municp",null,null,"Industr",null,null,"St Water",null,null,"Res Ext",null,null,"Land Dis",null,null,"Seds",null,null,"Hydro",null,null,"Other",null,null,"Unknown"]
[null,{"$f":"\"Segment Name: \"&C60","v":"Segment Name: vvvvvv"},null,null,null,null,null,null,null,null,null,null,null,null,null,null,null,null,null,null,null,null,null,"These codes are processed by \"SourceRC_List macro and transferred to Source report card."]
[null,{"$f":"\"Class: \"&C64","v":"Class: "},null,{"$f":"\"Size: \"&C63","v":"Size: "},null,null,{"$f":"\"Seg ID #: \"&C62","v":"Seg ID #: "}]
[null,"CATEGORY","INDICATOR ASSESSMENT",null,"OVERALL STATUS","DATA LEVEL","POINT","NONPOINT",null,null,null,null,null,"Point Sources",null,null,null,null,null,null,null,null,null,"Municipal",null,null,"Industrial",null,null,"Storm Water",null,null,"Resource Ext",null,null,"Land Disposal",null,null,null,"Point Sources",null,null,null,null,null,null,null,null,null,"Municipal",null,null,"Industrial",null,null,"Storm Water",null,null,"Resource Ext",null,null,"Land Disposal",null,null,null,"Point Sources",null,null,null,null,null,null,null,null,null,"Municipal",null,null,"Industrial",null,null,"Storm Water",null,null,"Resource Ext",null,null,"Land Disposal",null,null,null,"Point Sources",null,null,null,null,null,null,null,null,null,"Municipal",null,null,"Industrial",null,null,"Storm Water",null,null,"Resource Ext",null,null,"Land Disposal",null,null,null,"Point Sources",null,null,null,null,null,null,null,null,null,"Municipal",null,null,"Industrial",null,null,"Storm Water",null,null,"Resource Ext",null,null,"Land Disposal",null,null,null,"Point Sources",null,null,null,null,null,null,null,null,null,"Municipal",null,null,"Industrial",null,null,"Storm Water",null,null,"Resource Ext",null,null,"Land Disposal",null,null,null,"Point Sources",null,null,null,null,null,null,null,null,null,"Municipal",null,null,"Industrial",null,null,"Storm Water",null,null,"Resource Ext",null,null,"Land Disposal",null,null,null,"Point Sources",null,null,null,null,null,null,null,null,null,"Municipal",null,null,"Industrial",null,null,"Storm Water",null,null,"Resource Ext",null,null,"Land Disposal",null,null,null,"Point Sources",null,null,null,null,null,null,null,null,null,"Municipal",null,null,"Industrial",null,null,"Storm Water",null,null,"Resource Ext",null,null,"Land Disposal",null,null,null,"Point Sources",null,null,null,null,null,null,null,null,null,"Municipal",null,null,"Industrial",null,null,"Storm Water",null,null,"Resource Ext",null,null,"Land Disposal"]
[null,null,null,null,null,null,"Click below to select Sources"]
[null,"Biology","Plank/Peri.   A","NA","NA","NA",{"$f":"$O$15&\"  \"&$O$16&\"  \"&$O$17&\"  \"&$O$18&\"  \"&$O$19&\"  \"&$O$20","v":"          "},{"$f":"$O$28&\"  \"&$O$29&\"  \"&$O$30&\"  \"&$O$31&\"  \"&$O$32&\"  \"&$O$33","v":"          "}]
[null,null,"Macrophyton   M","NA"]
[null,null,"Invertebrates   I","NA"]
[null,null,"Fish   F","NA"]
[null,null,"Wildlife   W","NA"]
[]
[null,"Chemistry","Dis. Oxygen    DO","NA","NA","NA",{"$f":"$AO$15&\"  \"&$AO$16&\"  \"&$AO$17&\"  \"&$AO$18&\"  \"&$AO$19&\"  \"&$AO$20","v":"          "},{"$f":"$AO$28&\"  \"&$AO$29&\"  \"&$AO$30&\"  \"&$AO$31&\"  \"&$AO$32&\"  \"&$AO$33","v":"          "}]
[null,null,"pH     pH","NA"]
[null,null,"Temperature    T","NA"]
[null,null,"Ionic Strength    Z","NA"]
[null,null,"Sus. Solids    SS","NA"]
[null,null,null,null,null,null,null,null,null,null,null,null,null,"Non Point Sources",null,null,null,null,null,null,null,null,null,"Seds",null,null,"Hydromodification",null,null,"Other",null,null,"Unknown",null,null,null,null,null,null,"Non Point Sources",null,null,null,null,null,null,null,null,null,"Seds",null,null,"Hydromodification",null,null,"Other",null,null,"Unknown",null,null,null,null,null,null,"Non Point Sources",null,null,null,null,null,null,null,null,null,"Seds",null,null,"Hydromodification",null,null,"Other",null,null,"Unknown",null,null,null,null,null,null,"Non Point Sources",null,null,null,null,null,null,null,null,null,"Seds",null,null,"Hydromodification",null,null,"Other",null,null,"Unknown",null,null,null,null,null,null,"Non Point Sources",null,null,null,null,null,null,null,null,null,"Seds",null,null,"Hydromodification",null,null,"Other",null,null,"Unknown",null,null,null,null,null,null,"Non Point Sources",null,null,null,null,null,null,null,null,null,"Seds",null,null,"Hydromodification",null,null,"Other",null,null,"Unknown",null,null,null,null,null,null,"Non Point Sources",null,null,null,null,null,null,null,null,null,"Seds",null,null,"Hydromodification",null,null,"Other",null,null,"Unknown",null,null,null,null,null,null,"Non Point Sources",null,null,null,null,null,null,null,null,null,"Seds",null,null,"Hydromodification",null,null,"Other",null,null,"Unknown",null,null,null,null,null,null,"Non Point Sources",null,null,null,null,null,null,null,null,null,"Seds",null,null,"Hydromodification",null,null,"Other",null,null,"Unknown",null,null,null,null,null,null,"Non Point Sources",null,null,null,null,null,null,null,null,null,"Seds",null,null,"Hydromodification",null,null,"Other",null,null,"Unknown"]
[null,"Nutrients","Phosphorus  P","NA","NA","NA",{"$f":"$BO$15&\"  \"&$BO$16&\"  \"&$BO$17&\"  \"&$BO$18&\"  \"&$BO$19&\"  \"&$BO$20","v":"          "},{"$f":"$BO$28&\"  \"&$BO$29&\"  \"&$BO$30&\"  \"&$BO$31&\"  \"&$BO$32&\"  \"&$BO$33","v":"          "}]
[null,null,"Nitrogen   N","NA"]
[]
[null,"Toxicity","Unknown   U","NA","NA","NA",{"$f":"$CO$15&\"  \"&$CO$16&\"  \"&$CO$17&\"  \"&$CO$18&\"  \"&$CO$19&\"  \"&$CO$20","v":"          "},{"$f":"$CO$28&\"  \"&$CO$29&\"  \"&$CO$30&\"  \"&$CO$31&\"  \"&$CO$32&\"  \"&$CO$33","v":"          "}]
[null,null,{"$f":"\"Spec. Chem.  \"&CN44","v":"Spec. Chem.  Ag"},"NA"]
[null,null,null,null,null,null,null,null,null,null,null,null,null,null,null,null,null,null,null,null,null,null,null,null,null,null,null,null,null,null,null,null,null,null,null,null,null,null,null,null,null,null,null,null,null,null,null,null,null,null,null,null,null,null,null,null,null,null,null,null,null,null,null,null,null,null,null,null,null,null,null,null,null,null,null,null,null,null,null,null,null,null,null,null,null,null,null,null,null,null,null,null,null,null,null,null,null,null,null,null,null,null,null,null,null,null,null,null,null,null,null,null,null,null,null,null,null,null,null,null,null,null,null,null,null,null,null,null,null,null,null,null,null,null,null,null,null,null,null,null,null,null,null,null,null,null,null,null,null,null,null,null,null,null,null,null,null,null,null,null,null,null,null,null,null,null,null,null,null,null,null,null,null,null,null,null,null,null,null,null,null,null,null,null,null,null,null,null,null,null,null,null,null,null,null,null,null,null,null,null,null,null,null,null,null,null,null,null,null,null,null,null,null,null,null,null,null,null,null,null,null,null,null,null,null,null,null,null,null,null,null,null,null,null,null,null,null,null,null,null,null,null,null,null,null,null,null,null,null,null,null,null,null,null,null,null,null,null,null,null,null,null,null,null,null,null,null,null,null,null,null,null,null,null,null,null,null,null,null,null,null,null,null,null,null,"The colored cells below reflect this segments pollution status and are replicated on the Sources report card automatically"]
[null,"Flow","Flow  Q","NA","NA","NA",{"$f":"$DO$15&\"  \"&$DO$16&\"  \"&$DO$17&\"  \"&$DO$18&\"  \"&$DO$19&\"  \"&$DO$20","v":"          "},{"$f":"$DO$28&\"  \"&$DO$29&\"  \"&$DO$30&\"  \"&$DO$31&\"  \"&$DO$32&\"  \"&$DO$33","v":"          "},null,null,null,null,null,null,null,null,null,null,null,null,null,null,null,null,null,null,null,null,null,null,null,null,null,null,null,null,null,null,null,null,null,null,null,null,null,null,null,null,null,null,null,null,null,null,null,null,null,null,null,null,null,null,null,null,null,null,null,null,null,null,null,null,null,null,null,null,null,null,null,null,null,null,null,null,null,null,null,null,null,null,null,null,null,null,null,null,null,null,null,null,null,null,null,null,null,null,null,null,null,null,null,null,null,null,null,null,null,null,null,null,null,null,null,null,null,null,null,null,null,null,null,null,null,null,null,null,null,null,null,null,null,null,null,null,null,null,null,null,null,null,null,null,null,null,null,null,null,null,null,null,null,null,null,null,null,null,null,null,null,null,null,null,null,null,null,null,null,null,null,null,null,null,null,null,null,null,null,null,null,null,null,null,null,null,null,null,null,null,null,null,null,null,null,null,null,null,null,null,null,null,null,null,null,null,null,null,null,null,null,null,null,null,null,null,null,null,null,null,null,null,null,null,null,null,null,null,null,null,null,null,null,null,null,null,null,null,null,null,null,null,null,null,null,null,null,null,null,null,null,null,null,null,null,null,null,null,null,null,null,null,null,null,null,null,null,null,null,null,null,null,null,null,null,null,null,null,{"$f":"KA11","v":"Municp"},null,null,{"$f":"KD11","v":"Industr"},null,null,{"$f":"KG11","v":"St Water"},null,null,{"$f":"KJ11","v":"Res Ext"},null,null,{"$f":"KM11","v":"Land Dis"},null,null,{"$f":"KP11","v":"Seds"},null,null,{"$f":"KS11","v":"Hydro"},null,null,{"$f":"KV11","v":"Other"},null,null,{"$f":"KY11","v":"Unknown"}]
[null,null,null,null,null,null,null,null,null,null,null,null,null,"* designates a Suspected Source",null,null,null,null,null,null,null,null,null,null,null,null,null,null,null,null,null,null,null,null,null,null,null,null,null,"* designates a Suspected Source",null,null,null,null,null,null,null,null,null,null,null,null,null,null,null,null,null,null,null,null,null,null,null,null,null,"* designates a Suspected Source",null,null,null,null,null,null,null,null,null,null,null,null,null,null,null,null,null,null,null,null,null,null,null,null,null,"* designates a Suspected Source",null,null,null,null,null,null,null,null,null,null,null,null,null,null,null,null,null,null,null,null,null,null,null,null,null,"* designates a Suspected Source",null,null,null,null,null,null,null,null,null,null,null,null,null,null,null,null,null,null,null,null,null,null,null,null,null,"* designates a Suspected Source",null,null,null,null,null,null,null,null,null,null,null,null,null,null,null,null,null,null,null,null,null,null,null,null,null,"* designates a Suspected Source",null,null,null,null,null,null,null,null,null,null,null,null,null,null,null,null,null,null,null,null,null,null,null,null,null,"* designates a Suspected Source",null,null,null,null,null,null,null,null,null,null,null,null,null,null,null,null,null,null,null,null,null,null,null,null,null,"* designates a Suspected Source",null,null,null,null,null,null,null,null,null,null,null,null,null,null,null,null,null,null,null,null,null,null,null,null,null,null,null,null,null,null,null,null,null,null,null,null,null,null,null,null,null,null,null,null,null,null,null,null,null,null,null,null,null,null,null,null,null,null,null,null,null,null,null,null,{"$f":"TRIM(KA41&\" \"&KA42&\" \"&KA43&\" \"&KA44&\" \"&KA45&\" \"&KA46)","v":""},null,null,{"$f":"TRIM(KD41&\" \"&KD42&\" \"&KD43&\" \"&KD44&\" \"&KD45&\" \"&KD46)","v":""},null,null,{"$f":"TRIM(KG41&\" \"&KG42&\" \"&KG43&\" \"&KG44&\" \"&KG45&\" \"&KG46)","v":""},null,null,{"$f":"TRIM(KJ41&\" \"&KJ42&\" \"&KJ43&\" \"&KJ44&\" \"&KJ45&\" \"&KJ46)","v":""},null,null,{"$f":"TRIM(KM41&\" \"&KM42&\" \"&KM43&\" \"&KM44&\" \"&KM45&\" \"&KM46)","v":""},null,null,{"$f":"TRIM(KP41&\" \"&KP42&\" \"&KP43&\" \"&KP44&\" \"&KP45&\" \"&KP46)","v":""},null,null,{"$f":"TRIM(KS41&\" \"&KS42&\" \"&KS43&\" \"&KS44&\" \"&KS45&\" \"&KS46)","v":""},null,null,{"$f":"TRIM(KV41&\" \"&KV42&\" \"&KV43&\" \"&KV44&\" \"&KV45&\" \"&KV46)","v":""},null,null,{"$f":"TRIM(KY41&\" \"&KY42&\" \"&KY43&\" \"&KY44&\" \"&KY45&\" \"&KY46)","v":""}]
[null,"Habitat","Substrate   S","NA","NA","NA",{"$f":"$EO$15&\"  \"&$EO$16&\"  \"&$EO$17&\"  \"&$EO$18&\"  \"&$EO$19&\"  \"&$EO$20","v":"          "},{"$f":"$EO$28&\"  \"&$EO$29&\"  \"&$EO$30&\"  \"&$EO$31&\"  \"&$EO$32&\"  \"&$EO$33","v":"          "},null,null,null,null,null,"** designates a Potential Source",null,null,null,null,null,null,null,null,null,null,null,null,null,null,null,null,null,null,null,null,null,null,null,null,null,"** designates a Potential Source",null,null,null,null,null,null,null,null,null,null,null,null,null,null,null,null,null,null,null,null,null,null,null,null,null,"** designates a Potential Source",null,null,null,null,null,null,null,null,null,null,null,null,null,null,null,null,null,null,null,null,null,null,null,null,null,"** designates a Potential Source",null,null,null,null,null,null,null,null,null,null,null,null,null,null,null,null,null,null,null,null,null,null,null,null,null,"** designates a Potential Source",null,null,null,null,null,null,null,null,null,null,null,null,null,null,null,null,null,null,null,null,null,null,null,null,null,"** designates a Potential Source",null,null,null,null,null,null,null,null,null,null,null,null,null,null,null,null,null,null,null,null,null,null,null,null,null,"** designates a Potential Source",null,null,null,null,null,null,null,null,null,null,null,null,null,null,null,null,null,null,null,null,null,null,null,null,null,"** designates a Potential Source",null,null,null,null,null,null,null,null,null,null,null,null,null,null,null,null,null,null,null,null,null,null,null,null,null,"** designates a Potential Source"]
[null,null,"Morphology   H","NA",null,null,null,null,null,null,null,null,null,"No asterisk designates a Known Source",null,null,null,null,null,null,null,null,null,null,null,null,null,null,null,null,null,null,null,null,null,null,null,null,null,"No asterisk designates a Known Source",null,null,null,null,null,null,null,null,null,null,null,null,null,null,null,null,null,null,null,null,null,null,null,null,null,"No asterisk designates a Known Source",null,null,null,null,null,null,null,null,null,null,null,null,null,null,null,null,null,null,null,null,null,null,null,null,null,"No asterisk designates a Known Source",null,null,null,null,null,null,null,null,null,null,null,null,null,null,null,null,null,null,null,null,null,null,null,null,null,"No asterisk designates a Known Source",null,null,null,null,null,null,null,null,null,null,null,null,null,null,null,null,null,null,null,null,null,null,null,null,null,"No asterisk designates a Known Source",null,null,null,null,null,null,null,null,null,null,null,null,null,null,null,null,null,null,null,null,null,null,null,null,null,"No asterisk designates a Known Source",null,null,null,null,null,null,null,null,null,null,null,null,null,null,null,null,null,null,null,null,null,null,null,null,null,"No asterisk designates a Known Source",null,null,null,null,null,null,null,null,null,null,null,null,null,null,null,null,null,null,null,null,null,null,null,null,null,"No asterisk designates a Known Source",null,null,null,null,null,null,null,null,null,null,null,null,null,null,null,null,null,null,null,null,null,null,null,null,null,null,null,null,null,null,null,null,null,null,null,null,null,null,null,null,null,null,null,null,null,null,null,null,null,null,null,null,null,null,null,null,null,null,null,null,null,null,null,"max confid #",{"$f":"MAX(KB11:KB31)","v":0},null,null,{"$f":"MAX(KE11:KE31)","v":0},null,null,{"$f":"MAX(KH11:KH31)","v":0},null,null,{"$f":"MAX(KK11:KK31)","v":0},null,null,{"$f":"MAX(KN11:KN31)","v":0},null,null,{"$f":"MAX(KQ11:KQ31)","v":0},null,null,{"$f":"MAX(KT11:KT31)","v":0},null,null,{"$f":"MAX(KW11:KW31)","v":0},null,null,{"$f":"MAX(KZ11:KZ31)","v":0}]
[null,null,"Riparian Zone   R","NA",null,null,null,null,null,null,null,null,null,"Square brackets designates an Out of Segment Source (i.e., pollutant is a source for downstream segments)",null,null,null,null,null,null,null,null,null,null,null,null,null,null,null,null,null,null,null,null,null,null,null,null,null,"Square brackets designates an Out of Segment Source (i.e., pollutant is a source for downstream segments)",null,null,null,null,null,null,null,null,null,null,null,null,null,null,null,null,null,null,null,null,null,null,null,null,null,"Square brackets designates an Out of Segment Source (i.e., pollutant is a source for downstream segments)",null,null,null,null,null,null,null,null,null,null,null,null,null,null,null,null,null,null,null,null,null,null,null,null,null,"Square brackets designates an Out of Segment Source (i.e., pollutant is a source for downstream segments)",null,null,null,null,null,null,null,null,null,null,null,null,null,null,null,null,null,null,null,null,null,null,null,null,null,"Square brackets designates an Out of Segment Source (i.e., pollutant is a source for downstream segments)",null,null,null,null,null,null,null,null,null,null,null,null,null,null,null,null,null,null,null,null,null,null,null,null,null,"Square brackets designates an Out of Segment Source (i.e., pollutant is a source for downstream segments)",null,null,null,null,null,null,null,null,null,null,null,null,null,null,null,null,null,null,null,null,null,null,null,null,null,"Square brackets designates an Out of Segment Source (i.e., pollutant is a source for downstream segments)",null,null,null,null,null,null,null,null,null,null,null,null,null,null,null,null,null,null,null,null,null,null,null,null,null,"Square brackets designates an Out of Segment Source (i.e., pollutant is a source for downstream segments)",null,null,null,null,null,null,null,null,null,null,null,null,null,null,null,null,null,null,null,null,null,null,null,null,null,"Square brackets designates an Out of Segment Source (i.e., pollutant is a source for downstream segments)",null,null,null,null,null,null,null,null,null,null,null,null,null,null,null,null,null,null,null,null,null,null,null,null,null,null,null,null,null,null,null,null,null,null,null,null,null,null,null,null,null,null,null,null,null,null,null,null,null,null,null,null,null,null,null,null,null,null,null,null,null,null,null,"The lists below show unique codes in lists assembled above. Numbers are max confidence #, used to color cells for worst case. The codes are catenated in the colored boxes above for transfer to Sources RC when that sheet is activated."]
[]
[null,"Bacteria","Bacteria   B","NA","NA","NA",{"$f":"$FO$15&\"  \"&$FO$16&\"  \"&$FO$17&\"  \"&$FO$18&\"  \"&$FO$19&\"  \"&$FO$20","v":"          "},{"$f":"$FO$28&\"  \"&$FO$29&\"  \"&$FO$30&\"  \"&$FO$31&\"  \"&$FO$32&\"  \"&$FO$33","v":"          "},null,null,null,null,null,null,null,null,null,null,null,null,null,null,null,null,null,null,null,null,null,null,null,null,null,null,null,null,null,null,null,null,null,null,null,null,null,null,null,null,null,null,null,null,null,null,null,null,null,null,null,null,null,null,null,null,null,null,null,null,null,null,null,null,null,null,null,null,null,null,null,null,null,null,null,null,null,null,null,null,null,null,null,null,null,null,null,null,null,null,null,null,null,null,null,null,null,null,null,null,null,null,null,null,null,null,null,null,null,null,null,null,null,null,null,null,null,null,null,null,null,null,null,null,null,null,null,null,null,null,null,null,null,null,null,null,null,null,null,null,null,null,null,null,null,null,null,null,null,null,null,null,null,null,null,null,null,null,null,null,null,null,null,null,null,null,null,null,null,null,null,null,null,null,null,null,null,null,null,null,null,null,null,null,null,null,null,null,null,null,null,null,null,null,null,null,null,null,null,null,null,null,null,null,null,null,null,null,null,null,null,null,null,null,null,null,null,null,null,null,null,null,null,null,null,null,null,null,null,null,null,null,null,null,null,null,null,null,null,null,null,null,null,null,null,null,null,null,null,null,null,null,null,null,null,null,null,null,null,null,null,null,null,null,null,null,null,null,null,null,null,null,null,null,null,null,null,null,"Municp",null,null,"Industr",null,null,"St Water",null,null,"Res Ext",null,null,"Land Dis",null,null,"Seds",null,null,"Hydro",null,null,"Other",null,null,"Unknown"]
[]
[null,"Aesthetics","Oil & Grease   G","NA","NA","NA",{"$f":"$GO$15&\"  \"&$GO$16&\"  \"&$GO$17&\"  \"&$GO$18&\"  \"&$GO$19&\"  \"&$GO$20","v":"          "},{"$f":"$GO$28&\"  \"&$GO$29&\"  \"&$GO$30&\"  \"&$GO$31&\"  \"&$GO$32&\"  \"&$GO$33","v":"          "},null,null,null,null,null,null,null,null,null,null,null,null,null,null,null,null,null,null,null,null,null,null,null,null,null,null,null,null,null,null,null,null,null,null,null,null,null,null,null,null,null,null,null,null,null,null,null,null,null,null,null,null,null,null,null,null,null,null,null,null,null,null,null,null,null,null,null,null,null,null,null,null,null,null,null,null,null,null,null,null,null,null,null,"Identify the suspected toxic chemical substance below (e.g., Hg, PCB, etc). ",null,null,null,null,null,null,null,null,null,null,null,null,null,null,null,null,null,null,null,null,null,null,null,null,null,null,null,null,null,null,null,null,null,null,null,null,null,null,null,null,null,null,null,null,null,null,null,null,null,null,null,null,null,null,null,null,null,null,null,null,null,null,null,null,null,null,null,null,null,null,null,null,null,null,null,null,null,null,null,null,null,null,null,null,null,null,null,null,null,null,null,null,null,null,null,null,null,null,null,null,null,null,null,null,null,null,null,null,null,null,null,null,null,null,null,null,null,null,null,null,null,null,null,null,null,null,null,null,null,null,null,null,null,null,null,null,null,null,null,null,null,null,null,null,null,null,null,null,null,null,null,null,null,null,null,"Identify the suspected toxic chemical substance below (e.g., Hg, PCB, etc). "]
[null,null,"Taste & Odor   O","NA",null,null,null,null,null,null,null,null,null,null,"Pollution  Indicators (Causes):  ",null,{"$f":"P46&\" \"&P47&\" \"&P48&\" \"&P49&\" \"&P50&\" \"&P51","v":"     "},null,null,null,null,null,null,null,null,null,null,null,null,null,null,null,null,null,null,null,null,null,null,null,"Pollution  Indicators (Causes):  ",null,{"$f":"AP46&\" \"&AP47&\" \"&AP48&\" \"&AP49&\" \"&AP50&\" \"&AP51","v":"     "},null,null,null,null,null,null,null,null,null,null,null,null,null,null,null,null,null,null,null,null,null,null,null,"Pollution  Indicators (Causes):  ",null,{"$f":"BP46&\" \"&BP47&\" \"&BP48","v":"  "},null,null,null,null,null,null,null,null,null,null,null,null,null,null,null,null,null,null,null,null,null,null,null,null,null,null,null,null,null,null,null,null,null,null,null,null,null,null,null,null,null,null,null,null,null,null,null,null,null,"Pollution  Indicators (Causes):  ",null,{"$f":"DP46&\" \"&DP47","v":" "},null,null,null,null,null,null,null,null,null,null,null,null,null,null,null,null,null,null,null,null,null,null,null,"Pollution  Indicators (Causes):  ",null,{"$f":"EP46&\" \"&EP47&\" \"&EP48&\" \"&EP49","v":"   "},null,null,null,null,null,null,null,null,null,null,null,null,null,null,null,null,null,null,null,null,null,null,null,"Pollution  Indicators (Causes):  ",null,{"$f":"FP46&\" \"&FP47","v":" "},null,null,null,null,null,null,null,null,null,null,null,null,null,null,null,null,null,null,null,null,null,null,null,"Pollution  Indicators (Causes):  ",null,{"$f":"GP46&\" \"&GP47&\" \"&GP48&\" \"&GP49&\" \"&GP50&\" \"&GP51","v":"     "},null,null,null,null,null,null,null,null,null,null,null,null,null,null,null,null,null,null,null,null,null,null,"Identify the suspected toxic chemical substance below (e.g., Hg, PCB, etc). "]
[null,null,"Turb/Color   C","NA",null,null,null,null,null,null,null,null,null,null,null,null,null,null,null,null,null,null,null,null,null,null,null,null,null,null,null,null,null,null,null,null,null,null,null,null,null,null,null,null,null,null,null,null,null,null,null,null,null,null,null,null,null,null,null,null,null,null,null,null,null,null,null,null,null,null,null,null,null,null,null,null,null,null,null,null,null,null,null,null,null,null,null,null,null,null,null,"Ag",null,null,null,null,null,null,null,null,null,null,null,null,null,null,null,null,null,null,null,null,null,null,null,null,null,null,null,null,null,null,null,null,null,null,null,null,null,null,null,null,null,null,null,null,null,null,null,null,null,null,null,null,null,null,null,null,null,null,null,null,null,null,null,null,null,null,null,null,null,null,null,null,null,null,null,null,null,null,null,null,null,null,null,null,null,null,null,null,null,null,null,null,null,null,null,null,null,null,null,null,null,null,null,null,null,null,null,null,null,null,null,null,null,null,null,null,null,null,null,null,null,null,null,null,null,null,null,null,null,null,null,null,null,null,null,null,null,null,null,null,null,null,null,null,null,null,null,null,null,null,null,null,null,null,null,"DDT"]
[null,null,"Nuisance Plants   V","NA",null,null,null,null,null,null,null,null,null,null,{"$f":"$B$16","v":"Biology"},null,null,null,null,null,null,null,null,null,null,null,null,null,null,null,null,null,null,null,null,null,null,null,null,null,{"$f":"$B$22","v":"Chemistry"},null,null,null,null,null,null,null,null,null,null,null,null,null,null,null,null,null,null,null,null,null,null,null,null,null,{"$f":"$B$28","v":"Nutrients"},null,null,null,null,null,null,null,null,null,null,null,null,null,null,null,null,null,null,null,null,null,null,null,null,null,null,null,null,null,null,null,null,null,null,null,null,null,null,null,null,null,null,null,null,null,null,null,null,null,null,null,{"$f":"$B$34","v":"Flow"},null,null,null,null,null,null,null,null,null,null,null,null,null,null,null,null,null,null,null,null,null,null,null,null,null,{"$f":"$B$36","v":"Habitat"},null,null,null,null,null,null,null,null,null,null,null,null,null,null,null,null,null,null,null,null,null,null,null,null,null,{"$f":"$B$40","v":"Bacteria"},null,null,null,null,null,null,null,null,null,null,null,null,null,null,null,null,null,null,null,null,null,null,null,null,null,{"$f":"$B$42","v":"Aesthetics"},null,null,null,null,null,null,null,null,null,null,null,null,null,null,null,null,null,null,null,null,null,null,null,null,"PCB"]
[null,null,"Trash /Debris   D","NA",null,null,null,null,null,null,null,null,null,null,{"$f":"$C$16","v":"Plank/Peri.   A"},{"$f":"IF($D$16=\"Concern\",\"(A)\",IF(OR($D$16=\"Fair\",$D$16=\"Poor\"),\"A\",\"\"))","v":""},null,null,null,null,null,null,null,null,null,null,null,null,null,null,null,null,null,null,null,null,null,null,null,null,{"$f":"$C$22","v":"Dis. Oxygen    DO"},{"$f":"IF($D$22=\"Concern\",\"(DO)\",IF(OR($D$22=\"Fair\",$D$22=\"Poor\"),\"DO\",\"\"))","v":""},null,null,null,null,null,null,null,null,null,null,null,null,null,null,null,null,null,null,null,null,null,null,null,null,{"$f":"$C$28","v":"Phosphorus  P"},{"$f":"IF($D$28=\"Concern\",\"(P)\",IF(OR($D$28=\"Fair\",$D$28=\"Poor\"),\"P\",\"\"))","v":""},null,null,null,null,null,null,null,null,null,null,null,null,null,null,null,null,null,null,null,null,null,null,null,null,null,null,null,null,null,null,null,null,null,null,null,null,null,null,null,null,null,null,null,null,null,null,null,null,null,null,{"$f":"$C$34","v":"Flow  Q"},{"$f":"IF($D$34=\"Concern\",\"(O)\",IF(OR($D$34=\"Fair\",$D$34=\"Poor\"),\"O\",\"\"))","v":""},null,null,null,null,null,null,null,null,null,null,null,null,null,null,null,null,null,null,null,null,null,null,null,null,{"$f":"$C$36","v":"Substrate   S"},{"$f":"IF($D$36=\"Concern\",\"(S)\",IF(OR($D$36=\"Fair\",$D$36=\"Poor\"),\"S\",\"\"))","v":""},null,null,null,null,null,null,null,null,null,null,null,null,null,null,null,null,null,null,null,null,null,null,null,null,{"$f":"$C$40","v":"Bacteria   B"},{"$f":"IF($D$40=\"Concern\",\"(B)\",IF(OR($D$40=\"Fair\",$D$40=\"Poor\"),\"B\",\"\"))","v":""},null,null,null,null,null,null,null,null,null,null,null,null,null,null,null,null,null,null,null,null,null,null,null,null,{"$f":"$C$42","v":"Oil & Grease   G"},{"$f":"IF($D$42=\"Concern\",\"(G)\",IF(OR($D$42=\"Fair\",$D$42=\"Poor\"),\"G\",\"\"))","v":""}]
[null,null,null,null,null,null,null,null,null,null,null,null,null,null,{"$f":"$C$17","v":"Macrophyton   M"},{"$f":"IF($D$17=\"Concern\",\"(M)\",IF(OR($D$17=\"Fair\",$D$17=\"Poor\"),\"M\",\"\"))","v":""},null,null,null,null,null,null,null,null,null,null,null,null,null,null,null,null,null,null,null,null,null,null,null,null,{"$f":"$C$23","v":"pH     pH"},{"$f":"IF($D$23=\"Concern\",\"(pH)\",IF(OR($D$23=\"Fair\",$D$23=\"Poor\"),\"pH\",\"\"))","v":""},null,null,null,null,null,null,null,null,null,null,null,null,null,null,null,null,null,null,null,null,null,null,null,null,{"$f":"$C$29","v":"Nitrogen   N"},{"$f":"IF($D$29=\"Concern\",\"(N)\",IF(OR($D$29=\"Fair\",$D$29=\"Poor\"),\"N\",\"\"))","v":""},null,null,null,null,null,null,null,null,null,null,null,null,null,null,null,null,null,null,null,null,null,null,null,null,null,null,null,null,null,null,null,null,null,null,null,null,null,null,null,null,null,null,null,null,null,null,null,null,null,null,{"$f":"IF($C$41=\"\",\"\",$C$41)","v":""},{"$f":"IF($D$35=\"Concern\",\"(**)\",IF(OR($D$35=\"Fair\",$D$35=\"Poor\"),\"**\",\"\"))","v":""},null,null,null,null,null,null,null,null,null,null,null,null,null,null,null,null,null,null,null,null,null,null,null,null,{"$f":"$C$37","v":"Morphology   H"},{"$f":"IF($D$37=\"Concern\",\"(H)\",IF(OR($D$37=\"Fair\",$D$37=\"Poor\"),\"H\",\"\"))","v":""},null,null,null,null,null,null,null,null,null,null,null,null,null,null,null,null,null,null,null,null,null,null,null,null,{"$f":"IF($C$41=\"\",\"\",$C$41)","v":""},{"$f":"IF($D$41=\"Concern\",\"(**)\",IF(OR($D$41=\"Fair\",$D$41=\"Poor\"),\"**\",\"\"))","v":""},null,null,null,null,null,null,null,null,null,null,null,null,null,null,null,null,null,null,null,null,null,null,null,null,{"$f":"$C$43","v":"Taste & Odor   O"},{"$f":"IF($D$43=\"Concern\",\"(O)\",IF(OR($D$43=\"Fair\",$D$43=\"Poor\"),\"O\",\"\"))","v":""}]
[null,"Tissue",{"$f":"\"Spec. Chem.   \"&HN45","v":"Spec. Chem.   PCB"},"NA","NA","NA",{"$f":"$HO$15&\"  \"&$HO$16&\"  \"&$HO$17&\"  \"&$HO$18&\"  \"&$HO$19&\"  \"&$HO$20","v":"          "},{"$f":"$HO$28&\"  \"&$HO$29&\"  \"&$HO$30&\"  \"&$HO$31&\"  \"&$HO$32&\"  \"&$HO$33","v":"          "},null,null,null,null,null,null,{"$f":"$C$18","v":"Invertebrates   I"},{"$f":"IF($D$18=\"Concern\",\"(I)\",IF(OR($D$18=\"Fair\",$D$18=\"Poor\"),\"I\",\"\"))","v":""},null,null,null,null,null,null,null,null,null,null,null,null,null,null,null,null,null,null,null,null,null,null,null,null,{"$f":"$C$24","v":"Temperature    T"},{"$f":"IF($D$24=\"Concern\",\"(T)\",IF(OR($D$24=\"Fair\",$D$24=\"Poor\"),\"T\",\"\"))","v":""},null,null,null,null,null,null,null,null,null,null,null,null,null,null,null,null,null,null,null,null,null,null,null,null,{"$f":"IF($C$30=\"\",\"\",$C$30)","v":""},{"$f":"IF($D$30=\"Concern\",\"(**)\",IF(OR($D$30=\"Fair\",$D$30=\"Poor\"),\"**\",\"\"))","v":""},null,null,null,null,null,null,null,null,null,null,null,null,null,null,null,null,null,null,null,null,null,null,null,null,null,null,null,null,null,null,null,null,null,null,null,null,null,null,null,null,null,null,null,null,null,null,null,null,null,null,null,null,null,null,null,null,null,null,null,null,null,null,null,null,null,null,null,null,null,null,null,null,null,null,null,null,{"$f":"$C$38","v":"Riparian Zone   R"},{"$f":"IF($D$38=\"Concern\",\"(R)\",IF(OR($D$38=\"Fair\",$D$38=\"Poor\"),\"R\",\"\"))","v":""},null,null,null,null,null,null,null,null,null,null,null,null,null,null,null,null,null,null,null,null,null,null,null,null,null,null,null,null,null,null,null,null,null,null,null,null,null,null,null,null,null,null,null,null,null,null,null,null,null,null,{"$f":"$C$44","v":"Turb/Color   C"},{"$f":"IF($D$44=\"Concern\",\"(C)\",IF(OR($D$44=\"Fair\",$D$44=\"Poor\"),\"C\",\"\"))","v":""}]
[null,null,null,null,null,null,null,null,null,null,null,null,null,null,{"$f":"$C$19","v":"Fish   F"},{"$f":"IF($D$19=\"Concern\",\"(F)\",IF(OR($D$19=\"Fair\",$D$19=\"Poor\"),\"F\",\"\"))","v":""},null,null,null,null,null,null,null,null,null,null,null,null,null,null,null,null,null,null,null,null,null,null,null,null,{"$f":"$C$25","v":"Ionic Strength    Z"},{"$f":"IF($D$25=\"Concern\",\"(Z)\",IF(OR($D$25=\"Fair\",$D$25=\"Poor\"),\"Z\",\"\"))","v":""},null,null,null,null,null,null,null,null,null,null,null,null,null,null,null,null,null,null,null,null,null,null,null,null,null,null,null,null,null,null,null,null,null,null,null,null,null,null,null,null,null,null,null,null,null,null,null,null,null,null,"Pollution  Indicators (Causes):  ",null,{"$f":"CP52&\" \"&CP53&\" \"&CP54","v":"  "},null,null,null,null,null,null,null,null,null,null,null,null,null,null,null,null,null,null,null,null,null,null,null,null,null,null,null,null,null,null,null,null,null,null,null,null,null,null,null,null,null,null,null,null,null,null,null,null,null,{"$f":"IF($C$39=\"\",\"\",$C$39)","v":""},{"$f":"IF($D$39=\"Concern\",\"(**)\",IF(OR($D$39=\"Fair\",$D$39=\"Poor\"),\"**\",\"\"))","v":""},null,null,null,null,null,null,null,null,null,null,null,null,null,null,null,null,null,null,null,null,null,null,null,null,null,null,null,null,null,null,null,null,null,null,null,null,null,null,null,null,null,null,null,null,null,null,null,null,null,null,{"$f":"$C$45","v":"Nuisance Plants   V"},{"$f":"IF($D$45=\"Concern\",\"(V)\",IF(OR($D$45=\"Fair\",$D$45=\"Poor\"),\"V\",\"\"))","v":""},null,null,null,null,null,null,null,null,null,null,null,null,null,null,null,null,null,null,null,null,null,null,null,null,null,null,null,null,null,null,null,null,null,null,null,null,null,null,null,null,null,null,null,null,null,null,null,null,null,null,"Pollution  Indicators (Causes):  ",null,{"$f":"IP52&\" \"&IP53&\" \"&IP54","v":"  "}]
[null,"Sediment","Unknown   U","NA","NA","NA",{"$f":"$IO$15&\"  \"&$IO$16&\"  \"&$IO$17&\"  \"&$IO$18&\"  \"&$IO$19&\"  \"&$IO$20","v":"          "},{"$f":"$IO$28&\"  \"&$IO$29&\"  \"&$IO$30&\"  \"&$IO$31&\"  \"&$IO$32&\"  \"&$IO$33","v":"          "},null,null,null,null,null,null,{"$f":"$C$20","v":"Wildlife   W"},{"$f":"IF($D$20=\"Concern\",\"(W)\",IF(OR($D$20=\"Fair\",$D$20=\"Poor\"),\"W\",\"\"))","v":""},null,null,null,null,null,null,null,null,null,null,null,null,null,null,null,null,null,null,null,null,null,null,null,null,{"$f":"$C$26","v":"Sus. Solids    SS"},{"$f":"IF($D$26=\"Concern\",\"(SS)\",IF(OR($D$26=\"Fair\",$D$26=\"Poor\"),\"SS\",\"\"))","v":""},null,null,null,null,null,null,null,null,null,null,null,null,null,null,null,null,null,null,null,null,null,null,null,null,null,null,null,null,null,null,null,null,null,null,null,null,null,null,null,null,null,null,null,null,null,null,null,null,null,null,null,null,null,null,null,null,null,null,null,null,null,null,null,null,null,null,null,null,null,null,null,null,null,null,null,null,null,null,null,null,null,null,null,null,null,null,null,null,null,null,null,null,null,null,null,null,null,null,null,null,null,null,null,null,null,null,null,null,null,null,null,null,null,null,null,null,null,null,null,null,null,null,null,null,null,null,null,null,null,null,null,null,null,null,null,null,null,null,null,null,null,null,null,null,null,null,null,null,null,null,null,null,null,null,{"$f":"$C$46","v":"Trash /Debris   D"},{"$f":"IF($D$46=\"Concern\",\"(D)\",IF(OR($D$46=\"Fair\",$D$46=\"Poor\"),\"D\",\"\"))","v":""},null,null,null,null,null,null,null,null,null,null,null,null,null,null,null,null,null,null,null,null,null,null,null,null,"Pollution  Indicators (Causes):  ",null,{"$f":"HP53&\" \"&HP54","v":" "}]
[null,null,{"$f":"\"Spec. Chem.   \"&IN44","v":"Spec. Chem.   DDT"},"NA",null,null,null,null,null,null,null,null,null,null,{"$f":"IF($C$21=\"\",\"\",$C$21)","v":""},{"$f":"IF($D$21=\"Concern\",\"(**)\",IF(OR($D$21=\"Fair\",$D$21=\"Poor\"),\"**\",\"\"))","v":""},null,null,null,null,null,null,null,null,null,null,null,null,null,null,null,null,null,null,null,null,null,null,null,null,{"$f":"IF($C$27=\"\",\"\",$C$27)","v":""},{"$f":"IF($D$27=\"Concern\",\"(**)\",IF(OR($D$27=\"Fair\",$D$27=\"Poor\"),\"**\",\"\"))","v":""},null,null,null,null,null,null,null,null,null,null,null,null,null,null,null,null,null,null,null,null,null,null,null,null,null,null,null,null,null,null,null,null,null,null,null,null,null,null,null,null,null,null,null,null,null,null,null,null,null,null,{"$f":"$B$31","v":"Toxicity"},null,null,null,null,null,null,null,null,null,null,null,null,null,null,null,null,null,null,null,null,null,null,null,null,null,null,null,null,null,null,null,null,null,null,null,null,null,null,null,null,null,null,null,null,null,null,null,null,null,null,null,null,null,null,null,null,null,null,null,null,null,null,null,null,null,null,null,null,null,null,null,null,null,null,null,null,null,null,null,null,null,null,null,null,null,null,null,null,null,null,null,null,null,null,null,null,null,null,null,null,null,null,null,{"$f":"IF($C$47=\"\",\"\",$C$47)","v":""},{"$f":"IF($D$47=\"Concern\",\"(**)\",IF(OR($D$47=\"Fair\",$D$47=\"Poor\"),\"**\",\"\"))","v":""},null,null,null,null,null,null,null,null,null,null,null,null,null,null,null,null,null,null,null,null,null,null,null,null,null,null,null,null,null,null,null,null,null,null,null,null,null,null,null,null,null,null,null,null,null,null,null,null,null,null,{"$f":"$B$50","v":"Sediment"}]
[null,null,null,null,null,null,null,null,null,null,null,null,null,null,null,null,null,null,null,null,null,null,null,null,null,null,null,null,null,null,null,null,null,null,null,null,null,null,null,null,null,null,null,null,null,null,null,null,null,null,null,null,null,null,null,null,null,null,null,null,null,null,null,null,null,null,null,null,null,null,null,null,null,null,null,null,null,null,null,null,null,null,null,null,null,null,null,null,null,null,null,null,{"$f":"$C$31","v":"Unknown   U"},{"$f":"IF($D$31=\"Concern\",\"(U)\",IF(OR($D$31=\"Fair\",$D$31=\"Poor\"),\"U\",\"\"))","v":""},null,null,null,null,null,null,null,null,null,null,null,null,null,null,null,null,null,null,null,null,null,null,null,null,null,null,null,null,null,null,null,null,null,null,null,null,null,null,null,null,null,null,null,null,null,null,null,null,null,null,null,null,null,null,null,null,null,null,null,null,null,null,null,null,null,null,null,null,null,null,null,null,null,null,null,null,null,null,null,null,null,null,null,null,null,null,null,null,null,null,null,null,null,null,null,null,null,null,null,null,null,null,null,null,null,null,null,null,null,null,null,null,null,null,null,null,null,null,null,null,null,null,null,null,null,null,null,null,{"$f":"$B$48","v":"Tissue"},null,null,null,null,null,null,null,null,null,null,null,null,null,null,null,null,null,null,null,null,null,null,null,null,null,{"$f":"$C$50","v":"Unknown   U"},{"$f":"IF($D$50=\"Concern\",\"(U)\",IF(OR($D$50=\"Fair\",$D$50=\"Poor\"),\"U\",\"\"))","v":""}]
[null,"Comments:",null,null,null,null,null,"*  Suspected Source  ",null,null,null,null,null,null,null,null,null,null,null,null,null,null,null,null,null,null,null,null,null,null,null,null,null,null,null,null,null,null,null,null,null,null,null,null,null,null,null,null,null,null,null,null,null,null,null,null,null,null,null,null,null,null,null,null,null,null,null,null,null,null,null,null,null,null,null,null,null,null,null,null,null,null,null,null,null,null,null,null,null,null,null,null,{"$f":"$C$32","v":"Spec. Chem.  Ag"},{"$f":"IF($D$32=\"Concern\",\"(\"&CN44&\")\",IF(OR($D$32=\"Fair\",$D$32=\"Poor\"),CN44,\"\"))","v":""},null,null,null,null,null,null,null,null,null,null,null,null,null,null,null,null,null,null,null,null,null,null,null,null,null,null,null,null,null,null,null,null,null,null,null,null,null,null,null,null,null,null,null,null,null,null,null,null,null,null,null,null,null,null,null,null,null,null,null,null,null,null,null,null,null,null,null,null,null,null,null,null,null,null,null,null,null,null,null,null,null,null,null,null,null,null,null,null,null,null,null,null,null,null,null,null,null,null,null,null,null,null,null,null,null,null,null,null,null,null,null,null,null,null,null,null,null,null,null,null,null,null,null,null,null,null,null,null,{"$f":"$C$48","v":"Spec. Chem.   PCB"},{"$f":"IF($D$48=\"Concern\",\"(\"&HN45&\")\",IF(OR($D$48=\"Fair\",$D$32=\"Poor\"),HN45,\"\"))","v":""},null,null,null,null,null,null,null,null,null,null,null,null,null,null,null,null,null,null,null,null,null,null,null,null,{"$f":"$C$51","v":"Spec. Chem.   DDT"},{"$f":"IF($D$51=\"Concern\",\"(\"&IN44&\")\",IF(OR($D$51=\"Fair\",$D$51=\"Poor\"),IN44,\"\"))","v":""}]
[null,null,null,null,null,null,null,"** Potential Source  ",null,null,null,null,null,null,null,null,null,null,null,null,null,null,null,null,null,null,null,null,null,null,null,null,null,null,null,null,null,null,null,null,null,null,null,null,null,null,null,null,null,null,null,null,null,null,null,null,null,null,null,null,null,null,null,null,null,null,null,null,null,null,null,null,null,null,null,null,null,null,null,null,null,null,null,null,null,null,null,null,null,null,null,null,{"$f":"IF($C$33=\"\",\"\",$C$33)","v":""},{"$f":"IF($D$33=\"Concern\",\"(**)\",IF(OR($D$33=\"Fair\",$D$33=\"Poor\"),\"**\",\"\"))","v":""},null,null,null,null,null,null,null,null,null,null,null,null,null,null,null,null,null,null,null,null,null,null,null,null,null,null,null,null,null,null,null,null,null,null,null,null,null,null,null,null,null,null,null,null,null,null,null,null,null,null,null,null,null,null,null,null,null,null,null,null,null,null,null,null,null,null,null,null,null,null,null,null,null,null,null,null,null,null,null,null,null,null,null,null,null,null,null,null,null,null,null,null,null,null,null,null,null,null,null,null,null,null,null,null,null,null,null,null,null,null,null,null,null,null,null,null,null,null,null,null,null,null,null,null,null,null,null,null,{"$f":"IF($C$49=\"\",\"\",$C$49)","v":""},{"$f":"IF($D$49=\"Concern\",\"(**)\",IF(OR($D$49=\"Fair\",$D$49=\"Poor\"),\"**\",\"\"))","v":""},null,null,null,null,null,null,null,null,null,null,null,null,null,null,null,null,null,null,null,null,null,null,null,null,{"$f":"IF($C$52=\"\",\"\",$C$52)","v":""},{"$f":"IF($D$52=\"Concern\",\"(**)\",IF(OR($D$52=\"Fair\",$D$52=\"Poor\"),\"**\",\"\"))","v":""}]
[null,null,null,null,null,null,null,"No asterisk: Known Source  "]
[null,null,null,null,null,null,null,"[Out of Segment Source ]  "]
[]
[]
[]
[null,"SegNameLong:  ","vvvvvv"]
[null,"Seg Name:  ","vvv"]
[null,"Seg Num:  "]
[null,"Seg Size:  "]
[null,"Seg Class:  "]
[]
[]
[]
[]
[]
[]
[]
[]
[]
[]
[]
[]
[null,null,null,{"$f":"A99","v":""}]
[null,null,null,{"$f":"B99","v":""}]
[null,null,null,{"$f":"C99","v":""}]
[null,null,null,{"$f":"D99","v":""}]
[null,null,null,{"$f":"E99","v":""}]
[null,null,null,{"$f":"F99","v":""}]
[null,null,null,{"$f":"G99","v":""}]
[null,null,null,{"$f":"H99","v":""}]
[null,null,null,{"$f":"I99","v":""}]
[]
[]
[]
[]
[]
[]
[]
[]
[]
[]
[]
[]
[]
[{"$f":"TRIM(A101&\" \"&A102&\" \"&A103&\" \"&A104&\" \"&A105&\" \"&A106)","v":""},{"$f":"TRIM(B101&\" \"&B102&\" \"&B103&\" \"&B104&\" \"&B105&\" \"&B106)","v":""},"","","","","","",""]

{"sheet":"Seg23","index":27,"n_rows":99,"n_cols":311,"rows_kept":99,"cut":false,"hidden":false,"merged":[[15,1,20,1],[15,4,20,4],[15,5,20,5],[15,6,20,6],[15,7,20,7],[13,1,14,1],[13,2,14,3],[13,4,14,4],[13,5,14,5],[14,6,14,7],[27,1,29,1],[27,4,29,4],[27,5,29,5],[27,6,29,6],[27,7,29,7],[21,1,26,1],[21,4,26,4],[21,5,26,5],[21,6,26,6],[21,7,26,7],[49,6,51,6],[49,7,51,7],[30,1,32,1],[30,4,32,4],[30,5,32,5],[30,6,32,6],[30,7,32,7],[33,1,34,1],[33,4,34,4],[33,5,34,5],[33,6,34,6],[33,7,34,7],[43,91,45,94],[35,1,38,1],[35,4,38,4],[35,5,38,5],[35,6,38,6],[35,7,38,7],[39,1,40,1],[39,4,40,4],[39,5,40,5],[39,6,40,6],[39,7,40,7],[52,1,55,1],[43,247,45,250],[44,221,46,224],[47,1,48,1],[47,4,48,4],[47,5,48,5],[47,6,48,6],[47,7,48,7],[41,1,46,1],[41,4,46,4],[41,5,46,5],[41,6,46,6],[41,7,46,7],[49,1,51,1],[49,4,51,4],[49,5,51,5]]}
[]
[]
[]
[]
[null,null,null,null,null,null,null,null,null,null,null,null,null,null,null,null,null,null,null,null,null,null,null,null,null,null,null,null,null,null,null,null,null,null,null,null,null,null,null,null,null,null,null,null,null,null,null,null,null,null,null,null,null,null,null,null,null,null,null,null,null,null,null,null,null,null,null,null,null,null,null,null,null,null,null,null,null,null,null,null,null,null,null,null,null,null,null,null,null,null,null,null,null,null,null,null,null,null,null,null,null,null,null,null,null,null,null,null,null,null,null,null,null,null,null,null,null,null,null,null,null,null,null,null,null,null,null,null,null,null,null,null,null,null,null,null,null,null,null,null,null,null,null,null,null,null,null,null,null,null,null,null,null,null,null,null,null,null,null,null,null,null,null,null,null,null,null,null,null,null,null,null,null,null,null,null,null,null,null,null,null,null,null,null,null,null,null,null,null,null,null,null,null,null,null,null,null,null,null,null,null,null,null,null,null,null,null,null,null,null,null,null,null,null,null,null,null,null,null,null,null,null,null,null,null,null,null,null,null,null,null,null,null,null,null,null,null,null,null,null,null,null,null,null,null,null,null,null,null,null,null,null,null,null,null,null,null,null,null,null,null,null,null,null,null,null,null,null,null,null,null,null,null,null,null,null,null,null,null,null,null,null,null,null,null,"List of all codes from all groups for this segment, organized by Source Type. "]
[null,null,null,null,null,null,null,null,null,null,null,null,null,null,null,null,null,null,null,null,null,null,null,null,null,null,null,null,null,null,null,null,null,null,null,null,null,null,null,null,null,null,null,null,null,null,null,null,null,null,null,null,null,null,null,null,null,null,null,null,null,null,null,null,null,null,null,null,null,null,null,null,null,null,null,null,null,null,null,null,null,null,null,null,null,null,null,null,null,null,null,null,null,null,null,null,null,null,null,null,null,null,null,null,null,null,null,null,null,null,null,null,null,null,null,null,null,null,null,null,null,null,null,null,null,null,null,null,null,null,null,null,null,null,null,null,null,null,null,null,null,null,null,null,null,null,null,null,null,null,null,null,null,null,null,null,null,null,null,null,null,null,null,null,null,null,null,null,null,null,null,null,null,null,null,null,null,null,null,null,null,null,null,null,null,null,null,null,null,null,null,null,null,null,null,null,null,null,null,null,null,null,null,null,null,null,null,null,null,null,null,null,null,null,null,null,null,null,null,null,null,null,null,null,null,null,null,null,null,null,null,null,null,null,null,null,null,null,null,null,null,null,null,null,null,null,null,null,null,null,null,null,null,null,null,null,null,null,null,null,null,null,null,null,null,null,null,null,null,null,null,null,null,null,null,null,null,null,null,null,null,null,null,null,null,"List is updated only when \"SourceRC_List\" macro is run. Macro is run manually by touching button at right or when Source report card is activated."]
[null,null,null,null,null,null,null,null,null,null,null,null,null,null,null,null,null,null,null,null,null,null,null,null,null,null,null,null,null,null,null,null,null,null,null,null,null,null,null,null,null,null,null,null,null,null,null,null,null,null,null,null,null,null,null,null,null,null,null,null,null,null,null,null,null,null,null,null,null,null,null,null,null,null,null,null,null,null,null,null,null,null,null,null,null,null,null,null,null,null,null,null,null,null,null,null,null,null,null,null,null,null,null,null,null,null,null,null,null,null,null,null,null,null,null,null,null,null,null,null,null,null,null,null,null,null,null,null,null,null,null,null,null,null,null,null,null,null,null,null,null,null,null,null,null,null,null,null,null,null,null,null,null,null,null,null,null,null,null,null,null,null,null,null,null,null,null,null,null,null,null,null,null,null,null,null,null,null,null,null,null,null,null,null,null,null,null,null,null,null,null,null,null,null,null,null,null,null,null,null,null,null,null,null,null,null,null,null,null,null,null,null,null,null,null,null,null,null,null,null,null,null,null,null,null,null,null,null,null,null,null,null,null,null,null,null,null,null,null,null,null,null,null,null,null,null,null,null,null,null,null,null,null,null,null,null,null,null,null,null,null,null,null,null,null,null,null,null,null,null,null,null,null,null,null,null,null,null,null,null,null,null,null,null,null,"Numbers indicate knowledge about the certainty of assessment: 0 = N/A, 1 = Potential Source, 2 = Suspected Source, 3 = Known Source."]
[null,null,null,null,null,null,null,null,null,null,null,null,null,null,null,null,null,null,null,null,null,null,null,null,null,null,null,null,null,null,null,null,null,null,null,null,null,null,null,null,null,null,null,null,null,null,null,null,null,null,null,null,null,null,null,null,null,null,null,null,null,null,null,null,null,null,null,null,null,null,null,null,null,null,null,null,null,null,null,null,null,null,null,null,null,null,null,null,null,null,null,null,null,null,null,null,null,null,null,null,null,null,null,null,null,null,null,null,null,null,null,null,null,null,null,null,null,null,null,null,null,null,null,null,null,null,null,null,null,null,null,null,null,null,null,null,null,null,null,null,null,null,null,null,null,null,null,null,null,null,null,null,null,null,null,null,null,null,null,null,null,null,null,null,null,null,null,null,null,null,null,null,null,null,null,null,null,null,null,null,null,null,null,null,null,null,null,null,null,null,null,null,null,null,null,null,null,null,null,null,null,null,null,null,null,null,null,null,null,null,null,null,null,null,null,null,null,null,null,null,null,null,null,null,null,null,null,null,null,null,null,null,null,null,null,null,null,null,null,null,null,null,null,null,null,null,null,null,null,null,null,null,null,null,null,null,null,null,null,null,null,null,null,null,null,null,null,null,null,null,null,null,null,null,null,null,null,null,null,null,null,null,null,null,null,"This list is then processed below to remove duplicates."]
[null,null,null,null,null,null,null,null,null,null,null,null,null,"Designate Point & Non-Point Sources",null,null,null,null,null,null,null,null,null,null,null,null,null,null,null,null,null,null,null,null,null,null,null,null,null,"Designate Point & Non-Point Sources",null,null,null,null,null,null,null,null,null,null,null,null,null,null,null,null,null,null,null,null,null,null,null,null,null,"Designate Point & Non-Point Sources",null,null,null,null,null,null,null,null,null,null,null,null,null,null,null,null,null,null,null,null,null,null,null,null,null,"Designate Point & Non-Point Sources",null,null,null,null,null,null,null,null,null,null,null,null,null,null,null,null,null,null,null,null,null,null,null,null,null,"Designate Point & Non-Point Sources",null,null,null,null,null,null,null,null,null,null,null,null,null,null,null,null,null,null,null,null,null,null,null,null,null,"Designate Point & Non-Point Sources",null,null,null,null,null,null,null,null,null,null,null,null,null,null,null,null,null,null,null,null,null,null,null,null,null,"Designate Point & Non-Point Sources",null,null,null,null,null,null,null,null,null,null,null,null,null,null,null,null,null,null,null,null,null,null,null,null,null,"Designate Point & Non-Point Sources",null,null,null,null,null,null,null,null,null,null,null,null,null,null,null,null,null,null,null,null,null,null,null,null,null,"Designate Point & Non-Point Sources",null,null,null,null,null,null,null,null,null,null,null,null,null,null,null,null,null,null,null,null,null,null,null,null,null,"Designate Point & Non-Point Sources"]
[null,null,null,null,null,null,null,null,null,null,null,null,null,null,null,null,null,null,null,null,null,null,null,"Codes selected at left are distributed according to Source Type. "]
[null,{"$f":"\"River Basin: \"&RiverBasinName","v":"River Basin: Test River Basin"},null,null,null,null,{"$f":"\"Data Year:  \"&AssessmentYear","v":"Data Year:  2011"},null,null,null,null,null,null,null,null,null,null,null,null,null,null,null,null,"Numbers indicate confidence of assessment: 0 = N/A, 1 = Potential Source, 2 = Suspected Source, 3 = Known Source.",null,null,null,null,null,null,null,null,null,null,null,null,null,null,null,null,null,null,null,null,null,null,null,null,null,null,null,null,null,null,null,null,null,null,null,null,null,null,null,null,null,null,null,null,null,null,null,null,null,null,null,null,null,null,null,null,null,null,null,null,null,null,null,null,null,null,null,null,null,null,null,null,null,null,null,null,null,null,null,null,null,null,null,null,null,null,null,null,null,null,null,null,null,null,null,null,null,null,null,null,null,null,null,null,null,null,null,null,null,null,null,null,null,null,null,null,null,null,null,null,null,null,null,null,null,null,null,null,null,null,null,null,null,null,null,null,null,null,null,null,null,null,null,null,null,null,null,null,null,null,null,null,null,null,null,null,null,null,null,null,null,null,null,null,null,null,null,null,null,null,null,null,null,null,null,null,null,null,null,null,null,null,null,null,null,null,null,null,null,null,null,null,null,null,null,null,null,null,null,null,null,null,null,null,null,null,null,null,null,null,null,null,null,null,null,null,null,null,null,null,null,null,null,null,null,null,null,null,null,null,null,null,null,null,null,null,null,null,null,null,null,null,null,null,null,null,null,null,null,null,null,null,null,null,null,null,null,null,null,null,null,null,"Municp",null,null,"Industr",null,null,"St Water",null,null,"Res Ext",null,null,"Land Dis",null,null,"Seds",null,null,"Hydro",null,null,"Other",null,null,"Unknown"]
[null,{"$f":"\"Segment Name: \"&C60","v":"Segment Name: wwwwww"},null,null,null,null,null,null,null,null,null,null,null,null,null,null,null,null,null,null,null,null,null,"These codes are processed by \"SourceRC_List macro and transferred to Source report card."]
[null,{"$f":"\"Class: \"&C64","v":"Class: "},null,{"$f":"\"Size: \"&C63","v":"Size: "},null,null,{"$f":"\"Seg ID #: \"&C62","v":"Seg ID #: "}]
[null,"CATEGORY","INDICATOR ASSESSMENT",null,"OVERALL STATUS","DATA LEVEL","POINT","NONPOINT",null,null,null,null,null,"Point Sources",null,null,null,null,null,null,null,null,null,"Municipal",null,null,"Industrial",null,null,"Storm Water",null,null,"Resource Ext",null,null,"Land Disposal",null,null,null,"Point Sources",null,null,null,null,null,null,null,null,null,"Municipal",null,null,"Industrial",null,null,"Storm Water",null,null,"Resource Ext",null,null,"Land Disposal",null,null,null,"Point Sources",null,null,null,null,null,null,null,null,null,"Municipal",null,null,"Industrial",null,null,"Storm Water",null,null,"Resource Ext",null,null,"Land Disposal",null,null,null,"Point Sources",null,null,null,null,null,null,null,null,null,"Municipal",null,null,"Industrial",null,null,"Storm Water",null,null,"Resource Ext",null,null,"Land Disposal",null,null,null,"Point Sources",null,null,null,null,null,null,null,null,null,"Municipal",null,null,"Industrial",null,null,"Storm Water",null,null,"Resource Ext",null,null,"Land Disposal",null,null,null,"Point Sources",null,null,null,null,null,null,null,null,null,"Municipal",null,null,"Industrial",null,null,"Storm Water",null,null,"Resource Ext",null,null,"Land Disposal",null,null,null,"Point Sources",null,null,null,null,null,null,null,null,null,"Municipal",null,null,"Industrial",null,null,"Storm Water",null,null,"Resource Ext",null,null,"Land Disposal",null,null,null,"Point Sources",null,null,null,null,null,null,null,null,null,"Municipal",null,null,"Industrial",null,null,"Storm Water",null,null,"Resource Ext",null,null,"Land Disposal",null,null,null,"Point Sources",null,null,null,null,null,null,null,null,null,"Municipal",null,null,"Industrial",null,null,"Storm Water",null,null,"Resource Ext",null,null,"Land Disposal",null,null,null,"Point Sources",null,null,null,null,null,null,null,null,null,"Municipal",null,null,"Industrial",null,null,"Storm Water",null,null,"Resource Ext",null,null,"Land Disposal"]
[null,null,null,null,null,null,"Click below to select Sources"]
[null,"Biology","Plank/Peri.   A","NA","NA","NA",{"$f":"$O$15&\"  \"&$O$16&\"  \"&$O$17&\"  \"&$O$18&\"  \"&$O$19&\"  \"&$O$20","v":"          "},{"$f":"$O$28&\"  \"&$O$29&\"  \"&$O$30&\"  \"&$O$31&\"  \"&$O$32&\"  \"&$O$33","v":"          "}]
[null,null,"Macrophyton   M","NA"]
[null,null,"Invertebrates   I","NA"]
[null,null,"Fish   F","NA"]
[null,null,"Wildlife   W","NA"]
[]
[null,"Chemistry","Dis. Oxygen    DO","NA","NA","NA",{"$f":"$AO$15&\"  \"&$AO$16&\"  \"&$AO$17&\"  \"&$AO$18&\"  \"&$AO$19&\"  \"&$AO$20","v":"          "},{"$f":"$AO$28&\"  \"&$AO$29&\"  \"&$AO$30&\"  \"&$AO$31&\"  \"&$AO$32&\"  \"&$AO$33","v":"          "}]
[null,null,"pH     pH","NA"]
[null,null,"Temperature    T","NA"]
[null,null,"Ionic Strength    Z","NA"]
[null,null,"Sus. Solids    SS","NA"]
[null,null,null,null,null,null,null,null,null,null,null,null,null,"Non Point Sources",null,null,null,null,null,null,null,null,null,"Seds",null,null,"Hydromodification",null,null,"Other",null,null,"Unknown",null,null,null,null,null,null,"Non Point Sources",null,null,null,null,null,null,null,null,null,"Seds",null,null,"Hydromodification",null,null,"Other",null,null,"Unknown",null,null,null,null,null,null,"Non Point Sources",null,null,null,null,null,null,null,null,null,"Seds",null,null,"Hydromodification",null,null,"Other",null,null,"Unknown",null,null,null,null,null,null,"Non Point Sources",null,null,null,null,null,null,null,null,null,"Seds",null,null,"Hydromodification",null,null,"Other",null,null,"Unknown",null,null,null,null,null,null,"Non Point Sources",null,null,null,null,null,null,null,null,null,"Seds",null,null,"Hydromodification",null,null,"Other",null,null,"Unknown",null,null,null,null,null,null,"Non Point Sources",null,null,null,null,null,null,null,null,null,"Seds",null,null,"Hydromodification",null,null,"Other",null,null,"Unknown",null,null,null,null,null,null,"Non Point Sources",null,null,null,null,null,null,null,null,null,"Seds",null,null,"Hydromodification",null,null,"Other",null,null,"Unknown",null,null,null,null,null,null,"Non Point Sources",null,null,null,null,null,null,null,null,null,"Seds",null,null,"Hydromodification",null,null,"Other",null,null,"Unknown",null,null,null,null,null,null,"Non Point Sources",null,null,null,null,null,null,null,null,null,"Seds",null,null,"Hydromodification",null,null,"Other",null,null,"Unknown",null,null,null,null,null,null,"Non Point Sources",null,null,null,null,null,null,null,null,null,"Seds",null,null,"Hydromodification",null,null,"Other",null,null,"Unknown"]
[null,"Nutrients","Phosphorus  P","NA","NA","NA",{"$f":"$BO$15&\"  \"&$BO$16&\"  \"&$BO$17&\"  \"&$BO$18&\"  \"&$BO$19&\"  \"&$BO$20","v":"          "},{"$f":"$BO$28&\"  \"&$BO$29&\"  \"&$BO$30&\"  \"&$BO$31&\"  \"&$BO$32&\"  \"&$BO$33","v":"          "}]
[null,null,"Nitrogen   N","NA"]
[]
[null,"Toxicity","Unknown   U","NA","NA","NA",{"$f":"$CO$15&\"  \"&$CO$16&\"  \"&$CO$17&\"  \"&$CO$18&\"  \"&$CO$19&\"  \"&$CO$20","v":"          "},{"$f":"$CO$28&\"  \"&$CO$29&\"  \"&$CO$30&\"  \"&$CO$31&\"  \"&$CO$32&\"  \"&$CO$33","v":"          "}]
[null,null,{"$f":"\"Spec. Chem.  \"&CN44","v":"Spec. Chem.  Ag"},"NA"]
[null,null,null,null,null,null,null,null,null,null,null,null,null,null,null,null,null,null,null,null,null,null,null,null,null,null,null,null,null,null,null,null,null,null,null,null,null,null,null,null,null,null,null,null,null,null,null,null,null,null,null,null,null,null,null,null,null,null,null,null,null,null,null,null,null,null,null,null,null,null,null,null,null,null,null,null,null,null,null,null,null,null,null,null,null,null,null,null,null,null,null,null,null,null,null,null,null,null,null,null,null,null,null,null,null,null,null,null,null,null,null,null,null,null,null,null,null,null,null,null,null,null,null,null,null,null,null,null,null,null,null,null,null,null,null,null,null,null,null,null,null,null,null,null,null,null,null,null,null,null,null,null,null,null,null,null,null,null,null,null,null,null,null,null,null,null,null,null,null,null,null,null,null,null,null,null,null,null,null,null,null,null,null,null,null,null,null,null,null,null,null,null,null,null,null,null,null,null,null,null,null,null,null,null,null,null,null,null,null,null,null,null,null,null,null,null,null,null,null,null,null,null,null,null,null,null,null,null,null,null,null,null,null,null,null,null,null,null,null,null,null,null,null,null,null,null,null,null,null,null,null,null,null,null,null,null,null,null,null,null,null,null,null,null,null,null,null,null,null,null,null,null,null,null,null,null,null,null,null,null,null,null,null,null,null,"The colored cells below reflect this segments pollution status and are replicated on the Sources report card automatically"]
[null,"Flow","Flow  Q","NA","NA","NA",{"$f":"$DO$15&\"  \"&$DO$16&\"  \"&$DO$17&\"  \"&$DO$18&\"  \"&$DO$19&\"  \"&$DO$20","v":"          "},{"$f":"$DO$28&\"  \"&$DO$29&\"  \"&$DO$30&\"  \"&$DO$31&\"  \"&$DO$32&\"  \"&$DO$33","v":"          "},null,null,null,null,null,null,null,null,null,null,null,null,null,null,null,null,null,null,null,null,null,null,null,null,null,null,null,null,null,null,null,null,null,null,null,null,null,null,null,null,null,null,null,null,null,null,null,null,null,null,null,null,null,null,null,null,null,null,null,null,null,null,null,null,null,null,null,null,null,null,null,null,null,null,null,null,null,null,null,null,null,null,null,null,null,null,null,null,null,null,null,null,null,null,null,null,null,null,null,null,null,null,null,null,null,null,null,null,null,null,null,null,null,null,null,null,null,null,null,null,null,null,null,null,null,null,null,null,null,null,null,null,null,null,null,null,null,null,null,null,null,null,null,null,null,null,null,null,null,null,null,null,null,null,null,null,null,null,null,null,null,null,null,null,null,null,null,null,null,null,null,null,null,null,null,null,null,null,null,null,null,null,null,null,null,null,null,null,null,null,null,null,null,null,null,null,null,null,null,null,null,null,null,null,null,null,null,null,null,null,null,null,null,null,null,null,null,null,null,null,null,null,null,null,null,null,null,null,null,null,null,null,null,null,null,null,null,null,null,null,null,null,null,null,null,null,null,null,null,null,null,null,null,null,null,null,null,null,null,null,null,null,null,null,null,null,null,null,null,null,null,null,null,null,null,null,null,null,{"$f":"KA11","v":"Municp"},null,null,{"$f":"KD11","v":"Industr"},null,null,{"$f":"KG11","v":"St Water"},null,null,{"$f":"KJ11","v":"Res Ext"},null,null,{"$f":"KM11","v":"Land Dis"},null,null,{"$f":"KP11","v":"Seds"},null,null,{"$f":"KS11","v":"Hydro"},null,null,{"$f":"KV11","v":"Other"},null,null,{"$f":"KY11","v":"Unknown"}]
[null,null,null,null,null,null,null,null,null,null,null,null,null,"* designates a Suspected Source",null,null,null,null,null,null,null,null,null,null,null,null,null,null,null,null,null,null,null,null,null,null,null,null,null,"* designates a Suspected Source",null,null,null,null,null,null,null,null,null,null,null,null,null,null,null,null,null,null,null,null,null,null,null,null,null,"* designates a Suspected Source",null,null,null,null,null,null,null,null,null,null,null,null,null,null,null,null,null,null,null,null,null,null,null,null,null,"* designates a Suspected Source",null,null,null,null,null,null,null,null,null,null,null,null,null,null,null,null,null,null,null,null,null,null,null,null,null,"* designates a Suspected Source",null,null,null,null,null,null,null,null,null,null,null,null,null,null,null,null,null,null,null,null,null,null,null,null,null,"* designates a Suspected Source",null,null,null,null,null,null,null,null,null,null,null,null,null,null,null,null,null,null,null,null,null,null,null,null,null,"* designates a Suspected Source",null,null,null,null,null,null,null,null,null,null,null,null,null,null,null,null,null,null,null,null,null,null,null,null,null,"* designates a Suspected Source",null,null,null,null,null,null,null,null,null,null,null,null,null,null,null,null,null,null,null,null,null,null,null,null,null,"* designates a Suspected Source",null,null,null,null,null,null,null,null,null,null,null,null,null,null,null,null,null,null,null,null,null,null,null,null,null,null,null,null,null,null,null,null,null,null,null,null,null,null,null,null,null,null,null,null,null,null,null,null,null,null,null,null,null,null,null,null,null,null,null,null,null,null,null,null,{"$f":"TRIM(KA41&\" \"&KA42&\" \"&KA43&\" \"&KA44&\" \"&KA45&\" \"&KA46)","v":""},null,null,{"$f":"TRIM(KD41&\" \"&KD42&\" \"&KD43&\" \"&KD44&\" \"&KD45&\" \"&KD46)","v":""},null,null,{"$f":"TRIM(KG41&\" \"&KG42&\" \"&KG43&\" \"&KG44&\" \"&KG45&\" \"&KG46)","v":""},null,null,{"$f":"TRIM(KJ41&\" \"&KJ42&\" \"&KJ43&\" \"&KJ44&\" \"&KJ45&\" \"&KJ46)","v":""},null,null,{"$f":"TRIM(KM41&\" \"&KM42&\" \"&KM43&\" \"&KM44&\" \"&KM45&\" \"&KM46)","v":""},null,null,{"$f":"TRIM(KP41&\" \"&KP42&\" \"&KP43&\" \"&KP44&\" \"&KP45&\" \"&KP46)","v":""},null,null,{"$f":"TRIM(KS41&\" \"&KS42&\" \"&KS43&\" \"&KS44&\" \"&KS45&\" \"&KS46)","v":""},null,null,{"$f":"TRIM(KV41&\" \"&KV42&\" \"&KV43&\" \"&KV44&\" \"&KV45&\" \"&KV46)","v":""},null,null,{"$f":"TRIM(KY41&\" \"&KY42&\" \"&KY43&\" \"&KY44&\" \"&KY45&\" \"&KY46)","v":""}]
[null,"Habitat","Substrate   S","NA","NA","NA",{"$f":"$EO$15&\"  \"&$EO$16&\"  \"&$EO$17&\"  \"&$EO$18&\"  \"&$EO$19&\"  \"&$EO$20","v":"          "},{"$f":"$EO$28&\"  \"&$EO$29&\"  \"&$EO$30&\"  \"&$EO$31&\"  \"&$EO$32&\"  \"&$EO$33","v":"          "},null,null,null,null,null,"** designates a Potential Source",null,null,null,null,null,null,null,null,null,null,null,null,null,null,null,null,null,null,null,null,null,null,null,null,null,"** designates a Potential Source",null,null,null,null,null,null,null,null,null,null,null,null,null,null,null,null,null,null,null,null,null,null,null,null,null,"** designates a Potential Source",null,null,null,null,null,null,null,null,null,null,null,null,null,null,null,null,null,null,null,null,null,null,null,null,null,"** designates a Potential Source",null,null,null,null,null,null,null,null,null,null,null,null,null,null,null,null,null,null,null,null,null,null,null,null,null,"** designates a Potential Source",null,null,null,null,null,null,null,null,null,null,null,null,null,null,null,null,null,null,null,null,null,null,null,null,null,"** designates a Potential Source",null,null,null,null,null,null,null,null,null,null,null,null,null,null,null,null,null,null,null,null,null,null,null,null,null,"** designates a Potential Source",null,null,null,null,null,null,null,null,null,null,null,null,null,null,null,null,null,null,null,null,null,null,null,null,null,"** designates a Potential Source",null,null,null,null,null,null,null,null,null,null,null,null,null,null,null,null,null,null,null,null,null,null,null,null,null,"** designates a Potential Source"]
[null,null,"Morphology   H","NA",null,null,null,null,null,null,null,null,null,"No asterisk designates a Known Source",null,null,null,null,null,null,null,null,null,null,null,null,null,null,null,null,null,null,null,null,null,null,null,null,null,"No asterisk designates a Known Source",null,null,null,null,null,null,null,null,null,null,null,null,null,null,null,null,null,null,null,null,null,null,null,null,null,"No asterisk designates a Known Source",null,null,null,null,null,null,null,null,null,null,null,null,null,null,null,null,null,null,null,null,null,null,null,null,null,"No asterisk designates a Known Source",null,null,null,null,null,null,null,null,null,null,null,null,null,null,null,null,null,null,null,null,null,null,null,null,null,"No asterisk designates a Known Source",null,null,null,null,null,null,null,null,null,null,null,null,null,null,null,null,null,null,null,null,null,null,null,null,null,"No asterisk designates a Known Source",null,null,null,null,null,null,null,null,null,null,null,null,null,null,null,null,null,null,null,null,null,null,null,null,null,"No asterisk designates a Known Source",null,null,null,null,null,null,null,null,null,null,null,null,null,null,null,null,null,null,null,null,null,null,null,null,null,"No asterisk designates a Known Source",null,null,null,null,null,null,null,null,null,null,null,null,null,null,null,null,null,null,null,null,null,null,null,null,null,"No asterisk designates a Known Source",null,null,null,null,null,null,null,null,null,null,null,null,null,null,null,null,null,null,null,null,null,null,null,null,null,null,null,null,null,null,null,null,null,null,null,null,null,null,null,null,null,null,null,null,null,null,null,null,null,null,null,null,null,null,null,null,null,null,null,null,null,null,null,"max confid #",{"$f":"MAX(KB11:KB31)","v":0},null,null,{"$f":"MAX(KE11:KE31)","v":0},null,null,{"$f":"MAX(KH11:KH31)","v":0},null,null,{"$f":"MAX(KK11:KK31)","v":0},null,null,{"$f":"MAX(KN11:KN31)","v":0},null,null,{"$f":"MAX(KQ11:KQ31)","v":0},null,null,{"$f":"MAX(KT11:KT31)","v":0},null,null,{"$f":"MAX(KW11:KW31)","v":0},null,null,{"$f":"MAX(KZ11:KZ31)","v":0}]
[null,null,"Riparian Zone   R","NA",null,null,null,null,null,null,null,null,null,"Square brackets designates an Out of Segment Source (i.e., pollutant is a source for downstream segments)",null,null,null,null,null,null,null,null,null,null,null,null,null,null,null,null,null,null,null,null,null,null,null,null,null,"Square brackets designates an Out of Segment Source (i.e., pollutant is a source for downstream segments)",null,null,null,null,null,null,null,null,null,null,null,null,null,null,null,null,null,null,null,null,null,null,null,null,null,"Square brackets designates an Out of Segment Source (i.e., pollutant is a source for downstream segments)",null,null,null,null,null,null,null,null,null,null,null,null,null,null,null,null,null,null,null,null,null,null,null,null,null,"Square brackets designates an Out of Segment Source (i.e., pollutant is a source for downstream segments)",null,null,null,null,null,null,null,null,null,null,null,null,null,null,null,null,null,null,null,null,null,null,null,null,null,"Square brackets designates an Out of Segment Source (i.e., pollutant is a source for downstream segments)",null,null,null,null,null,null,null,null,null,null,null,null,null,null,null,null,null,null,null,null,null,null,null,null,null,"Square brackets designates an Out of Segment Source (i.e., pollutant is a source for downstream segments)",null,null,null,null,null,null,null,null,null,null,null,null,null,null,null,null,null,null,null,null,null,null,null,null,null,"Square brackets designates an Out of Segment Source (i.e., pollutant is a source for downstream segments)",null,null,null,null,null,null,null,null,null,null,null,null,null,null,null,null,null,null,null,null,null,null,null,null,null,"Square brackets designates an Out of Segment Source (i.e., pollutant is a source for downstream segments)",null,null,null,null,null,null,null,null,null,null,null,null,null,null,null,null,null,null,null,null,null,null,null,null,null,"Square brackets designates an Out of Segment Source (i.e., pollutant is a source for downstream segments)",null,null,null,null,null,null,null,null,null,null,null,null,null,null,null,null,null,null,null,null,null,null,null,null,null,null,null,null,null,null,null,null,null,null,null,null,null,null,null,null,null,null,null,null,null,null,null,null,null,null,null,null,null,null,null,null,null,null,null,null,null,null,null,"The lists below show unique codes in lists assembled above. Numbers are max confidence #, used to color cells for worst case. The codes are catenated in the colored boxes above for transfer to Sources RC when that sheet is activated."]
[]
[null,"Bacteria","Bacteria   B","NA","NA","NA",{"$f":"$FO$15&\"  \"&$FO$16&\"  \"&$FO$17&\"  \"&$FO$18&\"  \"&$FO$19&\"  \"&$FO$20","v":"          "},{"$f":"$FO$28&\"  \"&$FO$29&\"  \"&$FO$30&\"  \"&$FO$31&\"  \"&$FO$32&\"  \"&$FO$33","v":"          "},null,null,null,null,null,null,null,null,null,null,null,null,null,null,null,null,null,null,null,null,null,null,null,null,null,null,null,null,null,null,null,null,null,null,null,null,null,null,null,null,null,null,null,null,null,null,null,null,null,null,null,null,null,null,null,null,null,null,null,null,null,null,null,null,null,null,null,null,null,null,null,null,null,null,null,null,null,null,null,null,null,null,null,null,null,null,null,null,null,null,null,null,null,null,null,null,null,null,null,null,null,null,null,null,null,null,null,null,null,null,null,null,null,null,null,null,null,null,null,null,null,null,null,null,null,null,null,null,null,null,null,null,null,null,null,null,null,null,null,null,null,null,null,null,null,null,null,null,null,null,null,null,null,null,null,null,null,null,null,null,null,null,null,null,null,null,null,null,null,null,null,null,null,null,null,null,null,null,null,null,null,null,null,null,null,null,null,null,null,null,null,null,null,null,null,null,null,null,null,null,null,null,null,null,null,null,null,null,null,null,null,null,null,null,null,null,null,null,null,null,null,null,null,null,null,null,null,null,null,null,null,null,null,null,null,null,null,null,null,null,null,null,null,null,null,null,null,null,null,null,null,null,null,null,null,null,null,null,null,null,null,null,null,null,null,null,null,null,null,null,null,null,null,null,null,null,null,null,"Municp",null,null,"Industr",null,null,"St Water",null,null,"Res Ext",null,null,"Land Dis",null,null,"Seds",null,null,"Hydro",null,null,"Other",null,null,"Unknown"]
[]
[null,"Aesthetics","Oil & Grease   G","NA","NA","NA",{"$f":"$GO$15&\"  \"&$GO$16&\"  \"&$GO$17&\"  \"&$GO$18&\"  \"&$GO$19&\"  \"&$GO$20","v":"          "},{"$f":"$GO$28&\"  \"&$GO$29&\"  \"&$GO$30&\"  \"&$GO$31&\"  \"&$GO$32&\"  \"&$GO$33","v":"          "},null,null,null,null,null,null,null,null,null,null,null,null,null,null,null,null,null,null,null,null,null,null,null,null,null,null,null,null,null,null,null,null,null,null,null,null,null,null,null,null,null,null,null,null,null,null,null,null,null,null,null,null,null,null,null,null,null,null,null,null,null,null,null,null,null,null,null,null,null,null,null,null,null,null,null,null,null,null,null,null,null,null,null,"Identify the suspected toxic chemical substance below (e.g., Hg, PCB, etc). ",null,null,null,null,null,null,null,null,null,null,null,null,null,null,null,null,null,null,null,null,null,null,null,null,null,null,null,null,null,null,null,null,null,null,null,null,null,null,null,null,null,null,null,null,null,null,null,null,null,null,null,null,null,null,null,null,null,null,null,null,null,null,null,null,null,null,null,null,null,null,null,null,null,null,null,null,null,null,null,null,null,null,null,null,null,null,null,null,null,null,null,null,null,null,null,null,null,null,null,null,null,null,null,null,null,null,null,null,null,null,null,null,null,null,null,null,null,null,null,null,null,null,null,null,null,null,null,null,null,null,null,null,null,null,null,null,null,null,null,null,null,null,null,null,null,null,null,null,null,null,null,null,null,null,null,"Identify the suspected toxic chemical substance below (e.g., Hg, PCB, etc). "]
[null,null,"Taste & Odor   O","NA",null,null,null,null,null,null,null,null,null,null,"Pollution  Indicators (Causes):  ",null,{"$f":"P46&\" \"&P47&\" \"&P48&\" \"&P49&\" \"&P50&\" \"&P51","v":"     "},null,null,null,null,null,null,null,null,null,null,null,null,null,null,null,null,null,null,null,null,null,null,null,"Pollution  Indicators (Causes):  ",null,{"$f":"AP46&\" \"&AP47&\" \"&AP48&\" \"&AP49&\" \"&AP50&\" \"&AP51","v":"     "},null,null,null,null,null,null,null,null,null,null,null,null,null,null,null,null,null,null,null,null,null,null,null,"Pollution  Indicators (Causes):  ",null,{"$f":"BP46&\" \"&BP47&\" \"&BP48","v":"  "},null,null,null,null,null,null,null,null,null,null,null,null,null,null,null,null,null,null,null,null,null,null,null,null,null,null,null,null,null,null,null,null,null,null,null,null,null,null,null,null,null,null,null,null,null,null,null,null,null,"Pollution  Indicators (Causes):  ",null,{"$f":"DP46&\" \"&DP47","v":" "},null,null,null,null,null,null,null,null,null,null,null,null,null,null,null,null,null,null,null,null,null,null,null,"Pollution  Indicators (Causes):  ",null,{"$f":"EP46&\" \"&EP47&\" \"&EP48&\" \"&EP49","v":"   "},null,null,null,null,null,null,null,null,null,null,null,null,null,null,null,null,null,null,null,null,null,null,null,"Pollution  Indicators (Causes):  ",null,{"$f":"FP46&\" \"&FP47","v":" "},null,null,null,null,null,null,null,null,null,null,null,null,null,null,null,null,null,null,null,null,null,null,null,"Pollution  Indicators (Causes):  ",null,{"$f":"GP46&\" \"&GP47&\" \"&GP48&\" \"&GP49&\" \"&GP50&\" \"&GP51","v":"     "},null,null,null,null,null,null,null,null,null,null,null,null,null,null,null,null,null,null,null,null,null,null,"Identify the suspected toxic chemical substance below (e.g., Hg, PCB, etc). "]
[null,null,"Turb/Color   C","NA",null,null,null,null,null,null,null,null,null,null,null,null,null,null,null,null,null,null,null,null,null,null,null,null,null,null,null,null,null,null,null,null,null,null,null,null,null,null,null,null,null,null,null,null,null,null,null,null,null,null,null,null,null,null,null,null,null,null,null,null,null,null,null,null,null,null,null,null,null,null,null,null,null,null,null,null,null,null,null,null,null,null,null,null,null,null,null,"Ag",null,null,null,null,null,null,null,null,null,null,null,null,null,null,null,null,null,null,null,null,null,null,null,null,null,null,null,null,null,null,null,null,null,null,null,null,null,null,null,null,null,null,null,null,null,null,null,null,null,null,null,null,null,null,null,null,null,null,null,null,null,null,null,null,null,null,null,null,null,null,null,null,null,null,null,null,null,null,null,null,null,null,null,null,null,null,null,null,null,null,null,null,null,null,null,null,null,null,null,null,null,null,null,null,null,null,null,null,null,null,null,null,null,null,null,null,null,null,null,null,null,null,null,null,null,null,null,null,null,null,null,null,null,null,null,null,null,null,null,null,null,null,null,null,null,null,null,null,null,null,null,null,null,null,null,"DDT"]
[null,null,"Nuisance Plants   V","NA",null,null,null,null,null,null,null,null,null,null,{"$f":"$B$16","v":"Biology"},null,null,null,null,null,null,null,null,null,null,null,null,null,null,null,null,null,null,null,null,null,null,null,null,null,{"$f":"$B$22","v":"Chemistry"},null,null,null,null,null,null,null,null,null,null,null,null,null,null,null,null,null,null,null,null,null,null,null,null,null,{"$f":"$B$28","v":"Nutrients"},null,null,null,null,null,null,null,null,null,null,null,null,null,null,null,null,null,null,null,null,null,null,null,null,null,null,null,null,null,null,null,null,null,null,null,null,null,null,null,null,null,null,null,null,null,null,null,null,null,null,null,{"$f":"$B$34","v":"Flow"},null,null,null,null,null,null,null,null,null,null,null,null,null,null,null,null,null,null,null,null,null,null,null,null,null,{"$f":"$B$36","v":"Habitat"},null,null,null,null,null,null,null,null,null,null,null,null,null,null,null,null,null,null,null,null,null,null,null,null,null,{"$f":"$B$40","v":"Bacteria"},null,null,null,null,null,null,null,null,null,null,null,null,null,null,null,null,null,null,null,null,null,null,null,null,null,{"$f":"$B$42","v":"Aesthetics"},null,null,null,null,null,null,null,null,null,null,null,null,null,null,null,null,null,null,null,null,null,null,null,null,"PCB"]
[null,null,"Trash /Debris   D","NA",null,null,null,null,null,null,null,null,null,null,{"$f":"$C$16","v":"Plank/Peri.   A"},{"$f":"IF($D$16=\"Concern\",\"(A)\",IF(OR($D$16=\"Fair\",$D$16=\"Poor\"),\"A\",\"\"))","v":""},null,null,null,null,null,null,null,null,null,null,null,null,null,null,null,null,null,null,null,null,null,null,null,null,{"$f":"$C$22","v":"Dis. Oxygen    DO"},{"$f":"IF($D$22=\"Concern\",\"(DO)\",IF(OR($D$22=\"Fair\",$D$22=\"Poor\"),\"DO\",\"\"))","v":""},null,null,null,null,null,null,null,null,null,null,null,null,null,null,null,null,null,null,null,null,null,null,null,null,{"$f":"$C$28","v":"Phosphorus  P"},{"$f":"IF($D$28=\"Concern\",\"(P)\",IF(OR($D$28=\"Fair\",$D$28=\"Poor\"),\"P\",\"\"))","v":""},null,null,null,null,null,null,null,null,null,null,null,null,null,null,null,null,null,null,null,null,null,null,null,null,null,null,null,null,null,null,null,null,null,null,null,null,null,null,null,null,null,null,null,null,null,null,null,null,null,null,{"$f":"$C$34","v":"Flow  Q"},{"$f":"IF($D$34=\"Concern\",\"(O)\",IF(OR($D$34=\"Fair\",$D$34=\"Poor\"),\"O\",\"\"))","v":""},null,null,null,null,null,null,null,null,null,null,null,null,null,null,null,null,null,null,null,null,null,null,null,null,{"$f":"$C$36","v":"Substrate   S"},{"$f":"IF($D$36=\"Concern\",\"(S)\",IF(OR($D$36=\"Fair\",$D$36=\"Poor\"),\"S\",\"\"))","v":""},null,null,null,null,null,null,null,null,null,null,null,null,null,null,null,null,null,null,null,null,null,null,null,null,{"$f":"$C$40","v":"Bacteria   B"},{"$f":"IF($D$40=\"Concern\",\"(B)\",IF(OR($D$40=\"Fair\",$D$40=\"Poor\"),\"B\",\"\"))","v":""},null,null,null,null,null,null,null,null,null,null,null,null,null,null,null,null,null,null,null,null,null,null,null,null,{"$f":"$C$42","v":"Oil & Grease   G"},{"$f":"IF($D$42=\"Concern\",\"(G)\",IF(OR($D$42=\"Fair\",$D$42=\"Poor\"),\"G\",\"\"))","v":""}]
[null,null,null,null,null,null,null,null,null,null,null,null,null,null,{"$f":"$C$17","v":"Macrophyton   M"},{"$f":"IF($D$17=\"Concern\",\"(M)\",IF(OR($D$17=\"Fair\",$D$17=\"Poor\"),\"M\",\"\"))","v":""},null,null,null,null,null,null,null,null,null,null,null,null,null,null,null,null,null,null,null,null,null,null,null,null,{"$f":"$C$23","v":"pH     pH"},{"$f":"IF($D$23=\"Concern\",\"(pH)\",IF(OR($D$23=\"Fair\",$D$23=\"Poor\"),\"pH\",\"\"))","v":""},null,null,null,null,null,null,null,null,null,null,null,null,null,null,null,null,null,null,null,null,null,null,null,null,{"$f":"$C$29","v":"Nitrogen   N"},{"$f":"IF($D$29=\"Concern\",\"(N)\",IF(OR($D$29=\"Fair\",$D$29=\"Poor\"),\"N\",\"\"))","v":""},null,null,null,null,null,null,null,null,null,null,null,null,null,null,null,null,null,null,null,null,null,null,null,null,null,null,null,null,null,null,null,null,null,null,null,null,null,null,null,null,null,null,null,null,null,null,null,null,null,null,{"$f":"IF($C$41=\"\",\"\",$C$41)","v":""},{"$f":"IF($D$35=\"Concern\",\"(**)\",IF(OR($D$35=\"Fair\",$D$35=\"Poor\"),\"**\",\"\"))","v":""},null,null,null,null,null,null,null,null,null,null,null,null,null,null,null,null,null,null,null,null,null,null,null,null,{"$f":"$C$37","v":"Morphology   H"},{"$f":"IF($D$37=\"Concern\",\"(H)\",IF(OR($D$37=\"Fair\",$D$37=\"Poor\"),\"H\",\"\"))","v":""},null,null,null,null,null,null,null,null,null,null,null,null,null,null,null,null,null,null,null,null,null,null,null,null,{"$f":"IF($C$41=\"\",\"\",$C$41)","v":""},{"$f":"IF($D$41=\"Concern\",\"(**)\",IF(OR($D$41=\"Fair\",$D$41=\"Poor\"),\"**\",\"\"))","v":""},null,null,null,null,null,null,null,null,null,null,null,null,null,null,null,null,null,null,null,null,null,null,null,null,{"$f":"$C$43","v":"Taste & Odor   O"},{"$f":"IF($D$43=\"Concern\",\"(O)\",IF(OR($D$43=\"Fair\",$D$43=\"Poor\"),\"O\",\"\"))","v":""}]
[null,"Tissue",{"$f":"\"Spec. Chem.   \"&HN45","v":"Spec. Chem.   PCB"},"NA","NA","NA",{"$f":"$HO$15&\"  \"&$HO$16&\"  \"&$HO$17&\"  \"&$HO$18&\"  \"&$HO$19&\"  \"&$HO$20","v":"          "},{"$f":"$HO$28&\"  \"&$HO$29&\"  \"&$HO$30&\"  \"&$HO$31&\"  \"&$HO$32&\"  \"&$HO$33","v":"          "},null,null,null,null,null,null,{"$f":"$C$18","v":"Invertebrates   I"},{"$f":"IF($D$18=\"Concern\",\"(I)\",IF(OR($D$18=\"Fair\",$D$18=\"Poor\"),\"I\",\"\"))","v":""},null,null,null,null,null,null,null,null,null,null,null,null,null,null,null,null,null,null,null,null,null,null,null,null,{"$f":"$C$24","v":"Temperature    T"},{"$f":"IF($D$24=\"Concern\",\"(T)\",IF(OR($D$24=\"Fair\",$D$24=\"Poor\"),\"T\",\"\"))","v":""},null,null,null,null,null,null,null,null,null,null,null,null,null,null,null,null,null,null,null,null,null,null,null,null,{"$f":"IF($C$30=\"\",\"\",$C$30)","v":""},{"$f":"IF($D$30=\"Concern\",\"(**)\",IF(OR($D$30=\"Fair\",$D$30=\"Poor\"),\"**\",\"\"))","v":""},null,null,null,null,null,null,null,null,null,null,null,null,null,null,null,null,null,null,null,null,null,null,null,null,null,null,null,null,null,null,null,null,null,null,null,null,null,null,null,null,null,null,null,null,null,null,null,null,null,null,null,null,null,null,null,null,null,null,null,null,null,null,null,null,null,null,null,null,null,null,null,null,null,null,null,null,{"$f":"$C$38","v":"Riparian Zone   R"},{"$f":"IF($D$38=\"Concern\",\"(R)\",IF(OR($D$38=\"Fair\",$D$38=\"Poor\"),\"R\",\"\"))","v":""},null,null,null,null,null,null,null,null,null,null,null,null,null,null,null,null,null,null,null,null,null,null,null,null,null,null,null,null,null,null,null,null,null,null,null,null,null,null,null,null,null,null,null,null,null,null,null,null,null,null,{"$f":"$C$44","v":"Turb/Color   C"},{"$f":"IF($D$44=\"Concern\",\"(C)\",IF(OR($D$44=\"Fair\",$D$44=\"Poor\"),\"C\",\"\"))","v":""}]
[null,null,null,null,null,null,null,null,null,null,null,null,null,null,{"$f":"$C$19","v":"Fish   F"},{"$f":"IF($D$19=\"Concern\",\"(F)\",IF(OR($D$19=\"Fair\",$D$19=\"Poor\"),\"F\",\"\"))","v":""},null,null,null,null,null,null,null,null,null,null,null,null,null,null,null,null,null,null,null,null,null,null,null,null,{"$f":"$C$25","v":"Ionic Strength    Z"},{"$f":"IF($D$25=\"Concern\",\"(Z)\",IF(OR($D$25=\"Fair\",$D$25=\"Poor\"),\"Z\",\"\"))","v":""},null,null,null,null,null,null,null,null,null,null,null,null,null,null,null,null,null,null,null,null,null,null,null,null,null,null,null,null,null,null,null,null,null,null,null,null,null,null,null,null,null,null,null,null,null,null,null,null,null,null,"Pollution  Indicators (Causes):  ",null,{"$f":"CP52&\" \"&CP53&\" \"&CP54","v":"  "},null,null,null,null,null,null,null,null,null,null,null,null,null,null,null,null,null,null,null,null,null,null,null,null,null,null,null,null,null,null,null,null,null,null,null,null,null,null,null,null,null,null,null,null,null,null,null,null,null,{"$f":"IF($C$39=\"\",\"\",$C$39)","v":""},{"$f":"IF($D$39=\"Concern\",\"(**)\",IF(OR($D$39=\"Fair\",$D$39=\"Poor\"),\"**\",\"\"))","v":""},null,null,null,null,null,null,null,null,null,null,null,null,null,null,null,null,null,null,null,null,null,null,null,null,null,null,null,null,null,null,null,null,null,null,null,null,null,null,null,null,null,null,null,null,null,null,null,null,null,null,{"$f":"$C$45","v":"Nuisance Plants   V"},{"$f":"IF($D$45=\"Concern\",\"(V)\",IF(OR($D$45=\"Fair\",$D$45=\"Poor\"),\"V\",\"\"))","v":""},null,null,null,null,null,null,null,null,null,null,null,null,null,null,null,null,null,null,null,null,null,null,null,null,null,null,null,null,null,null,null,null,null,null,null,null,null,null,null,null,null,null,null,null,null,null,null,null,null,null,"Pollution  Indicators (Causes):  ",null,{"$f":"IP52&\" \"&IP53&\" \"&IP54","v":"  "}]
[null,"Sediment","Unknown   U","NA","NA","NA",{"$f":"$IO$15&\"  \"&$IO$16&\"  \"&$IO$17&\"  \"&$IO$18&\"  \"&$IO$19&\"  \"&$IO$20","v":"          "},{"$f":"$IO$28&\"  \"&$IO$29&\"  \"&$IO$30&\"  \"&$IO$31&\"  \"&$IO$32&\"  \"&$IO$33","v":"          "},null,null,null,null,null,null,{"$f":"$C$20","v":"Wildlife   W"},{"$f":"IF($D$20=\"Concern\",\"(W)\",IF(OR($D$20=\"Fair\",$D$20=\"Poor\"),\"W\",\"\"))","v":""},null,null,null,null,null,null,null,null,null,null,null,null,null,null,null,null,null,null,null,null,null,null,null,null,{"$f":"$C$26","v":"Sus. Solids    SS"},{"$f":"IF($D$26=\"Concern\",\"(SS)\",IF(OR($D$26=\"Fair\",$D$26=\"Poor\"),\"SS\",\"\"))","v":""},null,null,null,null,null,null,null,null,null,null,null,null,null,null,null,null,null,null,null,null,null,null,null,null,null,null,null,null,null,null,null,null,null,null,null,null,null,null,null,null,null,null,null,null,null,null,null,null,null,null,null,null,null,null,null,null,null,null,null,null,null,null,null,null,null,null,null,null,null,null,null,null,null,null,null,null,null,null,null,null,null,null,null,null,null,null,null,null,null,null,null,null,null,null,null,null,null,null,null,null,null,null,null,null,null,null,null,null,null,null,null,null,null,null,null,null,null,null,null,null,null,null,null,null,null,null,null,null,null,null,null,null,null,null,null,null,null,null,null,null,null,null,null,null,null,null,null,null,null,null,null,null,null,null,{"$f":"$C$46","v":"Trash /Debris   D"},{"$f":"IF($D$46=\"Concern\",\"(D)\",IF(OR($D$46=\"Fair\",$D$46=\"Poor\"),\"D\",\"\"))","v":""},null,null,null,null,null,null,null,null,null,null,null,null,null,null,null,null,null,null,null,null,null,null,null,null,"Pollution  Indicators (Causes):  ",null,{"$f":"HP53&\" \"&HP54","v":" "}]
[null,null,{"$f":"\"Spec. Chem.   \"&IN44","v":"Spec. Chem.   DDT"},"NA",null,null,null,null,null,null,null,null,null,null,{"$f":"IF($C$21=\"\",\"\",$C$21)","v":""},{"$f":"IF($D$21=\"Concern\",\"(**)\",IF(OR($D$21=\"Fair\",$D$21=\"Poor\"),\"**\",\"\"))","v":""},null,null,null,null,null,null,null,null,null,null,null,null,null,null,null,null,null,null,null,null,null,null,null,null,{"$f":"IF($C$27=\"\",\"\",$C$27)","v":""},{"$f":"IF($D$27=\"Concern\",\"(**)\",IF(OR($D$27=\"Fair\",$D$27=\"Poor\"),\"**\",\"\"))","v":""},null,null,null,null,null,null,null,null,null,null,null,null,null,null,null,null,null,null,null,null,null,null,null,null,null,null,null,null,null,null,null,null,null,null,null,null,null,null,null,null,null,null,null,null,null,null,null,null,null,null,{"$f":"$B$31","v":"Toxicity"},null,null,null,null,null,null,null,null,null,null,null,null,null,null,null,null,null,null,null,null,null,null,null,null,null,null,null,null,null,null,null,null,null,null,null,null,null,null,null,null,null,null,null,null,null,null,null,null,null,null,null,null,null,null,null,null,null,null,null,null,null,null,null,null,null,null,null,null,null,null,null,null,null,null,null,null,null,null,null,null,null,null,null,null,null,null,null,null,null,null,null,null,null,null,null,null,null,null,null,null,null,null,null,{"$f":"IF($C$47=\"\",\"\",$C$47)","v":""},{"$f":"IF($D$47=\"Concern\",\"(**)\",IF(OR($D$47=\"Fair\",$D$47=\"Poor\"),\"**\",\"\"))","v":""},null,null,null,null,null,null,null,null,null,null,null,null,null,null,null,null,null,null,null,null,null,null,null,null,null,null,null,null,null,null,null,null,null,null,null,null,null,null,null,null,null,null,null,null,null,null,null,null,null,null,{"$f":"$B$50","v":"Sediment"}]
[null,null,null,null,null,null,null,null,null,null,null,null,null,null,null,null,null,null,null,null,null,null,null,null,null,null,null,null,null,null,null,null,null,null,null,null,null,null,null,null,null,null,null,null,null,null,null,null,null,null,null,null,null,null,null,null,null,null,null,null,null,null,null,null,null,null,null,null,null,null,null,null,null,null,null,null,null,null,null,null,null,null,null,null,null,null,null,null,null,null,null,null,{"$f":"$C$31","v":"Unknown   U"},{"$f":"IF($D$31=\"Concern\",\"(U)\",IF(OR($D$31=\"Fair\",$D$31=\"Poor\"),\"U\",\"\"))","v":""},null,null,null,null,null,null,null,null,null,null,null,null,null,null,null,null,null,null,null,null,null,null,null,null,null,null,null,null,null,null,null,null,null,null,null,null,null,null,null,null,null,null,null,null,null,null,null,null,null,null,null,null,null,null,null,null,null,null,null,null,null,null,null,null,null,null,null,null,null,null,null,null,null,null,null,null,null,null,null,null,null,null,null,null,null,null,null,null,null,null,null,null,null,null,null,null,null,null,null,null,null,null,null,null,null,null,null,null,null,null,null,null,null,null,null,null,null,null,null,null,null,null,null,null,null,null,null,null,{"$f":"$B$48","v":"Tissue"},null,null,null,null,null,null,null,null,null,null,null,null,null,null,null,null,null,null,null,null,null,null,null,null,null,{"$f":"$C$50","v":"Unknown   U"},{"$f":"IF($D$50=\"Concern\",\"(U)\",IF(OR($D$50=\"Fair\",$D$50=\"Poor\"),\"U\",\"\"))","v":""}]
[null,"Comments:",null,null,null,null,null,"*  Suspected Source  ",null,null,null,null,null,null,null,null,null,null,null,null,null,null,null,null,null,null,null,null,null,null,null,null,null,null,null,null,null,null,null,null,null,null,null,null,null,null,null,null,null,null,null,null,null,null,null,null,null,null,null,null,null,null,null,null,null,null,null,null,null,null,null,null,null,null,null,null,null,null,null,null,null,null,null,null,null,null,null,null,null,null,null,null,{"$f":"$C$32","v":"Spec. Chem.  Ag"},{"$f":"IF($D$32=\"Concern\",\"(\"&CN44&\")\",IF(OR($D$32=\"Fair\",$D$32=\"Poor\"),CN44,\"\"))","v":""},null,null,null,null,null,null,null,null,null,null,null,null,null,null,null,null,null,null,null,null,null,null,null,null,null,null,null,null,null,null,null,null,null,null,null,null,null,null,null,null,null,null,null,null,null,null,null,null,null,null,null,null,null,null,null,null,null,null,null,null,null,null,null,null,null,null,null,null,null,null,null,null,null,null,null,null,null,null,null,null,null,null,null,null,null,null,null,null,null,null,null,null,null,null,null,null,null,null,null,null,null,null,null,null,null,null,null,null,null,null,null,null,null,null,null,null,null,null,null,null,null,null,null,null,null,null,null,null,{"$f":"$C$48","v":"Spec. Chem.   PCB"},{"$f":"IF($D$48=\"Concern\",\"(\"&HN45&\")\",IF(OR($D$48=\"Fair\",$D$32=\"Poor\"),HN45,\"\"))","v":""},null,null,null,null,null,null,null,null,null,null,null,null,null,null,null,null,null,null,null,null,null,null,null,null,{"$f":"$C$51","v":"Spec. Chem.   DDT"},{"$f":"IF($D$51=\"Concern\",\"(\"&IN44&\")\",IF(OR($D$51=\"Fair\",$D$51=\"Poor\"),IN44,\"\"))","v":""}]
[null,null,null,null,null,null,null,"** Potential Source  ",null,null,null,null,null,null,null,null,null,null,null,null,null,null,null,null,null,null,null,null,null,null,null,null,null,null,null,null,null,null,null,null,null,null,null,null,null,null,null,null,null,null,null,null,null,null,null,null,null,null,null,null,null,null,null,null,null,null,null,null,null,null,null,null,null,null,null,null,null,null,null,null,null,null,null,null,null,null,null,null,null,null,null,null,{"$f":"IF($C$33=\"\",\"\",$C$33)","v":""},{"$f":"IF($D$33=\"Concern\",\"(**)\",IF(OR($D$33=\"Fair\",$D$33=\"Poor\"),\"**\",\"\"))","v":""},null,null,null,null,null,null,null,null,null,null,null,null,null,null,null,null,null,null,null,null,null,null,null,null,null,null,null,null,null,null,null,null,null,null,null,null,null,null,null,null,null,null,null,null,null,null,null,null,null,null,null,null,null,null,null,null,null,null,null,null,null,null,null,null,null,null,null,null,null,null,null,null,null,null,null,null,null,null,null,null,null,null,null,null,null,null,null,null,null,null,null,null,null,null,null,null,null,null,null,null,null,null,null,null,null,null,null,null,null,null,null,null,null,null,null,null,null,null,null,null,null,null,null,null,null,null,null,null,{"$f":"IF($C$49=\"\",\"\",$C$49)","v":""},{"$f":"IF($D$49=\"Concern\",\"(**)\",IF(OR($D$49=\"Fair\",$D$49=\"Poor\"),\"**\",\"\"))","v":""},null,null,null,null,null,null,null,null,null,null,null,null,null,null,null,null,null,null,null,null,null,null,null,null,{"$f":"IF($C$52=\"\",\"\",$C$52)","v":""},{"$f":"IF($D$52=\"Concern\",\"(**)\",IF(OR($D$52=\"Fair\",$D$52=\"Poor\"),\"**\",\"\"))","v":""}]
[null,null,null,null,null,null,null,"No asterisk: Known Source  "]
[null,null,null,null,null,null,null,"[Out of Segment Source ]  "]
[]
[]
[]
[null,"SegNameLong:  ","wwwwww"]
[null,"Seg Name:  ","www"]
[null,"Seg Num:  "]
[null,"Seg Size:  "]
[null,"Seg Class:  "]
[]
[]
[]
[]
[]
[]
[]
[]
[]
[]
[]
[]
[null,null,null,{"$f":"A99","v":""}]
[null,null,null,{"$f":"B99","v":""}]
[null,null,null,{"$f":"C99","v":""}]
[null,null,null,{"$f":"D99","v":""}]
[null,null,null,{"$f":"E99","v":""}]
[null,null,null,{"$f":"F99","v":""}]
[null,null,null,{"$f":"G99","v":""}]
[null,null,null,{"$f":"H99","v":""}]
[null,null,null,{"$f":"I99","v":""}]
[]
[]
[]
[]
[]
[]
[]
[]
[]
[]
[]
[]
[]
[{"$f":"TRIM(A101&\" \"&A102&\" \"&A103&\" \"&A104&\" \"&A105&\" \"&A106)","v":""},{"$f":"TRIM(B101&\" \"&B102&\" \"&B103&\" \"&B104&\" \"&B105&\" \"&B106)","v":""},"","","","","","",""]

{"sheet":"Seg24","index":28,"n_rows":99,"n_cols":311,"rows_kept":99,"cut":false,"hidden":false,"merged":[[15,1,20,1],[15,4,20,4],[15,5,20,5],[15,6,20,6],[15,7,20,7],[13,1,14,1],[13,2,14,3],[13,4,14,4],[13,5,14,5],[14,6,14,7],[27,1,29,1],[27,4,29,4],[27,5,29,5],[27,6,29,6],[27,7,29,7],[21,1,26,1],[21,4,26,4],[21,5,26,5],[21,6,26,6],[21,7,26,7],[49,6,51,6],[49,7,51,7],[30,1,32,1],[30,4,32,4],[30,5,32,5],[30,6,32,6],[30,7,32,7],[33,1,34,1],[33,4,34,4],[33,5,34,5],[33,6,34,6],[33,7,34,7],[43,91,45,94],[35,1,38,1],[35,4,38,4],[35,5,38,5],[35,6,38,6],[35,7,38,7],[39,1,40,1],[39,4,40,4],[39,5,40,5],[39,6,40,6],[39,7,40,7],[52,1,55,1],[43,247,45,250],[44,221,46,224],[47,1,48,1],[47,4,48,4],[47,5,48,5],[47,6,48,6],[47,7,48,7],[41,1,46,1],[41,4,46,4],[41,5,46,5],[41,6,46,6],[41,7,46,7],[49,1,51,1],[49,4,51,4],[49,5,51,5]]}
[]
[]
[]
[]
[null,null,null,null,null,null,null,null,null,null,null,null,null,null,null,null,null,null,null,null,null,null,null,null,null,null,null,null,null,null,null,null,null,null,null,null,null,null,null,null,null,null,null,null,null,null,null,null,null,null,null,null,null,null,null,null,null,null,null,null,null,null,null,null,null,null,null,null,null,null,null,null,null,null,null,null,null,null,null,null,null,null,null,null,null,null,null,null,null,null,null,null,null,null,null,null,null,null,null,null,null,null,null,null,null,null,null,null,null,null,null,null,null,null,null,null,null,null,null,null,null,null,null,null,null,null,null,null,null,null,null,null,null,null,null,null,null,null,null,null,null,null,null,null,null,null,null,null,null,null,null,null,null,null,null,null,null,null,null,null,null,null,null,null,null,null,null,null,null,null,null,null,null,null,null,null,null,null,null,null,null,null,null,null,null,null,null,null,null,null,null,null,null,null,null,null,null,null,null,null,null,null,null,null,null,null,null,null,null,null,null,null,null,null,null,null,null,null,null,null,null,null,null,null,null,null,null,null,null,null,null,null,null,null,null,null,null,null,null,null,null,null,null,null,null,null,null,null,null,null,null,null,null,null,null,null,null,null,null,null,null,null,null,null,null,null,null,null,null,null,null,null,null,null,null,null,null,null,null,null,null,null,null,null,null,"List of all codes from all groups for this segment, organized by Source Type. "]
[null,null,null,null,null,null,null,null,null,null,null,null,null,null,null,null,null,null,null,null,null,null,null,null,null,null,null,null,null,null,null,null,null,null,null,null,null,null,null,null,null,null,null,null,null,null,null,null,null,null,null,null,null,null,null,null,null,null,null,null,null,null,null,null,null,null,null,null,null,null,null,null,null,null,null,null,null,null,null,null,null,null,null,null,null,null,null,null,null,null,null,null,null,null,null,null,null,null,null,null,null,null,null,null,null,null,null,null,null,null,null,null,null,null,null,null,null,null,null,null,null,null,null,null,null,null,null,null,null,null,null,null,null,null,null,null,null,null,null,null,null,null,null,null,null,null,null,null,null,null,null,null,null,null,null,null,null,null,null,null,null,null,null,null,null,null,null,null,null,null,null,null,null,null,null,null,null,null,null,null,null,null,null,null,null,null,null,null,null,null,null,null,null,null,null,null,null,null,null,null,null,null,null,null,null,null,null,null,null,null,null,null,null,null,null,null,null,null,null,null,null,null,null,null,null,null,null,null,null,null,null,null,null,null,null,null,null,null,null,null,null,null,null,null,null,null,null,null,null,null,null,null,null,null,null,null,null,null,null,null,null,null,null,null,null,null,null,null,null,null,null,null,null,null,null,null,null,null,null,null,null,null,null,null,null,"List is updated only when \"SourceRC_List\" macro is run. Macro is run manually by touching button at right or when Source report card is activated."]
[null,null,null,null,null,null,null,null,null,null,null,null,null,null,null,null,null,null,null,null,null,null,null,null,null,null,null,null,null,null,null,null,null,null,null,null,null,null,null,null,null,null,null,null,null,null,null,null,null,null,null,null,null,null,null,null,null,null,null,null,null,null,null,null,null,null,null,null,null,null,null,null,null,null,null,null,null,null,null,null,null,null,null,null,null,null,null,null,null,null,null,null,null,null,null,null,null,null,null,null,null,null,null,null,null,null,null,null,null,null,null,null,null,null,null,null,null,null,null,null,null,null,null,null,null,null,null,null,null,null,null,null,null,null,null,null,null,null,null,null,null,null,null,null,null,null,null,null,null,null,null,null,null,null,null,null,null,null,null,null,null,null,null,null,null,null,null,null,null,null,null,null,null,null,null,null,null,null,null,null,null,null,null,null,null,null,null,null,null,null,null,null,null,null,null,null,null,null,null,null,null,null,null,null,null,null,null,null,null,null,null,null,null,null,null,null,null,null,null,null,null,null,null,null,null,null,null,null,null,null,null,null,null,null,null,null,null,null,null,null,null,null,null,null,null,null,null,null,null,null,null,null,null,null,null,null,null,null,null,null,null,null,null,null,null,null,null,null,null,null,null,null,null,null,null,null,null,null,null,null,null,null,null,null,null,"Numbers indicate knowledge about the certainty of assessment: 0 = N/A, 1 = Potential Source, 2 = Suspected Source, 3 = Known Source."]
[null,null,null,null,null,null,null,null,null,null,null,null,null,null,null,null,null,null,null,null,null,null,null,null,null,null,null,null,null,null,null,null,null,null,null,null,null,null,null,null,null,null,null,null,null,null,null,null,null,null,null,null,null,null,null,null,null,null,null,null,null,null,null,null,null,null,null,null,null,null,null,null,null,null,null,null,null,null,null,null,null,null,null,null,null,null,null,null,null,null,null,null,null,null,null,null,null,null,null,null,null,null,null,null,null,null,null,null,null,null,null,null,null,null,null,null,null,null,null,null,null,null,null,null,null,null,null,null,null,null,null,null,null,null,null,null,null,null,null,null,null,null,null,null,null,null,null,null,null,null,null,null,null,null,null,null,null,null,null,null,null,null,null,null,null,null,null,null,null,null,null,null,null,null,null,null,null,null,null,null,null,null,null,null,null,null,null,null,null,null,null,null,null,null,null,null,null,null,null,null,null,null,null,null,null,null,null,null,null,null,null,null,null,null,null,null,null,null,null,null,null,null,null,null,null,null,null,null,null,null,null,null,null,null,null,null,null,null,null,null,null,null,null,null,null,null,null,null,null,null,null,null,null,null,null,null,null,null,null,null,null,null,null,null,null,null,null,null,null,null,null,null,null,null,null,null,null,null,null,null,null,null,null,null,null,"This list is then processed below to remove duplicates."]
[null,null,null,null,null,null,null,null,null,null,null,null,null,"Designate Point & Non-Point Sources",null,null,null,null,null,null,null,null,null,null,null,null,null,null,null,null,null,null,null,null,null,null,null,null,null,"Designate Point & Non-Point Sources",null,null,null,null,null,null,null,null,null,null,null,null,null,null,null,null,null,null,null,null,null,null,null,null,null,"Designate Point & Non-Point Sources",null,null,null,null,null,null,null,null,null,null,null,null,null,null,null,null,null,null,null,null,null,null,null,null,null,"Designate Point & Non-Point Sources",null,null,null,null,null,null,null,null,null,null,null,null,null,null,null,null,null,null,null,null,null,null,null,null,null,"Designate Point & Non-Point Sources",null,null,null,null,null,null,null,null,null,null,null,null,null,null,null,null,null,null,null,null,null,null,null,null,null,"Designate Point & Non-Point Sources",null,null,null,null,null,null,null,null,null,null,null,null,null,null,null,null,null,null,null,null,null,null,null,null,null,"Designate Point & Non-Point Sources",null,null,null,null,null,null,null,null,null,null,null,null,null,null,null,null,null,null,null,null,null,null,null,null,null,"Designate Point & Non-Point Sources",null,null,null,null,null,null,null,null,null,null,null,null,null,null,null,null,null,null,null,null,null,null,null,null,null,"Designate Point & Non-Point Sources",null,null,null,null,null,null,null,null,null,null,null,null,null,null,null,null,null,null,null,null,null,null,null,null,null,"Designate Point & Non-Point Sources"]
[null,null,null,null,null,null,null,null,null,null,null,null,null,null,null,null,null,null,null,null,null,null,null,"Codes selected at left are distributed according to Source Type. "]
[null,{"$f":"\"River Basin: \"&RiverBasinName","v":"River Basin: Test River Basin"},null,null,null,null,{"$f":"\"Data Year:  \"&AssessmentYear","v":"Data Year:  2011"},null,null,null,null,null,null,null,null,null,null,null,null,null,null,null,null,"Numbers indicate confidence of assessment: 0 = N/A, 1 = Potential Source, 2 = Suspected Source, 3 = Known Source.",null,null,null,null,null,null,null,null,null,null,null,null,null,null,null,null,null,null,null,null,null,null,null,null,null,null,null,null,null,null,null,null,null,null,null,null,null,null,null,null,null,null,null,null,null,null,null,null,null,null,null,null,null,null,null,null,null,null,null,null,null,null,null,null,null,null,null,null,null,null,null,null,null,null,null,null,null,null,null,null,null,null,null,null,null,null,null,null,null,null,null,null,null,null,null,null,null,null,null,null,null,null,null,null,null,null,null,null,null,null,null,null,null,null,null,null,null,null,null,null,null,null,null,null,null,null,null,null,null,null,null,null,null,null,null,null,null,null,null,null,null,null,null,null,null,null,null,null,null,null,null,null,null,null,null,null,null,null,null,null,null,null,null,null,null,null,null,null,null,null,null,null,null,null,null,null,null,null,null,null,null,null,null,null,null,null,null,null,null,null,null,null,null,null,null,null,null,null,null,null,null,null,null,null,null,null,null,null,null,null,null,null,null,null,null,null,null,null,null,null,null,null,null,null,null,null,null,null,null,null,null,null,null,null,null,null,null,null,null,null,null,null,null,null,null,null,null,null,null,null,null,null,null,null,null,null,null,null,null,null,null,null,"Municp",null,null,"Industr",null,null,"St Water",null,null,"Res Ext",null,null,"Land Dis",null,null,"Seds",null,null,"Hydro",null,null,"Other",null,null,"Unknown"]
[null,{"$f":"\"Segment Name: \"&C60","v":"Segment Name: xxxxxx"},null,null,null,null,null,null,null,null,null,null,null,null,null,null,null,null,null,null,null,null,null,"These codes are processed by \"SourceRC_List macro and transferred to Source report card."]
[null,{"$f":"\"Class: \"&C64","v":"Class: "},null,{"$f":"\"Size: \"&C63","v":"Size: "},null,null,{"$f":"\"Seg ID #: \"&C62","v":"Seg ID #: "}]
[null,"CATEGORY","INDICATOR ASSESSMENT",null,"OVERALL STATUS","DATA LEVEL","POINT","NONPOINT",null,null,null,null,null,"Point Sources",null,null,null,null,null,null,null,null,null,"Municipal",null,null,"Industrial",null,null,"Storm Water",null,null,"Resource Ext",null,null,"Land Disposal",null,null,null,"Point Sources",null,null,null,null,null,null,null,null,null,"Municipal",null,null,"Industrial",null,null,"Storm Water",null,null,"Resource Ext",null,null,"Land Disposal",null,null,null,"Point Sources",null,null,null,null,null,null,null,null,null,"Municipal",null,null,"Industrial",null,null,"Storm Water",null,null,"Resource Ext",null,null,"Land Disposal",null,null,null,"Point Sources",null,null,null,null,null,null,null,null,null,"Municipal",null,null,"Industrial",null,null,"Storm Water",null,null,"Resource Ext",null,null,"Land Disposal",null,null,null,"Point Sources",null,null,null,null,null,null,null,null,null,"Municipal",null,null,"Industrial",null,null,"Storm Water",null,null,"Resource Ext",null,null,"Land Disposal",null,null,null,"Point Sources",null,null,null,null,null,null,null,null,null,"Municipal",null,null,"Industrial",null,null,"Storm Water",null,null,"Resource Ext",null,null,"Land Disposal",null,null,null,"Point Sources",null,null,null,null,null,null,null,null,null,"Municipal",null,null,"Industrial",null,null,"Storm Water",null,null,"Resource Ext",null,null,"Land Disposal",null,null,null,"Point Sources",null,null,null,null,null,null,null,null,null,"Municipal",null,null,"Industrial",null,null,"Storm Water",null,null,"Resource Ext",null,null,"Land Disposal",null,null,null,"Point Sources",null,null,null,null,null,null,null,null,null,"Municipal",null,null,"Industrial",null,null,"Storm Water",null,null,"Resource Ext",null,null,"Land Disposal",null,null,null,"Point Sources",null,null,null,null,null,null,null,null,null,"Municipal",null,null,"Industrial",null,null,"Storm Water",null,null,"Resource Ext",null,null,"Land Disposal"]
[null,null,null,null,null,null,"Click below to select Sources"]
[null,"Biology","Plank/Peri.   A","NA","NA","NA",{"$f":"$O$15&\"  \"&$O$16&\"  \"&$O$17&\"  \"&$O$18&\"  \"&$O$19&\"  \"&$O$20","v":"          "},{"$f":"$O$28&\"  \"&$O$29&\"  \"&$O$30&\"  \"&$O$31&\"  \"&$O$32&\"  \"&$O$33","v":"          "}]
[null,null,"Macrophyton   M","NA"]
[null,null,"Invertebrates   I","NA"]
[null,null,"Fish   F","NA"]
[null,null,"Wildlife   W","NA"]
[]
[null,"Chemistry","Dis. Oxygen    DO","NA","NA","NA",{"$f":"$AO$15&\"  \"&$AO$16&\"  \"&$AO$17&\"  \"&$AO$18&\"  \"&$AO$19&\"  \"&$AO$20","v":"          "},{"$f":"$AO$28&\"  \"&$AO$29&\"  \"&$AO$30&\"  \"&$AO$31&\"  \"&$AO$32&\"  \"&$AO$33","v":"          "}]
[null,null,"pH     pH","NA"]
[null,null,"Temperature    T","NA"]
[null,null,"Ionic Strength    Z","NA"]
[null,null,"Sus. Solids    SS","NA"]
[null,null,null,null,null,null,null,null,null,null,null,null,null,"Non Point Sources",null,null,null,null,null,null,null,null,null,"Seds",null,null,"Hydromodification",null,null,"Other",null,null,"Unknown",null,null,null,null,null,null,"Non Point Sources",null,null,null,null,null,null,null,null,null,"Seds",null,null,"Hydromodification",null,null,"Other",null,null,"Unknown",null,null,null,null,null,null,"Non Point Sources",null,null,null,null,null,null,null,null,null,"Seds",null,null,"Hydromodification",null,null,"Other",null,null,"Unknown",null,null,null,null,null,null,"Non Point Sources",null,null,null,null,null,null,null,null,null,"Seds",null,null,"Hydromodification",null,null,"Other",null,null,"Unknown",null,null,null,null,null,null,"Non Point Sources",null,null,null,null,null,null,null,null,null,"Seds",null,null,"Hydromodification",null,null,"Other",null,null,"Unknown",null,null,null,null,null,null,"Non Point Sources",null,null,null,null,null,null,null,null,null,"Seds",null,null,"Hydromodification",null,null,"Other",null,null,"Unknown",null,null,null,null,null,null,"Non Point Sources",null,null,null,null,null,null,null,null,null,"Seds",null,null,"Hydromodification",null,null,"Other",null,null,"Unknown",null,null,null,null,null,null,"Non Point Sources",null,null,null,null,null,null,null,null,null,"Seds",null,null,"Hydromodification",null,null,"Other",null,null,"Unknown",null,null,null,null,null,null,"Non Point Sources",null,null,null,null,null,null,null,null,null,"Seds",null,null,"Hydromodification",null,null,"Other",null,null,"Unknown",null,null,null,null,null,null,"Non Point Sources",null,null,null,null,null,null,null,null,null,"Seds",null,null,"Hydromodification",null,null,"Other",null,null,"Unknown"]
[null,"Nutrients","Phosphorus  P","NA","NA","NA",{"$f":"$BO$15&\"  \"&$BO$16&\"  \"&$BO$17&\"  \"&$BO$18&\"  \"&$BO$19&\"  \"&$BO$20","v":"          "},{"$f":"$BO$28&\"  \"&$BO$29&\"  \"&$BO$30&\"  \"&$BO$31&\"  \"&$BO$32&\"  \"&$BO$33","v":"          "}]
[null,null,"Nitrogen   N","NA"]
[]
[null,"Toxicity","Unknown   U","NA","NA","NA",{"$f":"$CO$15&\"  \"&$CO$16&\"  \"&$CO$17&\"  \"&$CO$18&\"  \"&$CO$19&\"  \"&$CO$20","v":"          "},{"$f":"$CO$28&\"  \"&$CO$29&\"  \"&$CO$30&\"  \"&$CO$31&\"  \"&$CO$32&\"  \"&$CO$33","v":"          "}]
[null,null,{"$f":"\"Spec. Chem.  \"&CN44","v":"Spec. Chem.  Ag"},"NA"]
[null,null,null,null,null,null,null,null,null,null,null,null,null,null,null,null,null,null,null,null,null,null,null,null,null,null,null,null,null,null,null,null,null,null,null,null,null,null,null,null,null,null,null,null,null,null,null,null,null,null,null,null,null,null,null,null,null,null,null,null,null,null,null,null,null,null,null,null,null,null,null,null,null,null,null,null,null,null,null,null,null,null,null,null,null,null,null,null,null,null,null,null,null,null,null,null,null,null,null,null,null,null,null,null,null,null,null,null,null,null,null,null,null,null,null,null,null,null,null,null,null,null,null,null,null,null,null,null,null,null,null,null,null,null,null,null,null,null,null,null,null,null,null,null,null,null,null,null,null,null,null,null,null,null,null,null,null,null,null,null,null,null,null,null,null,null,null,null,null,null,null,null,null,null,null,null,null,null,null,null,null,null,null,null,null,null,null,null,null,null,null,null,null,null,null,null,null,null,null,null,null,null,null,null,null,null,null,null,null,null,null,null,null,null,null,null,null,null,null,null,null,null,null,null,null,null,null,null,null,null,null,null,null,null,null,null,null,null,null,null,null,null,null,null,null,null,null,null,null,null,null,null,null,null,null,null,null,null,null,null,null,null,null,null,null,null,null,null,null,null,null,null,null,null,null,null,null,null,null,null,null,null,null,null,null,"The colored cells below reflect this segments pollution status and are replicated on the Sources report card automatically"]
[null,"Flow","Flow  Q","NA","NA","NA",{"$f":"$DO$15&\"  \"&$DO$16&\"  \"&$DO$17&\"  \"&$DO$18&\"  \"&$DO$19&\"  \"&$DO$20","v":"          "},{"$f":"$DO$28&\"  \"&$DO$29&\"  \"&$DO$30&\"  \"&$DO$31&\"  \"&$DO$32&\"  \"&$DO$33","v":"          "},null,null,null,null,null,null,null,null,null,null,null,null,null,null,null,null,null,null,null,null,null,null,null,null,null,null,null,null,null,null,null,null,null,null,null,null,null,null,null,null,null,null,null,null,null,null,null,null,null,null,null,null,null,null,null,null,null,null,null,null,null,null,null,null,null,null,null,null,null,null,null,null,null,null,null,null,null,null,null,null,null,null,null,null,null,null,null,null,null,null,null,null,null,null,null,null,null,null,null,null,null,null,null,null,null,null,null,null,null,null,null,null,null,null,null,null,null,null,null,null,null,null,null,null,null,null,null,null,null,null,null,null,null,null,null,null,null,null,null,null,null,null,null,null,null,null,null,null,null,null,null,null,null,null,null,null,null,null,null,null,null,null,null,null,null,null,null,null,null,null,null,null,null,null,null,null,null,null,null,null,null,null,null,null,null,null,null,null,null,null,null,null,null,null,null,null,null,null,null,null,null,null,null,null,null,null,null,null,null,null,null,null,null,null,null,null,null,null,null,null,null,null,null,null,null,null,null,null,null,null,null,null,null,null,null,null,null,null,null,null,null,null,null,null,null,null,null,null,null,null,null,null,null,null,null,null,null,null,null,null,null,null,null,null,null,null,null,null,null,null,null,null,null,null,null,null,null,null,{"$f":"KA11","v":"Municp"},null,null,{"$f":"KD11","v":"Industr"},null,null,{"$f":"KG11","v":"St Water"},null,null,{"$f":"KJ11","v":"Res Ext"},null,null,{"$f":"KM11","v":"Land Dis"},null,null,{"$f":"KP11","v":"Seds"},null,null,{"$f":"KS11","v":"Hydro"},null,null,{"$f":"KV11","v":"Other"},null,null,{"$f":"KY11","v":"Unknown"}]
[null,null,null,null,null,null,null,null,null,null,null,null,null,"* designates a Suspected Source",null,null,null,null,null,null,null,null,null,null,null,null,null,null,null,null,null,null,null,null,null,null,null,null,null,"* designates a Suspected Source",null,null,null,null,null,null,null,null,null,null,null,null,null,null,null,null,null,null,null,null,null,null,null,null,null,"* designates a Suspected Source",null,null,null,null,null,null,null,null,null,null,null,null,null,null,null,null,null,null,null,null,null,null,null,null,null,"* designates a Suspected Source",null,null,null,null,null,null,null,null,null,null,null,null,null,null,null,null,null,null,null,null,null,null,null,null,null,"* designates a Suspected Source",null,null,null,null,null,null,null,null,null,null,null,null,null,null,null,null,null,null,null,null,null,null,null,null,null,"* designates a Suspected Source",null,null,null,null,null,null,null,null,null,null,null,null,null,null,null,null,null,null,null,null,null,null,null,null,null,"* designates a Suspected Source",null,null,null,null,null,null,null,null,null,null,null,null,null,null,null,null,null,null,null,null,null,null,null,null,null,"* designates a Suspected Source",null,null,null,null,null,null,null,null,null,null,null,null,null,null,null,null,null,null,null,null,null,null,null,null,null,"* designates a Suspected Source",null,null,null,null,null,null,null,null,null,null,null,null,null,null,null,null,null,null,null,null,null,null,null,null,null,null,null,null,null,null,null,null,null,null,null,null,null,null,null,null,null,null,null,null,null,null,null,null,null,null,null,null,null,null,null,null,null,null,null,null,null,null,null,null,{"$f":"TRIM(KA41&\" \"&KA42&\" \"&KA43&\" \"&KA44&\" \"&KA45&\" \"&KA46)","v":""},null,null,{"$f":"TRIM(KD41&\" \"&KD42&\" \"&KD43&\" \"&KD44&\" \"&KD45&\" \"&KD46)","v":""},null,null,{"$f":"TRIM(KG41&\" \"&KG42&\" \"&KG43&\" \"&KG44&\" \"&KG45&\" \"&KG46)","v":""},null,null,{"$f":"TRIM(KJ41&\" \"&KJ42&\" \"&KJ43&\" \"&KJ44&\" \"&KJ45&\" \"&KJ46)","v":""},null,null,{"$f":"TRIM(KM41&\" \"&KM42&\" \"&KM43&\" \"&KM44&\" \"&KM45&\" \"&KM46)","v":""},null,null,{"$f":"TRIM(KP41&\" \"&KP42&\" \"&KP43&\" \"&KP44&\" \"&KP45&\" \"&KP46)","v":""},null,null,{"$f":"TRIM(KS41&\" \"&KS42&\" \"&KS43&\" \"&KS44&\" \"&KS45&\" \"&KS46)","v":""},null,null,{"$f":"TRIM(KV41&\" \"&KV42&\" \"&KV43&\" \"&KV44&\" \"&KV45&\" \"&KV46)","v":""},null,null,{"$f":"TRIM(KY41&\" \"&KY42&\" \"&KY43&\" \"&KY44&\" \"&KY45&\" \"&KY46)","v":""}]
[null,"Habitat","Substrate   S","NA","NA","NA",{"$f":"$EO$15&\"  \"&$EO$16&\"  \"&$EO$17&\"  \"&$EO$18&\"  \"&$EO$19&\"  \"&$EO$20","v":"          "},{"$f":"$EO$28&\"  \"&$EO$29&\"  \"&$EO$30&\"  \"&$EO$31&\"  \"&$EO$32&\"  \"&$EO$33","v":"          "},null,null,null,null,null,"** designates a Potential Source",null,null,null,null,null,null,null,null,null,null,null,null,null,null,null,null,null,null,null,null,null,null,null,null,null,"** designates a Potential Source",null,null,null,null,null,null,null,null,null,null,null,null,null,null,null,null,null,null,null,null,null,null,null,null,null,"** designates a Potential Source",null,null,null,null,null,null,null,null,null,null,null,null,null,null,null,null,null,null,null,null,null,null,null,null,null,"** designates a Potential Source",null,null,null,null,null,null,null,null,null,null,null,null,null,null,null,null,null,null,null,null,null,null,null,null,null,"** designates a Potential Source",null,null,null,null,null,null,null,null,null,null,null,null,null,null,null,null,null,null,null,null,null,null,null,null,null,"** designates a Potential Source",null,null,null,null,null,null,null,null,null,null,null,null,null,null,null,null,null,null,null,null,null,null,null,null,null,"** designates a Potential Source",null,null,null,null,null,null,null,null,null,null,null,null,null,null,null,null,null,null,null,null,null,null,null,null,null,"** designates a Potential Source",null,null,null,null,null,null,null,null,null,null,null,null,null,null,null,null,null,null,null,null,null,null,null,null,null,"** designates a Potential Source"]
[null,null,"Morphology   H","NA",null,null,null,null,null,null,null,null,null,"No asterisk designates a Known Source",null,null,null,null,null,null,null,null,null,null,null,null,null,null,null,null,null,null,null,null,null,null,null,null,null,"No asterisk designates a Known Source",null,null,null,null,null,null,null,null,null,null,null,null,null,null,null,null,null,null,null,null,null,null,null,null,null,"No asterisk designates a Known Source",null,null,null,null,null,null,null,null,null,null,null,null,null,null,null,null,null,null,null,null,null,null,null,null,null,"No asterisk designates a Known Source",null,null,null,null,null,null,null,null,null,null,null,null,null,null,null,null,null,null,null,null,null,null,null,null,null,"No asterisk designates a Known Source",null,null,null,null,null,null,null,null,null,null,null,null,null,null,null,null,null,null,null,null,null,null,null,null,null,"No asterisk designates a Known Source",null,null,null,null,null,null,null,null,null,null,null,null,null,null,null,null,null,null,null,null,null,null,null,null,null,"No asterisk designates a Known Source",null,null,null,null,null,null,null,null,null,null,null,null,null,null,null,null,null,null,null,null,null,null,null,null,null,"No asterisk designates a Known Source",null,null,null,null,null,null,null,null,null,null,null,null,null,null,null,null,null,null,null,null,null,null,null,null,null,"No asterisk designates a Known Source",null,null,null,null,null,null,null,null,null,null,null,null,null,null,null,null,null,null,null,null,null,null,null,null,null,null,null,null,null,null,null,null,null,null,null,null,null,null,null,null,null,null,null,null,null,null,null,null,null,null,null,null,null,null,null,null,null,null,null,null,null,null,null,"max confid #",{"$f":"MAX(KB11:KB31)","v":0},null,null,{"$f":"MAX(KE11:KE31)","v":0},null,null,{"$f":"MAX(KH11:KH31)","v":0},null,null,{"$f":"MAX(KK11:KK31)","v":0},null,null,{"$f":"MAX(KN11:KN31)","v":0},null,null,{"$f":"MAX(KQ11:KQ31)","v":0},null,null,{"$f":"MAX(KT11:KT31)","v":0},null,null,{"$f":"MAX(KW11:KW31)","v":0},null,null,{"$f":"MAX(KZ11:KZ31)","v":0}]
[null,null,"Riparian Zone   R","NA",null,null,null,null,null,null,null,null,null,"Square brackets designates an Out of Segment Source (i.e., pollutant is a source for downstream segments)",null,null,null,null,null,null,null,null,null,null,null,null,null,null,null,null,null,null,null,null,null,null,null,null,null,"Square brackets designates an Out of Segment Source (i.e., pollutant is a source for downstream segments)",null,null,null,null,null,null,null,null,null,null,null,null,null,null,null,null,null,null,null,null,null,null,null,null,null,"Square brackets designates an Out of Segment Source (i.e., pollutant is a source for downstream segments)",null,null,null,null,null,null,null,null,null,null,null,null,null,null,null,null,null,null,null,null,null,null,null,null,null,"Square brackets designates an Out of Segment Source (i.e., pollutant is a source for downstream segments)",null,null,null,null,null,null,null,null,null,null,null,null,null,null,null,null,null,null,null,null,null,null,null,null,null,"Square brackets designates an Out of Segment Source (i.e., pollutant is a source for downstream segments)",null,null,null,null,null,null,null,null,null,null,null,null,null,null,null,null,null,null,null,null,null,null,null,null,null,"Square brackets designates an Out of Segment Source (i.e., pollutant is a source for downstream segments)",null,null,null,null,null,null,null,null,null,null,null,null,null,null,null,null,null,null,null,null,null,null,null,null,null,"Square brackets designates an Out of Segment Source (i.e., pollutant is a source for downstream segments)",null,null,null,null,null,null,null,null,null,null,null,null,null,null,null,null,null,null,null,null,null,null,null,null,null,"Square brackets designates an Out of Segment Source (i.e., pollutant is a source for downstream segments)",null,null,null,null,null,null,null,null,null,null,null,null,null,null,null,null,null,null,null,null,null,null,null,null,null,"Square brackets designates an Out of Segment Source (i.e., pollutant is a source for downstream segments)",null,null,null,null,null,null,null,null,null,null,null,null,null,null,null,null,null,null,null,null,null,null,null,null,null,null,null,null,null,null,null,null,null,null,null,null,null,null,null,null,null,null,null,null,null,null,null,null,null,null,null,null,null,null,null,null,null,null,null,null,null,null,null,"The lists below show unique codes in lists assembled above. Numbers are max confidence #, used to color cells for worst case. The codes are catenated in the colored boxes above for transfer to Sources RC when that sheet is activated."]
[]
[null,"Bacteria","Bacteria   B","NA","NA","NA",{"$f":"$FO$15&\"  \"&$FO$16&\"  \"&$FO$17&\"  \"&$FO$18&\"  \"&$FO$19&\"  \"&$FO$20","v":"          "},{"$f":"$FO$28&\"  \"&$FO$29&\"  \"&$FO$30&\"  \"&$FO$31&\"  \"&$FO$32&\"  \"&$FO$33","v":"          "},null,null,null,null,null,null,null,null,null,null,null,null,null,null,null,null,null,null,null,null,null,null,null,null,null,null,null,null,null,null,null,null,null,null,null,null,null,null,null,null,null,null,null,null,null,null,null,null,null,null,null,null,null,null,null,null,null,null,null,null,null,null,null,null,null,null,null,null,null,null,null,null,null,null,null,null,null,null,null,null,null,null,null,null,null,null,null,null,null,null,null,null,null,null,null,null,null,null,null,null,null,null,null,null,null,null,null,null,null,null,null,null,null,null,null,null,null,null,null,null,null,null,null,null,null,null,null,null,null,null,null,null,null,null,null,null,null,null,null,null,null,null,null,null,null,null,null,null,null,null,null,null,null,null,null,null,null,null,null,null,null,null,null,null,null,null,null,null,null,null,null,null,null,null,null,null,null,null,null,null,null,null,null,null,null,null,null,null,null,null,null,null,null,null,null,null,null,null,null,null,null,null,null,null,null,null,null,null,null,null,null,null,null,null,null,null,null,null,null,null,null,null,null,null,null,null,null,null,null,null,null,null,null,null,null,null,null,null,null,null,null,null,null,null,null,null,null,null,null,null,null,null,null,null,null,null,null,null,null,null,null,null,null,null,null,null,null,null,null,null,null,null,null,null,null,null,null,null,"Municp",null,null,"Industr",null,null,"St Water",null,null,"Res Ext",null,null,"Land Dis",null,null,"Seds",null,null,"Hydro",null,null,"Other",null,null,"Unknown"]
[]
[null,"Aesthetics","Oil & Grease   G","NA","NA","NA",{"$f":"$GO$15&\"  \"&$GO$16&\"  \"&$GO$17&\"  \"&$GO$18&\"  \"&$GO$19&\"  \"&$GO$20","v":"          "},{"$f":"$GO$28&\"  \"&$GO$29&\"  \"&$GO$30&\"  \"&$GO$31&\"  \"&$GO$32&\"  \"&$GO$33","v":"          "},null,null,null,null,null,null,null,null,null,null,null,null,null,null,null,null,null,null,null,null,null,null,null,null,null,null,null,null,null,null,null,null,null,null,null,null,null,null,null,null,null,null,null,null,null,null,null,null,null,null,null,null,null,null,null,null,null,null,null,null,null,null,null,null,null,null,null,null,null,null,null,null,null,null,null,null,null,null,null,null,null,null,null,"Identify the suspected toxic chemical substance below (e.g., Hg, PCB, etc). ",null,null,null,null,null,null,null,null,null,null,null,null,null,null,null,null,null,null,null,null,null,null,null,null,null,null,null,null,null,null,null,null,null,null,null,null,null,null,null,null,null,null,null,null,null,null,null,null,null,null,null,null,null,null,null,null,null,null,null,null,null,null,null,null,null,null,null,null,null,null,null,null,null,null,null,null,null,null,null,null,null,null,null,null,null,null,null,null,null,null,null,null,null,null,null,null,null,null,null,null,null,null,null,null,null,null,null,null,null,null,null,null,null,null,null,null,null,null,null,null,null,null,null,null,null,null,null,null,null,null,null,null,null,null,null,null,null,null,null,null,null,null,null,null,null,null,null,null,null,null,null,null,null,null,null,"Identify the suspected toxic chemical substance below (e.g., Hg, PCB, etc). "]
[null,null,"Taste & Odor   O","NA",null,null,null,null,null,null,null,null,null,null,"Pollution  Indicators (Causes):  ",null,{"$f":"P46&\" \"&P47&\" \"&P48&\" \"&P49&\" \"&P50&\" \"&P51","v":"     "},null,null,null,null,null,null,null,null,null,null,null,null,null,null,null,null,null,null,null,null,null,null,null,"Pollution  Indicators (Causes):  ",null,{"$f":"AP46&\" \"&AP47&\" \"&AP48&\" \"&AP49&\" \"&AP50&\" \"&AP51","v":"     "},null,null,null,null,null,null,null,null,null,null,null,null,null,null,null,null,null,null,null,null,null,null,null,"Pollution  Indicators (Causes):  ",null,{"$f":"BP46&\" \"&BP47&\" \"&BP48","v":"  "},null,null,null,null,null,null,null,null,null,null,null,null,null,null,null,null,null,null,null,null,null,null,null,null,null,null,null,null,null,null,null,null,null,null,null,null,null,null,null,null,null,null,null,null,null,null,null,null,null,"Pollution  Indicators (Causes):  ",null,{"$f":"DP46&\" \"&DP47","v":" "},null,null,null,null,null,null,null,null,null,null,null,null,null,null,null,null,null,null,null,null,null,null,null,"Pollution  Indicators (Causes):  ",null,{"$f":"EP46&\" \"&EP47&\" \"&EP48&\" \"&EP49","v":"   "},null,null,null,null,null,null,null,null,null,null,null,null,null,null,null,null,null,null,null,null,null,null,null,"Pollution  Indicators (Causes):  ",null,{"$f":"FP46&\" \"&FP47","v":" "},null,null,null,null,null,null,null,null,null,null,null,null,null,null,null,null,null,null,null,null,null,null,null,"Pollution  Indicators (Causes):  ",null,{"$f":"GP46&\" \"&GP47&\" \"&GP48&\" \"&GP49&\" \"&GP50&\" \"&GP51","v":"     "},null,null,null,null,null,null,null,null,null,null,null,null,null,null,null,null,null,null,null,null,null,null,"Identify the suspected toxic chemical substance below (e.g., Hg, PCB, etc). "]
[null,null,"Turb/Color   C","NA",null,null,null,null,null,null,null,null,null,null,null,null,null,null,null,null,null,null,null,null,null,null,null,null,null,null,null,null,null,null,null,null,null,null,null,null,null,null,null,null,null,null,null,null,null,null,null,null,null,null,null,null,null,null,null,null,null,null,null,null,null,null,null,null,null,null,null,null,null,null,null,null,null,null,null,null,null,null,null,null,null,null,null,null,null,null,null,"Ag",null,null,null,null,null,null,null,null,null,null,null,null,null,null,null,null,null,null,null,null,null,null,null,null,null,null,null,null,null,null,null,null,null,null,null,null,null,null,null,null,null,null,null,null,null,null,null,null,null,null,null,null,null,null,null,null,null,null,null,null,null,null,null,null,null,null,null,null,null,null,null,null,null,null,null,null,null,null,null,null,null,null,null,null,null,null,null,null,null,null,null,null,null,null,null,null,null,null,null,null,null,null,null,null,null,null,null,null,null,null,null,null,null,null,null,null,null,null,null,null,null,null,null,null,null,null,null,null,null,null,null,null,null,null,null,null,null,null,null,null,null,null,null,null,null,null,null,null,null,null,null,null,null,null,null,"DDT"]
[null,null,"Nuisance Plants   V","NA",null,null,null,null,null,null,null,null,null,null,{"$f":"$B$16","v":"Biology"},null,null,null,null,null,null,null,null,null,null,null,null,null,null,null,null,null,null,null,null,null,null,null,null,null,{"$f":"$B$22","v":"Chemistry"},null,null,null,null,null,null,null,null,null,null,null,null,null,null,null,null,null,null,null,null,null,null,null,null,null,{"$f":"$B$28","v":"Nutrients"},null,null,null,null,null,null,null,null,null,null,null,null,null,null,null,null,null,null,null,null,null,null,null,null,null,null,null,null,null,null,null,null,null,null,null,null,null,null,null,null,null,null,null,null,null,null,null,null,null,null,null,{"$f":"$B$34","v":"Flow"},null,null,null,null,null,null,null,null,null,null,null,null,null,null,null,null,null,null,null,null,null,null,null,null,null,{"$f":"$B$36","v":"Habitat"},null,null,null,null,null,null,null,null,null,null,null,null,null,null,null,null,null,null,null,null,null,null,null,null,null,{"$f":"$B$40","v":"Bacteria"},null,null,null,null,null,null,null,null,null,null,null,null,null,null,null,null,null,null,null,null,null,null,null,null,null,{"$f":"$B$42","v":"Aesthetics"},null,null,null,null,null,null,null,null,null,null,null,null,null,null,null,null,null,null,null,null,null,null,null,null,"PCB"]
[null,null,"Trash /Debris   D","NA",null,null,null,null,null,null,null,null,null,null,{"$f":"$C$16","v":"Plank/Peri.   A"},{"$f":"IF($D$16=\"Concern\",\"(A)\",IF(OR($D$16=\"Fair\",$D$16=\"Poor\"),\"A\",\"\"))","v":""},null,null,null,null,null,null,null,null,null,null,null,null,null,null,null,null,null,null,null,null,null,null,null,null,{"$f":"$C$22","v":"Dis. Oxygen    DO"},{"$f":"IF($D$22=\"Concern\",\"(DO)\",IF(OR($D$22=\"Fair\",$D$22=\"Poor\"),\"DO\",\"\"))","v":""},null,null,null,null,null,null,null,null,null,null,null,null,null,null,null,null,null,null,null,null,null,null,null,null,{"$f":"$C$28","v":"Phosphorus  P"},{"$f":"IF($D$28=\"Concern\",\"(P)\",IF(OR($D$28=\"Fair\",$D$28=\"Poor\"),\"P\",\"\"))","v":""},null,null,null,null,null,null,null,null,null,null,null,null,null,null,null,null,null,null,null,null,null,null,null,null,null,null,null,null,null,null,null,null,null,null,null,null,null,null,null,null,null,null,null,null,null,null,null,null,null,null,{"$f":"$C$34","v":"Flow  Q"},{"$f":"IF($D$34=\"Concern\",\"(O)\",IF(OR($D$34=\"Fair\",$D$34=\"Poor\"),\"O\",\"\"))","v":""},null,null,null,null,null,null,null,null,null,null,null,null,null,null,null,null,null,null,null,null,null,null,null,null,{"$f":"$C$36","v":"Substrate   S"},{"$f":"IF($D$36=\"Concern\",\"(S)\",IF(OR($D$36=\"Fair\",$D$36=\"Poor\"),\"S\",\"\"))","v":""},null,null,null,null,null,null,null,null,null,null,null,null,null,null,null,null,null,null,null,null,null,null,null,null,{"$f":"$C$40","v":"Bacteria   B"},{"$f":"IF($D$40=\"Concern\",\"(B)\",IF(OR($D$40=\"Fair\",$D$40=\"Poor\"),\"B\",\"\"))","v":""},null,null,null,null,null,null,null,null,null,null,null,null,null,null,null,null,null,null,null,null,null,null,null,null,{"$f":"$C$42","v":"Oil & Grease   G"},{"$f":"IF($D$42=\"Concern\",\"(G)\",IF(OR($D$42=\"Fair\",$D$42=\"Poor\"),\"G\",\"\"))","v":""}]
[null,null,null,null,null,null,null,null,null,null,null,null,null,null,{"$f":"$C$17","v":"Macrophyton   M"},{"$f":"IF($D$17=\"Concern\",\"(M)\",IF(OR($D$17=\"Fair\",$D$17=\"Poor\"),\"M\",\"\"))","v":""},null,null,null,null,null,null,null,null,null,null,null,null,null,null,null,null,null,null,null,null,null,null,null,null,{"$f":"$C$23","v":"pH     pH"},{"$f":"IF($D$23=\"Concern\",\"(pH)\",IF(OR($D$23=\"Fair\",$D$23=\"Poor\"),\"pH\",\"\"))","v":""},null,null,null,null,null,null,null,null,null,null,null,null,null,null,null,null,null,null,null,null,null,null,null,null,{"$f":"$C$29","v":"Nitrogen   N"},{"$f":"IF($D$29=\"Concern\",\"(N)\",IF(OR($D$29=\"Fair\",$D$29=\"Poor\"),\"N\",\"\"))","v":""},null,null,null,null,null,null,null,null,null,null,null,null,null,null,null,null,null,null,null,null,null,null,null,null,null,null,null,null,null,null,null,null,null,null,null,null,null,null,null,null,null,null,null,null,null,null,null,null,null,null,{"$f":"IF($C$41=\"\",\"\",$C$41)","v":""},{"$f":"IF($D$35=\"Concern\",\"(**)\",IF(OR($D$35=\"Fair\",$D$35=\"Poor\"),\"**\",\"\"))","v":""},null,null,null,null,null,null,null,null,null,null,null,null,null,null,null,null,null,null,null,null,null,null,null,null,{"$f":"$C$37","v":"Morphology   H"},{"$f":"IF($D$37=\"Concern\",\"(H)\",IF(OR($D$37=\"Fair\",$D$37=\"Poor\"),\"H\",\"\"))","v":""},null,null,null,null,null,null,null,null,null,null,null,null,null,null,null,null,null,null,null,null,null,null,null,null,{"$f":"IF($C$41=\"\",\"\",$C$41)","v":""},{"$f":"IF($D$41=\"Concern\",\"(**)\",IF(OR($D$41=\"Fair\",$D$41=\"Poor\"),\"**\",\"\"))","v":""},null,null,null,null,null,null,null,null,null,null,null,null,null,null,null,null,null,null,null,null,null,null,null,null,{"$f":"$C$43","v":"Taste & Odor   O"},{"$f":"IF($D$43=\"Concern\",\"(O)\",IF(OR($D$43=\"Fair\",$D$43=\"Poor\"),\"O\",\"\"))","v":""}]
[null,"Tissue",{"$f":"\"Spec. Chem.   \"&HN45","v":"Spec. Chem.   PCB"},"NA","NA","NA",{"$f":"$HO$15&\"  \"&$HO$16&\"  \"&$HO$17&\"  \"&$HO$18&\"  \"&$HO$19&\"  \"&$HO$20","v":"          "},{"$f":"$HO$28&\"  \"&$HO$29&\"  \"&$HO$30&\"  \"&$HO$31&\"  \"&$HO$32&\"  \"&$HO$33","v":"          "},null,null,null,null,null,null,{"$f":"$C$18","v":"Invertebrates   I"},{"$f":"IF($D$18=\"Concern\",\"(I)\",IF(OR($D$18=\"Fair\",$D$18=\"Poor\"),\"I\",\"\"))","v":""},null,null,null,null,null,null,null,null,null,null,null,null,null,null,null,null,null,null,null,null,null,null,null,null,{"$f":"$C$24","v":"Temperature    T"},{"$f":"IF($D$24=\"Concern\",\"(T)\",IF(OR($D$24=\"Fair\",$D$24=\"Poor\"),\"T\",\"\"))","v":""},null,null,null,null,null,null,null,null,null,null,null,null,null,null,null,null,null,null,null,null,null,null,null,null,{"$f":"IF($C$30=\"\",\"\",$C$30)","v":""},{"$f":"IF($D$30=\"Concern\",\"(**)\",IF(OR($D$30=\"Fair\",$D$30=\"Poor\"),\"**\",\"\"))","v":""},null,null,null,null,null,null,null,null,null,null,null,null,null,null,null,null,null,null,null,null,null,null,null,null,null,null,null,null,null,null,null,null,null,null,null,null,null,null,null,null,null,null,null,null,null,null,null,null,null,null,null,null,null,null,null,null,null,null,null,null,null,null,null,null,null,null,null,null,null,null,null,null,null,null,null,null,{"$f":"$C$38","v":"Riparian Zone   R"},{"$f":"IF($D$38=\"Concern\",\"(R)\",IF(OR($D$38=\"Fair\",$D$38=\"Poor\"),\"R\",\"\"))","v":""},null,null,null,null,null,null,null,null,null,null,null,null,null,null,null,null,null,null,null,null,null,null,null,null,null,null,null,null,null,null,null,null,null,null,null,null,null,null,null,null,null,null,null,null,null,null,null,null,null,null,{"$f":"$C$44","v":"Turb/Color   C"},{"$f":"IF($D$44=\"Concern\",\"(C)\",IF(OR($D$44=\"Fair\",$D$44=\"Poor\"),\"C\",\"\"))","v":""}]
[null,null,null,null,null,null,null,null,null,null,null,null,null,null,{"$f":"$C$19","v":"Fish   F"},{"$f":"IF($D$19=\"Concern\",\"(F)\",IF(OR($D$19=\"Fair\",$D$19=\"Poor\"),\"F\",\"\"))","v":""},null,null,null,null,null,null,null,null,null,null,null,null,null,null,null,null,null,null,null,null,null,null,null,null,{"$f":"$C$25","v":"Ionic Strength    Z"},{"$f":"IF($D$25=\"Concern\",\"(Z)\",IF(OR($D$25=\"Fair\",$D$25=\"Poor\"),\"Z\",\"\"))","v":""},null,null,null,null,null,null,null,null,null,null,null,null,null,null,null,null,null,null,null,null,null,null,null,null,null,null,null,null,null,null,null,null,null,null,null,null,null,null,null,null,null,null,null,null,null,null,null,null,null,null,"Pollution  Indicators (Causes):  ",null,{"$f":"CP52&\" \"&CP53&\" \"&CP54","v":"  "},null,null,null,null,null,null,null,null,null,null,null,null,null,null,null,null,null,null,null,null,null,null,null,null,null,null,null,null,null,null,null,null,null,null,null,null,null,null,null,null,null,null,null,null,null,null,null,null,null,{"$f":"IF($C$39=\"\",\"\",$C$39)","v":""},{"$f":"IF($D$39=\"Concern\",\"(**)\",IF(OR($D$39=\"Fair\",$D$39=\"Poor\"),\"**\",\"\"))","v":""},null,null,null,null,null,null,null,null,null,null,null,null,null,null,null,null,null,null,null,null,null,null,null,null,null,null,null,null,null,null,null,null,null,null,null,null,null,null,null,null,null,null,null,null,null,null,null,null,null,null,{"$f":"$C$45","v":"Nuisance Plants   V"},{"$f":"IF($D$45=\"Concern\",\"(V)\",IF(OR($D$45=\"Fair\",$D$45=\"Poor\"),\"V\",\"\"))","v":""},null,null,null,null,null,null,null,null,null,null,null,null,null,null,null,null,null,null,null,null,null,null,null,null,null,null,null,null,null,null,null,null,null,null,null,null,null,null,null,null,null,null,null,null,null,null,null,null,null,null,"Pollution  Indicators (Causes):  ",null,{"$f":"IP52&\" \"&IP53&\" \"&IP54","v":"  "}]
[null,"Sediment","Unknown   U","NA","NA","NA",{"$f":"$IO$15&\"  \"&$IO$16&\"  \"&$IO$17&\"  \"&$IO$18&\"  \"&$IO$19&\"  \"&$IO$20","v":"          "},{"$f":"$IO$28&\"  \"&$IO$29&\"  \"&$IO$30&\"  \"&$IO$31&\"  \"&$IO$32&\"  \"&$IO$33","v":"          "},null,null,null,null,null,null,{"$f":"$C$20","v":"Wildlife   W"},{"$f":"IF($D$20=\"Concern\",\"(W)\",IF(OR($D$20=\"Fair\",$D$20=\"Poor\"),\"W\",\"\"))","v":""},null,null,null,null,null,null,null,null,null,null,null,null,null,null,null,null,null,null,null,null,null,null,null,null,{"$f":"$C$26","v":"Sus. Solids    SS"},{"$f":"IF($D$26=\"Concern\",\"(SS)\",IF(OR($D$26=\"Fair\",$D$26=\"Poor\"),\"SS\",\"\"))","v":""},null,null,null,null,null,null,null,null,null,null,null,null,null,null,null,null,null,null,null,null,null,null,null,null,null,null,null,null,null,null,null,null,null,null,null,null,null,null,null,null,null,null,null,null,null,null,null,null,null,null,null,null,null,null,null,null,null,null,null,null,null,null,null,null,null,null,null,null,null,null,null,null,null,null,null,null,null,null,null,null,null,null,null,null,null,null,null,null,null,null,null,null,null,null,null,null,null,null,null,null,null,null,null,null,null,null,null,null,null,null,null,null,null,null,null,null,null,null,null,null,null,null,null,null,null,null,null,null,null,null,null,null,null,null,null,null,null,null,null,null,null,null,null,null,null,null,null,null,null,null,null,null,null,null,{"$f":"$C$46","v":"Trash /Debris   D"},{"$f":"IF($D$46=\"Concern\",\"(D)\",IF(OR($D$46=\"Fair\",$D$46=\"Poor\"),\"D\",\"\"))","v":""},null,null,null,null,null,null,null,null,null,null,null,null,null,null,null,null,null,null,null,null,null,null,null,null,"Pollution  Indicators (Causes):  ",null,{"$f":"HP53&\" \"&HP54","v":" "}]
[null,null,{"$f":"\"Spec. Chem.   \"&IN44","v":"Spec. Chem.   DDT"},"NA",null,null,null,null,null,null,null,null,null,null,{"$f":"IF($C$21=\"\",\"\",$C$21)","v":""},{"$f":"IF($D$21=\"Concern\",\"(**)\",IF(OR($D$21=\"Fair\",$D$21=\"Poor\"),\"**\",\"\"))","v":""},null,null,null,null,null,null,null,null,null,null,null,null,null,null,null,null,null,null,null,null,null,null,null,null,{"$f":"IF($C$27=\"\",\"\",$C$27)","v":""},{"$f":"IF($D$27=\"Concern\",\"(**)\",IF(OR($D$27=\"Fair\",$D$27=\"Poor\"),\"**\",\"\"))","v":""},null,null,null,null,null,null,null,null,null,null,null,null,null,null,null,null,null,null,null,null,null,null,null,null,null,null,null,null,null,null,null,null,null,null,null,null,null,null,null,null,null,null,null,null,null,null,null,null,null,null,{"$f":"$B$31","v":"Toxicity"},null,null,null,null,null,null,null,null,null,null,null,null,null,null,null,null,null,null,null,null,null,null,null,null,null,null,null,null,null,null,null,null,null,null,null,null,null,null,null,null,null,null,null,null,null,null,null,null,null,null,null,null,null,null,null,null,null,null,null,null,null,null,null,null,null,null,null,null,null,null,null,null,null,null,null,null,null,null,null,null,null,null,null,null,null,null,null,null,null,null,null,null,null,null,null,null,null,null,null,null,null,null,null,{"$f":"IF($C$47=\"\",\"\",$C$47)","v":""},{"$f":"IF($D$47=\"Concern\",\"(**)\",IF(OR($D$47=\"Fair\",$D$47=\"Poor\"),\"**\",\"\"))","v":""},null,null,null,null,null,null,null,null,null,null,null,null,null,null,null,null,null,null,null,null,null,null,null,null,null,null,null,null,null,null,null,null,null,null,null,null,null,null,null,null,null,null,null,null,null,null,null,null,null,null,{"$f":"$B$50","v":"Sediment"}]
[null,null,null,null,null,null,null,null,null,null,null,null,null,null,null,null,null,null,null,null,null,null,null,null,null,null,null,null,null,null,null,null,null,null,null,null,null,null,null,null,null,null,null,null,null,null,null,null,null,null,null,null,null,null,null,null,null,null,null,null,null,null,null,null,null,null,null,null,null,null,null,null,null,null,null,null,null,null,null,null,null,null,null,null,null,null,null,null,null,null,null,null,{"$f":"$C$31","v":"Unknown   U"},{"$f":"IF($D$31=\"Concern\",\"(U)\",IF(OR($D$31=\"Fair\",$D$31=\"Poor\"),\"U\",\"\"))","v":""},null,null,null,null,null,null,null,null,null,null,null,null,null,null,null,null,null,null,null,null,null,null,null,null,null,null,null,null,null,null,null,null,null,null,null,null,null,null,null,null,null,null,null,null,null,null,null,null,null,null,null,null,null,null,null,null,null,null,null,null,null,null,null,null,null,null,null,null,null,null,null,null,null,null,null,null,null,null,null,null,null,null,null,null,null,null,null,null,null,null,null,null,null,null,null,null,null,null,null,null,null,null,null,null,null,null,null,null,null,null,null,null,null,null,null,null,null,null,null,null,null,null,null,null,null,null,null,null,{"$f":"$B$48","v":"Tissue"},null,null,null,null,null,null,null,null,null,null,null,null,null,null,null,null,null,null,null,null,null,null,null,null,null,{"$f":"$C$50","v":"Unknown   U"},{"$f":"IF($D$50=\"Concern\",\"(U)\",IF(OR($D$50=\"Fair\",$D$50=\"Poor\"),\"U\",\"\"))","v":""}]
[null,"Comments:",null,null,null,null,null,"*  Suspected Source  ",null,null,null,null,null,null,null,null,null,null,null,null,null,null,null,null,null,null,null,null,null,null,null,null,null,null,null,null,null,null,null,null,null,null,null,null,null,null,null,null,null,null,null,null,null,null,null,null,null,null,null,null,null,null,null,null,null,null,null,null,null,null,null,null,null,null,null,null,null,null,null,null,null,null,null,null,null,null,null,null,null,null,null,null,{"$f":"$C$32","v":"Spec. Chem.  Ag"},{"$f":"IF($D$32=\"Concern\",\"(\"&CN44&\")\",IF(OR($D$32=\"Fair\",$D$32=\"Poor\"),CN44,\"\"))","v":""},null,null,null,null,null,null,null,null,null,null,null,null,null,null,null,null,null,null,null,null,null,null,null,null,null,null,null,null,null,null,null,null,null,null,null,null,null,null,null,null,null,null,null,null,null,null,null,null,null,null,null,null,null,null,null,null,null,null,null,null,null,null,null,null,null,null,null,null,null,null,null,null,null,null,null,null,null,null,null,null,null,null,null,null,null,null,null,null,null,null,null,null,null,null,null,null,null,null,null,null,null,null,null,null,null,null,null,null,null,null,null,null,null,null,null,null,null,null,null,null,null,null,null,null,null,null,null,null,{"$f":"$C$48","v":"Spec. Chem.   PCB"},{"$f":"IF($D$48=\"Concern\",\"(\"&HN45&\")\",IF(OR($D$48=\"Fair\",$D$32=\"Poor\"),HN45,\"\"))","v":""},null,null,null,null,null,null,null,null,null,null,null,null,null,null,null,null,null,null,null,null,null,null,null,null,{"$f":"$C$51","v":"Spec. Chem.   DDT"},{"$f":"IF($D$51=\"Concern\",\"(\"&IN44&\")\",IF(OR($D$51=\"Fair\",$D$51=\"Poor\"),IN44,\"\"))","v":""}]
[null,null,null,null,null,null,null,"** Potential Source  ",null,null,null,null,null,null,null,null,null,null,null,null,null,null,null,null,null,null,null,null,null,null,null,null,null,null,null,null,null,null,null,null,null,null,null,null,null,null,null,null,null,null,null,null,null,null,null,null,null,null,null,null,null,null,null,null,null,null,null,null,null,null,null,null,null,null,null,null,null,null,null,null,null,null,null,null,null,null,null,null,null,null,null,null,{"$f":"IF($C$33=\"\",\"\",$C$33)","v":""},{"$f":"IF($D$33=\"Concern\",\"(**)\",IF(OR($D$33=\"Fair\",$D$33=\"Poor\"),\"**\",\"\"))","v":""},null,null,null,null,null,null,null,null,null,null,null,null,null,null,null,null,null,null,null,null,null,null,null,null,null,null,null,null,null,null,null,null,null,null,null,null,null,null,null,null,null,null,null,null,null,null,null,null,null,null,null,null,null,null,null,null,null,null,null,null,null,null,null,null,null,null,null,null,null,null,null,null,null,null,null,null,null,null,null,null,null,null,null,null,null,null,null,null,null,null,null,null,null,null,null,null,null,null,null,null,null,null,null,null,null,null,null,null,null,null,null,null,null,null,null,null,null,null,null,null,null,null,null,null,null,null,null,null,{"$f":"IF($C$49=\"\",\"\",$C$49)","v":""},{"$f":"IF($D$49=\"Concern\",\"(**)\",IF(OR($D$49=\"Fair\",$D$49=\"Poor\"),\"**\",\"\"))","v":""},null,null,null,null,null,null,null,null,null,null,null,null,null,null,null,null,null,null,null,null,null,null,null,null,{"$f":"IF($C$52=\"\",\"\",$C$52)","v":""},{"$f":"IF($D$52=\"Concern\",\"(**)\",IF(OR($D$52=\"Fair\",$D$52=\"Poor\"),\"**\",\"\"))","v":""}]
[null,null,null,null,null,null,null,"No asterisk: Known Source  "]
[null,null,null,null,null,null,null,"[Out of Segment Source ]  "]
[]
[]
[]
[null,"SegNameLong:  ","xxxxxx"]
[null,"Seg Name:  ","xxx"]
[null,"Seg Num:  "]
[null,"Seg Size:  "]
[null,"Seg Class:  "]
[]
[]
[]
[]
[]
[]
[]
[]
[]
[]
[]
[]
[null,null,null,{"$f":"A99","v":""}]
[null,null,null,{"$f":"B99","v":""}]
[null,null,null,{"$f":"C99","v":""}]
[null,null,null,{"$f":"D99","v":""}]
[null,null,null,{"$f":"E99","v":""}]
[null,null,null,{"$f":"F99","v":""}]
[null,null,null,{"$f":"G99","v":""}]
[null,null,null,{"$f":"H99","v":""}]
[null,null,null,{"$f":"I99","v":""}]
[]
[]
[]
[]
[]
[]
[]
[]
[]
[]
[]
[]
[]
[{"$f":"TRIM(A101&\" \"&A102&\" \"&A103&\" \"&A104&\" \"&A105&\" \"&A106)","v":""},{"$f":"TRIM(B101&\" \"&B102&\" \"&B103&\" \"&B104&\" \"&B105&\" \"&B106)","v":""},"","","","","","",""]

{"sheet":"Seg25","index":29,"n_rows":99,"n_cols":311,"rows_kept":99,"cut":false,"hidden":false,"merged":[[15,1,20,1],[15,4,20,4],[15,5,20,5],[15,6,20,6],[15,7,20,7],[13,1,14,1],[13,2,14,3],[13,4,14,4],[13,5,14,5],[14,6,14,7],[27,1,29,1],[27,4,29,4],[27,5,29,5],[27,6,29,6],[27,7,29,7],[21,1,26,1],[21,4,26,4],[21,5,26,5],[21,6,26,6],[21,7,26,7],[49,6,51,6],[49,7,51,7],[30,1,32,1],[30,4,32,4],[30,5,32,5],[30,6,32,6],[30,7,32,7],[33,1,34,1],[33,4,34,4],[33,5,34,5],[33,6,34,6],[33,7,34,7],[43,91,45,94],[35,1,38,1],[35,4,38,4],[35,5,38,5],[35,6,38,6],[35,7,38,7],[39,1,40,1],[39,4,40,4],[39,5,40,5],[39,6,40,6],[39,7,40,7],[52,1,55,1],[43,247,45,250],[44,221,46,224],[47,1,48,1],[47,4,48,4],[47,5,48,5],[47,6,48,6],[47,7,48,7],[41,1,46,1],[41,4,46,4],[41,5,46,5],[41,6,46,6],[41,7,46,7],[49,1,51,1],[49,4,51,4],[49,5,51,5]]}
[]
[]
[]
[]
[null,null,null,null,null,null,null,null,null,null,null,null,null,null,null,null,null,null,null,null,null,null,null,null,null,null,null,null,null,null,null,null,null,null,null,null,null,null,null,null,null,null,null,null,null,null,null,null,null,null,null,null,null,null,null,null,null,null,null,null,null,null,null,null,null,null,null,null,null,null,null,null,null,null,null,null,null,null,null,null,null,null,null,null,null,null,null,null,null,null,null,null,null,null,null,null,null,null,null,null,null,null,null,null,null,null,null,null,null,null,null,null,null,null,null,null,null,null,null,null,null,null,null,null,null,null,null,null,null,null,null,null,null,null,null,null,null,null,null,null,null,null,null,null,null,null,null,null,null,null,null,null,null,null,null,null,null,null,null,null,null,null,null,null,null,null,null,null,null,null,null,null,null,null,null,null,null,null,null,null,null,null,null,null,null,null,null,null,null,null,null,null,null,null,null,null,null,null,null,null,null,null,null,null,null,null,null,null,null,null,null,null,null,null,null,null,null,null,null,null,null,null,null,null,null,null,null,null,null,null,null,null,null,null,null,null,null,null,null,null,null,null,null,null,null,null,null,null,null,null,null,null,null,null,null,null,null,null,null,null,null,null,null,null,null,null,null,null,null,null,null,null,null,null,null,null,null,null,null,null,null,null,null,null,null,"List of all codes from all groups for this segment, organized by Source Type. "]
[null,null,null,null,null,null,null,null,null,null,null,null,null,null,null,null,null,null,null,null,null,null,null,null,null,null,null,null,null,null,null,null,null,null,null,null,null,null,null,null,null,null,null,null,null,null,null,null,null,null,null,null,null,null,null,null,null,null,null,null,null,null,null,null,null,null,null,null,null,null,null,null,null,null,null,null,null,null,null,null,null,null,null,null,null,null,null,null,null,null,null,null,null,null,null,null,null,null,null,null,null,null,null,null,null,null,null,null,null,null,null,null,null,null,null,null,null,null,null,null,null,null,null,null,null,null,null,null,null,null,null,null,null,null,null,null,null,null,null,null,null,null,null,null,null,null,null,null,null,null,null,null,null,null,null,null,null,null,null,null,null,null,null,null,null,null,null,null,null,null,null,null,null,null,null,null,null,null,null,null,null,null,null,null,null,null,null,null,null,null,null,null,null,null,null,null,null,null,null,null,null,null,null,null,null,null,null,null,null,null,null,null,null,null,null,null,null,null,null,null,null,null,null,null,null,null,null,null,null,null,null,null,null,null,null,null,null,null,null,null,null,null,null,null,null,null,null,null,null,null,null,null,null,null,null,null,null,null,null,null,null,null,null,null,null,null,null,null,null,null,null,null,null,null,null,null,null,null,null,null,null,null,null,null,null,"List is updated only when \"SourceRC_List\" macro is run. Macro is run manually by touching button at right or when Source report card is activated."]
[null,null,null,null,null,null,null,null,null,null,null,null,null,null,null,null,null,null,null,null,null,null,null,null,null,null,null,null,null,null,null,null,null,null,null,null,null,null,null,null,null,null,null,null,null,null,null,null,null,null,null,null,null,null,null,null,null,null,null,null,null,null,null,null,null,null,null,null,null,null,null,null,null,null,null,null,null,null,null,null,null,null,null,null,null,null,null,null,null,null,null,null,null,null,null,null,null,null,null,null,null,null,null,null,null,null,null,null,null,null,null,null,null,null,null,null,null,null,null,null,null,null,null,null,null,null,null,null,null,null,null,null,null,null,null,null,null,null,null,null,null,null,null,null,null,null,null,null,null,null,null,null,null,null,null,null,null,null,null,null,null,null,null,null,null,null,null,null,null,null,null,null,null,null,null,null,null,null,null,null,null,null,null,null,null,null,null,null,null,null,null,null,null,null,null,null,null,null,null,null,null,null,null,null,null,null,null,null,null,null,null,null,null,null,null,null,null,null,null,null,null,null,null,null,null,null,null,null,null,null,null,null,null,null,null,null,null,null,null,null,null,null,null,null,null,null,null,null,null,null,null,null,null,null,null,null,null,null,null,null,null,null,null,null,null,null,null,null,null,null,null,null,null,null,null,null,null,null,null,null,null,null,null,null,null,"Numbers indicate knowledge about the certainty of assessment: 0 = N/A, 1 = Potential Source, 2 = Suspected Source, 3 = Known Source."]
[null,null,null,null,null,null,null,null,null,null,null,null,null,null,null,null,null,null,null,null,null,null,null,null,null,null,null,null,null,null,null,null,null,null,null,null,null,null,null,null,null,null,null,null,null,null,null,null,null,null,null,null,null,null,null,null,null,null,null,null,null,null,null,null,null,null,null,null,null,null,null,null,null,null,null,null,null,null,null,null,null,null,null,null,null,null,null,null,null,null,null,null,null,null,null,null,null,null,null,null,null,null,null,null,null,null,null,null,null,null,null,null,null,null,null,null,null,null,null,null,null,null,null,null,null,null,null,null,null,null,null,null,null,null,null,null,null,null,null,null,null,null,null,null,null,null,null,null,null,null,null,null,null,null,null,null,null,null,null,null,null,null,null,null,null,null,null,null,null,null,null,null,null,null,null,null,null,null,null,null,null,null,null,null,null,null,null,null,null,null,null,null,null,null,null,null,null,null,null,null,null,null,null,null,null,null,null,null,null,null,null,null,null,null,null,null,null,null,null,null,null,null,null,null,null,null,null,null,null,null,null,null,null,null,null,null,null,null,null,null,null,null,null,null,null,null,null,null,null,null,null,null,null,null,null,null,null,null,null,null,null,null,null,null,null,null,null,null,null,null,null,null,null,null,null,null,null,null,null,null,null,null,null,null,null,"This list is then processed below to remove duplicates."]
[null,null,null,null,null,null,null,null,null,null,null,null,null,"Designate Point & Non-Point Sources",null,null,null,null,null,null,null,null,null,null,null,null,null,null,null,null,null,null,null,null,null,null,null,null,null,"Designate Point & Non-Point Sources",null,null,null,null,null,null,null,null,null,null,null,null,null,null,null,null,null,null,null,null,null,null,null,null,null,"Designate Point & Non-Point Sources",null,null,null,null,null,null,null,null,null,null,null,null,null,null,null,null,null,null,null,null,null,null,null,null,null,"Designate Point & Non-Point Sources",null,null,null,null,null,null,null,null,null,null,null,null,null,null,null,null,null,null,null,null,null,null,null,null,null,"Designate Point & Non-Point Sources",null,null,null,null,null,null,null,null,null,null,null,null,null,null,null,null,null,null,null,null,null,null,null,null,null,"Designate Point & Non-Point Sources",null,null,null,null,null,null,null,null,null,null,null,null,null,null,null,null,null,null,null,null,null,null,null,null,null,"Designate Point & Non-Point Sources",null,null,null,null,null,null,null,null,null,null,null,null,null,null,null,null,null,null,null,null,null,null,null,null,null,"Designate Point & Non-Point Sources",null,null,null,null,null,null,null,null,null,null,null,null,null,null,null,null,null,null,null,null,null,null,null,null,null,"Designate Point & Non-Point Sources",null,null,null,null,null,null,null,null,null,null,null,null,null,null,null,null,null,null,null,null,null,null,null,null,null,"Designate Point & Non-Point Sources"]
[null,null,null,null,null,null,null,null,null,null,null,null,null,null,null,null,null,null,null,null,null,null,null,"Codes selected at left are distributed according to Source Type. "]
[null,{"$f":"\"River Basin: \"&RiverBasinName","v":"River Basin: Test River Basin"},null,null,null,null,{"$f":"\"Data Year:  \"&AssessmentYear","v":"Data Year:  2011"},null,null,null,null,null,null,null,null,null,null,null,null,null,null,null,null,"Numbers indicate confidence of assessment: 0 = N/A, 1 = Potential Source, 2 = Suspected Source, 3 = Known Source.",null,null,null,null,null,null,null,null,null,null,null,null,null,null,null,null,null,null,null,null,null,null,null,null,null,null,null,null,null,null,null,null,null,null,null,null,null,null,null,null,null,null,null,null,null,null,null,null,null,null,null,null,null,null,null,null,null,null,null,null,null,null,null,null,null,null,null,null,null,null,null,null,null,null,null,null,null,null,null,null,null,null,null,null,null,null,null,null,null,null,null,null,null,null,null,null,null,null,null,null,null,null,null,null,null,null,null,null,null,null,null,null,null,null,null,null,null,null,null,null,null,null,null,null,null,null,null,null,null,null,null,null,null,null,null,null,null,null,null,null,null,null,null,null,null,null,null,null,null,null,null,null,null,null,null,null,null,null,null,null,null,null,null,null,null,null,null,null,null,null,null,null,null,null,null,null,null,null,null,null,null,null,null,null,null,null,null,null,null,null,null,null,null,null,null,null,null,null,null,null,null,null,null,null,null,null,null,null,null,null,null,null,null,null,null,null,null,null,null,null,null,null,null,null,null,null,null,null,null,null,null,null,null,null,null,null,null,null,null,null,null,null,null,null,null,null,null,null,null,null,null,null,null,null,null,null,null,null,null,null,null,null,"Municp",null,null,"Industr",null,null,"St Water",null,null,"Res Ext",null,null,"Land Dis",null,null,"Seds",null,null,"Hydro",null,null,"Other",null,null,"Unknown"]
[null,{"$f":"\"Segment Name: \"&C60","v":"Segment Name: yyyyyy"},null,null,null,null,null,null,null,null,null,null,null,null,null,null,null,null,null,null,null,null,null,"These codes are processed by \"SourceRC_List macro and transferred to Source report card."]
[null,{"$f":"\"Class: \"&C64","v":"Class: "},null,{"$f":"\"Size: \"&C63","v":"Size: "},null,null,{"$f":"\"Seg ID #: \"&C62","v":"Seg ID #: "}]
[null,"CATEGORY","INDICATOR ASSESSMENT",null,"OVERALL STATUS","DATA LEVEL","POINT","NONPOINT",null,null,null,null,null,"Point Sources",null,null,null,null,null,null,null,null,null,"Municipal",null,null,"Industrial",null,null,"Storm Water",null,null,"Resource Ext",null,null,"Land Disposal",null,null,null,"Point Sources",null,null,null,null,null,null,null,null,null,"Municipal",null,null,"Industrial",null,null,"Storm Water",null,null,"Resource Ext",null,null,"Land Disposal",null,null,null,"Point Sources",null,null,null,null,null,null,null,null,null,"Municipal",null,null,"Industrial",null,null,"Storm Water",null,null,"Resource Ext",null,null,"Land Disposal",null,null,null,"Point Sources",null,null,null,null,null,null,null,null,null,"Municipal",null,null,"Industrial",null,null,"Storm Water",null,null,"Resource Ext",null,null,"Land Disposal",null,null,null,"Point Sources",null,null,null,null,null,null,null,null,null,"Municipal",null,null,"Industrial",null,null,"Storm Water",null,null,"Resource Ext",null,null,"Land Disposal",null,null,null,"Point Sources",null,null,null,null,null,null,null,null,null,"Municipal",null,null,"Industrial",null,null,"Storm Water",null,null,"Resource Ext",null,null,"Land Disposal",null,null,null,"Point Sources",null,null,null,null,null,null,null,null,null,"Municipal",null,null,"Industrial",null,null,"Storm Water",null,null,"Resource Ext",null,null,"Land Disposal",null,null,null,"Point Sources",null,null,null,null,null,null,null,null,null,"Municipal",null,null,"Industrial",null,null,"Storm Water",null,null,"Resource Ext",null,null,"Land Disposal",null,null,null,"Point Sources",null,null,null,null,null,null,null,null,null,"Municipal",null,null,"Industrial",null,null,"Storm Water",null,null,"Resource Ext",null,null,"Land Disposal",null,null,null,"Point Sources",null,null,null,null,null,null,null,null,null,"Municipal",null,null,"Industrial",null,null,"Storm Water",null,null,"Resource Ext",null,null,"Land Disposal"]
[null,null,null,null,null,null,"Click below to select Sources"]
[null,"Biology","Plank/Peri.   A","NA","NA","NA",{"$f":"$O$15&\"  \"&$O$16&\"  \"&$O$17&\"  \"&$O$18&\"  \"&$O$19&\"  \"&$O$20","v":"          "},{"$f":"$O$28&\"  \"&$O$29&\"  \"&$O$30&\"  \"&$O$31&\"  \"&$O$32&\"  \"&$O$33","v":"          "}]
[null,null,"Macrophyton   M","NA"]
[null,null,"Invertebrates   I","NA"]
[null,null,"Fish   F","NA"]
[null,null,"Wildlife   W","NA"]
[]
[null,"Chemistry","Dis. Oxygen    DO","NA","NA","NA",{"$f":"$AO$15&\"  \"&$AO$16&\"  \"&$AO$17&\"  \"&$AO$18&\"  \"&$AO$19&\"  \"&$AO$20","v":"          "},{"$f":"$AO$28&\"  \"&$AO$29&\"  \"&$AO$30&\"  \"&$AO$31&\"  \"&$AO$32&\"  \"&$AO$33","v":"          "}]
[null,null,"pH     pH","NA"]
[null,null,"Temperature    T","NA"]
[null,null,"Ionic Strength    Z","NA"]
[null,null,"Sus. Solids    SS","NA"]
[null,null,null,null,null,null,null,null,null,null,null,null,null,"Non Point Sources",null,null,null,null,null,null,null,null,null,"Seds",null,null,"Hydromodification",null,null,"Other",null,null,"Unknown",null,null,null,null,null,null,"Non Point Sources",null,null,null,null,null,null,null,null,null,"Seds",null,null,"Hydromodification",null,null,"Other",null,null,"Unknown",null,null,null,null,null,null,"Non Point Sources",null,null,null,null,null,null,null,null,null,"Seds",null,null,"Hydromodification",null,null,"Other",null,null,"Unknown",null,null,null,null,null,null,"Non Point Sources",null,null,null,null,null,null,null,null,null,"Seds",null,null,"Hydromodification",null,null,"Other",null,null,"Unknown",null,null,null,null,null,null,"Non Point Sources",null,null,null,null,null,null,null,null,null,"Seds",null,null,"Hydromodification",null,null,"Other",null,null,"Unknown",null,null,null,null,null,null,"Non Point Sources",null,null,null,null,null,null,null,null,null,"Seds",null,null,"Hydromodification",null,null,"Other",null,null,"Unknown",null,null,null,null,null,null,"Non Point Sources",null,null,null,null,null,null,null,null,null,"Seds",null,null,"Hydromodification",null,null,"Other",null,null,"Unknown",null,null,null,null,null,null,"Non Point Sources",null,null,null,null,null,null,null,null,null,"Seds",null,null,"Hydromodification",null,null,"Other",null,null,"Unknown",null,null,null,null,null,null,"Non Point Sources",null,null,null,null,null,null,null,null,null,"Seds",null,null,"Hydromodification",null,null,"Other",null,null,"Unknown",null,null,null,null,null,null,"Non Point Sources",null,null,null,null,null,null,null,null,null,"Seds",null,null,"Hydromodification",null,null,"Other",null,null,"Unknown"]
[null,"Nutrients","Phosphorus  P","NA","NA","NA",{"$f":"$BO$15&\"  \"&$BO$16&\"  \"&$BO$17&\"  \"&$BO$18&\"  \"&$BO$19&\"  \"&$BO$20","v":"          "},{"$f":"$BO$28&\"  \"&$BO$29&\"  \"&$BO$30&\"  \"&$BO$31&\"  \"&$BO$32&\"  \"&$BO$33","v":"          "}]
[null,null,"Nitrogen   N","NA"]
[]
[null,"Toxicity","Unknown   U","NA","NA","NA",{"$f":"$CO$15&\"  \"&$CO$16&\"  \"&$CO$17&\"  \"&$CO$18&\"  \"&$CO$19&\"  \"&$CO$20","v":"          "},{"$f":"$CO$28&\"  \"&$CO$29&\"  \"&$CO$30&\"  \"&$CO$31&\"  \"&$CO$32&\"  \"&$CO$33","v":"          "}]
[null,null,{"$f":"\"Spec. Chem.  \"&CN44","v":"Spec. Chem.  Ag"},"NA"]
[null,null,null,null,null,null,null,null,null,null,null,null,null,null,null,null,null,null,null,null,null,null,null,null,null,null,null,null,null,null,null,null,null,null,null,null,null,null,null,null,null,null,null,null,null,null,null,null,null,null,null,null,null,null,null,null,null,null,null,null,null,null,null,null,null,null,null,null,null,null,null,null,null,null,null,null,null,null,null,null,null,null,null,null,null,null,null,null,null,null,null,null,null,null,null,null,null,null,null,null,null,null,null,null,null,null,null,null,null,null,null,null,null,null,null,null,null,null,null,null,null,null,null,null,null,null,null,null,null,null,null,null,null,null,null,null,null,null,null,null,null,null,null,null,null,null,null,null,null,null,null,null,null,null,null,null,null,null,null,null,null,null,null,null,null,null,null,null,null,null,null,null,null,null,null,null,null,null,null,null,null,null,null,null,null,null,null,null,null,null,null,null,null,null,null,null,null,null,null,null,null,null,null,null,null,null,null,null,null,null,null,null,null,null,null,null,null,null,null,null,null,null,null,null,null,null,null,null,null,null,null,null,null,null,null,null,null,null,null,null,null,null,null,null,null,null,null,null,null,null,null,null,null,null,null,null,null,null,null,null,null,null,null,null,null,null,null,null,null,null,null,null,null,null,null,null,null,null,null,null,null,null,null,null,null,"The colored cells below reflect this segments pollution status and are replicated on the Sources report card automatically"]
[null,"Flow","Flow  Q","NA","NA","NA",{"$f":"$DO$15&\"  \"&$DO$16&\"  \"&$DO$17&\"  \"&$DO$18&\"  \"&$DO$19&\"  \"&$DO$20","v":"          "},{"$f":"$DO$28&\"  \"&$DO$29&\"  \"&$DO$30&\"  \"&$DO$31&\"  \"&$DO$32&\"  \"&$DO$33","v":"          "},null,null,null,null,null,null,null,null,null,null,null,null,null,null,null,null,null,null,null,null,null,null,null,null,null,null,null,null,null,null,null,null,null,null,null,null,null,null,null,null,null,null,null,null,null,null,null,null,null,null,null,null,null,null,null,null,null,null,null,null,null,null,null,null,null,null,null,null,null,null,null,null,null,null,null,null,null,null,null,null,null,null,null,null,null,null,null,null,null,null,null,null,null,null,null,null,null,null,null,null,null,null,null,null,null,null,null,null,null,null,null,null,null,null,null,null,null,null,null,null,null,null,null,null,null,null,null,null,null,null,null,null,null,null,null,null,null,null,null,null,null,null,null,null,null,null,null,null,null,null,null,null,null,null,null,null,null,null,null,null,null,null,null,null,null,null,null,null,null,null,null,null,null,null,null,null,null,null,null,null,null,null,null,null,null,null,null,null,null,null,null,null,null,null,null,null,null,null,null,null,null,null,null,null,null,null,null,null,null,null,null,null,null,null,null,null,null,null,null,null,null,null,null,null,null,null,null,null,null,null,null,null,null,null,null,null,null,null,null,null,null,null,null,null,null,null,null,null,null,null,null,null,null,null,null,null,null,null,null,null,null,null,null,null,null,null,null,null,null,null,null,null,null,null,null,null,null,null,{"$f":"KA11","v":"Municp"},null,null,{"$f":"KD11","v":"Industr"},null,null,{"$f":"KG11","v":"St Water"},null,null,{"$f":"KJ11","v":"Res Ext"},null,null,{"$f":"KM11","v":"Land Dis"},null,null,{"$f":"KP11","v":"Seds"},null,null,{"$f":"KS11","v":"Hydro"},null,null,{"$f":"KV11","v":"Other"},null,null,{"$f":"KY11","v":"Unknown"}]
[null,null,null,null,null,null,null,null,null,null,null,null,null,"* designates a Suspected Source",null,null,null,null,null,null,null,null,null,null,null,null,null,null,null,null,null,null,null,null,null,null,null,null,null,"* designates a Suspected Source",null,null,null,null,null,null,null,null,null,null,null,null,null,null,null,null,null,null,null,null,null,null,null,null,null,"* designates a Suspected Source",null,null,null,null,null,null,null,null,null,null,null,null,null,null,null,null,null,null,null,null,null,null,null,null,null,"* designates a Suspected Source",null,null,null,null,null,null,null,null,null,null,null,null,null,null,null,null,null,null,null,null,null,null,null,null,null,"* designates a Suspected Source",null,null,null,null,null,null,null,null,null,null,null,null,null,null,null,null,null,null,null,null,null,null,null,null,null,"* designates a Suspected Source",null,null,null,null,null,null,null,null,null,null,null,null,null,null,null,null,null,null,null,null,null,null,null,null,null,"* designates a Suspected Source",null,null,null,null,null,null,null,null,null,null,null,null,null,null,null,null,null,null,null,null,null,null,null,null,null,"* designates a Suspected Source",null,null,null,null,null,null,null,null,null,null,null,null,null,null,null,null,null,null,null,null,null,null,null,null,null,"* designates a Suspected Source",null,null,null,null,null,null,null,null,null,null,null,null,null,null,null,null,null,null,null,null,null,null,null,null,null,null,null,null,null,null,null,null,null,null,null,null,null,null,null,null,null,null,null,null,null,null,null,null,null,null,null,null,null,null,null,null,null,null,null,null,null,null,null,null,{"$f":"TRIM(KA41&\" \"&KA42&\" \"&KA43&\" \"&KA44&\" \"&KA45&\" \"&KA46)","v":""},null,null,{"$f":"TRIM(KD41&\" \"&KD42&\" \"&KD43&\" \"&KD44&\" \"&KD45&\" \"&KD46)","v":""},null,null,{"$f":"TRIM(KG41&\" \"&KG42&\" \"&KG43&\" \"&KG44&\" \"&KG45&\" \"&KG46)","v":""},null,null,{"$f":"TRIM(KJ41&\" \"&KJ42&\" \"&KJ43&\" \"&KJ44&\" \"&KJ45&\" \"&KJ46)","v":""},null,null,{"$f":"TRIM(KM41&\" \"&KM42&\" \"&KM43&\" \"&KM44&\" \"&KM45&\" \"&KM46)","v":""},null,null,{"$f":"TRIM(KP41&\" \"&KP42&\" \"&KP43&\" \"&KP44&\" \"&KP45&\" \"&KP46)","v":""},null,null,{"$f":"TRIM(KS41&\" \"&KS42&\" \"&KS43&\" \"&KS44&\" \"&KS45&\" \"&KS46)","v":""},null,null,{"$f":"TRIM(KV41&\" \"&KV42&\" \"&KV43&\" \"&KV44&\" \"&KV45&\" \"&KV46)","v":""},null,null,{"$f":"TRIM(KY41&\" \"&KY42&\" \"&KY43&\" \"&KY44&\" \"&KY45&\" \"&KY46)","v":""}]
[null,"Habitat","Substrate   S","NA","NA","NA",{"$f":"$EO$15&\"  \"&$EO$16&\"  \"&$EO$17&\"  \"&$EO$18&\"  \"&$EO$19&\"  \"&$EO$20","v":"          "},{"$f":"$EO$28&\"  \"&$EO$29&\"  \"&$EO$30&\"  \"&$EO$31&\"  \"&$EO$32&\"  \"&$EO$33","v":"          "},null,null,null,null,null,"** designates a Potential Source",null,null,null,null,null,null,null,null,null,null,null,null,null,null,null,null,null,null,null,null,null,null,null,null,null,"** designates a Potential Source",null,null,null,null,null,null,null,null,null,null,null,null,null,null,null,null,null,null,null,null,null,null,null,null,null,"** designates a Potential Source",null,null,null,null,null,null,null,null,null,null,null,null,null,null,null,null,null,null,null,null,null,null,null,null,null,"** designates a Potential Source",null,null,null,null,null,null,null,null,null,null,null,null,null,null,null,null,null,null,null,null,null,null,null,null,null,"** designates a Potential Source",null,null,null,null,null,null,null,null,null,null,null,null,null,null,null,null,null,null,null,null,null,null,null,null,null,"** designates a Potential Source",null,null,null,null,null,null,null,null,null,null,null,null,null,null,null,null,null,null,null,null,null,null,null,null,null,"** designates a Potential Source",null,null,null,null,null,null,null,null,null,null,null,null,null,null,null,null,null,null,null,null,null,null,null,null,null,"** designates a Potential Source",null,null,null,null,null,null,null,null,null,null,null,null,null,null,null,null,null,null,null,null,null,null,null,null,null,"** designates a Potential Source"]
[null,null,"Morphology   H","NA",null,null,null,null,null,null,null,null,null,"No asterisk designates a Known Source",null,null,null,null,null,null,null,null,null,null,null,null,null,null,null,null,null,null,null,null,null,null,null,null,null,"No asterisk designates a Known Source",null,null,null,null,null,null,null,null,null,null,null,null,null,null,null,null,null,null,null,null,null,null,null,null,null,"No asterisk designates a Known Source",null,null,null,null,null,null,null,null,null,null,null,null,null,null,null,null,null,null,null,null,null,null,null,null,null,"No asterisk designates a Known Source",null,null,null,null,null,null,null,null,null,null,null,null,null,null,null,null,null,null,null,null,null,null,null,null,null,"No asterisk designates a Known Source",null,null,null,null,null,null,null,null,null,null,null,null,null,null,null,null,null,null,null,null,null,null,null,null,null,"No asterisk designates a Known Source",null,null,null,null,null,null,null,null,null,null,null,null,null,null,null,null,null,null,null,null,null,null,null,null,null,"No asterisk designates a Known Source",null,null,null,null,null,null,null,null,null,null,null,null,null,null,null,null,null,null,null,null,null,null,null,null,null,"No asterisk designates a Known Source",null,null,null,null,null,null,null,null,null,null,null,null,null,null,null,null,null,null,null,null,null,null,null,null,null,"No asterisk designates a Known Source",null,null,null,null,null,null,null,null,null,null,null,null,null,null,null,null,null,null,null,null,null,null,null,null,null,null,null,null,null,null,null,null,null,null,null,null,null,null,null,null,null,null,null,null,null,null,null,null,null,null,null,null,null,null,null,null,null,null,null,null,null,null,null,"max confid #",{"$f":"MAX(KB11:KB31)","v":0},null,null,{"$f":"MAX(KE11:KE31)","v":0},null,null,{"$f":"MAX(KH11:KH31)","v":0},null,null,{"$f":"MAX(KK11:KK31)","v":0},null,null,{"$f":"MAX(KN11:KN31)","v":0},null,null,{"$f":"MAX(KQ11:KQ31)","v":0},null,null,{"$f":"MAX(KT11:KT31)","v":0},null,null,{"$f":"MAX(KW11:KW31)","v":0},null,null,{"$f":"MAX(KZ11:KZ31)","v":0}]
[null,null,"Riparian Zone   R","NA",null,null,null,null,null,null,null,null,null,"Square brackets designates an Out of Segment Source (i.e., pollutant is a source for downstream segments)",null,null,null,null,null,null,null,null,null,null,null,null,null,null,null,null,null,null,null,null,null,null,null,null,null,"Square brackets designates an Out of Segment Source (i.e., pollutant is a source for downstream segments)",null,null,null,null,null,null,null,null,null,null,null,null,null,null,null,null,null,null,null,null,null,null,null,null,null,"Square brackets designates an Out of Segment Source (i.e., pollutant is a source for downstream segments)",null,null,null,null,null,null,null,null,null,null,null,null,null,null,null,null,null,null,null,null,null,null,null,null,null,"Square brackets designates an Out of Segment Source (i.e., pollutant is a source for downstream segments)",null,null,null,null,null,null,null,null,null,null,null,null,null,null,null,null,null,null,null,null,null,null,null,null,null,"Square brackets designates an Out of Segment Source (i.e., pollutant is a source for downstream segments)",null,null,null,null,null,null,null,null,null,null,null,null,null,null,null,null,null,null,null,null,null,null,null,null,null,"Square brackets designates an Out of Segment Source (i.e., pollutant is a source for downstream segments)",null,null,null,null,null,null,null,null,null,null,null,null,null,null,null,null,null,null,null,null,null,null,null,null,null,"Square brackets designates an Out of Segment Source (i.e., pollutant is a source for downstream segments)",null,null,null,null,null,null,null,null,null,null,null,null,null,null,null,null,null,null,null,null,null,null,null,null,null,"Square brackets designates an Out of Segment Source (i.e., pollutant is a source for downstream segments)",null,null,null,null,null,null,null,null,null,null,null,null,null,null,null,null,null,null,null,null,null,null,null,null,null,"Square brackets designates an Out of Segment Source (i.e., pollutant is a source for downstream segments)",null,null,null,null,null,null,null,null,null,null,null,null,null,null,null,null,null,null,null,null,null,null,null,null,null,null,null,null,null,null,null,null,null,null,null,null,null,null,null,null,null,null,null,null,null,null,null,null,null,null,null,null,null,null,null,null,null,null,null,null,null,null,null,"The lists below show unique codes in lists assembled above. Numbers are max confidence #, used to color cells for worst case. The codes are catenated in the colored boxes above for transfer to Sources RC when that sheet is activated."]
[]
[null,"Bacteria","Bacteria   B","NA","NA","NA",{"$f":"$FO$15&\"  \"&$FO$16&\"  \"&$FO$17&\"  \"&$FO$18&\"  \"&$FO$19&\"  \"&$FO$20","v":"          "},{"$f":"$FO$28&\"  \"&$FO$29&\"  \"&$FO$30&\"  \"&$FO$31&\"  \"&$FO$32&\"  \"&$FO$33","v":"          "},null,null,null,null,null,null,null,null,null,null,null,null,null,null,null,null,null,null,null,null,null,null,null,null,null,null,null,null,null,null,null,null,null,null,null,null,null,null,null,null,null,null,null,null,null,null,null,null,null,null,null,null,null,null,null,null,null,null,null,null,null,null,null,null,null,null,null,null,null,null,null,null,null,null,null,null,null,null,null,null,null,null,null,null,null,null,null,null,null,null,null,null,null,null,null,null,null,null,null,null,null,null,null,null,null,null,null,null,null,null,null,null,null,null,null,null,null,null,null,null,null,null,null,null,null,null,null,null,null,null,null,null,null,null,null,null,null,null,null,null,null,null,null,null,null,null,null,null,null,null,null,null,null,null,null,null,null,null,null,null,null,null,null,null,null,null,null,null,null,null,null,null,null,null,null,null,null,null,null,null,null,null,null,null,null,null,null,null,null,null,null,null,null,null,null,null,null,null,null,null,null,null,null,null,null,null,null,null,null,null,null,null,null,null,null,null,null,null,null,null,null,null,null,null,null,null,null,null,null,null,null,null,null,null,null,null,null,null,null,null,null,null,null,null,null,null,null,null,null,null,null,null,null,null,null,null,null,null,null,null,null,null,null,null,null,null,null,null,null,null,null,null,null,null,null,null,null,null,"Municp",null,null,"Industr",null,null,"St Water",null,null,"Res Ext",null,null,"Land Dis",null,null,"Seds",null,null,"Hydro",null,null,"Other",null,null,"Unknown"]
[]
[null,"Aesthetics","Oil & Grease   G","NA","NA","NA",{"$f":"$GO$15&\"  \"&$GO$16&\"  \"&$GO$17&\"  \"&$GO$18&\"  \"&$GO$19&\"  \"&$GO$20","v":"          "},{"$f":"$GO$28&\"  \"&$GO$29&\"  \"&$GO$30&\"  \"&$GO$31&\"  \"&$GO$32&\"  \"&$GO$33","v":"          "},null,null,null,null,null,null,null,null,null,null,null,null,null,null,null,null,null,null,null,null,null,null,null,null,null,null,null,null,null,null,null,null,null,null,null,null,null,null,null,null,null,null,null,null,null,null,null,null,null,null,null,null,null,null,null,null,null,null,null,null,null,null,null,null,null,null,null,null,null,null,null,null,null,null,null,null,null,null,null,null,null,null,null,"Identify the suspected toxic chemical substance below (e.g., Hg, PCB, etc). ",null,null,null,null,null,null,null,null,null,null,null,null,null,null,null,null,null,null,null,null,null,null,null,null,null,null,null,null,null,null,null,null,null,null,null,null,null,null,null,null,null,null,null,null,null,null,null,null,null,null,null,null,null,null,null,null,null,null,null,null,null,null,null,null,null,null,null,null,null,null,null,null,null,null,null,null,null,null,null,null,null,null,null,null,null,null,null,null,null,null,null,null,null,null,null,null,null,null,null,null,null,null,null,null,null,null,null,null,null,null,null,null,null,null,null,null,null,null,null,null,null,null,null,null,null,null,null,null,null,null,null,null,null,null,null,null,null,null,null,null,null,null,null,null,null,null,null,null,null,null,null,null,null,null,null,"Identify the suspected toxic chemical substance below (e.g., Hg, PCB, etc). "]
[null,null,"Taste & Odor   O","NA",null,null,null,null,null,null,null,null,null,null,"Pollution  Indicators (Causes):  ",null,{"$f":"P46&\" \"&P47&\" \"&P48&\" \"&P49&\" \"&P50&\" \"&P51","v":"     "},null,null,null,null,null,null,null,null,null,null,null,null,null,null,null,null,null,null,null,null,null,null,null,"Pollution  Indicators (Causes):  ",null,{"$f":"AP46&\" \"&AP47&\" \"&AP48&\" \"&AP49&\" \"&AP50&\" \"&AP51","v":"     "},null,null,null,null,null,null,null,null,null,null,null,null,null,null,null,null,null,null,null,null,null,null,null,"Pollution  Indicators (Causes):  ",null,{"$f":"BP46&\" \"&BP47&\" \"&BP48","v":"  "},null,null,null,null,null,null,null,null,null,null,null,null,null,null,null,null,null,null,null,null,null,null,null,null,null,null,null,null,null,null,null,null,null,null,null,null,null,null,null,null,null,null,null,null,null,null,null,null,null,"Pollution  Indicators (Causes):  ",null,{"$f":"DP46&\" \"&DP47","v":" "},null,null,null,null,null,null,null,null,null,null,null,null,null,null,null,null,null,null,null,null,null,null,null,"Pollution  Indicators (Causes):  ",null,{"$f":"EP46&\" \"&EP47&\" \"&EP48&\" \"&EP49","v":"   "},null,null,null,null,null,null,null,null,null,null,null,null,null,null,null,null,null,null,null,null,null,null,null,"Pollution  Indicators (Causes):  ",null,{"$f":"FP46&\" \"&FP47","v":" "},null,null,null,null,null,null,null,null,null,null,null,null,null,null,null,null,null,null,null,null,null,null,null,"Pollution  Indicators (Causes):  ",null,{"$f":"GP46&\" \"&GP47&\" \"&GP48&\" \"&GP49&\" \"&GP50&\" \"&GP51","v":"     "},null,null,null,null,null,null,null,null,null,null,null,null,null,null,null,null,null,null,null,null,null,null,"Identify the suspected toxic chemical substance below (e.g., Hg, PCB, etc). "]
[null,null,"Turb/Color   C","NA",null,null,null,null,null,null,null,null,null,null,null,null,null,null,null,null,null,null,null,null,null,null,null,null,null,null,null,null,null,null,null,null,null,null,null,null,null,null,null,null,null,null,null,null,null,null,null,null,null,null,null,null,null,null,null,null,null,null,null,null,null,null,null,null,null,null,null,null,null,null,null,null,null,null,null,null,null,null,null,null,null,null,null,null,null,null,null,"Ag",null,null,null,null,null,null,null,null,null,null,null,null,null,null,null,null,null,null,null,null,null,null,null,null,null,null,null,null,null,null,null,null,null,null,null,null,null,null,null,null,null,null,null,null,null,null,null,null,null,null,null,null,null,null,null,null,null,null,null,null,null,null,null,null,null,null,null,null,null,null,null,null,null,null,null,null,null,null,null,null,null,null,null,null,null,null,null,null,null,null,null,null,null,null,null,null,null,null,null,null,null,null,null,null,null,null,null,null,null,null,null,null,null,null,null,null,null,null,null,null,null,null,null,null,null,null,null,null,null,null,null,null,null,null,null,null,null,null,null,null,null,null,null,null,null,null,null,null,null,null,null,null,null,null,null,"DDT"]
[null,null,"Nuisance Plants   V","NA",null,null,null,null,null,null,null,null,null,null,{"$f":"$B$16","v":"Biology"},null,null,null,null,null,null,null,null,null,null,null,null,null,null,null,null,null,null,null,null,null,null,null,null,null,{"$f":"$B$22","v":"Chemistry"},null,null,null,null,null,null,null,null,null,null,null,null,null,null,null,null,null,null,null,null,null,null,null,null,null,{"$f":"$B$28","v":"Nutrients"},null,null,null,null,null,null,null,null,null,null,null,null,null,null,null,null,null,null,null,null,null,null,null,null,null,null,null,null,null,null,null,null,null,null,null,null,null,null,null,null,null,null,null,null,null,null,null,null,null,null,null,{"$f":"$B$34","v":"Flow"},null,null,null,null,null,null,null,null,null,null,null,null,null,null,null,null,null,null,null,null,null,null,null,null,null,{"$f":"$B$36","v":"Habitat"},null,null,null,null,null,null,null,null,null,null,null,null,null,null,null,null,null,null,null,null,null,null,null,null,null,{"$f":"$B$40","v":"Bacteria"},null,null,null,null,null,null,null,null,null,null,null,null,null,null,null,null,null,null,null,null,null,null,null,null,null,{"$f":"$B$42","v":"Aesthetics"},null,null,null,null,null,null,null,null,null,null,null,null,null,null,null,null,null,null,null,null,null,null,null,null,"PCB"]
[null,null,"Trash /Debris   D","NA",null,null,null,null,null,null,null,null,null,null,{"$f":"$C$16","v":"Plank/Peri.   A"},{"$f":"IF($D$16=\"Concern\",\"(A)\",IF(OR($D$16=\"Fair\",$D$16=\"Poor\"),\"A\",\"\"))","v":""},null,null,null,null,null,null,null,null,null,null,null,null,null,null,null,null,null,null,null,null,null,null,null,null,{"$f":"$C$22","v":"Dis. Oxygen    DO"},{"$f":"IF($D$22=\"Concern\",\"(DO)\",IF(OR($D$22=\"Fair\",$D$22=\"Poor\"),\"DO\",\"\"))","v":""},null,null,null,null,null,null,null,null,null,null,null,null,null,null,null,null,null,null,null,null,null,null,null,null,{"$f":"$C$28","v":"Phosphorus  P"},{"$f":"IF($D$28=\"Concern\",\"(P)\",IF(OR($D$28=\"Fair\",$D$28=\"Poor\"),\"P\",\"\"))","v":""},null,null,null,null,null,null,null,null,null,null,null,null,null,null,null,null,null,null,null,null,null,null,null,null,null,null,null,null,null,null,null,null,null,null,null,null,null,null,null,null,null,null,null,null,null,null,null,null,null,null,{"$f":"$C$34","v":"Flow  Q"},{"$f":"IF($D$34=\"Concern\",\"(O)\",IF(OR($D$34=\"Fair\",$D$34=\"Poor\"),\"O\",\"\"))","v":""},null,null,null,null,null,null,null,null,null,null,null,null,null,null,null,null,null,null,null,null,null,null,null,null,{"$f":"$C$36","v":"Substrate   S"},{"$f":"IF($D$36=\"Concern\",\"(S)\",IF(OR($D$36=\"Fair\",$D$36=\"Poor\"),\"S\",\"\"))","v":""},null,null,null,null,null,null,null,null,null,null,null,null,null,null,null,null,null,null,null,null,null,null,null,null,{"$f":"$C$40","v":"Bacteria   B"},{"$f":"IF($D$40=\"Concern\",\"(B)\",IF(OR($D$40=\"Fair\",$D$40=\"Poor\"),\"B\",\"\"))","v":""},null,null,null,null,null,null,null,null,null,null,null,null,null,null,null,null,null,null,null,null,null,null,null,null,{"$f":"$C$42","v":"Oil & Grease   G"},{"$f":"IF($D$42=\"Concern\",\"(G)\",IF(OR($D$42=\"Fair\",$D$42=\"Poor\"),\"G\",\"\"))","v":""}]
[null,null,null,null,null,null,null,null,null,null,null,null,null,null,{"$f":"$C$17","v":"Macrophyton   M"},{"$f":"IF($D$17=\"Concern\",\"(M)\",IF(OR($D$17=\"Fair\",$D$17=\"Poor\"),\"M\",\"\"))","v":""},null,null,null,null,null,null,null,null,null,null,null,null,null,null,null,null,null,null,null,null,null,null,null,null,{"$f":"$C$23","v":"pH     pH"},{"$f":"IF($D$23=\"Concern\",\"(pH)\",IF(OR($D$23=\"Fair\",$D$23=\"Poor\"),\"pH\",\"\"))","v":""},null,null,null,null,null,null,null,null,null,null,null,null,null,null,null,null,null,null,null,null,null,null,null,null,{"$f":"$C$29","v":"Nitrogen   N"},{"$f":"IF($D$29=\"Concern\",\"(N)\",IF(OR($D$29=\"Fair\",$D$29=\"Poor\"),\"N\",\"\"))","v":""},null,null,null,null,null,null,null,null,null,null,null,null,null,null,null,null,null,null,null,null,null,null,null,null,null,null,null,null,null,null,null,null,null,null,null,null,null,null,null,null,null,null,null,null,null,null,null,null,null,null,{"$f":"IF($C$41=\"\",\"\",$C$41)","v":""},{"$f":"IF($D$35=\"Concern\",\"(**)\",IF(OR($D$35=\"Fair\",$D$35=\"Poor\"),\"**\",\"\"))","v":""},null,null,null,null,null,null,null,null,null,null,null,null,null,null,null,null,null,null,null,null,null,null,null,null,{"$f":"$C$37","v":"Morphology   H"},{"$f":"IF($D$37=\"Concern\",\"(H)\",IF(OR($D$37=\"Fair\",$D$37=\"Poor\"),\"H\",\"\"))","v":""},null,null,null,null,null,null,null,null,null,null,null,null,null,null,null,null,null,null,null,null,null,null,null,null,{"$f":"IF($C$41=\"\",\"\",$C$41)","v":""},{"$f":"IF($D$41=\"Concern\",\"(**)\",IF(OR($D$41=\"Fair\",$D$41=\"Poor\"),\"**\",\"\"))","v":""},null,null,null,null,null,null,null,null,null,null,null,null,null,null,null,null,null,null,null,null,null,null,null,null,{"$f":"$C$43","v":"Taste & Odor   O"},{"$f":"IF($D$43=\"Concern\",\"(O)\",IF(OR($D$43=\"Fair\",$D$43=\"Poor\"),\"O\",\"\"))","v":""}]
[null,"Tissue",{"$f":"\"Spec. Chem.   \"&HN45","v":"Spec. Chem.   PCB"},"NA","NA","NA",{"$f":"$HO$15&\"  \"&$HO$16&\"  \"&$HO$17&\"  \"&$HO$18&\"  \"&$HO$19&\"  \"&$HO$20","v":"          "},{"$f":"$HO$28&\"  \"&$HO$29&\"  \"&$HO$30&\"  \"&$HO$31&\"  \"&$HO$32&\"  \"&$HO$33","v":"          "},null,null,null,null,null,null,{"$f":"$C$18","v":"Invertebrates   I"},{"$f":"IF($D$18=\"Concern\",\"(I)\",IF(OR($D$18=\"Fair\",$D$18=\"Poor\"),\"I\",\"\"))","v":""},null,null,null,null,null,null,null,null,null,null,null,null,null,null,null,null,null,null,null,null,null,null,null,null,{"$f":"$C$24","v":"Temperature    T"},{"$f":"IF($D$24=\"Concern\",\"(T)\",IF(OR($D$24=\"Fair\",$D$24=\"Poor\"),\"T\",\"\"))","v":""},null,null,null,null,null,null,null,null,null,null,null,null,null,null,null,null,null,null,null,null,null,null,null,null,{"$f":"IF($C$30=\"\",\"\",$C$30)","v":""},{"$f":"IF($D$30=\"Concern\",\"(**)\",IF(OR($D$30=\"Fair\",$D$30=\"Poor\"),\"**\",\"\"))","v":""},null,null,null,null,null,null,null,null,null,null,null,null,null,null,null,null,null,null,null,null,null,null,null,null,null,null,null,null,null,null,null,null,null,null,null,null,null,null,null,null,null,null,null,null,null,null,null,null,null,null,null,null,null,null,null,null,null,null,null,null,null,null,null,null,null,null,null,null,null,null,null,null,null,null,null,null,{"$f":"$C$38","v":"Riparian Zone   R"},{"$f":"IF($D$38=\"Concern\",\"(R)\",IF(OR($D$38=\"Fair\",$D$38=\"Poor\"),\"R\",\"\"))","v":""},null,null,null,null,null,null,null,null,null,null,null,null,null,null,null,null,null,null,null,null,null,null,null,null,null,null,null,null,null,null,null,null,null,null,null,null,null,null,null,null,null,null,null,null,null,null,null,null,null,null,{"$f":"$C$44","v":"Turb/Color   C"},{"$f":"IF($D$44=\"Concern\",\"(C)\",IF(OR($D$44=\"Fair\",$D$44=\"Poor\"),\"C\",\"\"))","v":""}]
[null,null,null,null,null,null,null,null,null,null,null,null,null,null,{"$f":"$C$19","v":"Fish   F"},{"$f":"IF($D$19=\"Concern\",\"(F)\",IF(OR($D$19=\"Fair\",$D$19=\"Poor\"),\"F\",\"\"))","v":""},null,null,null,null,null,null,null,null,null,null,null,null,null,null,null,null,null,null,null,null,null,null,null,null,{"$f":"$C$25","v":"Ionic Strength    Z"},{"$f":"IF($D$25=\"Concern\",\"(Z)\",IF(OR($D$25=\"Fair\",$D$25=\"Poor\"),\"Z\",\"\"))","v":""},null,null,null,null,null,null,null,null,null,null,null,null,null,null,null,null,null,null,null,null,null,null,null,null,null,null,null,null,null,null,null,null,null,null,null,null,null,null,null,null,null,null,null,null,null,null,null,null,null,null,"Pollution  Indicators (Causes):  ",null,{"$f":"CP52&\" \"&CP53&\" \"&CP54","v":"  "},null,null,null,null,null,null,null,null,null,null,null,null,null,null,null,null,null,null,null,null,null,null,null,null,null,null,null,null,null,null,null,null,null,null,null,null,null,null,null,null,null,null,null,null,null,null,null,null,null,{"$f":"IF($C$39=\"\",\"\",$C$39)","v":""},{"$f":"IF($D$39=\"Concern\",\"(**)\",IF(OR($D$39=\"Fair\",$D$39=\"Poor\"),\"**\",\"\"))","v":""},null,null,null,null,null,null,null,null,null,null,null,null,null,null,null,null,null,null,null,null,null,null,null,null,null,null,null,null,null,null,null,null,null,null,null,null,null,null,null,null,null,null,null,null,null,null,null,null,null,null,{"$f":"$C$45","v":"Nuisance Plants   V"},{"$f":"IF($D$45=\"Concern\",\"(V)\",IF(OR($D$45=\"Fair\",$D$45=\"Poor\"),\"V\",\"\"))","v":""},null,null,null,null,null,null,null,null,null,null,null,null,null,null,null,null,null,null,null,null,null,null,null,null,null,null,null,null,null,null,null,null,null,null,null,null,null,null,null,null,null,null,null,null,null,null,null,null,null,null,"Pollution  Indicators (Causes):  ",null,{"$f":"IP52&\" \"&IP53&\" \"&IP54","v":"  "}]
[null,"Sediment","Unknown   U","NA","NA","NA",{"$f":"$IO$15&\"  \"&$IO$16&\"  \"&$IO$17&\"  \"&$IO$18&\"  \"&$IO$19&\"  \"&$IO$20","v":"          "},{"$f":"$IO$28&\"  \"&$IO$29&\"  \"&$IO$30&\"  \"&$IO$31&\"  \"&$IO$32&\"  \"&$IO$33","v":"          "},null,null,null,null,null,null,{"$f":"$C$20","v":"Wildlife   W"},{"$f":"IF($D$20=\"Concern\",\"(W)\",IF(OR($D$20=\"Fair\",$D$20=\"Poor\"),\"W\",\"\"))","v":""},null,null,null,null,null,null,null,null,null,null,null,null,null,null,null,null,null,null,null,null,null,null,null,null,{"$f":"$C$26","v":"Sus. Solids    SS"},{"$f":"IF($D$26=\"Concern\",\"(SS)\",IF(OR($D$26=\"Fair\",$D$26=\"Poor\"),\"SS\",\"\"))","v":""},null,null,null,null,null,null,null,null,null,null,null,null,null,null,null,null,null,null,null,null,null,null,null,null,null,null,null,null,null,null,null,null,null,null,null,null,null,null,null,null,null,null,null,null,null,null,null,null,null,null,null,null,null,null,null,null,null,null,null,null,null,null,null,null,null,null,null,null,null,null,null,null,null,null,null,null,null,null,null,null,null,null,null,null,null,null,null,null,null,null,null,null,null,null,null,null,null,null,null,null,null,null,null,null,null,null,null,null,null,null,null,null,null,null,null,null,null,null,null,null,null,null,null,null,null,null,null,null,null,null,null,null,null,null,null,null,null,null,null,null,null,null,null,null,null,null,null,null,null,null,null,null,null,null,{"$f":"$C$46","v":"Trash /Debris   D"},{"$f":"IF($D$46=\"Concern\",\"(D)\",IF(OR($D$46=\"Fair\",$D$46=\"Poor\"),\"D\",\"\"))","v":""},null,null,null,null,null,null,null,null,null,null,null,null,null,null,null,null,null,null,null,null,null,null,null,null,"Pollution  Indicators (Causes):  ",null,{"$f":"HP53&\" \"&HP54","v":" "}]
[null,null,{"$f":"\"Spec. Chem.   \"&IN44","v":"Spec. Chem.   DDT"},"NA",null,null,null,null,null,null,null,null,null,null,{"$f":"IF($C$21=\"\",\"\",$C$21)","v":""},{"$f":"IF($D$21=\"Concern\",\"(**)\",IF(OR($D$21=\"Fair\",$D$21=\"Poor\"),\"**\",\"\"))","v":""},null,null,null,null,null,null,null,null,null,null,null,null,null,null,null,null,null,null,null,null,null,null,null,null,{"$f":"IF($C$27=\"\",\"\",$C$27)","v":""},{"$f":"IF($D$27=\"Concern\",\"(**)\",IF(OR($D$27=\"Fair\",$D$27=\"Poor\"),\"**\",\"\"))","v":""},null,null,null,null,null,null,null,null,null,null,null,null,null,null,null,null,null,null,null,null,null,null,null,null,null,null,null,null,null,null,null,null,null,null,null,null,null,null,null,null,null,null,null,null,null,null,null,null,null,null,{"$f":"$B$31","v":"Toxicity"},null,null,null,null,null,null,null,null,null,null,null,null,null,null,null,null,null,null,null,null,null,null,null,null,null,null,null,null,null,null,null,null,null,null,null,null,null,null,null,null,null,null,null,null,null,null,null,null,null,null,null,null,null,null,null,null,null,null,null,null,null,null,null,null,null,null,null,null,null,null,null,null,null,null,null,null,null,null,null,null,null,null,null,null,null,null,null,null,null,null,null,null,null,null,null,null,null,null,null,null,null,null,null,{"$f":"IF($C$47=\"\",\"\",$C$47)","v":""},{"$f":"IF($D$47=\"Concern\",\"(**)\",IF(OR($D$47=\"Fair\",$D$47=\"Poor\"),\"**\",\"\"))","v":""},null,null,null,null,null,null,null,null,null,null,null,null,null,null,null,null,null,null,null,null,null,null,null,null,null,null,null,null,null,null,null,null,null,null,null,null,null,null,null,null,null,null,null,null,null,null,null,null,null,null,{"$f":"$B$50","v":"Sediment"}]
[null,null,null,null,null,null,null,null,null,null,null,null,null,null,null,null,null,null,null,null,null,null,null,null,null,null,null,null,null,null,null,null,null,null,null,null,null,null,null,null,null,null,null,null,null,null,null,null,null,null,null,null,null,null,null,null,null,null,null,null,null,null,null,null,null,null,null,null,null,null,null,null,null,null,null,null,null,null,null,null,null,null,null,null,null,null,null,null,null,null,null,null,{"$f":"$C$31","v":"Unknown   U"},{"$f":"IF($D$31=\"Concern\",\"(U)\",IF(OR($D$31=\"Fair\",$D$31=\"Poor\"),\"U\",\"\"))","v":""},null,null,null,null,null,null,null,null,null,null,null,null,null,null,null,null,null,null,null,null,null,null,null,null,null,null,null,null,null,null,null,null,null,null,null,null,null,null,null,null,null,null,null,null,null,null,null,null,null,null,null,null,null,null,null,null,null,null,null,null,null,null,null,null,null,null,null,null,null,null,null,null,null,null,null,null,null,null,null,null,null,null,null,null,null,null,null,null,null,null,null,null,null,null,null,null,null,null,null,null,null,null,null,null,null,null,null,null,null,null,null,null,null,null,null,null,null,null,null,null,null,null,null,null,null,null,null,null,{"$f":"$B$48","v":"Tissue"},null,null,null,null,null,null,null,null,null,null,null,null,null,null,null,null,null,null,null,null,null,null,null,null,null,{"$f":"$C$50","v":"Unknown   U"},{"$f":"IF($D$50=\"Concern\",\"(U)\",IF(OR($D$50=\"Fair\",$D$50=\"Poor\"),\"U\",\"\"))","v":""}]
[null,"Comments:",null,null,null,null,null,"*  Suspected Source  ",null,null,null,null,null,null,null,null,null,null,null,null,null,null,null,null,null,null,null,null,null,null,null,null,null,null,null,null,null,null,null,null,null,null,null,null,null,null,null,null,null,null,null,null,null,null,null,null,null,null,null,null,null,null,null,null,null,null,null,null,null,null,null,null,null,null,null,null,null,null,null,null,null,null,null,null,null,null,null,null,null,null,null,null,{"$f":"$C$32","v":"Spec. Chem.  Ag"},{"$f":"IF($D$32=\"Concern\",\"(\"&CN44&\")\",IF(OR($D$32=\"Fair\",$D$32=\"Poor\"),CN44,\"\"))","v":""},null,null,null,null,null,null,null,null,null,null,null,null,null,null,null,null,null,null,null,null,null,null,null,null,null,null,null,null,null,null,null,null,null,null,null,null,null,null,null,null,null,null,null,null,null,null,null,null,null,null,null,null,null,null,null,null,null,null,null,null,null,null,null,null,null,null,null,null,null,null,null,null,null,null,null,null,null,null,null,null,null,null,null,null,null,null,null,null,null,null,null,null,null,null,null,null,null,null,null,null,null,null,null,null,null,null,null,null,null,null,null,null,null,null,null,null,null,null,null,null,null,null,null,null,null,null,null,null,{"$f":"$C$48","v":"Spec. Chem.   PCB"},{"$f":"IF($D$48=\"Concern\",\"(\"&HN45&\")\",IF(OR($D$48=\"Fair\",$D$32=\"Poor\"),HN45,\"\"))","v":""},null,null,null,null,null,null,null,null,null,null,null,null,null,null,null,null,null,null,null,null,null,null,null,null,{"$f":"$C$51","v":"Spec. Chem.   DDT"},{"$f":"IF($D$51=\"Concern\",\"(\"&IN44&\")\",IF(OR($D$51=\"Fair\",$D$51=\"Poor\"),IN44,\"\"))","v":""}]
[null,null,null,null,null,null,null,"** Potential Source  ",null,null,null,null,null,null,null,null,null,null,null,null,null,null,null,null,null,null,null,null,null,null,null,null,null,null,null,null,null,null,null,null,null,null,null,null,null,null,null,null,null,null,null,null,null,null,null,null,null,null,null,null,null,null,null,null,null,null,null,null,null,null,null,null,null,null,null,null,null,null,null,null,null,null,null,null,null,null,null,null,null,null,null,null,{"$f":"IF($C$33=\"\",\"\",$C$33)","v":""},{"$f":"IF($D$33=\"Concern\",\"(**)\",IF(OR($D$33=\"Fair\",$D$33=\"Poor\"),\"**\",\"\"))","v":""},null,null,null,null,null,null,null,null,null,null,null,null,null,null,null,null,null,null,null,null,null,null,null,null,null,null,null,null,null,null,null,null,null,null,null,null,null,null,null,null,null,null,null,null,null,null,null,null,null,null,null,null,null,null,null,null,null,null,null,null,null,null,null,null,null,null,null,null,null,null,null,null,null,null,null,null,null,null,null,null,null,null,null,null,null,null,null,null,null,null,null,null,null,null,null,null,null,null,null,null,null,null,null,null,null,null,null,null,null,null,null,null,null,null,null,null,null,null,null,null,null,null,null,null,null,null,null,null,{"$f":"IF($C$49=\"\",\"\",$C$49)","v":""},{"$f":"IF($D$49=\"Concern\",\"(**)\",IF(OR($D$49=\"Fair\",$D$49=\"Poor\"),\"**\",\"\"))","v":""},null,null,null,null,null,null,null,null,null,null,null,null,null,null,null,null,null,null,null,null,null,null,null,null,{"$f":"IF($C$52=\"\",\"\",$C$52)","v":""},{"$f":"IF($D$52=\"Concern\",\"(**)\",IF(OR($D$52=\"Fair\",$D$52=\"Poor\"),\"**\",\"\"))","v":""}]
[null,null,null,null,null,null,null,"No asterisk: Known Source  "]
[null,null,null,null,null,null,null,"[Out of Segment Source ]  "]
[]
[]
[]
[null,"SegNameLong:  ","yyyyyy"]
[null,"Seg Name:  ","yyy"]
[null,"Seg Num:  "]
[null,"Seg Size:  "]
[null,"Seg Class:  "]
[]
[]
[]
[]
[]
[]
[]
[]
[]
[]
[]
[]
[null,null,null,{"$f":"A99","v":""}]
[null,null,null,{"$f":"B99","v":""}]
[null,null,null,{"$f":"C99","v":""}]
[null,null,null,{"$f":"D99","v":""}]
[null,null,null,{"$f":"E99","v":""}]
[null,null,null,{"$f":"F99","v":""}]
[null,null,null,{"$f":"G99","v":""}]
[null,null,null,{"$f":"H99","v":""}]
[null,null,null,{"$f":"I99","v":""}]
[]
[]
[]
[]
[]
[]
[]
[]
[]
[]
[]
[]
[]
[{"$f":"TRIM(A101&\" \"&A102&\" \"&A103&\" \"&A104&\" \"&A105&\" \"&A106)","v":""},{"$f":"TRIM(B101&\" \"&B102&\" \"&B103&\" \"&B104&\" \"&B105&\" \"&B106)","v":""},"","","","","","",""]

{"sheet":"Admin","index":30,"n_rows":54,"n_cols":34,"rows_kept":54,"cut":false,"hidden":false,"merged":[]}
[]
[]
[]
[null,"Note: "]
[null,null,null,null,null,null,null,null,null,null,null,null,null,null,null,null,null,null,null,null,null,null,null,"SourceConfidence (used to populate drop-down menus on Seg sheets)"]
[null,null,null,null,null,null,null,null,null,null,null,null,null,null,null,null,null,null,null,null,null,null,null,"Known"]
[null,null,null,null,null,null,null,null,null,null,null,null,null,null,null,null,null,null,null,null,null,null,null,"Suspected"]
[null,null,null,null,null,null,null,null,null,null,null,null,null,null,null,null,null,null,null,null,null,null,null,"Potential"]
[]
[]
[null,null,null,null,null,null,null,null,null,null,null,null,null,null,null,null,null,null,null,null,null,null,null,null,null,null,null,null,null,null,"PtSources (used to specify pollution sources on Segment sheets via UserForm)"]
[]
[null,null,null,null,null,null,null,null,null,null,null,null,null,null,null,null,null,"PolSources (used to specify pollution sources on Segment sheets via UserForm)",null,null,null,null,null,"SourceCodes (used to populate drop-down menus on Seg sheets)",null,null,null,null,null,null,"Category","Type","Source","Code"]
[null,null,null,null,null,null,null,null,null,null,null,null,null,null,null,null,null,null,null,null,null,null,null,"LookupSource (used to describe user selection of pollution sources on Seg sheets)",null,null,null,null,null,null,"Point Sources","Municipal","Wastewater Discharge","MWD"]
[null,null,null,null,null,null,null,null,null,null,null,null,null,null,null,null,null,"Category","Type","Source","Code",null,null,"Code","Category","Type","Source",null,null,null,null,null,"Sanitary Sewer Overflow","SSO"]
[null,null,null,"Assessment (used in dropdown menues on Segment sheets)",null,null,null,null,null,null,null,null,null,null,null,null,null,"Point Sources","Municipal","Wastewater Discharge","MWD",null,null,null,null,null,null,null,null,null,null,null,"Illicit Sewer Connection","ISC"]
[null,null,null,"Excellent",null,null,null,null,null,null,null,null,null,null,null,null,null,null,null,"Sanitary Sewer Overflow","SSO",null,null,"AGR","Nonpoint","Stormwater","Agricultural",null,null,null,null,null,"Separate Stormwater System","MS4"]
[null,null,null,"Good",null,null,null,null,null,null,null,null,null,null,null,null,null,null,null,"Illicit Sewer Connection","ISC",null,null,"ATM","Nonpoint","Atmospheric Deposition",null,null,null,null,null,null,"Combined Sewer Overflows","CSO"]
[null,null,null,"Concern",null,null,null,null,null,null,null,null,null,null,null,null,null,null,null,"Separate Stormwater System","MS4",null,null,"CHN","Nonpoint","Hydromodification","Channelization",null,null,null,null,"Industrial","Wastewater Discharge","IWD"]
[null,null,null,"Fair",null,null,null,null,null,null,null,null,null,null,null,null,null,null,null,"Combined Sewer Overflows","CSO",null,null,"CON","Nonpoint","Stormwater","Construction",null,null,null,null,null,"Cooling Water Discharge","CWD"]
[null,null,null,"Poor",null,null,null,null,null,null,null,null,null,null,null,null,null,null,"Industrial","Wastewater Discharge","IWD",null,null,"CSO","Point","Municipal","Combined Sewer Overflows"]
[null,null,null,"NA",null,null,null,null,null,null,null,null,null,null,null,null,null,null,null,"Cooling Water Discharge","CWD",null,null,"CWD","Point","Industrial","Cooling Water Discharge",null,null,null,"NonPtSources (used to specify pollution sources on Segment sheets via UserForm)"]
[null,null,null,null,null,null,null,null,null,null,null,null,null,null,null,null,null,"Nonpoint Sources","Stormwater","Agricultural","AGR",null,null,"DMP","Nonpoint","Land Disposal","Inappropriate Dumping"]
[null,null,null,null,null,null,null,null,null,null,null,null,null,null,null,null,null,null,null,"Silvicultural","SLV",null,null,"DRG","Nonpoint","Hydromodification","Dredging",null,null,null,"Category","Type","Source","Code"]
[null,null,null,"DataLevel (used in dropdown menues on Segment sheets)",null,null,null,null,null,null,null,null,null,null,null,null,null,null,null,"Construction","CON",null,null,"DSP","Nonpoint","Land Disposal","Disposal Areas",null,null,null,"Nonpoint","Stormwater","Agricultural","AGR"]
[null,null,null,"1",null,null,null,null,null,null,null,null,null,null,null,null,null,null,null,"Urban","URB",null,null,"GFC","Nonpoint","Stormwater","Golf Courses",null,null,null,"Sources",null,"Silvicultural","SLV"]
[null,null,null,"2",null,null,null,null,null,null,null,null,null,null,null,null,null,null,null,"Highway","HWY",null,null,"GWD","Nonpoint","Groundwater Discharge",null,null,null,null,null,null,"Construction","CON"]
[null,null,null,"3",null,null,null,null,null,null,null,null,null,null,null,null,null,null,null,"Golf Courses","GFC",null,null,"HAB","Nonpoint","Hydromodification","Habitat Modification",null,null,null,null,null,"Urban","URB"]
[null,null,null,"4",null,null,null,null,null,null,null,null,null,null,null,null,null,null,"Resource Extraction","Sand and Gravel","S&G",null,null,"HWS","Nonpoint","Land Disposal","Hazardous Waste Site",null,null,null,null,null,"Highway","HWY"]
[null,null,null,"NA",null,null,null,null,null,null,null,null,null,null,null,null,null,null,null,"Mining","MNG",null,null,"HWY","Nonpoint","Stormwater","Highway",null,null,null,null,null,"Golf Courses","GFC"]
[null,null,null,null,null,null,null,null,null,null,null,null,null,null,null,null,null,null,"Land Disposal","Landfill","LDF",null,null,"IMP","Nonpoint","Hydromodification","Impoundment",null,null,null,null,"Resource Extraction","Sand and Gravel","S&G"]
[null,null,null,null,null,null,null,null,null,null,null,null,null,null,null,null,null,null,null,"Septic Tanks","SEP",null,null,"ISC","Point","Municipal","Illicit Sewer Connection",null,null,null,null,null,"Mining","MNG"]
[null,null,null,"RiverBasinName  ","Test River Basin",null,null,null,null,null,null,null,null,null,null,null,null,null,null,"Inappropriate Dumping","DMP",null,null,"IWD","Point","Industrial","Wastewater Discharge",null,null,null,null,"Land Disposal","Landfill","LDF"]
[null,null,null,"AssessmentYear  ",2011,null,null,null,null,null,null,null,null,null,null,null,null,null,null,"Hazardous Waste Site","HWS",null,null,"LDF","Nonpoint","Land Disposal","Landfill",null,null,null,null,null,"Septic Tanks","SEP"]
[null,null,null,"NumSegs",25,null,null,null,null,null,null,null,null,null,null,null,null,null,null,"Disposal Areas","DSP",null,null,"LST","Nonpoint","Leaking Storage Tanks",null,null,null,null,null,null,"Inappropriate Dumping","DMP"]
[null,null,null,"NumComments",0,null,null,null,null,null,null,null,null,null,null,null,null,null,"Sediments","Toxic Chemicals","TOX",null,null,"MAR","Nonpoint","Marinas/Boating",null,null,null,null,null,null,"Hazardous Waste Site","HWS"]
[null,null,null,null,null,null,null,null,null,null,null,null,null,null,null,null,null,null,null,"Sediment Resuspension","RSP",null,null,"MNG","Nonpoint","Resource Extraction","Mining",null,null,null,null,null,"Disposal Areas","DSP"]
[null,null,null,null,null,null,null,null,null,null,null,null,null,null,null,null,null,null,null,"Internal Nutrient Cycling","NUT",null,null,"MS4","Point","Municipal","Separate Stormwater System",null,null,null,null,"Sediments","Toxic Chemicals","TOX"]
[null,null,null,null,null,null,null,null,null,null,null,null,null,null,null,null,null,null,"Hydromodification","Channelization","CHN",null,null,"MWD","Point","Municipal","Wastewater Discharge",null,null,null,null,null,"Sediment Resuspension","RSP"]
[null,null,null,null,null,null,null,null,null,null,null,null,null,null,null,null,null,null,null,"Dredging","DRG",null,null,"NUT","Nonpoint","Sediments","Internal Nutrient Cycling",null,null,null,null,null,"Internal Nutrient Cycling","NUT"]
[null,null,null,null,null,null,null,null,null,null,null,null,null,null,null,null,null,null,null,"Impoundment","IMP",null,null,"REG","Nonpoint","Hydromodification","Flow Regulation",null,null,null,null,"Hydromodification","Channelization","CHN"]
[null,null,null,null,null,null,null,null,null,null,null,null,null,null,null,null,null,null,null,"Flow Regulation","REG",null,null,"RSP","Nonpoint","Sediments","Sediment Resuspension",null,null,null,null,null,"Dredging","DRG"]
[null,null,null,null,null,null,null,null,null,null,null,null,null,null,null,null,null,null,null,"Withdrawals","WDR",null,null,"S&G","Nonpoint","Resource Extraction","Sand and Gravel",null,null,null,null,null,"Impoundment","IMP"]
[null,null,null,null,null,null,null,null,null,null,null,null,null,null,null,null,null,null,null,"Habitat Modification","HAB",null,null,"SEP","Nonpoint","Land Disposal","Septic Tanks",null,null,null,null,null,"Flow Regulation","REG"]
[null,null,null,null,null,null,null,null,null,null,null,null,null,null,null,null,null,null,"Atmospheric Deposition",null,"ATM",null,null,"SLV","Nonpoint","Stormwater","Silvicultural",null,null,null,null,null,"Withdrawals","WDR"]
[null,null,null,null,null,null,null,null,null,null,null,null,null,null,null,null,null,null,"Spill",null,"SPL",null,null,"SPL","Nonpoint","Spill",null,null,null,null,null,null,"Habitat Modification","HAB"]
[null,null,null,null,null,null,null,null,null,null,null,null,null,null,null,null,null,null,"Marinas/Boating",null,"MAR",null,null,"SSO","Point","Municipal","Sanitary Sewer Overflow",null,null,null,null,"Other:"]
[null,null,null,null,null,null,null,null,null,null,null,null,null,null,null,null,null,null,"Salt/Sand Storage Site",null,"STG",null,null,"STG","Nonpoint","Salt/Sand Storage Site",null,null,null,null,null,"    Atmospheric Deposition",null,"ATM"]
[null,null,null,null,null,null,null,null,null,null,null,null,null,null,null,null,null,null,"Groundwater Discharge",null,"GWD",null,null,"TOX","Nonpoint","Sediments","Toxic Chemicals",null,null,null,null,"    Spill",null,"SPL"]
[null,null,null,null,null,null,null,null,null,null,null,null,null,null,null,null,null,null,"Leaking Storage Tanks",null,"LST",null,null,"UKN","Unknown ","Unknown","Unknown",null,null,null,null,"    Marinas/Boating",null,"MAR"]
[null,null,null,null,null,null,null,null,null,null,null,null,null,null,null,null,null,null,"Unknown",null,"UKN",null,null,"URB","Nonpoint","Stormwater","Urban",null,null,null,null,"    Salt/Sand Storage Site",null,"STG"]
[null,null,null,null,null,null,null,null,null,null,null,null,null,null,null,null,null,null,null,null,null,null,null,"WDR","Nonpoint","Hydromodification","Withdrawals",null,null,null,null,"    Groundwater Discharge",null,"GWD"]
[null,null,null,null,null,null,null,null,null,null,null,null,null,null,null,null,null,null,null,null,null,null,null,null,null,null,null,null,null,null,null,"    Leaking Storage Tanks",null,"LST"]
[null,null,null,null,null,null,null,null,null,null,null,null,null,null,null,null,null,null,null,null,null,null,null,null,null,null,null,null,null,null,null,"Unknown",null,"UKN"]